{"text_format":"1","workbook":"xlsx","n_sheets":16,"sheets":["Table of Content","Disclaimer","Present Value","Future Value","Annuity Value","Compound Interest","Loan (by paid amount)","Loan (by loan terms)","lookup","Expense Tracking","Budget Worksheet","Net Worth","Goal Worksheet","Contact SPYM","Installation Error","Contact"],"not_rendered":{"charts":21,"images":2,"macros":1,"external_links":0,"defined_names":27,"comments":6,"pivot_tables":0},"unopened":[],"bounds":{"document_bytes":16777216,"sheet_cells":100000,"rows_first":2000,"rows_last":500,"rows_between":2000,"halvings":0,"cell_chars":16384,"cell_head_chars":4096},"cells_cut":0,"cells_raw":0,"read":"whole","date_system":"1900"}

{"sheet":"Table of Content","index":0,"n_rows":42,"n_cols":3,"rows_kept":42,"cut":false,"hidden":false,"merged":[[8,2,8,4],[12,2,12,4],[27,2,27,4],[40,2,40,4],[41,1,41,5]]}
[]
[]
[]
[]
[]
[]
[]
[]
[null,null,"Table of Content"]
[]
[]
[]
[null,null,"SPYM Financial Planner"]
[]
[]
[]
[]
[]
[]
[]
[]
[]
[]
[]
[]
[]
[]
[null,null,"SPYM Personal Finances Tool"]
[]
[]
[]
[]
[]
[]
[]
[]
[]
[]
[]
[]
[null,null,"SPYM Financial Assistant 2016"]
[null,"Copyright © 2016 Stress Proof Your Money"]

{"sheet":"Disclaimer","index":1,"n_rows":24,"n_cols":3,"rows_kept":24,"cut":false,"hidden":true,"merged":[[11,0,17,6],[19,0,21,6],[23,0,28,6],[8,5,8,6],[8,2,8,4]]}
[]
[]
[]
[]
[]
[]
[]
[]
[null,null,"DISCLAIMER"]
[]
[]
["These spreadsheet examples are provided as profesional information for educational purposes only. The spreadsheet examples are a nonvalidated calculation tool for which there is absolutely no guarantee or warranty of fitness for a particular purpose or any purpose expressed or implied. Any user of information contained herein assumes any and all responsibility and liability for use of the information including any misunderstanding, misuse or misapplication of the information."]
[]
[]
[]
[]
[]
[]
[]
["Any use of these spreadsheet examples is \"as is\" and should only follow the user's independent confirmation that it produces valid results for the user before results are used for any purpose whatsoever."]
[]
[]
[]
["In no event shall the authors or stressproofyourmoney.com be liable for any incorrect or invalid results that are obtained by any use of the spreadsheet examples nor shall the authors or stressproofyourmoney.com be liable for any loss of data, or profits or special incidential, indirect or consequantial damages arising out of or in connection with the use of performance of this spreadsheet file."]

{"sheet":"Present Value","index":2,"n_rows":610,"n_cols":9,"rows_kept":610,"cut":false,"hidden":true,"merged":[]}
[]
[]
[]
[]
[]
[]
[]
[]
["Present Value",null,null,null,"Period","Present Value","Added Value","Total Added Value","Future Value"]
[null,null,null,null,0,null,null,null,{"$f":"B14","v":318630.81771035655}]
["Discount Rate per Period",10,null,null,{"$f":"IF(I10=B12,\"\",1)","v":1},{"$f":"IF(E11=\"\",\"\",lookup!J3)","v":318630.81771035655},{"$f":"IF(E11=\"\",\"\",lookup!K3-lookup!J3)","v":31863.081771035679},{"$f":"IF(E11=\"\",\"\",H10+G11)","v":31863.081771035679},{"$f":"IF(E11=\"\",\"\",IF(lookup!K3<0,0,lookup!K3))","v":350493.89948139223}]
["Future Value",1000000,null,null,{"$f":"IF(I11=\"\",\"\",IF(B$13<E11+1,\"\",IF(I11=B$14,\"\",lookup!I4)))","v":2},{"$f":"IF(E12=\"\",\"\",lookup!J4)","v":350493.89948139223},{"$f":"IF(E12=\"\",\"\",lookup!K4-lookup!J4)","v":35049.389948139258},66912.471719174937,{"$f":"IF(E12=\"\",\"\",IF(lookup!K4<0,0,lookup!K4))","v":385543.28942953149}]
["No of Periods",12,null,null,{"$f":"IF(I12=\"\",\"\",IF(B$13<E12+1,\"\",IF(I12=B$14,\"\",lookup!I5)))","v":3},{"$f":"IF(E13=\"\",\"\",lookup!J5)","v":385543.28942953149},{"$f":"IF(E13=\"\",\"\",lookup!K5-lookup!J5)","v":38554.328942953201},105466.80066212814,{"$f":"IF(E13=\"\",\"\",IF(lookup!K5<0,0,lookup!K5))","v":424097.61837248469}]
["Present Value",{"$f":"B12/(1+B11/100)^B13","v":318630.81771035655},null,null,{"$f":"IF(I13=\"\",\"\",IF(B$13<E13+1,\"\",IF(I13=B$14,\"\",lookup!I6)))","v":4},{"$f":"IF(E14=\"\",\"\",lookup!J6)","v":424097.61837248469},{"$f":"IF(E14=\"\",\"\",lookup!K6-lookup!J6)","v":42409.761837248458},147876.5624993766,{"$f":"IF(E14=\"\",\"\",IF(lookup!K6<0,0,lookup!K6))","v":466507.38020973315}]
[null,null,null,null,{"$f":"IF(I14=\"\",\"\",IF(B$13<E14+1,\"\",IF(I14=B$14,\"\",lookup!I7)))","v":5},{"$f":"IF(E15=\"\",\"\",lookup!J7)","v":466507.38020973315},{"$f":"IF(E15=\"\",\"\",lookup!K7-lookup!J7)","v":46650.738020973338},194527.30052034993,{"$f":"IF(E15=\"\",\"\",IF(lookup!K7<0,0,lookup!K7))","v":513158.11823070649}]
[null,null,null,null,{"$f":"IF(I15=\"\",\"\",IF(B$13<E15+1,\"\",IF(I15=B$14,\"\",lookup!I8)))","v":6},{"$f":"IF(E16=\"\",\"\",lookup!J8)","v":513158.11823070649},{"$f":"IF(E16=\"\",\"\",lookup!K8-lookup!J8)","v":51315.81182307069},245843.11234342062,{"$f":"IF(E16=\"\",\"\",IF(lookup!K8<0,0,lookup!K8))","v":564473.93005377718}]
[null,null,null,null,{"$f":"IF(I16=\"\",\"\",IF(B$13<E16+1,\"\",IF(I16=B$14,\"\",lookup!I9)))","v":7},{"$f":"IF(E17=\"\",\"\",lookup!J9)","v":564473.93005377718},{"$f":"IF(E17=\"\",\"\",lookup!K9-lookup!J9)","v":56447.393005377846},302290.50534879847,{"$f":"IF(E17=\"\",\"\",IF(lookup!K9<0,0,lookup!K9))","v":620921.32305915502}]
[null,null,null,null,{"$f":"IF(I17=\"\",\"\",IF(B$13<E17+1,\"\",IF(I17=B$14,\"\",lookup!I10)))","v":8},{"$f":"IF(E18=\"\",\"\",lookup!J10)","v":620921.32305915502},{"$f":"IF(E18=\"\",\"\",lookup!K10-lookup!J10)","v":62092.132305915467},364382.63765471394,{"$f":"IF(E18=\"\",\"\",IF(lookup!K10<0,0,lookup!K10))","v":683013.45536507049}]
[null,null,null,null,{"$f":"IF(I18=\"\",\"\",IF(B$13<E18+1,\"\",IF(I18=B$14,\"\",lookup!I11)))","v":9},{"$f":"IF(E19=\"\",\"\",lookup!J11)","v":683013.45536507049},{"$f":"IF(E19=\"\",\"\",lookup!K11-lookup!J11)","v":68301.345536507084},432683.98319122102,{"$f":"IF(E19=\"\",\"\",IF(lookup!K11<0,0,lookup!K11))","v":751314.80090157758}]
[null,null,null,null,{"$f":"IF(I19=\"\",\"\",IF(B$13<E19+1,\"\",IF(I19=B$14,\"\",lookup!I12)))","v":10},{"$f":"IF(E20=\"\",\"\",lookup!J12)","v":751314.80090157758},{"$f":"IF(E20=\"\",\"\",lookup!K12-lookup!J12)","v":75131.480090157827},507815.46328137885,{"$f":"IF(E20=\"\",\"\",IF(lookup!K12<0,0,lookup!K12))","v":826446.2809917354}]
[null,null,null,null,{"$f":"IF(I20=\"\",\"\",IF(B$13<E20+1,\"\",IF(I20=B$14,\"\",lookup!I13)))","v":11},{"$f":"IF(E21=\"\",\"\",lookup!J13)","v":826446.2809917354},{"$f":"IF(E21=\"\",\"\",lookup!K13-lookup!J13)","v":82644.628099173773},590460.09138055262,{"$f":"IF(E21=\"\",\"\",IF(lookup!K13<0,0,lookup!K13))","v":909090.90909090918}]
[null,null,null,null,{"$f":"IF(I21=\"\",\"\",IF(B$13<E21+1,\"\",IF(I21=B$14,\"\",lookup!I14)))","v":12},{"$f":"IF(E22=\"\",\"\",lookup!J14)","v":909090.90909090918},{"$f":"IF(E22=\"\",\"\",lookup!K14-lookup!J14)","v":90909.090909090824},681369.18228964345,{"$f":"IF(E22=\"\",\"\",IF(lookup!K14<0,0,lookup!K14))","v":1000000}]
[null,null,null,null,{"$f":"IF(I22=\"\",\"\",IF(B$13<E22+1,\"\",IF(I22=B$14,\"\",lookup!I15)))","v":""},{"$f":"IF(E23=\"\",\"\",lookup!J15)","v":""},{"$f":"IF(E23=\"\",\"\",lookup!K15-lookup!J15)","v":""},"",{"$f":"IF(E23=\"\",\"\",IF(lookup!K15<0,0,lookup!K15))","v":""}]
[null,null,null,null,{"$f":"IF(I23=\"\",\"\",IF(B$13<E23+1,\"\",IF(I23=B$14,\"\",lookup!I16)))","v":""},{"$f":"IF(E24=\"\",\"\",lookup!J16)","v":""},{"$f":"IF(E24=\"\",\"\",lookup!K16-lookup!J16)","v":""},"",{"$f":"IF(E24=\"\",\"\",IF(lookup!K16<0,0,lookup!K16))","v":""}]
[null,null,null,null,{"$f":"IF(I24=\"\",\"\",IF(B$13<E24+1,\"\",IF(I24=B$14,\"\",lookup!I17)))","v":""},{"$f":"IF(E25=\"\",\"\",lookup!J17)","v":""},{"$f":"IF(E25=\"\",\"\",lookup!K17-lookup!J17)","v":""},"",{"$f":"IF(E25=\"\",\"\",IF(lookup!K17<0,0,lookup!K17))","v":""}]
[null,null,null,null,{"$f":"IF(I25=\"\",\"\",IF(B$13<E25+1,\"\",IF(I25=B$14,\"\",lookup!I18)))","v":""},{"$f":"IF(E26=\"\",\"\",lookup!J18)","v":""},{"$f":"IF(E26=\"\",\"\",lookup!K18-lookup!J18)","v":""},"",{"$f":"IF(E26=\"\",\"\",IF(lookup!K18<0,0,lookup!K18))","v":""}]
[null,null,null,null,{"$f":"IF(I26=\"\",\"\",IF(B$13<E26+1,\"\",IF(I26=B$14,\"\",lookup!I19)))","v":""},{"$f":"IF(E27=\"\",\"\",lookup!J19)","v":""},{"$f":"IF(E27=\"\",\"\",lookup!K19-lookup!J19)","v":""},"",{"$f":"IF(E27=\"\",\"\",IF(lookup!K19<0,0,lookup!K19))","v":""}]
[null,null,null,null,{"$f":"IF(I27=\"\",\"\",IF(B$13<E27+1,\"\",IF(I27=B$14,\"\",lookup!I20)))","v":""},{"$f":"IF(E28=\"\",\"\",lookup!J20)","v":""},{"$f":"IF(E28=\"\",\"\",lookup!K20-lookup!J20)","v":""},"",{"$f":"IF(E28=\"\",\"\",IF(lookup!K20<0,0,lookup!K20))","v":""}]
[null,null,null,null,{"$f":"IF(I28=\"\",\"\",IF(B$13<E28+1,\"\",IF(I28=B$14,\"\",lookup!I21)))","v":""},{"$f":"IF(E29=\"\",\"\",lookup!J21)","v":""},{"$f":"IF(E29=\"\",\"\",lookup!K21-lookup!J21)","v":""},"",{"$f":"IF(E29=\"\",\"\",IF(lookup!K21<0,0,lookup!K21))","v":""}]
[null,null,null,null,{"$f":"IF(I29=\"\",\"\",IF(B$13<E29+1,\"\",IF(I29=B$14,\"\",lookup!I22)))","v":""},{"$f":"IF(E30=\"\",\"\",lookup!J22)","v":""},{"$f":"IF(E30=\"\",\"\",lookup!K22-lookup!J22)","v":""},"",{"$f":"IF(E30=\"\",\"\",IF(lookup!K22<0,0,lookup!K22))","v":""}]
[null,null,null,null,{"$f":"IF(I30=\"\",\"\",IF(B$13<E30+1,\"\",IF(I30=B$14,\"\",lookup!I23)))","v":""},{"$f":"IF(E31=\"\",\"\",lookup!J23)","v":""},{"$f":"IF(E31=\"\",\"\",lookup!K23-lookup!J23)","v":""},"",{"$f":"IF(E31=\"\",\"\",IF(lookup!K23<0,0,lookup!K23))","v":""}]
[null,null,null,null,{"$f":"IF(I31=\"\",\"\",IF(B$13<E31+1,\"\",IF(I31=B$14,\"\",lookup!I24)))","v":""},{"$f":"IF(E32=\"\",\"\",lookup!J24)","v":""},{"$f":"IF(E32=\"\",\"\",lookup!K24-lookup!J24)","v":""},"",{"$f":"IF(E32=\"\",\"\",IF(lookup!K24<0,0,lookup!K24))","v":""}]
[null,null,null,null,{"$f":"IF(I32=\"\",\"\",IF(B$13<E32+1,\"\",IF(I32=B$14,\"\",lookup!I25)))","v":""},{"$f":"IF(E33=\"\",\"\",lookup!J25)","v":""},{"$f":"IF(E33=\"\",\"\",lookup!K25-lookup!J25)","v":""},"",{"$f":"IF(E33=\"\",\"\",IF(lookup!K25<0,0,lookup!K25))","v":""}]
[null,null,null,null,{"$f":"IF(I33=\"\",\"\",IF(B$13<E33+1,\"\",IF(I33=B$14,\"\",lookup!I26)))","v":""},{"$f":"IF(E34=\"\",\"\",lookup!J26)","v":""},{"$f":"IF(E34=\"\",\"\",lookup!K26-lookup!J26)","v":""},"",{"$f":"IF(E34=\"\",\"\",IF(lookup!K26<0,0,lookup!K26))","v":""}]
[null,null,null,null,{"$f":"IF(I34=\"\",\"\",IF(B$13<E34+1,\"\",IF(I34=B$14,\"\",lookup!I27)))","v":""},{"$f":"IF(E35=\"\",\"\",lookup!J27)","v":""},{"$f":"IF(E35=\"\",\"\",lookup!K27-lookup!J27)","v":""},"",{"$f":"IF(E35=\"\",\"\",IF(lookup!K27<0,0,lookup!K27))","v":""}]
[null,null,null,null,{"$f":"IF(I35=\"\",\"\",IF(B$13<E35+1,\"\",IF(I35=B$14,\"\",lookup!I28)))","v":""},{"$f":"IF(E36=\"\",\"\",lookup!J28)","v":""},{"$f":"IF(E36=\"\",\"\",lookup!K28-lookup!J28)","v":""},"",{"$f":"IF(E36=\"\",\"\",IF(lookup!K28<0,0,lookup!K28))","v":""}]
[null,null,null,null,{"$f":"IF(I36=\"\",\"\",IF(B$13<E36+1,\"\",IF(I36=B$14,\"\",lookup!I29)))","v":""},{"$f":"IF(E37=\"\",\"\",lookup!J29)","v":""},{"$f":"IF(E37=\"\",\"\",lookup!K29-lookup!J29)","v":""},"",{"$f":"IF(E37=\"\",\"\",IF(lookup!K29<0,0,lookup!K29))","v":""}]
[null,null,null,null,{"$f":"IF(I37=\"\",\"\",IF(B$13<E37+1,\"\",IF(I37=B$14,\"\",lookup!I30)))","v":""},{"$f":"IF(E38=\"\",\"\",lookup!J30)","v":""},{"$f":"IF(E38=\"\",\"\",lookup!K30-lookup!J30)","v":""},"",{"$f":"IF(E38=\"\",\"\",IF(lookup!K30<0,0,lookup!K30))","v":""}]
[null,null,null,null,{"$f":"IF(I38=\"\",\"\",IF(B$13<E38+1,\"\",IF(I38=B$14,\"\",lookup!I31)))","v":""},{"$f":"IF(E39=\"\",\"\",lookup!J31)","v":""},{"$f":"IF(E39=\"\",\"\",lookup!K31-lookup!J31)","v":""},"",{"$f":"IF(E39=\"\",\"\",IF(lookup!K31<0,0,lookup!K31))","v":""}]
[null,null,null,null,{"$f":"IF(I39=\"\",\"\",IF(B$13<E39+1,\"\",IF(I39=B$14,\"\",lookup!I32)))","v":""},{"$f":"IF(E40=\"\",\"\",lookup!J32)","v":""},{"$f":"IF(E40=\"\",\"\",lookup!K32-lookup!J32)","v":""},"",{"$f":"IF(E40=\"\",\"\",IF(lookup!K32<0,0,lookup!K32))","v":""}]
[null,null,null,null,{"$f":"IF(I40=\"\",\"\",IF(B$13<E40+1,\"\",IF(I40=B$14,\"\",lookup!I33)))","v":""},{"$f":"IF(E41=\"\",\"\",lookup!J33)","v":""},{"$f":"IF(E41=\"\",\"\",lookup!K33-lookup!J33)","v":""},"",{"$f":"IF(E41=\"\",\"\",IF(lookup!K33<0,0,lookup!K33))","v":""}]
[null,null,null,null,{"$f":"IF(I41=\"\",\"\",IF(B$13<E41+1,\"\",IF(I41=B$14,\"\",lookup!I34)))","v":""},{"$f":"IF(E42=\"\",\"\",lookup!J34)","v":""},{"$f":"IF(E42=\"\",\"\",lookup!K34-lookup!J34)","v":""},"",{"$f":"IF(E42=\"\",\"\",IF(lookup!K34<0,0,lookup!K34))","v":""}]
[null,null,null,null,{"$f":"IF(I42=\"\",\"\",IF(B$13<E42+1,\"\",IF(I42=B$14,\"\",lookup!I35)))","v":""},{"$f":"IF(E43=\"\",\"\",lookup!J35)","v":""},{"$f":"IF(E43=\"\",\"\",lookup!K35-lookup!J35)","v":""},"",{"$f":"IF(E43=\"\",\"\",IF(lookup!K35<0,0,lookup!K35))","v":""}]
[null,null,null,null,{"$f":"IF(I43=\"\",\"\",IF(B$13<E43+1,\"\",IF(I43=B$14,\"\",lookup!I36)))","v":""},{"$f":"IF(E44=\"\",\"\",lookup!J36)","v":""},{"$f":"IF(E44=\"\",\"\",lookup!K36-lookup!J36)","v":""},"",{"$f":"IF(E44=\"\",\"\",IF(lookup!K36<0,0,lookup!K36))","v":""}]
[null,null,null,null,{"$f":"IF(I44=\"\",\"\",IF(B$13<E44+1,\"\",IF(I44=B$14,\"\",lookup!I37)))","v":""},{"$f":"IF(E45=\"\",\"\",lookup!J37)","v":""},{"$f":"IF(E45=\"\",\"\",lookup!K37-lookup!J37)","v":""},"",{"$f":"IF(E45=\"\",\"\",IF(lookup!K37<0,0,lookup!K37))","v":""}]
[null,null,null,null,{"$f":"IF(I45=\"\",\"\",IF(B$13<E45+1,\"\",IF(I45=B$14,\"\",lookup!I38)))","v":""},{"$f":"IF(E46=\"\",\"\",lookup!J38)","v":""},{"$f":"IF(E46=\"\",\"\",lookup!K38-lookup!J38)","v":""},"",{"$f":"IF(E46=\"\",\"\",IF(lookup!K38<0,0,lookup!K38))","v":""}]
[null,null,null,null,{"$f":"IF(I46=\"\",\"\",IF(B$13<E46+1,\"\",IF(I46=B$14,\"\",lookup!I39)))","v":""},{"$f":"IF(E47=\"\",\"\",lookup!J39)","v":""},{"$f":"IF(E47=\"\",\"\",lookup!K39-lookup!J39)","v":""},"",{"$f":"IF(E47=\"\",\"\",IF(lookup!K39<0,0,lookup!K39))","v":""}]
[null,null,null,null,{"$f":"IF(I47=\"\",\"\",IF(B$13<E47+1,\"\",IF(I47=B$14,\"\",lookup!I40)))","v":""},{"$f":"IF(E48=\"\",\"\",lookup!J40)","v":""},{"$f":"IF(E48=\"\",\"\",lookup!K40-lookup!J40)","v":""},"",{"$f":"IF(E48=\"\",\"\",IF(lookup!K40<0,0,lookup!K40))","v":""}]
[null,null,null,null,{"$f":"IF(I48=\"\",\"\",IF(B$13<E48+1,\"\",IF(I48=B$14,\"\",lookup!I41)))","v":""},{"$f":"IF(E49=\"\",\"\",lookup!J41)","v":""},{"$f":"IF(E49=\"\",\"\",lookup!K41-lookup!J41)","v":""},"",{"$f":"IF(E49=\"\",\"\",IF(lookup!K41<0,0,lookup!K41))","v":""}]
[null,null,null,null,{"$f":"IF(I49=\"\",\"\",IF(B$13<E49+1,\"\",IF(I49=B$14,\"\",lookup!I42)))","v":""},{"$f":"IF(E50=\"\",\"\",lookup!J42)","v":""},{"$f":"IF(E50=\"\",\"\",lookup!K42-lookup!J42)","v":""},"",{"$f":"IF(E50=\"\",\"\",IF(lookup!K42<0,0,lookup!K42))","v":""}]
[null,null,null,null,{"$f":"IF(I50=\"\",\"\",IF(B$13<E50+1,\"\",IF(I50=B$14,\"\",lookup!I43)))","v":""},{"$f":"IF(E51=\"\",\"\",lookup!J43)","v":""},{"$f":"IF(E51=\"\",\"\",lookup!K43-lookup!J43)","v":""},"",{"$f":"IF(E51=\"\",\"\",IF(lookup!K43<0,0,lookup!K43))","v":""}]
[null,null,null,null,{"$f":"IF(I51=\"\",\"\",IF(B$13<E51+1,\"\",IF(I51=B$14,\"\",lookup!I44)))","v":""},{"$f":"IF(E52=\"\",\"\",lookup!J44)","v":""},{"$f":"IF(E52=\"\",\"\",lookup!K44-lookup!J44)","v":""},"",{"$f":"IF(E52=\"\",\"\",IF(lookup!K44<0,0,lookup!K44))","v":""}]
[null,null,null,null,{"$f":"IF(I52=\"\",\"\",IF(B$13<E52+1,\"\",IF(I52=B$14,\"\",lookup!I45)))","v":""},{"$f":"IF(E53=\"\",\"\",lookup!J45)","v":""},{"$f":"IF(E53=\"\",\"\",lookup!K45-lookup!J45)","v":""},"",{"$f":"IF(E53=\"\",\"\",IF(lookup!K45<0,0,lookup!K45))","v":""}]
[null,null,null,null,{"$f":"IF(I53=\"\",\"\",IF(B$13<E53+1,\"\",IF(I53=B$14,\"\",lookup!I46)))","v":""},{"$f":"IF(E54=\"\",\"\",lookup!J46)","v":""},{"$f":"IF(E54=\"\",\"\",lookup!K46-lookup!J46)","v":""},"",{"$f":"IF(E54=\"\",\"\",IF(lookup!K46<0,0,lookup!K46))","v":""}]
[null,null,null,null,{"$f":"IF(I54=\"\",\"\",IF(B$13<E54+1,\"\",IF(I54=B$14,\"\",lookup!I47)))","v":""},{"$f":"IF(E55=\"\",\"\",lookup!J47)","v":""},{"$f":"IF(E55=\"\",\"\",lookup!K47-lookup!J47)","v":""},"",{"$f":"IF(E55=\"\",\"\",IF(lookup!K47<0,0,lookup!K47))","v":""}]
[null,null,null,null,{"$f":"IF(I55=\"\",\"\",IF(B$13<E55+1,\"\",IF(I55=B$14,\"\",lookup!I48)))","v":""},{"$f":"IF(E56=\"\",\"\",lookup!J48)","v":""},{"$f":"IF(E56=\"\",\"\",lookup!K48-lookup!J48)","v":""},"",{"$f":"IF(E56=\"\",\"\",IF(lookup!K48<0,0,lookup!K48))","v":""}]
[null,null,null,null,{"$f":"IF(I56=\"\",\"\",IF(B$13<E56+1,\"\",IF(I56=B$14,\"\",lookup!I49)))","v":""},{"$f":"IF(E57=\"\",\"\",lookup!J49)","v":""},{"$f":"IF(E57=\"\",\"\",lookup!K49-lookup!J49)","v":""},"",{"$f":"IF(E57=\"\",\"\",IF(lookup!K49<0,0,lookup!K49))","v":""}]
[null,null,null,null,{"$f":"IF(I57=\"\",\"\",IF(B$13<E57+1,\"\",IF(I57=B$14,\"\",lookup!I50)))","v":""},{"$f":"IF(E58=\"\",\"\",lookup!J50)","v":""},{"$f":"IF(E58=\"\",\"\",lookup!K50-lookup!J50)","v":""},"",{"$f":"IF(E58=\"\",\"\",IF(lookup!K50<0,0,lookup!K50))","v":""}]
[null,null,null,null,{"$f":"IF(I58=\"\",\"\",IF(B$13<E58+1,\"\",IF(I58=B$14,\"\",lookup!I51)))","v":""},{"$f":"IF(E59=\"\",\"\",lookup!J51)","v":""},{"$f":"IF(E59=\"\",\"\",lookup!K51-lookup!J51)","v":""},"",{"$f":"IF(E59=\"\",\"\",IF(lookup!K51<0,0,lookup!K51))","v":""}]
[null,null,null,null,{"$f":"IF(I59=\"\",\"\",IF(B$13<E59+1,\"\",IF(I59=B$14,\"\",lookup!I52)))","v":""},{"$f":"IF(E60=\"\",\"\",lookup!J52)","v":""},{"$f":"IF(E60=\"\",\"\",lookup!K52-lookup!J52)","v":""},"",{"$f":"IF(E60=\"\",\"\",IF(lookup!K52<0,0,lookup!K52))","v":""}]
[null,null,null,null,{"$f":"IF(I60=\"\",\"\",IF(B$13<E60+1,\"\",IF(I60=B$14,\"\",lookup!I53)))","v":""},{"$f":"IF(E61=\"\",\"\",lookup!J53)","v":""},{"$f":"IF(E61=\"\",\"\",lookup!K53-lookup!J53)","v":""},"",{"$f":"IF(E61=\"\",\"\",IF(lookup!K53<0,0,lookup!K53))","v":""}]
[null,null,null,null,{"$f":"IF(I61=\"\",\"\",IF(B$13<E61+1,\"\",IF(I61=B$14,\"\",lookup!I54)))","v":""},{"$f":"IF(E62=\"\",\"\",lookup!J54)","v":""},{"$f":"IF(E62=\"\",\"\",lookup!K54-lookup!J54)","v":""},"",{"$f":"IF(E62=\"\",\"\",IF(lookup!K54<0,0,lookup!K54))","v":""}]
[null,null,null,null,{"$f":"IF(I62=\"\",\"\",IF(B$13<E62+1,\"\",IF(I62=B$14,\"\",lookup!I55)))","v":""},{"$f":"IF(E63=\"\",\"\",lookup!J55)","v":""},{"$f":"IF(E63=\"\",\"\",lookup!K55-lookup!J55)","v":""},"",{"$f":"IF(E63=\"\",\"\",IF(lookup!K55<0,0,lookup!K55))","v":""}]
[null,null,null,null,{"$f":"IF(I63=\"\",\"\",IF(B$13<E63+1,\"\",IF(I63=B$14,\"\",lookup!I56)))","v":""},{"$f":"IF(E64=\"\",\"\",lookup!J56)","v":""},{"$f":"IF(E64=\"\",\"\",lookup!K56-lookup!J56)","v":""},"",{"$f":"IF(E64=\"\",\"\",IF(lookup!K56<0,0,lookup!K56))","v":""}]
[null,null,null,null,{"$f":"IF(I64=\"\",\"\",IF(B$13<E64+1,\"\",IF(I64=B$14,\"\",lookup!I57)))","v":""},{"$f":"IF(E65=\"\",\"\",lookup!J57)","v":""},{"$f":"IF(E65=\"\",\"\",lookup!K57-lookup!J57)","v":""},"",{"$f":"IF(E65=\"\",\"\",IF(lookup!K57<0,0,lookup!K57))","v":""}]
[null,null,null,null,{"$f":"IF(I65=\"\",\"\",IF(B$13<E65+1,\"\",IF(I65=B$14,\"\",lookup!I58)))","v":""},{"$f":"IF(E66=\"\",\"\",lookup!J58)","v":""},{"$f":"IF(E66=\"\",\"\",lookup!K58-lookup!J58)","v":""},"",{"$f":"IF(E66=\"\",\"\",IF(lookup!K58<0,0,lookup!K58))","v":""}]
[null,null,null,null,{"$f":"IF(I66=\"\",\"\",IF(B$13<E66+1,\"\",IF(I66=B$14,\"\",lookup!I59)))","v":""},{"$f":"IF(E67=\"\",\"\",lookup!J59)","v":""},{"$f":"IF(E67=\"\",\"\",lookup!K59-lookup!J59)","v":""},"",{"$f":"IF(E67=\"\",\"\",IF(lookup!K59<0,0,lookup!K59))","v":""}]
[null,null,null,null,{"$f":"IF(I67=\"\",\"\",IF(B$13<E67+1,\"\",IF(I67=B$14,\"\",lookup!I60)))","v":""},{"$f":"IF(E68=\"\",\"\",lookup!J60)","v":""},{"$f":"IF(E68=\"\",\"\",lookup!K60-lookup!J60)","v":""},"",{"$f":"IF(E68=\"\",\"\",IF(lookup!K60<0,0,lookup!K60))","v":""}]
[null,null,null,null,{"$f":"IF(I68=\"\",\"\",IF(B$13<E68+1,\"\",IF(I68=B$14,\"\",lookup!I61)))","v":""},{"$f":"IF(E69=\"\",\"\",lookup!J61)","v":""},{"$f":"IF(E69=\"\",\"\",lookup!K61-lookup!J61)","v":""},"",{"$f":"IF(E69=\"\",\"\",IF(lookup!K61<0,0,lookup!K61))","v":""}]
[null,null,null,null,{"$f":"IF(I69=\"\",\"\",IF(B$13<E69+1,\"\",IF(I69=B$14,\"\",lookup!I62)))","v":""},{"$f":"IF(E70=\"\",\"\",lookup!J62)","v":""},{"$f":"IF(E70=\"\",\"\",lookup!K62-lookup!J62)","v":""},"",{"$f":"IF(E70=\"\",\"\",IF(lookup!K62<0,0,lookup!K62))","v":""}]
[null,null,null,null,{"$f":"IF(I70=\"\",\"\",IF(B$13<E70+1,\"\",IF(I70=B$14,\"\",lookup!I63)))","v":""},{"$f":"IF(E71=\"\",\"\",lookup!J63)","v":""},{"$f":"IF(E71=\"\",\"\",lookup!K63-lookup!J63)","v":""},"",{"$f":"IF(E71=\"\",\"\",IF(lookup!K63<0,0,lookup!K63))","v":""}]
[null,null,null,null,{"$f":"IF(I71=\"\",\"\",IF(B$13<E71+1,\"\",IF(I71=B$14,\"\",lookup!I64)))","v":""},{"$f":"IF(E72=\"\",\"\",lookup!J64)","v":""},{"$f":"IF(E72=\"\",\"\",lookup!K64-lookup!J64)","v":""},"",{"$f":"IF(E72=\"\",\"\",IF(lookup!K64<0,0,lookup!K64))","v":""}]
[null,null,null,null,{"$f":"IF(I72=\"\",\"\",IF(B$13<E72+1,\"\",IF(I72=B$14,\"\",lookup!I65)))","v":""},{"$f":"IF(E73=\"\",\"\",lookup!J65)","v":""},{"$f":"IF(E73=\"\",\"\",lookup!K65-lookup!J65)","v":""},"",{"$f":"IF(E73=\"\",\"\",IF(lookup!K65<0,0,lookup!K65))","v":""}]
[null,null,null,null,{"$f":"IF(I73=\"\",\"\",IF(B$13<E73+1,\"\",IF(I73=B$14,\"\",lookup!I66)))","v":""},{"$f":"IF(E74=\"\",\"\",lookup!J66)","v":""},{"$f":"IF(E74=\"\",\"\",lookup!K66-lookup!J66)","v":""},"",{"$f":"IF(E74=\"\",\"\",IF(lookup!K66<0,0,lookup!K66))","v":""}]
[null,null,null,null,{"$f":"IF(I74=\"\",\"\",IF(B$13<E74+1,\"\",IF(I74=B$14,\"\",lookup!I67)))","v":""},{"$f":"IF(E75=\"\",\"\",lookup!J67)","v":""},{"$f":"IF(E75=\"\",\"\",lookup!K67-lookup!J67)","v":""},{"$f":"IF(E75=\"\",\"\",H74+G75)","v":""},{"$f":"IF(E75=\"\",\"\",IF(lookup!K67<0,0,lookup!K67))","v":""}]
[null,null,null,null,{"$f":"IF(I75=\"\",\"\",IF(B$13<E75+1,\"\",IF(I75=B$14,\"\",lookup!I68)))","v":""},{"$f":"IF(E76=\"\",\"\",lookup!J68)","v":""},{"$f":"IF(E76=\"\",\"\",lookup!K68-lookup!J68)","v":""},"",{"$f":"IF(E76=\"\",\"\",IF(lookup!K68<0,0,lookup!K68))","v":""}]
[null,null,null,null,{"$f":"IF(I76=\"\",\"\",IF(B$13<E76+1,\"\",IF(I76=B$14,\"\",lookup!I69)))","v":""},{"$f":"IF(E77=\"\",\"\",lookup!J69)","v":""},{"$f":"IF(E77=\"\",\"\",lookup!K69-lookup!J69)","v":""},"",{"$f":"IF(E77=\"\",\"\",IF(lookup!K69<0,0,lookup!K69))","v":""}]
[null,null,null,null,{"$f":"IF(I77=\"\",\"\",IF(B$13<E77+1,\"\",IF(I77=B$14,\"\",lookup!I70)))","v":""},{"$f":"IF(E78=\"\",\"\",lookup!J70)","v":""},{"$f":"IF(E78=\"\",\"\",lookup!K70-lookup!J70)","v":""},"",{"$f":"IF(E78=\"\",\"\",IF(lookup!K70<0,0,lookup!K70))","v":""}]
[null,null,null,null,{"$f":"IF(I78=\"\",\"\",IF(B$13<E78+1,\"\",IF(I78=B$14,\"\",lookup!I71)))","v":""},{"$f":"IF(E79=\"\",\"\",lookup!J71)","v":""},{"$f":"IF(E79=\"\",\"\",lookup!K71-lookup!J71)","v":""},"",{"$f":"IF(E79=\"\",\"\",IF(lookup!K71<0,0,lookup!K71))","v":""}]
[null,null,null,null,{"$f":"IF(I79=\"\",\"\",IF(B$13<E79+1,\"\",IF(I79=B$14,\"\",lookup!I72)))","v":""},{"$f":"IF(E80=\"\",\"\",lookup!J72)","v":""},{"$f":"IF(E80=\"\",\"\",lookup!K72-lookup!J72)","v":""},"",{"$f":"IF(E80=\"\",\"\",IF(lookup!K72<0,0,lookup!K72))","v":""}]
[null,null,null,null,{"$f":"IF(I80=\"\",\"\",IF(B$13<E80+1,\"\",IF(I80=B$14,\"\",lookup!I73)))","v":""},{"$f":"IF(E81=\"\",\"\",lookup!J73)","v":""},{"$f":"IF(E81=\"\",\"\",lookup!K73-lookup!J73)","v":""},"",{"$f":"IF(E81=\"\",\"\",IF(lookup!K73<0,0,lookup!K73))","v":""}]
[null,null,null,null,{"$f":"IF(I81=\"\",\"\",IF(B$13<E81+1,\"\",IF(I81=B$14,\"\",lookup!I74)))","v":""},{"$f":"IF(E82=\"\",\"\",lookup!J74)","v":""},{"$f":"IF(E82=\"\",\"\",lookup!K74-lookup!J74)","v":""},"",{"$f":"IF(E82=\"\",\"\",IF(lookup!K74<0,0,lookup!K74))","v":""}]
[null,null,null,null,{"$f":"IF(I82=\"\",\"\",IF(B$13<E82+1,\"\",IF(I82=B$14,\"\",lookup!I75)))","v":""},{"$f":"IF(E83=\"\",\"\",lookup!J75)","v":""},{"$f":"IF(E83=\"\",\"\",lookup!K75-lookup!J75)","v":""},"",{"$f":"IF(E83=\"\",\"\",IF(lookup!K75<0,0,lookup!K75))","v":""}]
[null,null,null,null,{"$f":"IF(I83=\"\",\"\",IF(B$13<E83+1,\"\",IF(I83=B$14,\"\",lookup!I76)))","v":""},{"$f":"IF(E84=\"\",\"\",lookup!J76)","v":""},{"$f":"IF(E84=\"\",\"\",lookup!K76-lookup!J76)","v":""},"",{"$f":"IF(E84=\"\",\"\",IF(lookup!K76<0,0,lookup!K76))","v":""}]
[null,null,null,null,{"$f":"IF(I84=\"\",\"\",IF(B$13<E84+1,\"\",IF(I84=B$14,\"\",lookup!I77)))","v":""},{"$f":"IF(E85=\"\",\"\",lookup!J77)","v":""},{"$f":"IF(E85=\"\",\"\",lookup!K77-lookup!J77)","v":""},"",{"$f":"IF(E85=\"\",\"\",IF(lookup!K77<0,0,lookup!K77))","v":""}]
[null,null,null,null,{"$f":"IF(I85=\"\",\"\",IF(B$13<E85+1,\"\",IF(I85=B$14,\"\",lookup!I78)))","v":""},{"$f":"IF(E86=\"\",\"\",lookup!J78)","v":""},{"$f":"IF(E86=\"\",\"\",lookup!K78-lookup!J78)","v":""},"",{"$f":"IF(E86=\"\",\"\",IF(lookup!K78<0,0,lookup!K78))","v":""}]
[null,null,null,null,{"$f":"IF(I86=\"\",\"\",IF(B$13<E86+1,\"\",IF(I86=B$14,\"\",lookup!I79)))","v":""},{"$f":"IF(E87=\"\",\"\",lookup!J79)","v":""},{"$f":"IF(E87=\"\",\"\",lookup!K79-lookup!J79)","v":""},"",{"$f":"IF(E87=\"\",\"\",IF(lookup!K79<0,0,lookup!K79))","v":""}]
[null,null,null,null,{"$f":"IF(I87=\"\",\"\",IF(B$13<E87+1,\"\",IF(I87=B$14,\"\",lookup!I80)))","v":""},{"$f":"IF(E88=\"\",\"\",lookup!J80)","v":""},{"$f":"IF(E88=\"\",\"\",lookup!K80-lookup!J80)","v":""},"",{"$f":"IF(E88=\"\",\"\",IF(lookup!K80<0,0,lookup!K80))","v":""}]
[null,null,null,null,{"$f":"IF(I88=\"\",\"\",IF(B$13<E88+1,\"\",IF(I88=B$14,\"\",lookup!I81)))","v":""},{"$f":"IF(E89=\"\",\"\",lookup!J81)","v":""},{"$f":"IF(E89=\"\",\"\",lookup!K81-lookup!J81)","v":""},"",{"$f":"IF(E89=\"\",\"\",IF(lookup!K81<0,0,lookup!K81))","v":""}]
[null,null,null,null,{"$f":"IF(I89=\"\",\"\",IF(B$13<E89+1,\"\",IF(I89=B$14,\"\",lookup!I82)))","v":""},{"$f":"IF(E90=\"\",\"\",lookup!J82)","v":""},{"$f":"IF(E90=\"\",\"\",lookup!K82-lookup!J82)","v":""},"",{"$f":"IF(E90=\"\",\"\",IF(lookup!K82<0,0,lookup!K82))","v":""}]
[null,null,null,null,{"$f":"IF(I90=\"\",\"\",IF(B$13<E90+1,\"\",IF(I90=B$14,\"\",lookup!I83)))","v":""},{"$f":"IF(E91=\"\",\"\",lookup!J83)","v":""},{"$f":"IF(E91=\"\",\"\",lookup!K83-lookup!J83)","v":""},"",{"$f":"IF(E91=\"\",\"\",IF(lookup!K83<0,0,lookup!K83))","v":""}]
[null,null,null,null,{"$f":"IF(I91=\"\",\"\",IF(B$13<E91+1,\"\",IF(I91=B$14,\"\",lookup!I84)))","v":""},{"$f":"IF(E92=\"\",\"\",lookup!J84)","v":""},{"$f":"IF(E92=\"\",\"\",lookup!K84-lookup!J84)","v":""},"",{"$f":"IF(E92=\"\",\"\",IF(lookup!K84<0,0,lookup!K84))","v":""}]
[null,null,null,null,{"$f":"IF(I92=\"\",\"\",IF(B$13<E92+1,\"\",IF(I92=B$14,\"\",lookup!I85)))","v":""},{"$f":"IF(E93=\"\",\"\",lookup!J85)","v":""},{"$f":"IF(E93=\"\",\"\",lookup!K85-lookup!J85)","v":""},"",{"$f":"IF(E93=\"\",\"\",IF(lookup!K85<0,0,lookup!K85))","v":""}]
[null,null,null,null,{"$f":"IF(I93=\"\",\"\",IF(B$13<E93+1,\"\",IF(I93=B$14,\"\",lookup!I86)))","v":""},{"$f":"IF(E94=\"\",\"\",lookup!J86)","v":""},{"$f":"IF(E94=\"\",\"\",lookup!K86-lookup!J86)","v":""},"",{"$f":"IF(E94=\"\",\"\",IF(lookup!K86<0,0,lookup!K86))","v":""}]
[null,null,null,null,{"$f":"IF(I94=\"\",\"\",IF(B$13<E94+1,\"\",IF(I94=B$14,\"\",lookup!I87)))","v":""},{"$f":"IF(E95=\"\",\"\",lookup!J87)","v":""},{"$f":"IF(E95=\"\",\"\",lookup!K87-lookup!J87)","v":""},"",{"$f":"IF(E95=\"\",\"\",IF(lookup!K87<0,0,lookup!K87))","v":""}]
[null,null,null,null,{"$f":"IF(I95=\"\",\"\",IF(B$13<E95+1,\"\",IF(I95=B$14,\"\",lookup!I88)))","v":""},{"$f":"IF(E96=\"\",\"\",lookup!J88)","v":""},{"$f":"IF(E96=\"\",\"\",lookup!K88-lookup!J88)","v":""},"",{"$f":"IF(E96=\"\",\"\",IF(lookup!K88<0,0,lookup!K88))","v":""}]
[null,null,null,null,{"$f":"IF(I96=\"\",\"\",IF(B$13<E96+1,\"\",IF(I96=B$14,\"\",lookup!I89)))","v":""},{"$f":"IF(E97=\"\",\"\",lookup!J89)","v":""},{"$f":"IF(E97=\"\",\"\",lookup!K89-lookup!J89)","v":""},"",{"$f":"IF(E97=\"\",\"\",IF(lookup!K89<0,0,lookup!K89))","v":""}]
[null,null,null,null,{"$f":"IF(I97=\"\",\"\",IF(B$13<E97+1,\"\",IF(I97=B$14,\"\",lookup!I90)))","v":""},{"$f":"IF(E98=\"\",\"\",lookup!J90)","v":""},{"$f":"IF(E98=\"\",\"\",lookup!K90-lookup!J90)","v":""},"",{"$f":"IF(E98=\"\",\"\",IF(lookup!K90<0,0,lookup!K90))","v":""}]
[null,null,null,null,{"$f":"IF(I98=\"\",\"\",IF(B$13<E98+1,\"\",IF(I98=B$14,\"\",lookup!I91)))","v":""},{"$f":"IF(E99=\"\",\"\",lookup!J91)","v":""},{"$f":"IF(E99=\"\",\"\",lookup!K91-lookup!J91)","v":""},"",{"$f":"IF(E99=\"\",\"\",IF(lookup!K91<0,0,lookup!K91))","v":""}]
[null,null,null,null,{"$f":"IF(I99=\"\",\"\",IF(B$13<E99+1,\"\",IF(I99=B$14,\"\",lookup!I92)))","v":""},{"$f":"IF(E100=\"\",\"\",lookup!J92)","v":""},{"$f":"IF(E100=\"\",\"\",lookup!K92-lookup!J92)","v":""},"",{"$f":"IF(E100=\"\",\"\",IF(lookup!K92<0,0,lookup!K92))","v":""}]
[null,null,null,null,{"$f":"IF(I100=\"\",\"\",IF(B$13<E100+1,\"\",IF(I100=B$14,\"\",lookup!I93)))","v":""},{"$f":"IF(E101=\"\",\"\",lookup!J93)","v":""},{"$f":"IF(E101=\"\",\"\",lookup!K93-lookup!J93)","v":""},"",{"$f":"IF(E101=\"\",\"\",IF(lookup!K93<0,0,lookup!K93))","v":""}]
[null,null,null,null,{"$f":"IF(I101=\"\",\"\",IF(B$13<E101+1,\"\",IF(I101=B$14,\"\",lookup!I94)))","v":""},{"$f":"IF(E102=\"\",\"\",lookup!J94)","v":""},{"$f":"IF(E102=\"\",\"\",lookup!K94-lookup!J94)","v":""},"",{"$f":"IF(E102=\"\",\"\",IF(lookup!K94<0,0,lookup!K94))","v":""}]
[null,null,null,null,{"$f":"IF(I102=\"\",\"\",IF(B$13<E102+1,\"\",IF(I102=B$14,\"\",lookup!I95)))","v":""},{"$f":"IF(E103=\"\",\"\",lookup!J95)","v":""},{"$f":"IF(E103=\"\",\"\",lookup!K95-lookup!J95)","v":""},"",{"$f":"IF(E103=\"\",\"\",IF(lookup!K95<0,0,lookup!K95))","v":""}]
[null,null,null,null,{"$f":"IF(I103=\"\",\"\",IF(B$13<E103+1,\"\",IF(I103=B$14,\"\",lookup!I96)))","v":""},{"$f":"IF(E104=\"\",\"\",lookup!J96)","v":""},{"$f":"IF(E104=\"\",\"\",lookup!K96-lookup!J96)","v":""},"",{"$f":"IF(E104=\"\",\"\",IF(lookup!K96<0,0,lookup!K96))","v":""}]
[null,null,null,null,{"$f":"IF(I104=\"\",\"\",IF(B$13<E104+1,\"\",IF(I104=B$14,\"\",lookup!I97)))","v":""},{"$f":"IF(E105=\"\",\"\",lookup!J97)","v":""},{"$f":"IF(E105=\"\",\"\",lookup!K97-lookup!J97)","v":""},"",{"$f":"IF(E105=\"\",\"\",IF(lookup!K97<0,0,lookup!K97))","v":""}]
[null,null,null,null,{"$f":"IF(I105=\"\",\"\",IF(B$13<E105+1,\"\",IF(I105=B$14,\"\",lookup!I98)))","v":""},{"$f":"IF(E106=\"\",\"\",lookup!J98)","v":""},{"$f":"IF(E106=\"\",\"\",lookup!K98-lookup!J98)","v":""},"",{"$f":"IF(E106=\"\",\"\",IF(lookup!K98<0,0,lookup!K98))","v":""}]
[null,null,null,null,{"$f":"IF(I106=\"\",\"\",IF(B$13<E106+1,\"\",IF(I106=B$14,\"\",lookup!I99)))","v":""},{"$f":"IF(E107=\"\",\"\",lookup!J99)","v":""},{"$f":"IF(E107=\"\",\"\",lookup!K99-lookup!J99)","v":""},"",{"$f":"IF(E107=\"\",\"\",IF(lookup!K99<0,0,lookup!K99))","v":""}]
[null,null,null,null,{"$f":"IF(I107=\"\",\"\",IF(B$13<E107+1,\"\",IF(I107=B$14,\"\",lookup!I100)))","v":""},{"$f":"IF(E108=\"\",\"\",lookup!J100)","v":""},{"$f":"IF(E108=\"\",\"\",lookup!K100-lookup!J100)","v":""},"",{"$f":"IF(E108=\"\",\"\",IF(lookup!K100<0,0,lookup!K100))","v":""}]
[null,null,null,null,{"$f":"IF(I108=\"\",\"\",IF(B$13<E108+1,\"\",IF(I108=B$14,\"\",lookup!I101)))","v":""},{"$f":"IF(E109=\"\",\"\",lookup!J101)","v":""},{"$f":"IF(E109=\"\",\"\",lookup!K101-lookup!J101)","v":""},"",{"$f":"IF(E109=\"\",\"\",IF(lookup!K101<0,0,lookup!K101))","v":""}]
[null,null,null,null,{"$f":"IF(I109=\"\",\"\",IF(B$13<E109+1,\"\",IF(I109=B$14,\"\",lookup!I102)))","v":""},{"$f":"IF(E110=\"\",\"\",lookup!J102)","v":""},{"$f":"IF(E110=\"\",\"\",lookup!K102-lookup!J102)","v":""},"",{"$f":"IF(E110=\"\",\"\",IF(lookup!K102<0,0,lookup!K102))","v":""}]
[null,null,null,null,{"$f":"IF(I110=\"\",\"\",IF(B$13<E110+1,\"\",IF(I110=B$14,\"\",lookup!I103)))","v":""},{"$f":"IF(E111=\"\",\"\",lookup!J103)","v":""},{"$f":"IF(E111=\"\",\"\",lookup!K103-lookup!J103)","v":""},"",{"$f":"IF(E111=\"\",\"\",IF(lookup!K103<0,0,lookup!K103))","v":""}]
[null,null,null,null,{"$f":"IF(I111=\"\",\"\",IF(B$13<E111+1,\"\",IF(I111=B$14,\"\",lookup!I104)))","v":""},{"$f":"IF(E112=\"\",\"\",lookup!J104)","v":""},{"$f":"IF(E112=\"\",\"\",lookup!K104-lookup!J104)","v":""},"",{"$f":"IF(E112=\"\",\"\",IF(lookup!K104<0,0,lookup!K104))","v":""}]
[null,null,null,null,{"$f":"IF(I112=\"\",\"\",IF(B$13<E112+1,\"\",IF(I112=B$14,\"\",lookup!I105)))","v":""},{"$f":"IF(E113=\"\",\"\",lookup!J105)","v":""},{"$f":"IF(E113=\"\",\"\",lookup!K105-lookup!J105)","v":""},"",{"$f":"IF(E113=\"\",\"\",IF(lookup!K105<0,0,lookup!K105))","v":""}]
[null,null,null,null,{"$f":"IF(I113=\"\",\"\",IF(B$13<E113+1,\"\",IF(I113=B$14,\"\",lookup!I106)))","v":""},{"$f":"IF(E114=\"\",\"\",lookup!J106)","v":""},{"$f":"IF(E114=\"\",\"\",lookup!K106-lookup!J106)","v":""},"",{"$f":"IF(E114=\"\",\"\",IF(lookup!K106<0,0,lookup!K106))","v":""}]
[null,null,null,null,{"$f":"IF(I114=\"\",\"\",IF(B$13<E114+1,\"\",IF(I114=B$14,\"\",lookup!I107)))","v":""},{"$f":"IF(E115=\"\",\"\",lookup!J107)","v":""},{"$f":"IF(E115=\"\",\"\",lookup!K107-lookup!J107)","v":""},"",{"$f":"IF(E115=\"\",\"\",IF(lookup!K107<0,0,lookup!K107))","v":""}]
[null,null,null,null,{"$f":"IF(I115=\"\",\"\",IF(B$13<E115+1,\"\",IF(I115=B$14,\"\",lookup!I108)))","v":""},{"$f":"IF(E116=\"\",\"\",lookup!J108)","v":""},{"$f":"IF(E116=\"\",\"\",lookup!K108-lookup!J108)","v":""},"",{"$f":"IF(E116=\"\",\"\",IF(lookup!K108<0,0,lookup!K108))","v":""}]
[null,null,null,null,{"$f":"IF(I116=\"\",\"\",IF(B$13<E116+1,\"\",IF(I116=B$14,\"\",lookup!I109)))","v":""},{"$f":"IF(E117=\"\",\"\",lookup!J109)","v":""},{"$f":"IF(E117=\"\",\"\",lookup!K109-lookup!J109)","v":""},"",{"$f":"IF(E117=\"\",\"\",IF(lookup!K109<0,0,lookup!K109))","v":""}]
[null,null,null,null,{"$f":"IF(I117=\"\",\"\",IF(B$13<E117+1,\"\",IF(I117=B$14,\"\",lookup!I110)))","v":""},{"$f":"IF(E118=\"\",\"\",lookup!J110)","v":""},{"$f":"IF(E118=\"\",\"\",lookup!K110-lookup!J110)","v":""},"",{"$f":"IF(E118=\"\",\"\",IF(lookup!K110<0,0,lookup!K110))","v":""}]
[null,null,null,null,{"$f":"IF(I118=\"\",\"\",IF(B$13<E118+1,\"\",IF(I118=B$14,\"\",lookup!I111)))","v":""},{"$f":"IF(E119=\"\",\"\",lookup!J111)","v":""},{"$f":"IF(E119=\"\",\"\",lookup!K111-lookup!J111)","v":""},"",{"$f":"IF(E119=\"\",\"\",IF(lookup!K111<0,0,lookup!K111))","v":""}]
[null,null,null,null,{"$f":"IF(I119=\"\",\"\",IF(B$13<E119+1,\"\",IF(I119=B$14,\"\",lookup!I112)))","v":""},{"$f":"IF(E120=\"\",\"\",lookup!J112)","v":""},{"$f":"IF(E120=\"\",\"\",lookup!K112-lookup!J112)","v":""},"",{"$f":"IF(E120=\"\",\"\",IF(lookup!K112<0,0,lookup!K112))","v":""}]
[null,null,null,null,{"$f":"IF(I120=\"\",\"\",IF(B$13<E120+1,\"\",IF(I120=B$14,\"\",lookup!I113)))","v":""},{"$f":"IF(E121=\"\",\"\",lookup!J113)","v":""},{"$f":"IF(E121=\"\",\"\",lookup!K113-lookup!J113)","v":""},"",{"$f":"IF(E121=\"\",\"\",IF(lookup!K113<0,0,lookup!K113))","v":""}]
[null,null,null,null,{"$f":"IF(I121=\"\",\"\",IF(B$13<E121+1,\"\",IF(I121=B$14,\"\",lookup!I114)))","v":""},{"$f":"IF(E122=\"\",\"\",lookup!J114)","v":""},{"$f":"IF(E122=\"\",\"\",lookup!K114-lookup!J114)","v":""},"",{"$f":"IF(E122=\"\",\"\",IF(lookup!K114<0,0,lookup!K114))","v":""}]
[null,null,null,null,{"$f":"IF(I122=\"\",\"\",IF(B$13<E122+1,\"\",IF(I122=B$14,\"\",lookup!I115)))","v":""},{"$f":"IF(E123=\"\",\"\",lookup!J115)","v":""},{"$f":"IF(E123=\"\",\"\",lookup!K115-lookup!J115)","v":""},"",{"$f":"IF(E123=\"\",\"\",IF(lookup!K115<0,0,lookup!K115))","v":""}]
[null,null,null,null,{"$f":"IF(I123=\"\",\"\",IF(B$13<E123+1,\"\",IF(I123=B$14,\"\",lookup!I116)))","v":""},{"$f":"IF(E124=\"\",\"\",lookup!J116)","v":""},{"$f":"IF(E124=\"\",\"\",lookup!K116-lookup!J116)","v":""},"",{"$f":"IF(E124=\"\",\"\",IF(lookup!K116<0,0,lookup!K116))","v":""}]
[null,null,null,null,{"$f":"IF(I124=\"\",\"\",IF(B$13<E124+1,\"\",IF(I124=B$14,\"\",lookup!I117)))","v":""},{"$f":"IF(E125=\"\",\"\",lookup!J117)","v":""},{"$f":"IF(E125=\"\",\"\",lookup!K117-lookup!J117)","v":""},"",{"$f":"IF(E125=\"\",\"\",IF(lookup!K117<0,0,lookup!K117))","v":""}]
[null,null,null,null,{"$f":"IF(I125=\"\",\"\",IF(B$13<E125+1,\"\",IF(I125=B$14,\"\",lookup!I118)))","v":""},{"$f":"IF(E126=\"\",\"\",lookup!J118)","v":""},{"$f":"IF(E126=\"\",\"\",lookup!K118-lookup!J118)","v":""},"",{"$f":"IF(E126=\"\",\"\",IF(lookup!K118<0,0,lookup!K118))","v":""}]
[null,null,null,null,{"$f":"IF(I126=\"\",\"\",IF(B$13<E126+1,\"\",IF(I126=B$14,\"\",lookup!I119)))","v":""},{"$f":"IF(E127=\"\",\"\",lookup!J119)","v":""},{"$f":"IF(E127=\"\",\"\",lookup!K119-lookup!J119)","v":""},"",{"$f":"IF(E127=\"\",\"\",IF(lookup!K119<0,0,lookup!K119))","v":""}]
[null,null,null,null,{"$f":"IF(I127=\"\",\"\",IF(B$13<E127+1,\"\",IF(I127=B$14,\"\",lookup!I120)))","v":""},{"$f":"IF(E128=\"\",\"\",lookup!J120)","v":""},{"$f":"IF(E128=\"\",\"\",lookup!K120-lookup!J120)","v":""},"",{"$f":"IF(E128=\"\",\"\",IF(lookup!K120<0,0,lookup!K120))","v":""}]
[null,null,null,null,{"$f":"IF(I128=\"\",\"\",IF(B$13<E128+1,\"\",IF(I128=B$14,\"\",lookup!I121)))","v":""},{"$f":"IF(E129=\"\",\"\",lookup!J121)","v":""},{"$f":"IF(E129=\"\",\"\",lookup!K121-lookup!J121)","v":""},"",{"$f":"IF(E129=\"\",\"\",IF(lookup!K121<0,0,lookup!K121))","v":""}]
[null,null,null,null,{"$f":"IF(I129=\"\",\"\",IF(B$13<E129+1,\"\",IF(I129=B$14,\"\",lookup!I122)))","v":""},{"$f":"IF(E130=\"\",\"\",lookup!J122)","v":""},{"$f":"IF(E130=\"\",\"\",lookup!K122-lookup!J122)","v":""},"",{"$f":"IF(E130=\"\",\"\",IF(lookup!K122<0,0,lookup!K122))","v":""}]
[null,null,null,null,{"$f":"IF(I130=\"\",\"\",IF(B$13<E130+1,\"\",IF(I130=B$14,\"\",lookup!I123)))","v":""},{"$f":"IF(E131=\"\",\"\",lookup!J123)","v":""},{"$f":"IF(E131=\"\",\"\",lookup!K123-lookup!J123)","v":""},"",{"$f":"IF(E131=\"\",\"\",IF(lookup!K123<0,0,lookup!K123))","v":""}]
[null,null,null,null,{"$f":"IF(I131=\"\",\"\",IF(B$13<E131+1,\"\",IF(I131=B$14,\"\",lookup!I124)))","v":""},{"$f":"IF(E132=\"\",\"\",lookup!J124)","v":""},{"$f":"IF(E132=\"\",\"\",lookup!K124-lookup!J124)","v":""},"",{"$f":"IF(E132=\"\",\"\",IF(lookup!K124<0,0,lookup!K124))","v":""}]
[null,null,null,null,{"$f":"IF(I132=\"\",\"\",IF(B$13<E132+1,\"\",IF(I132=B$14,\"\",lookup!I125)))","v":""},{"$f":"IF(E133=\"\",\"\",lookup!J125)","v":""},{"$f":"IF(E133=\"\",\"\",lookup!K125-lookup!J125)","v":""},"",{"$f":"IF(E133=\"\",\"\",IF(lookup!K125<0,0,lookup!K125))","v":""}]
[null,null,null,null,{"$f":"IF(I133=\"\",\"\",IF(B$13<E133+1,\"\",IF(I133=B$14,\"\",lookup!I126)))","v":""},{"$f":"IF(E134=\"\",\"\",lookup!J126)","v":""},{"$f":"IF(E134=\"\",\"\",lookup!K126-lookup!J126)","v":""},"",{"$f":"IF(E134=\"\",\"\",IF(lookup!K126<0,0,lookup!K126))","v":""}]
[null,null,null,null,{"$f":"IF(I134=\"\",\"\",IF(B$13<E134+1,\"\",IF(I134=B$14,\"\",lookup!I127)))","v":""},{"$f":"IF(E135=\"\",\"\",lookup!J127)","v":""},{"$f":"IF(E135=\"\",\"\",lookup!K127-lookup!J127)","v":""},"",{"$f":"IF(E135=\"\",\"\",IF(lookup!K127<0,0,lookup!K127))","v":""}]
[null,null,null,null,{"$f":"IF(I135=\"\",\"\",IF(B$13<E135+1,\"\",IF(I135=B$14,\"\",lookup!I128)))","v":""},{"$f":"IF(E136=\"\",\"\",lookup!J128)","v":""},{"$f":"IF(E136=\"\",\"\",lookup!K128-lookup!J128)","v":""},"",{"$f":"IF(E136=\"\",\"\",IF(lookup!K128<0,0,lookup!K128))","v":""}]
[null,null,null,null,{"$f":"IF(I136=\"\",\"\",IF(B$13<E136+1,\"\",IF(I136=B$14,\"\",lookup!I129)))","v":""},{"$f":"IF(E137=\"\",\"\",lookup!J129)","v":""},{"$f":"IF(E137=\"\",\"\",lookup!K129-lookup!J129)","v":""},"",{"$f":"IF(E137=\"\",\"\",IF(lookup!K129<0,0,lookup!K129))","v":""}]
[null,null,null,null,{"$f":"IF(I137=\"\",\"\",IF(B$13<E137+1,\"\",IF(I137=B$14,\"\",lookup!I130)))","v":""},{"$f":"IF(E138=\"\",\"\",lookup!J130)","v":""},{"$f":"IF(E138=\"\",\"\",lookup!K130-lookup!J130)","v":""},"",{"$f":"IF(E138=\"\",\"\",IF(lookup!K130<0,0,lookup!K130))","v":""}]
[null,null,null,null,{"$f":"IF(I138=\"\",\"\",IF(B$13<E138+1,\"\",IF(I138=B$14,\"\",lookup!I131)))","v":""},{"$f":"IF(E139=\"\",\"\",lookup!J131)","v":""},{"$f":"IF(E139=\"\",\"\",lookup!K131-lookup!J131)","v":""},{"$f":"IF(E139=\"\",\"\",H138+G139)","v":""},{"$f":"IF(E139=\"\",\"\",IF(lookup!K131<0,0,lookup!K131))","v":""}]
[null,null,null,null,{"$f":"IF(I139=\"\",\"\",IF(B$13<E139+1,\"\",IF(I139=B$14,\"\",lookup!I132)))","v":""},{"$f":"IF(E140=\"\",\"\",lookup!J132)","v":""},{"$f":"IF(E140=\"\",\"\",lookup!K132-lookup!J132)","v":""},"",{"$f":"IF(E140=\"\",\"\",IF(lookup!K132<0,0,lookup!K132))","v":""}]
[null,null,null,null,{"$f":"IF(I140=\"\",\"\",IF(B$13<E140+1,\"\",IF(I140=B$14,\"\",lookup!I133)))","v":""},{"$f":"IF(E141=\"\",\"\",lookup!J133)","v":""},{"$f":"IF(E141=\"\",\"\",lookup!K133-lookup!J133)","v":""},"",{"$f":"IF(E141=\"\",\"\",IF(lookup!K133<0,0,lookup!K133))","v":""}]
[null,null,null,null,{"$f":"IF(I141=\"\",\"\",IF(B$13<E141+1,\"\",IF(I141=B$14,\"\",lookup!I134)))","v":""},{"$f":"IF(E142=\"\",\"\",lookup!J134)","v":""},{"$f":"IF(E142=\"\",\"\",lookup!K134-lookup!J134)","v":""},"",{"$f":"IF(E142=\"\",\"\",IF(lookup!K134<0,0,lookup!K134))","v":""}]
[null,null,null,null,{"$f":"IF(I142=\"\",\"\",IF(B$13<E142+1,\"\",IF(I142=B$14,\"\",lookup!I135)))","v":""},{"$f":"IF(E143=\"\",\"\",lookup!J135)","v":""},{"$f":"IF(E143=\"\",\"\",lookup!K135-lookup!J135)","v":""},"",{"$f":"IF(E143=\"\",\"\",IF(lookup!K135<0,0,lookup!K135))","v":""}]
[null,null,null,null,{"$f":"IF(I143=\"\",\"\",IF(B$13<E143+1,\"\",IF(I143=B$14,\"\",lookup!I136)))","v":""},{"$f":"IF(E144=\"\",\"\",lookup!J136)","v":""},{"$f":"IF(E144=\"\",\"\",lookup!K136-lookup!J136)","v":""},"",{"$f":"IF(E144=\"\",\"\",IF(lookup!K136<0,0,lookup!K136))","v":""}]
[null,null,null,null,{"$f":"IF(I144=\"\",\"\",IF(B$13<E144+1,\"\",IF(I144=B$14,\"\",lookup!I137)))","v":""},{"$f":"IF(E145=\"\",\"\",lookup!J137)","v":""},{"$f":"IF(E145=\"\",\"\",lookup!K137-lookup!J137)","v":""},"",{"$f":"IF(E145=\"\",\"\",IF(lookup!K137<0,0,lookup!K137))","v":""}]
[null,null,null,null,{"$f":"IF(I145=\"\",\"\",IF(B$13<E145+1,\"\",IF(I145=B$14,\"\",lookup!I138)))","v":""},{"$f":"IF(E146=\"\",\"\",lookup!J138)","v":""},{"$f":"IF(E146=\"\",\"\",lookup!K138-lookup!J138)","v":""},"",{"$f":"IF(E146=\"\",\"\",IF(lookup!K138<0,0,lookup!K138))","v":""}]
[null,null,null,null,{"$f":"IF(I146=\"\",\"\",IF(B$13<E146+1,\"\",IF(I146=B$14,\"\",lookup!I139)))","v":""},{"$f":"IF(E147=\"\",\"\",lookup!J139)","v":""},{"$f":"IF(E147=\"\",\"\",lookup!K139-lookup!J139)","v":""},"",{"$f":"IF(E147=\"\",\"\",IF(lookup!K139<0,0,lookup!K139))","v":""}]
[null,null,null,null,{"$f":"IF(I147=\"\",\"\",IF(B$13<E147+1,\"\",IF(I147=B$14,\"\",lookup!I140)))","v":""},{"$f":"IF(E148=\"\",\"\",lookup!J140)","v":""},{"$f":"IF(E148=\"\",\"\",lookup!K140-lookup!J140)","v":""},"",{"$f":"IF(E148=\"\",\"\",IF(lookup!K140<0,0,lookup!K140))","v":""}]
[null,null,null,null,{"$f":"IF(I148=\"\",\"\",IF(B$13<E148+1,\"\",IF(I148=B$14,\"\",lookup!I141)))","v":""},{"$f":"IF(E149=\"\",\"\",lookup!J141)","v":""},{"$f":"IF(E149=\"\",\"\",lookup!K141-lookup!J141)","v":""},"",{"$f":"IF(E149=\"\",\"\",IF(lookup!K141<0,0,lookup!K141))","v":""}]
[null,null,null,null,{"$f":"IF(I149=\"\",\"\",IF(B$13<E149+1,\"\",IF(I149=B$14,\"\",lookup!I142)))","v":""},{"$f":"IF(E150=\"\",\"\",lookup!J142)","v":""},{"$f":"IF(E150=\"\",\"\",lookup!K142-lookup!J142)","v":""},"",{"$f":"IF(E150=\"\",\"\",IF(lookup!K142<0,0,lookup!K142))","v":""}]
[null,null,null,null,{"$f":"IF(I150=\"\",\"\",IF(B$13<E150+1,\"\",IF(I150=B$14,\"\",lookup!I143)))","v":""},{"$f":"IF(E151=\"\",\"\",lookup!J143)","v":""},{"$f":"IF(E151=\"\",\"\",lookup!K143-lookup!J143)","v":""},"",{"$f":"IF(E151=\"\",\"\",IF(lookup!K143<0,0,lookup!K143))","v":""}]
[null,null,null,null,{"$f":"IF(I151=\"\",\"\",IF(B$13<E151+1,\"\",IF(I151=B$14,\"\",lookup!I144)))","v":""},{"$f":"IF(E152=\"\",\"\",lookup!J144)","v":""},{"$f":"IF(E152=\"\",\"\",lookup!K144-lookup!J144)","v":""},"",{"$f":"IF(E152=\"\",\"\",IF(lookup!K144<0,0,lookup!K144))","v":""}]
[null,null,null,null,{"$f":"IF(I152=\"\",\"\",IF(B$13<E152+1,\"\",IF(I152=B$14,\"\",lookup!I145)))","v":""},{"$f":"IF(E153=\"\",\"\",lookup!J145)","v":""},{"$f":"IF(E153=\"\",\"\",lookup!K145-lookup!J145)","v":""},"",{"$f":"IF(E153=\"\",\"\",IF(lookup!K145<0,0,lookup!K145))","v":""}]
[null,null,null,null,{"$f":"IF(I153=\"\",\"\",IF(B$13<E153+1,\"\",IF(I153=B$14,\"\",lookup!I146)))","v":""},{"$f":"IF(E154=\"\",\"\",lookup!J146)","v":""},{"$f":"IF(E154=\"\",\"\",lookup!K146-lookup!J146)","v":""},"",{"$f":"IF(E154=\"\",\"\",IF(lookup!K146<0,0,lookup!K146))","v":""}]
[null,null,null,null,{"$f":"IF(I154=\"\",\"\",IF(B$13<E154+1,\"\",IF(I154=B$14,\"\",lookup!I147)))","v":""},{"$f":"IF(E155=\"\",\"\",lookup!J147)","v":""},{"$f":"IF(E155=\"\",\"\",lookup!K147-lookup!J147)","v":""},"",{"$f":"IF(E155=\"\",\"\",IF(lookup!K147<0,0,lookup!K147))","v":""}]
[null,null,null,null,{"$f":"IF(I155=\"\",\"\",IF(B$13<E155+1,\"\",IF(I155=B$14,\"\",lookup!I148)))","v":""},{"$f":"IF(E156=\"\",\"\",lookup!J148)","v":""},{"$f":"IF(E156=\"\",\"\",lookup!K148-lookup!J148)","v":""},"",{"$f":"IF(E156=\"\",\"\",IF(lookup!K148<0,0,lookup!K148))","v":""}]
[null,null,null,null,{"$f":"IF(I156=\"\",\"\",IF(B$13<E156+1,\"\",IF(I156=B$14,\"\",lookup!I149)))","v":""},{"$f":"IF(E157=\"\",\"\",lookup!J149)","v":""},{"$f":"IF(E157=\"\",\"\",lookup!K149-lookup!J149)","v":""},"",{"$f":"IF(E157=\"\",\"\",IF(lookup!K149<0,0,lookup!K149))","v":""}]
[null,null,null,null,{"$f":"IF(I157=\"\",\"\",IF(B$13<E157+1,\"\",IF(I157=B$14,\"\",lookup!I150)))","v":""},{"$f":"IF(E158=\"\",\"\",lookup!J150)","v":""},{"$f":"IF(E158=\"\",\"\",lookup!K150-lookup!J150)","v":""},"",{"$f":"IF(E158=\"\",\"\",IF(lookup!K150<0,0,lookup!K150))","v":""}]
[null,null,null,null,{"$f":"IF(I158=\"\",\"\",IF(B$13<E158+1,\"\",IF(I158=B$14,\"\",lookup!I151)))","v":""},{"$f":"IF(E159=\"\",\"\",lookup!J151)","v":""},{"$f":"IF(E159=\"\",\"\",lookup!K151-lookup!J151)","v":""},"",{"$f":"IF(E159=\"\",\"\",IF(lookup!K151<0,0,lookup!K151))","v":""}]
[null,null,null,null,{"$f":"IF(I159=\"\",\"\",IF(B$13<E159+1,\"\",IF(I159=B$14,\"\",lookup!I152)))","v":""},{"$f":"IF(E160=\"\",\"\",lookup!J152)","v":""},{"$f":"IF(E160=\"\",\"\",lookup!K152-lookup!J152)","v":""},"",{"$f":"IF(E160=\"\",\"\",IF(lookup!K152<0,0,lookup!K152))","v":""}]
[null,null,null,null,{"$f":"IF(I160=\"\",\"\",IF(B$13<E160+1,\"\",IF(I160=B$14,\"\",lookup!I153)))","v":""},{"$f":"IF(E161=\"\",\"\",lookup!J153)","v":""},{"$f":"IF(E161=\"\",\"\",lookup!K153-lookup!J153)","v":""},"",{"$f":"IF(E161=\"\",\"\",IF(lookup!K153<0,0,lookup!K153))","v":""}]
[null,null,null,null,{"$f":"IF(I161=\"\",\"\",IF(B$13<E161+1,\"\",IF(I161=B$14,\"\",lookup!I154)))","v":""},{"$f":"IF(E162=\"\",\"\",lookup!J154)","v":""},{"$f":"IF(E162=\"\",\"\",lookup!K154-lookup!J154)","v":""},"",{"$f":"IF(E162=\"\",\"\",IF(lookup!K154<0,0,lookup!K154))","v":""}]
[null,null,null,null,{"$f":"IF(I162=\"\",\"\",IF(B$13<E162+1,\"\",IF(I162=B$14,\"\",lookup!I155)))","v":""},{"$f":"IF(E163=\"\",\"\",lookup!J155)","v":""},{"$f":"IF(E163=\"\",\"\",lookup!K155-lookup!J155)","v":""},"",{"$f":"IF(E163=\"\",\"\",IF(lookup!K155<0,0,lookup!K155))","v":""}]
[null,null,null,null,{"$f":"IF(I163=\"\",\"\",IF(B$13<E163+1,\"\",IF(I163=B$14,\"\",lookup!I156)))","v":""},{"$f":"IF(E164=\"\",\"\",lookup!J156)","v":""},{"$f":"IF(E164=\"\",\"\",lookup!K156-lookup!J156)","v":""},"",{"$f":"IF(E164=\"\",\"\",IF(lookup!K156<0,0,lookup!K156))","v":""}]
[null,null,null,null,{"$f":"IF(I164=\"\",\"\",IF(B$13<E164+1,\"\",IF(I164=B$14,\"\",lookup!I157)))","v":""},{"$f":"IF(E165=\"\",\"\",lookup!J157)","v":""},{"$f":"IF(E165=\"\",\"\",lookup!K157-lookup!J157)","v":""},"",{"$f":"IF(E165=\"\",\"\",IF(lookup!K157<0,0,lookup!K157))","v":""}]
[null,null,null,null,{"$f":"IF(I165=\"\",\"\",IF(B$13<E165+1,\"\",IF(I165=B$14,\"\",lookup!I158)))","v":""},{"$f":"IF(E166=\"\",\"\",lookup!J158)","v":""},{"$f":"IF(E166=\"\",\"\",lookup!K158-lookup!J158)","v":""},"",{"$f":"IF(E166=\"\",\"\",IF(lookup!K158<0,0,lookup!K158))","v":""}]
[null,null,null,null,{"$f":"IF(I166=\"\",\"\",IF(B$13<E166+1,\"\",IF(I166=B$14,\"\",lookup!I159)))","v":""},{"$f":"IF(E167=\"\",\"\",lookup!J159)","v":""},{"$f":"IF(E167=\"\",\"\",lookup!K159-lookup!J159)","v":""},"",{"$f":"IF(E167=\"\",\"\",IF(lookup!K159<0,0,lookup!K159))","v":""}]
[null,null,null,null,{"$f":"IF(I167=\"\",\"\",IF(B$13<E167+1,\"\",IF(I167=B$14,\"\",lookup!I160)))","v":""},{"$f":"IF(E168=\"\",\"\",lookup!J160)","v":""},{"$f":"IF(E168=\"\",\"\",lookup!K160-lookup!J160)","v":""},"",{"$f":"IF(E168=\"\",\"\",IF(lookup!K160<0,0,lookup!K160))","v":""}]
[null,null,null,null,{"$f":"IF(I168=\"\",\"\",IF(B$13<E168+1,\"\",IF(I168=B$14,\"\",lookup!I161)))","v":""},{"$f":"IF(E169=\"\",\"\",lookup!J161)","v":""},{"$f":"IF(E169=\"\",\"\",lookup!K161-lookup!J161)","v":""},"",{"$f":"IF(E169=\"\",\"\",IF(lookup!K161<0,0,lookup!K161))","v":""}]
[null,null,null,null,{"$f":"IF(I169=\"\",\"\",IF(B$13<E169+1,\"\",IF(I169=B$14,\"\",lookup!I162)))","v":""},{"$f":"IF(E170=\"\",\"\",lookup!J162)","v":""},{"$f":"IF(E170=\"\",\"\",lookup!K162-lookup!J162)","v":""},"",{"$f":"IF(E170=\"\",\"\",IF(lookup!K162<0,0,lookup!K162))","v":""}]
[null,null,null,null,{"$f":"IF(I170=\"\",\"\",IF(B$13<E170+1,\"\",IF(I170=B$14,\"\",lookup!I163)))","v":""},{"$f":"IF(E171=\"\",\"\",lookup!J163)","v":""},{"$f":"IF(E171=\"\",\"\",lookup!K163-lookup!J163)","v":""},"",{"$f":"IF(E171=\"\",\"\",IF(lookup!K163<0,0,lookup!K163))","v":""}]
[null,null,null,null,{"$f":"IF(I171=\"\",\"\",IF(B$13<E171+1,\"\",IF(I171=B$14,\"\",lookup!I164)))","v":""},{"$f":"IF(E172=\"\",\"\",lookup!J164)","v":""},{"$f":"IF(E172=\"\",\"\",lookup!K164-lookup!J164)","v":""},"",{"$f":"IF(E172=\"\",\"\",IF(lookup!K164<0,0,lookup!K164))","v":""}]
[null,null,null,null,{"$f":"IF(I172=\"\",\"\",IF(B$13<E172+1,\"\",IF(I172=B$14,\"\",lookup!I165)))","v":""},{"$f":"IF(E173=\"\",\"\",lookup!J165)","v":""},{"$f":"IF(E173=\"\",\"\",lookup!K165-lookup!J165)","v":""},"",{"$f":"IF(E173=\"\",\"\",IF(lookup!K165<0,0,lookup!K165))","v":""}]
[null,null,null,null,{"$f":"IF(I173=\"\",\"\",IF(B$13<E173+1,\"\",IF(I173=B$14,\"\",lookup!I166)))","v":""},{"$f":"IF(E174=\"\",\"\",lookup!J166)","v":""},{"$f":"IF(E174=\"\",\"\",lookup!K166-lookup!J166)","v":""},"",{"$f":"IF(E174=\"\",\"\",IF(lookup!K166<0,0,lookup!K166))","v":""}]
[null,null,null,null,{"$f":"IF(I174=\"\",\"\",IF(B$13<E174+1,\"\",IF(I174=B$14,\"\",lookup!I167)))","v":""},{"$f":"IF(E175=\"\",\"\",lookup!J167)","v":""},{"$f":"IF(E175=\"\",\"\",lookup!K167-lookup!J167)","v":""},"",{"$f":"IF(E175=\"\",\"\",IF(lookup!K167<0,0,lookup!K167))","v":""}]
[null,null,null,null,{"$f":"IF(I175=\"\",\"\",IF(B$13<E175+1,\"\",IF(I175=B$14,\"\",lookup!I168)))","v":""},{"$f":"IF(E176=\"\",\"\",lookup!J168)","v":""},{"$f":"IF(E176=\"\",\"\",lookup!K168-lookup!J168)","v":""},"",{"$f":"IF(E176=\"\",\"\",IF(lookup!K168<0,0,lookup!K168))","v":""}]
[null,null,null,null,{"$f":"IF(I176=\"\",\"\",IF(B$13<E176+1,\"\",IF(I176=B$14,\"\",lookup!I169)))","v":""},{"$f":"IF(E177=\"\",\"\",lookup!J169)","v":""},{"$f":"IF(E177=\"\",\"\",lookup!K169-lookup!J169)","v":""},"",{"$f":"IF(E177=\"\",\"\",IF(lookup!K169<0,0,lookup!K169))","v":""}]
[null,null,null,null,{"$f":"IF(I177=\"\",\"\",IF(B$13<E177+1,\"\",IF(I177=B$14,\"\",lookup!I170)))","v":""},{"$f":"IF(E178=\"\",\"\",lookup!J170)","v":""},{"$f":"IF(E178=\"\",\"\",lookup!K170-lookup!J170)","v":""},"",{"$f":"IF(E178=\"\",\"\",IF(lookup!K170<0,0,lookup!K170))","v":""}]
[null,null,null,null,{"$f":"IF(I178=\"\",\"\",IF(B$13<E178+1,\"\",IF(I178=B$14,\"\",lookup!I171)))","v":""},{"$f":"IF(E179=\"\",\"\",lookup!J171)","v":""},{"$f":"IF(E179=\"\",\"\",lookup!K171-lookup!J171)","v":""},"",{"$f":"IF(E179=\"\",\"\",IF(lookup!K171<0,0,lookup!K171))","v":""}]
[null,null,null,null,{"$f":"IF(I179=\"\",\"\",IF(B$13<E179+1,\"\",IF(I179=B$14,\"\",lookup!I172)))","v":""},{"$f":"IF(E180=\"\",\"\",lookup!J172)","v":""},{"$f":"IF(E180=\"\",\"\",lookup!K172-lookup!J172)","v":""},"",{"$f":"IF(E180=\"\",\"\",IF(lookup!K172<0,0,lookup!K172))","v":""}]
[null,null,null,null,{"$f":"IF(I180=\"\",\"\",IF(B$13<E180+1,\"\",IF(I180=B$14,\"\",lookup!I173)))","v":""},{"$f":"IF(E181=\"\",\"\",lookup!J173)","v":""},{"$f":"IF(E181=\"\",\"\",lookup!K173-lookup!J173)","v":""},"",{"$f":"IF(E181=\"\",\"\",IF(lookup!K173<0,0,lookup!K173))","v":""}]
[null,null,null,null,{"$f":"IF(I181=\"\",\"\",IF(B$13<E181+1,\"\",IF(I181=B$14,\"\",lookup!I174)))","v":""},{"$f":"IF(E182=\"\",\"\",lookup!J174)","v":""},{"$f":"IF(E182=\"\",\"\",lookup!K174-lookup!J174)","v":""},"",{"$f":"IF(E182=\"\",\"\",IF(lookup!K174<0,0,lookup!K174))","v":""}]
[null,null,null,null,{"$f":"IF(I182=\"\",\"\",IF(B$13<E182+1,\"\",IF(I182=B$14,\"\",lookup!I175)))","v":""},{"$f":"IF(E183=\"\",\"\",lookup!J175)","v":""},{"$f":"IF(E183=\"\",\"\",lookup!K175-lookup!J175)","v":""},"",{"$f":"IF(E183=\"\",\"\",IF(lookup!K175<0,0,lookup!K175))","v":""}]
[null,null,null,null,{"$f":"IF(I183=\"\",\"\",IF(B$13<E183+1,\"\",IF(I183=B$14,\"\",lookup!I176)))","v":""},{"$f":"IF(E184=\"\",\"\",lookup!J176)","v":""},{"$f":"IF(E184=\"\",\"\",lookup!K176-lookup!J176)","v":""},"",{"$f":"IF(E184=\"\",\"\",IF(lookup!K176<0,0,lookup!K176))","v":""}]
[null,null,null,null,{"$f":"IF(I184=\"\",\"\",IF(B$13<E184+1,\"\",IF(I184=B$14,\"\",lookup!I177)))","v":""},{"$f":"IF(E185=\"\",\"\",lookup!J177)","v":""},{"$f":"IF(E185=\"\",\"\",lookup!K177-lookup!J177)","v":""},"",{"$f":"IF(E185=\"\",\"\",IF(lookup!K177<0,0,lookup!K177))","v":""}]
[null,null,null,null,{"$f":"IF(I185=\"\",\"\",IF(B$13<E185+1,\"\",IF(I185=B$14,\"\",lookup!I178)))","v":""},{"$f":"IF(E186=\"\",\"\",lookup!J178)","v":""},{"$f":"IF(E186=\"\",\"\",lookup!K178-lookup!J178)","v":""},"",{"$f":"IF(E186=\"\",\"\",IF(lookup!K178<0,0,lookup!K178))","v":""}]
[null,null,null,null,{"$f":"IF(I186=\"\",\"\",IF(B$13<E186+1,\"\",IF(I186=B$14,\"\",lookup!I179)))","v":""},{"$f":"IF(E187=\"\",\"\",lookup!J179)","v":""},{"$f":"IF(E187=\"\",\"\",lookup!K179-lookup!J179)","v":""},"",{"$f":"IF(E187=\"\",\"\",IF(lookup!K179<0,0,lookup!K179))","v":""}]
[null,null,null,null,{"$f":"IF(I187=\"\",\"\",IF(B$13<E187+1,\"\",IF(I187=B$14,\"\",lookup!I180)))","v":""},{"$f":"IF(E188=\"\",\"\",lookup!J180)","v":""},{"$f":"IF(E188=\"\",\"\",lookup!K180-lookup!J180)","v":""},"",{"$f":"IF(E188=\"\",\"\",IF(lookup!K180<0,0,lookup!K180))","v":""}]
[null,null,null,null,{"$f":"IF(I188=\"\",\"\",IF(B$13<E188+1,\"\",IF(I188=B$14,\"\",lookup!I181)))","v":""},{"$f":"IF(E189=\"\",\"\",lookup!J181)","v":""},{"$f":"IF(E189=\"\",\"\",lookup!K181-lookup!J181)","v":""},"",{"$f":"IF(E189=\"\",\"\",IF(lookup!K181<0,0,lookup!K181))","v":""}]
[null,null,null,null,{"$f":"IF(I189=\"\",\"\",IF(B$13<E189+1,\"\",IF(I189=B$14,\"\",lookup!I182)))","v":""},{"$f":"IF(E190=\"\",\"\",lookup!J182)","v":""},{"$f":"IF(E190=\"\",\"\",lookup!K182-lookup!J182)","v":""},"",{"$f":"IF(E190=\"\",\"\",IF(lookup!K182<0,0,lookup!K182))","v":""}]
[null,null,null,null,{"$f":"IF(I190=\"\",\"\",IF(B$13<E190+1,\"\",IF(I190=B$14,\"\",lookup!I183)))","v":""},{"$f":"IF(E191=\"\",\"\",lookup!J183)","v":""},{"$f":"IF(E191=\"\",\"\",lookup!K183-lookup!J183)","v":""},"",{"$f":"IF(E191=\"\",\"\",IF(lookup!K183<0,0,lookup!K183))","v":""}]
[null,null,null,null,{"$f":"IF(I191=\"\",\"\",IF(B$13<E191+1,\"\",IF(I191=B$14,\"\",lookup!I184)))","v":""},{"$f":"IF(E192=\"\",\"\",lookup!J184)","v":""},{"$f":"IF(E192=\"\",\"\",lookup!K184-lookup!J184)","v":""},"",{"$f":"IF(E192=\"\",\"\",IF(lookup!K184<0,0,lookup!K184))","v":""}]
[null,null,null,null,{"$f":"IF(I192=\"\",\"\",IF(B$13<E192+1,\"\",IF(I192=B$14,\"\",lookup!I185)))","v":""},{"$f":"IF(E193=\"\",\"\",lookup!J185)","v":""},{"$f":"IF(E193=\"\",\"\",lookup!K185-lookup!J185)","v":""},"",{"$f":"IF(E193=\"\",\"\",IF(lookup!K185<0,0,lookup!K185))","v":""}]
[null,null,null,null,{"$f":"IF(I193=\"\",\"\",IF(B$13<E193+1,\"\",IF(I193=B$14,\"\",lookup!I186)))","v":""},{"$f":"IF(E194=\"\",\"\",lookup!J186)","v":""},{"$f":"IF(E194=\"\",\"\",lookup!K186-lookup!J186)","v":""},"",{"$f":"IF(E194=\"\",\"\",IF(lookup!K186<0,0,lookup!K186))","v":""}]
[null,null,null,null,{"$f":"IF(I194=\"\",\"\",IF(B$13<E194+1,\"\",IF(I194=B$14,\"\",lookup!I187)))","v":""},{"$f":"IF(E195=\"\",\"\",lookup!J187)","v":""},{"$f":"IF(E195=\"\",\"\",lookup!K187-lookup!J187)","v":""},"",{"$f":"IF(E195=\"\",\"\",IF(lookup!K187<0,0,lookup!K187))","v":""}]
[null,null,null,null,{"$f":"IF(I195=\"\",\"\",IF(B$13<E195+1,\"\",IF(I195=B$14,\"\",lookup!I188)))","v":""},{"$f":"IF(E196=\"\",\"\",lookup!J188)","v":""},{"$f":"IF(E196=\"\",\"\",lookup!K188-lookup!J188)","v":""},"",{"$f":"IF(E196=\"\",\"\",IF(lookup!K188<0,0,lookup!K188))","v":""}]
[null,null,null,null,{"$f":"IF(I196=\"\",\"\",IF(B$13<E196+1,\"\",IF(I196=B$14,\"\",lookup!I189)))","v":""},{"$f":"IF(E197=\"\",\"\",lookup!J189)","v":""},{"$f":"IF(E197=\"\",\"\",lookup!K189-lookup!J189)","v":""},"",{"$f":"IF(E197=\"\",\"\",IF(lookup!K189<0,0,lookup!K189))","v":""}]
[null,null,null,null,{"$f":"IF(I197=\"\",\"\",IF(B$13<E197+1,\"\",IF(I197=B$14,\"\",lookup!I190)))","v":""},{"$f":"IF(E198=\"\",\"\",lookup!J190)","v":""},{"$f":"IF(E198=\"\",\"\",lookup!K190-lookup!J190)","v":""},"",{"$f":"IF(E198=\"\",\"\",IF(lookup!K190<0,0,lookup!K190))","v":""}]
[null,null,null,null,{"$f":"IF(I198=\"\",\"\",IF(B$13<E198+1,\"\",IF(I198=B$14,\"\",lookup!I191)))","v":""},{"$f":"IF(E199=\"\",\"\",lookup!J191)","v":""},{"$f":"IF(E199=\"\",\"\",lookup!K191-lookup!J191)","v":""},"",{"$f":"IF(E199=\"\",\"\",IF(lookup!K191<0,0,lookup!K191))","v":""}]
[null,null,null,null,{"$f":"IF(I199=\"\",\"\",IF(B$13<E199+1,\"\",IF(I199=B$14,\"\",lookup!I192)))","v":""},{"$f":"IF(E200=\"\",\"\",lookup!J192)","v":""},{"$f":"IF(E200=\"\",\"\",lookup!K192-lookup!J192)","v":""},"",{"$f":"IF(E200=\"\",\"\",IF(lookup!K192<0,0,lookup!K192))","v":""}]
[null,null,null,null,{"$f":"IF(I200=\"\",\"\",IF(B$13<E200+1,\"\",IF(I200=B$14,\"\",lookup!I193)))","v":""},{"$f":"IF(E201=\"\",\"\",lookup!J193)","v":""},{"$f":"IF(E201=\"\",\"\",lookup!K193-lookup!J193)","v":""},"",{"$f":"IF(E201=\"\",\"\",IF(lookup!K193<0,0,lookup!K193))","v":""}]
[null,null,null,null,{"$f":"IF(I201=\"\",\"\",IF(B$13<E201+1,\"\",IF(I201=B$14,\"\",lookup!I194)))","v":""},{"$f":"IF(E202=\"\",\"\",lookup!J194)","v":""},{"$f":"IF(E202=\"\",\"\",lookup!K194-lookup!J194)","v":""},"",{"$f":"IF(E202=\"\",\"\",IF(lookup!K194<0,0,lookup!K194))","v":""}]
[null,null,null,null,{"$f":"IF(I202=\"\",\"\",IF(B$13<E202+1,\"\",IF(I202=B$14,\"\",lookup!I195)))","v":""},{"$f":"IF(E203=\"\",\"\",lookup!J195)","v":""},{"$f":"IF(E203=\"\",\"\",lookup!K195-lookup!J195)","v":""},{"$f":"IF(E203=\"\",\"\",H202+G203)","v":""},{"$f":"IF(E203=\"\",\"\",IF(lookup!K195<0,0,lookup!K195))","v":""}]
[null,null,null,null,{"$f":"IF(I203=\"\",\"\",IF(B$13<E203+1,\"\",IF(I203=B$14,\"\",lookup!I196)))","v":""},{"$f":"IF(E204=\"\",\"\",lookup!J196)","v":""},{"$f":"IF(E204=\"\",\"\",lookup!K196-lookup!J196)","v":""},"",{"$f":"IF(E204=\"\",\"\",IF(lookup!K196<0,0,lookup!K196))","v":""}]
[null,null,null,null,{"$f":"IF(I204=\"\",\"\",IF(B$13<E204+1,\"\",IF(I204=B$14,\"\",lookup!I197)))","v":""},{"$f":"IF(E205=\"\",\"\",lookup!J197)","v":""},{"$f":"IF(E205=\"\",\"\",lookup!K197-lookup!J197)","v":""},"",{"$f":"IF(E205=\"\",\"\",IF(lookup!K197<0,0,lookup!K197))","v":""}]
[null,null,null,null,{"$f":"IF(I205=\"\",\"\",IF(B$13<E205+1,\"\",IF(I205=B$14,\"\",lookup!I198)))","v":""},{"$f":"IF(E206=\"\",\"\",lookup!J198)","v":""},{"$f":"IF(E206=\"\",\"\",lookup!K198-lookup!J198)","v":""},"",{"$f":"IF(E206=\"\",\"\",IF(lookup!K198<0,0,lookup!K198))","v":""}]
[null,null,null,null,{"$f":"IF(I206=\"\",\"\",IF(B$13<E206+1,\"\",IF(I206=B$14,\"\",lookup!I199)))","v":""},{"$f":"IF(E207=\"\",\"\",lookup!J199)","v":""},{"$f":"IF(E207=\"\",\"\",lookup!K199-lookup!J199)","v":""},"",{"$f":"IF(E207=\"\",\"\",IF(lookup!K199<0,0,lookup!K199))","v":""}]
[null,null,null,null,{"$f":"IF(I207=\"\",\"\",IF(B$13<E207+1,\"\",IF(I207=B$14,\"\",lookup!I200)))","v":""},{"$f":"IF(E208=\"\",\"\",lookup!J200)","v":""},{"$f":"IF(E208=\"\",\"\",lookup!K200-lookup!J200)","v":""},"",{"$f":"IF(E208=\"\",\"\",IF(lookup!K200<0,0,lookup!K200))","v":""}]
[null,null,null,null,{"$f":"IF(I208=\"\",\"\",IF(B$13<E208+1,\"\",IF(I208=B$14,\"\",lookup!I201)))","v":""},{"$f":"IF(E209=\"\",\"\",lookup!J201)","v":""},{"$f":"IF(E209=\"\",\"\",lookup!K201-lookup!J201)","v":""},"",{"$f":"IF(E209=\"\",\"\",IF(lookup!K201<0,0,lookup!K201))","v":""}]
[null,null,null,null,{"$f":"IF(I209=\"\",\"\",IF(B$13<E209+1,\"\",IF(I209=B$14,\"\",lookup!I202)))","v":""},{"$f":"IF(E210=\"\",\"\",lookup!J202)","v":""},{"$f":"IF(E210=\"\",\"\",lookup!K202-lookup!J202)","v":""},"",{"$f":"IF(E210=\"\",\"\",IF(lookup!K202<0,0,lookup!K202))","v":""}]
[null,null,null,null,{"$f":"IF(I210=\"\",\"\",IF(B$13<E210+1,\"\",IF(I210=B$14,\"\",lookup!I203)))","v":""},{"$f":"IF(E211=\"\",\"\",lookup!J203)","v":""},{"$f":"IF(E211=\"\",\"\",lookup!K203-lookup!J203)","v":""},"",{"$f":"IF(E211=\"\",\"\",IF(lookup!K203<0,0,lookup!K203))","v":""}]
[null,null,null,null,{"$f":"IF(I211=\"\",\"\",IF(B$13<E211+1,\"\",IF(I211=B$14,\"\",lookup!I204)))","v":""},{"$f":"IF(E212=\"\",\"\",lookup!J204)","v":""},{"$f":"IF(E212=\"\",\"\",lookup!K204-lookup!J204)","v":""},"",{"$f":"IF(E212=\"\",\"\",IF(lookup!K204<0,0,lookup!K204))","v":""}]
[null,null,null,null,{"$f":"IF(I212=\"\",\"\",IF(B$13<E212+1,\"\",IF(I212=B$14,\"\",lookup!I205)))","v":""},{"$f":"IF(E213=\"\",\"\",lookup!J205)","v":""},{"$f":"IF(E213=\"\",\"\",lookup!K205-lookup!J205)","v":""},"",{"$f":"IF(E213=\"\",\"\",IF(lookup!K205<0,0,lookup!K205))","v":""}]
[null,null,null,null,{"$f":"IF(I213=\"\",\"\",IF(B$13<E213+1,\"\",IF(I213=B$14,\"\",lookup!I206)))","v":""},{"$f":"IF(E214=\"\",\"\",lookup!J206)","v":""},{"$f":"IF(E214=\"\",\"\",lookup!K206-lookup!J206)","v":""},"",{"$f":"IF(E214=\"\",\"\",IF(lookup!K206<0,0,lookup!K206))","v":""}]
[null,null,null,null,{"$f":"IF(I214=\"\",\"\",IF(B$13<E214+1,\"\",IF(I214=B$14,\"\",lookup!I207)))","v":""},{"$f":"IF(E215=\"\",\"\",lookup!J207)","v":""},{"$f":"IF(E215=\"\",\"\",lookup!K207-lookup!J207)","v":""},"",{"$f":"IF(E215=\"\",\"\",IF(lookup!K207<0,0,lookup!K207))","v":""}]
[null,null,null,null,{"$f":"IF(I215=\"\",\"\",IF(B$13<E215+1,\"\",IF(I215=B$14,\"\",lookup!I208)))","v":""},{"$f":"IF(E216=\"\",\"\",lookup!J208)","v":""},{"$f":"IF(E216=\"\",\"\",lookup!K208-lookup!J208)","v":""},"",{"$f":"IF(E216=\"\",\"\",IF(lookup!K208<0,0,lookup!K208))","v":""}]
[null,null,null,null,{"$f":"IF(I216=\"\",\"\",IF(B$13<E216+1,\"\",IF(I216=B$14,\"\",lookup!I209)))","v":""},{"$f":"IF(E217=\"\",\"\",lookup!J209)","v":""},{"$f":"IF(E217=\"\",\"\",lookup!K209-lookup!J209)","v":""},"",{"$f":"IF(E217=\"\",\"\",IF(lookup!K209<0,0,lookup!K209))","v":""}]
[null,null,null,null,{"$f":"IF(I217=\"\",\"\",IF(B$13<E217+1,\"\",IF(I217=B$14,\"\",lookup!I210)))","v":""},{"$f":"IF(E218=\"\",\"\",lookup!J210)","v":""},{"$f":"IF(E218=\"\",\"\",lookup!K210-lookup!J210)","v":""},"",{"$f":"IF(E218=\"\",\"\",IF(lookup!K210<0,0,lookup!K210))","v":""}]
[null,null,null,null,{"$f":"IF(I218=\"\",\"\",IF(B$13<E218+1,\"\",IF(I218=B$14,\"\",lookup!I211)))","v":""},{"$f":"IF(E219=\"\",\"\",lookup!J211)","v":""},{"$f":"IF(E219=\"\",\"\",lookup!K211-lookup!J211)","v":""},"",{"$f":"IF(E219=\"\",\"\",IF(lookup!K211<0,0,lookup!K211))","v":""}]
[null,null,null,null,{"$f":"IF(I219=\"\",\"\",IF(B$13<E219+1,\"\",IF(I219=B$14,\"\",lookup!I212)))","v":""},{"$f":"IF(E220=\"\",\"\",lookup!J212)","v":""},{"$f":"IF(E220=\"\",\"\",lookup!K212-lookup!J212)","v":""},"",{"$f":"IF(E220=\"\",\"\",IF(lookup!K212<0,0,lookup!K212))","v":""}]
[null,null,null,null,{"$f":"IF(I220=\"\",\"\",IF(B$13<E220+1,\"\",IF(I220=B$14,\"\",lookup!I213)))","v":""},{"$f":"IF(E221=\"\",\"\",lookup!J213)","v":""},{"$f":"IF(E221=\"\",\"\",lookup!K213-lookup!J213)","v":""},"",{"$f":"IF(E221=\"\",\"\",IF(lookup!K213<0,0,lookup!K213))","v":""}]
[null,null,null,null,{"$f":"IF(I221=\"\",\"\",IF(B$13<E221+1,\"\",IF(I221=B$14,\"\",lookup!I214)))","v":""},{"$f":"IF(E222=\"\",\"\",lookup!J214)","v":""},{"$f":"IF(E222=\"\",\"\",lookup!K214-lookup!J214)","v":""},"",{"$f":"IF(E222=\"\",\"\",IF(lookup!K214<0,0,lookup!K214))","v":""}]
[null,null,null,null,{"$f":"IF(I222=\"\",\"\",IF(B$13<E222+1,\"\",IF(I222=B$14,\"\",lookup!I215)))","v":""},{"$f":"IF(E223=\"\",\"\",lookup!J215)","v":""},{"$f":"IF(E223=\"\",\"\",lookup!K215-lookup!J215)","v":""},"",{"$f":"IF(E223=\"\",\"\",IF(lookup!K215<0,0,lookup!K215))","v":""}]
[null,null,null,null,{"$f":"IF(I223=\"\",\"\",IF(B$13<E223+1,\"\",IF(I223=B$14,\"\",lookup!I216)))","v":""},{"$f":"IF(E224=\"\",\"\",lookup!J216)","v":""},{"$f":"IF(E224=\"\",\"\",lookup!K216-lookup!J216)","v":""},"",{"$f":"IF(E224=\"\",\"\",IF(lookup!K216<0,0,lookup!K216))","v":""}]
[null,null,null,null,{"$f":"IF(I224=\"\",\"\",IF(B$13<E224+1,\"\",IF(I224=B$14,\"\",lookup!I217)))","v":""},{"$f":"IF(E225=\"\",\"\",lookup!J217)","v":""},{"$f":"IF(E225=\"\",\"\",lookup!K217-lookup!J217)","v":""},"",{"$f":"IF(E225=\"\",\"\",IF(lookup!K217<0,0,lookup!K217))","v":""}]
[null,null,null,null,{"$f":"IF(I225=\"\",\"\",IF(B$13<E225+1,\"\",IF(I225=B$14,\"\",lookup!I218)))","v":""},{"$f":"IF(E226=\"\",\"\",lookup!J218)","v":""},{"$f":"IF(E226=\"\",\"\",lookup!K218-lookup!J218)","v":""},"",{"$f":"IF(E226=\"\",\"\",IF(lookup!K218<0,0,lookup!K218))","v":""}]
[null,null,null,null,{"$f":"IF(I226=\"\",\"\",IF(B$13<E226+1,\"\",IF(I226=B$14,\"\",lookup!I219)))","v":""},{"$f":"IF(E227=\"\",\"\",lookup!J219)","v":""},{"$f":"IF(E227=\"\",\"\",lookup!K219-lookup!J219)","v":""},"",{"$f":"IF(E227=\"\",\"\",IF(lookup!K219<0,0,lookup!K219))","v":""}]
[null,null,null,null,{"$f":"IF(I227=\"\",\"\",IF(B$13<E227+1,\"\",IF(I227=B$14,\"\",lookup!I220)))","v":""},{"$f":"IF(E228=\"\",\"\",lookup!J220)","v":""},{"$f":"IF(E228=\"\",\"\",lookup!K220-lookup!J220)","v":""},"",{"$f":"IF(E228=\"\",\"\",IF(lookup!K220<0,0,lookup!K220))","v":""}]
[null,null,null,null,{"$f":"IF(I228=\"\",\"\",IF(B$13<E228+1,\"\",IF(I228=B$14,\"\",lookup!I221)))","v":""},{"$f":"IF(E229=\"\",\"\",lookup!J221)","v":""},{"$f":"IF(E229=\"\",\"\",lookup!K221-lookup!J221)","v":""},"",{"$f":"IF(E229=\"\",\"\",IF(lookup!K221<0,0,lookup!K221))","v":""}]
[null,null,null,null,{"$f":"IF(I229=\"\",\"\",IF(B$13<E229+1,\"\",IF(I229=B$14,\"\",lookup!I222)))","v":""},{"$f":"IF(E230=\"\",\"\",lookup!J222)","v":""},{"$f":"IF(E230=\"\",\"\",lookup!K222-lookup!J222)","v":""},"",{"$f":"IF(E230=\"\",\"\",IF(lookup!K222<0,0,lookup!K222))","v":""}]
[null,null,null,null,{"$f":"IF(I230=\"\",\"\",IF(B$13<E230+1,\"\",IF(I230=B$14,\"\",lookup!I223)))","v":""},{"$f":"IF(E231=\"\",\"\",lookup!J223)","v":""},{"$f":"IF(E231=\"\",\"\",lookup!K223-lookup!J223)","v":""},"",{"$f":"IF(E231=\"\",\"\",IF(lookup!K223<0,0,lookup!K223))","v":""}]
[null,null,null,null,{"$f":"IF(I231=\"\",\"\",IF(B$13<E231+1,\"\",IF(I231=B$14,\"\",lookup!I224)))","v":""},{"$f":"IF(E232=\"\",\"\",lookup!J224)","v":""},{"$f":"IF(E232=\"\",\"\",lookup!K224-lookup!J224)","v":""},"",{"$f":"IF(E232=\"\",\"\",IF(lookup!K224<0,0,lookup!K224))","v":""}]
[null,null,null,null,{"$f":"IF(I232=\"\",\"\",IF(B$13<E232+1,\"\",IF(I232=B$14,\"\",lookup!I225)))","v":""},{"$f":"IF(E233=\"\",\"\",lookup!J225)","v":""},{"$f":"IF(E233=\"\",\"\",lookup!K225-lookup!J225)","v":""},"",{"$f":"IF(E233=\"\",\"\",IF(lookup!K225<0,0,lookup!K225))","v":""}]
[null,null,null,null,{"$f":"IF(I233=\"\",\"\",IF(B$13<E233+1,\"\",IF(I233=B$14,\"\",lookup!I226)))","v":""},{"$f":"IF(E234=\"\",\"\",lookup!J226)","v":""},{"$f":"IF(E234=\"\",\"\",lookup!K226-lookup!J226)","v":""},"",{"$f":"IF(E234=\"\",\"\",IF(lookup!K226<0,0,lookup!K226))","v":""}]
[null,null,null,null,{"$f":"IF(I234=\"\",\"\",IF(B$13<E234+1,\"\",IF(I234=B$14,\"\",lookup!I227)))","v":""},{"$f":"IF(E235=\"\",\"\",lookup!J227)","v":""},{"$f":"IF(E235=\"\",\"\",lookup!K227-lookup!J227)","v":""},"",{"$f":"IF(E235=\"\",\"\",IF(lookup!K227<0,0,lookup!K227))","v":""}]
[null,null,null,null,{"$f":"IF(I235=\"\",\"\",IF(B$13<E235+1,\"\",IF(I235=B$14,\"\",lookup!I228)))","v":""},{"$f":"IF(E236=\"\",\"\",lookup!J228)","v":""},{"$f":"IF(E236=\"\",\"\",lookup!K228-lookup!J228)","v":""},"",{"$f":"IF(E236=\"\",\"\",IF(lookup!K228<0,0,lookup!K228))","v":""}]
[null,null,null,null,{"$f":"IF(I236=\"\",\"\",IF(B$13<E236+1,\"\",IF(I236=B$14,\"\",lookup!I229)))","v":""},{"$f":"IF(E237=\"\",\"\",lookup!J229)","v":""},{"$f":"IF(E237=\"\",\"\",lookup!K229-lookup!J229)","v":""},"",{"$f":"IF(E237=\"\",\"\",IF(lookup!K229<0,0,lookup!K229))","v":""}]
[null,null,null,null,{"$f":"IF(I237=\"\",\"\",IF(B$13<E237+1,\"\",IF(I237=B$14,\"\",lookup!I230)))","v":""},{"$f":"IF(E238=\"\",\"\",lookup!J230)","v":""},{"$f":"IF(E238=\"\",\"\",lookup!K230-lookup!J230)","v":""},"",{"$f":"IF(E238=\"\",\"\",IF(lookup!K230<0,0,lookup!K230))","v":""}]
[null,null,null,null,{"$f":"IF(I238=\"\",\"\",IF(B$13<E238+1,\"\",IF(I238=B$14,\"\",lookup!I231)))","v":""},{"$f":"IF(E239=\"\",\"\",lookup!J231)","v":""},{"$f":"IF(E239=\"\",\"\",lookup!K231-lookup!J231)","v":""},"",{"$f":"IF(E239=\"\",\"\",IF(lookup!K231<0,0,lookup!K231))","v":""}]
[null,null,null,null,{"$f":"IF(I239=\"\",\"\",IF(B$13<E239+1,\"\",IF(I239=B$14,\"\",lookup!I232)))","v":""},{"$f":"IF(E240=\"\",\"\",lookup!J232)","v":""},{"$f":"IF(E240=\"\",\"\",lookup!K232-lookup!J232)","v":""},"",{"$f":"IF(E240=\"\",\"\",IF(lookup!K232<0,0,lookup!K232))","v":""}]
[null,null,null,null,{"$f":"IF(I240=\"\",\"\",IF(B$13<E240+1,\"\",IF(I240=B$14,\"\",lookup!I233)))","v":""},{"$f":"IF(E241=\"\",\"\",lookup!J233)","v":""},{"$f":"IF(E241=\"\",\"\",lookup!K233-lookup!J233)","v":""},"",{"$f":"IF(E241=\"\",\"\",IF(lookup!K233<0,0,lookup!K233))","v":""}]
[null,null,null,null,{"$f":"IF(I241=\"\",\"\",IF(B$13<E241+1,\"\",IF(I241=B$14,\"\",lookup!I234)))","v":""},{"$f":"IF(E242=\"\",\"\",lookup!J234)","v":""},{"$f":"IF(E242=\"\",\"\",lookup!K234-lookup!J234)","v":""},"",{"$f":"IF(E242=\"\",\"\",IF(lookup!K234<0,0,lookup!K234))","v":""}]
[null,null,null,null,{"$f":"IF(I242=\"\",\"\",IF(B$13<E242+1,\"\",IF(I242=B$14,\"\",lookup!I235)))","v":""},{"$f":"IF(E243=\"\",\"\",lookup!J235)","v":""},{"$f":"IF(E243=\"\",\"\",lookup!K235-lookup!J235)","v":""},"",{"$f":"IF(E243=\"\",\"\",IF(lookup!K235<0,0,lookup!K235))","v":""}]
[null,null,null,null,{"$f":"IF(I243=\"\",\"\",IF(B$13<E243+1,\"\",IF(I243=B$14,\"\",lookup!I236)))","v":""},{"$f":"IF(E244=\"\",\"\",lookup!J236)","v":""},{"$f":"IF(E244=\"\",\"\",lookup!K236-lookup!J236)","v":""},"",{"$f":"IF(E244=\"\",\"\",IF(lookup!K236<0,0,lookup!K236))","v":""}]
[null,null,null,null,{"$f":"IF(I244=\"\",\"\",IF(B$13<E244+1,\"\",IF(I244=B$14,\"\",lookup!I237)))","v":""},{"$f":"IF(E245=\"\",\"\",lookup!J237)","v":""},{"$f":"IF(E245=\"\",\"\",lookup!K237-lookup!J237)","v":""},"",{"$f":"IF(E245=\"\",\"\",IF(lookup!K237<0,0,lookup!K237))","v":""}]
[null,null,null,null,{"$f":"IF(I245=\"\",\"\",IF(B$13<E245+1,\"\",IF(I245=B$14,\"\",lookup!I238)))","v":""},{"$f":"IF(E246=\"\",\"\",lookup!J238)","v":""},{"$f":"IF(E246=\"\",\"\",lookup!K238-lookup!J238)","v":""},"",{"$f":"IF(E246=\"\",\"\",IF(lookup!K238<0,0,lookup!K238))","v":""}]
[null,null,null,null,{"$f":"IF(I246=\"\",\"\",IF(B$13<E246+1,\"\",IF(I246=B$14,\"\",lookup!I239)))","v":""},{"$f":"IF(E247=\"\",\"\",lookup!J239)","v":""},{"$f":"IF(E247=\"\",\"\",lookup!K239-lookup!J239)","v":""},"",{"$f":"IF(E247=\"\",\"\",IF(lookup!K239<0,0,lookup!K239))","v":""}]
[null,null,null,null,{"$f":"IF(I247=\"\",\"\",IF(B$13<E247+1,\"\",IF(I247=B$14,\"\",lookup!I240)))","v":""},{"$f":"IF(E248=\"\",\"\",lookup!J240)","v":""},{"$f":"IF(E248=\"\",\"\",lookup!K240-lookup!J240)","v":""},"",{"$f":"IF(E248=\"\",\"\",IF(lookup!K240<0,0,lookup!K240))","v":""}]
[null,null,null,null,{"$f":"IF(I248=\"\",\"\",IF(B$13<E248+1,\"\",IF(I248=B$14,\"\",lookup!I241)))","v":""},{"$f":"IF(E249=\"\",\"\",lookup!J241)","v":""},{"$f":"IF(E249=\"\",\"\",lookup!K241-lookup!J241)","v":""},"",{"$f":"IF(E249=\"\",\"\",IF(lookup!K241<0,0,lookup!K241))","v":""}]
[null,null,null,null,{"$f":"IF(I249=\"\",\"\",IF(B$13<E249+1,\"\",IF(I249=B$14,\"\",lookup!I242)))","v":""},{"$f":"IF(E250=\"\",\"\",lookup!J242)","v":""},{"$f":"IF(E250=\"\",\"\",lookup!K242-lookup!J242)","v":""},"",{"$f":"IF(E250=\"\",\"\",IF(lookup!K242<0,0,lookup!K242))","v":""}]
[null,null,null,null,{"$f":"IF(I250=\"\",\"\",IF(B$13<E250+1,\"\",IF(I250=B$14,\"\",lookup!I243)))","v":""},{"$f":"IF(E251=\"\",\"\",lookup!J243)","v":""},{"$f":"IF(E251=\"\",\"\",lookup!K243-lookup!J243)","v":""},"",{"$f":"IF(E251=\"\",\"\",IF(lookup!K243<0,0,lookup!K243))","v":""}]
[null,null,null,null,{"$f":"IF(I251=\"\",\"\",IF(B$13<E251+1,\"\",IF(I251=B$14,\"\",lookup!I244)))","v":""},{"$f":"IF(E252=\"\",\"\",lookup!J244)","v":""},{"$f":"IF(E252=\"\",\"\",lookup!K244-lookup!J244)","v":""},"",{"$f":"IF(E252=\"\",\"\",IF(lookup!K244<0,0,lookup!K244))","v":""}]
[null,null,null,null,{"$f":"IF(I252=\"\",\"\",IF(B$13<E252+1,\"\",IF(I252=B$14,\"\",lookup!I245)))","v":""},{"$f":"IF(E253=\"\",\"\",lookup!J245)","v":""},{"$f":"IF(E253=\"\",\"\",lookup!K245-lookup!J245)","v":""},"",{"$f":"IF(E253=\"\",\"\",IF(lookup!K245<0,0,lookup!K245))","v":""}]
[null,null,null,null,{"$f":"IF(I253=\"\",\"\",IF(B$13<E253+1,\"\",IF(I253=B$14,\"\",lookup!I246)))","v":""},{"$f":"IF(E254=\"\",\"\",lookup!J246)","v":""},{"$f":"IF(E254=\"\",\"\",lookup!K246-lookup!J246)","v":""},"",{"$f":"IF(E254=\"\",\"\",IF(lookup!K246<0,0,lookup!K246))","v":""}]
[null,null,null,null,{"$f":"IF(I254=\"\",\"\",IF(B$13<E254+1,\"\",IF(I254=B$14,\"\",lookup!I247)))","v":""},{"$f":"IF(E255=\"\",\"\",lookup!J247)","v":""},{"$f":"IF(E255=\"\",\"\",lookup!K247-lookup!J247)","v":""},"",{"$f":"IF(E255=\"\",\"\",IF(lookup!K247<0,0,lookup!K247))","v":""}]
[null,null,null,null,{"$f":"IF(I255=\"\",\"\",IF(B$13<E255+1,\"\",IF(I255=B$14,\"\",lookup!I248)))","v":""},{"$f":"IF(E256=\"\",\"\",lookup!J248)","v":""},{"$f":"IF(E256=\"\",\"\",lookup!K248-lookup!J248)","v":""},"",{"$f":"IF(E256=\"\",\"\",IF(lookup!K248<0,0,lookup!K248))","v":""}]
[null,null,null,null,{"$f":"IF(I256=\"\",\"\",IF(B$13<E256+1,\"\",IF(I256=B$14,\"\",lookup!I249)))","v":""},{"$f":"IF(E257=\"\",\"\",lookup!J249)","v":""},{"$f":"IF(E257=\"\",\"\",lookup!K249-lookup!J249)","v":""},"",{"$f":"IF(E257=\"\",\"\",IF(lookup!K249<0,0,lookup!K249))","v":""}]
[null,null,null,null,{"$f":"IF(I257=\"\",\"\",IF(B$13<E257+1,\"\",IF(I257=B$14,\"\",lookup!I250)))","v":""},{"$f":"IF(E258=\"\",\"\",lookup!J250)","v":""},{"$f":"IF(E258=\"\",\"\",lookup!K250-lookup!J250)","v":""},"",{"$f":"IF(E258=\"\",\"\",IF(lookup!K250<0,0,lookup!K250))","v":""}]
[null,null,null,null,{"$f":"IF(I258=\"\",\"\",IF(B$13<E258+1,\"\",IF(I258=B$14,\"\",lookup!I251)))","v":""},{"$f":"IF(E259=\"\",\"\",lookup!J251)","v":""},{"$f":"IF(E259=\"\",\"\",lookup!K251-lookup!J251)","v":""},"",{"$f":"IF(E259=\"\",\"\",IF(lookup!K251<0,0,lookup!K251))","v":""}]
[null,null,null,null,{"$f":"IF(I259=\"\",\"\",IF(B$13<E259+1,\"\",IF(I259=B$14,\"\",lookup!I252)))","v":""},{"$f":"IF(E260=\"\",\"\",lookup!J252)","v":""},{"$f":"IF(E260=\"\",\"\",lookup!K252-lookup!J252)","v":""},"",{"$f":"IF(E260=\"\",\"\",IF(lookup!K252<0,0,lookup!K252))","v":""}]
[null,null,null,null,{"$f":"IF(I260=\"\",\"\",IF(B$13<E260+1,\"\",IF(I260=B$14,\"\",lookup!I253)))","v":""},{"$f":"IF(E261=\"\",\"\",lookup!J253)","v":""},{"$f":"IF(E261=\"\",\"\",lookup!K253-lookup!J253)","v":""},"",{"$f":"IF(E261=\"\",\"\",IF(lookup!K253<0,0,lookup!K253))","v":""}]
[null,null,null,null,{"$f":"IF(I261=\"\",\"\",IF(B$13<E261+1,\"\",IF(I261=B$14,\"\",lookup!I254)))","v":""},{"$f":"IF(E262=\"\",\"\",lookup!J254)","v":""},{"$f":"IF(E262=\"\",\"\",lookup!K254-lookup!J254)","v":""},"",{"$f":"IF(E262=\"\",\"\",IF(lookup!K254<0,0,lookup!K254))","v":""}]
[null,null,null,null,{"$f":"IF(I262=\"\",\"\",IF(B$13<E262+1,\"\",IF(I262=B$14,\"\",lookup!I255)))","v":""},{"$f":"IF(E263=\"\",\"\",lookup!J255)","v":""},{"$f":"IF(E263=\"\",\"\",lookup!K255-lookup!J255)","v":""},"",{"$f":"IF(E263=\"\",\"\",IF(lookup!K255<0,0,lookup!K255))","v":""}]
[null,null,null,null,{"$f":"IF(I263=\"\",\"\",IF(B$13<E263+1,\"\",IF(I263=B$14,\"\",lookup!I256)))","v":""},{"$f":"IF(E264=\"\",\"\",lookup!J256)","v":""},{"$f":"IF(E264=\"\",\"\",lookup!K256-lookup!J256)","v":""},"",{"$f":"IF(E264=\"\",\"\",IF(lookup!K256<0,0,lookup!K256))","v":""}]
[null,null,null,null,{"$f":"IF(I264=\"\",\"\",IF(B$13<E264+1,\"\",IF(I264=B$14,\"\",lookup!I257)))","v":""},{"$f":"IF(E265=\"\",\"\",lookup!J257)","v":""},{"$f":"IF(E265=\"\",\"\",lookup!K257-lookup!J257)","v":""},"",{"$f":"IF(E265=\"\",\"\",IF(lookup!K257<0,0,lookup!K257))","v":""}]
[null,null,null,null,{"$f":"IF(I265=\"\",\"\",IF(B$13<E265+1,\"\",IF(I265=B$14,\"\",lookup!I258)))","v":""},{"$f":"IF(E266=\"\",\"\",lookup!J258)","v":""},{"$f":"IF(E266=\"\",\"\",lookup!K258-lookup!J258)","v":""},"",{"$f":"IF(E266=\"\",\"\",IF(lookup!K258<0,0,lookup!K258))","v":""}]
[null,null,null,null,{"$f":"IF(I266=\"\",\"\",IF(B$13<E266+1,\"\",IF(I266=B$14,\"\",lookup!I259)))","v":""},{"$f":"IF(E267=\"\",\"\",lookup!J259)","v":""},{"$f":"IF(E267=\"\",\"\",lookup!K259-lookup!J259)","v":""},{"$f":"IF(E267=\"\",\"\",H266+G267)","v":""},{"$f":"IF(E267=\"\",\"\",IF(lookup!K259<0,0,lookup!K259))","v":""}]
[null,null,null,null,{"$f":"IF(I267=\"\",\"\",IF(B$13<E267+1,\"\",IF(I267=B$14,\"\",lookup!I260)))","v":""},{"$f":"IF(E268=\"\",\"\",lookup!J260)","v":""},{"$f":"IF(E268=\"\",\"\",lookup!K260-lookup!J260)","v":""},"",{"$f":"IF(E268=\"\",\"\",IF(lookup!K260<0,0,lookup!K260))","v":""}]
[null,null,null,null,{"$f":"IF(I268=\"\",\"\",IF(B$13<E268+1,\"\",IF(I268=B$14,\"\",lookup!I261)))","v":""},{"$f":"IF(E269=\"\",\"\",lookup!J261)","v":""},{"$f":"IF(E269=\"\",\"\",lookup!K261-lookup!J261)","v":""},"",{"$f":"IF(E269=\"\",\"\",IF(lookup!K261<0,0,lookup!K261))","v":""}]
[null,null,null,null,{"$f":"IF(I269=\"\",\"\",IF(B$13<E269+1,\"\",IF(I269=B$14,\"\",lookup!I262)))","v":""},{"$f":"IF(E270=\"\",\"\",lookup!J262)","v":""},{"$f":"IF(E270=\"\",\"\",lookup!K262-lookup!J262)","v":""},"",{"$f":"IF(E270=\"\",\"\",IF(lookup!K262<0,0,lookup!K262))","v":""}]
[null,null,null,null,{"$f":"IF(I270=\"\",\"\",IF(B$13<E270+1,\"\",IF(I270=B$14,\"\",lookup!I263)))","v":""},{"$f":"IF(E271=\"\",\"\",lookup!J263)","v":""},{"$f":"IF(E271=\"\",\"\",lookup!K263-lookup!J263)","v":""},"",{"$f":"IF(E271=\"\",\"\",IF(lookup!K263<0,0,lookup!K263))","v":""}]
[null,null,null,null,{"$f":"IF(I271=\"\",\"\",IF(B$13<E271+1,\"\",IF(I271=B$14,\"\",lookup!I264)))","v":""},{"$f":"IF(E272=\"\",\"\",lookup!J264)","v":""},{"$f":"IF(E272=\"\",\"\",lookup!K264-lookup!J264)","v":""},"",{"$f":"IF(E272=\"\",\"\",IF(lookup!K264<0,0,lookup!K264))","v":""}]
[null,null,null,null,{"$f":"IF(I272=\"\",\"\",IF(B$13<E272+1,\"\",IF(I272=B$14,\"\",lookup!I265)))","v":""},{"$f":"IF(E273=\"\",\"\",lookup!J265)","v":""},{"$f":"IF(E273=\"\",\"\",lookup!K265-lookup!J265)","v":""},"",{"$f":"IF(E273=\"\",\"\",IF(lookup!K265<0,0,lookup!K265))","v":""}]
[null,null,null,null,{"$f":"IF(I273=\"\",\"\",IF(B$13<E273+1,\"\",IF(I273=B$14,\"\",lookup!I266)))","v":""},{"$f":"IF(E274=\"\",\"\",lookup!J266)","v":""},{"$f":"IF(E274=\"\",\"\",lookup!K266-lookup!J266)","v":""},"",{"$f":"IF(E274=\"\",\"\",IF(lookup!K266<0,0,lookup!K266))","v":""}]
[null,null,null,null,{"$f":"IF(I274=\"\",\"\",IF(B$13<E274+1,\"\",IF(I274=B$14,\"\",lookup!I267)))","v":""},{"$f":"IF(E275=\"\",\"\",lookup!J267)","v":""},{"$f":"IF(E275=\"\",\"\",lookup!K267-lookup!J267)","v":""},"",{"$f":"IF(E275=\"\",\"\",IF(lookup!K267<0,0,lookup!K267))","v":""}]
[null,null,null,null,{"$f":"IF(I275=\"\",\"\",IF(B$13<E275+1,\"\",IF(I275=B$14,\"\",lookup!I268)))","v":""},{"$f":"IF(E276=\"\",\"\",lookup!J268)","v":""},{"$f":"IF(E276=\"\",\"\",lookup!K268-lookup!J268)","v":""},"",{"$f":"IF(E276=\"\",\"\",IF(lookup!K268<0,0,lookup!K268))","v":""}]
[null,null,null,null,{"$f":"IF(I276=\"\",\"\",IF(B$13<E276+1,\"\",IF(I276=B$14,\"\",lookup!I269)))","v":""},{"$f":"IF(E277=\"\",\"\",lookup!J269)","v":""},{"$f":"IF(E277=\"\",\"\",lookup!K269-lookup!J269)","v":""},"",{"$f":"IF(E277=\"\",\"\",IF(lookup!K269<0,0,lookup!K269))","v":""}]
[null,null,null,null,{"$f":"IF(I277=\"\",\"\",IF(B$13<E277+1,\"\",IF(I277=B$14,\"\",lookup!I270)))","v":""},{"$f":"IF(E278=\"\",\"\",lookup!J270)","v":""},{"$f":"IF(E278=\"\",\"\",lookup!K270-lookup!J270)","v":""},"",{"$f":"IF(E278=\"\",\"\",IF(lookup!K270<0,0,lookup!K270))","v":""}]
[null,null,null,null,{"$f":"IF(I278=\"\",\"\",IF(B$13<E278+1,\"\",IF(I278=B$14,\"\",lookup!I271)))","v":""},{"$f":"IF(E279=\"\",\"\",lookup!J271)","v":""},{"$f":"IF(E279=\"\",\"\",lookup!K271-lookup!J271)","v":""},"",{"$f":"IF(E279=\"\",\"\",IF(lookup!K271<0,0,lookup!K271))","v":""}]
[null,null,null,null,{"$f":"IF(I279=\"\",\"\",IF(B$13<E279+1,\"\",IF(I279=B$14,\"\",lookup!I272)))","v":""},{"$f":"IF(E280=\"\",\"\",lookup!J272)","v":""},{"$f":"IF(E280=\"\",\"\",lookup!K272-lookup!J272)","v":""},"",{"$f":"IF(E280=\"\",\"\",IF(lookup!K272<0,0,lookup!K272))","v":""}]
[null,null,null,null,{"$f":"IF(I280=\"\",\"\",IF(B$13<E280+1,\"\",IF(I280=B$14,\"\",lookup!I273)))","v":""},{"$f":"IF(E281=\"\",\"\",lookup!J273)","v":""},{"$f":"IF(E281=\"\",\"\",lookup!K273-lookup!J273)","v":""},"",{"$f":"IF(E281=\"\",\"\",IF(lookup!K273<0,0,lookup!K273))","v":""}]
[null,null,null,null,{"$f":"IF(I281=\"\",\"\",IF(B$13<E281+1,\"\",IF(I281=B$14,\"\",lookup!I274)))","v":""},{"$f":"IF(E282=\"\",\"\",lookup!J274)","v":""},{"$f":"IF(E282=\"\",\"\",lookup!K274-lookup!J274)","v":""},"",{"$f":"IF(E282=\"\",\"\",IF(lookup!K274<0,0,lookup!K274))","v":""}]
[null,null,null,null,{"$f":"IF(I282=\"\",\"\",IF(B$13<E282+1,\"\",IF(I282=B$14,\"\",lookup!I275)))","v":""},{"$f":"IF(E283=\"\",\"\",lookup!J275)","v":""},{"$f":"IF(E283=\"\",\"\",lookup!K275-lookup!J275)","v":""},"",{"$f":"IF(E283=\"\",\"\",IF(lookup!K275<0,0,lookup!K275))","v":""}]
[null,null,null,null,{"$f":"IF(I283=\"\",\"\",IF(B$13<E283+1,\"\",IF(I283=B$14,\"\",lookup!I276)))","v":""},{"$f":"IF(E284=\"\",\"\",lookup!J276)","v":""},{"$f":"IF(E284=\"\",\"\",lookup!K276-lookup!J276)","v":""},"",{"$f":"IF(E284=\"\",\"\",IF(lookup!K276<0,0,lookup!K276))","v":""}]
[null,null,null,null,{"$f":"IF(I284=\"\",\"\",IF(B$13<E284+1,\"\",IF(I284=B$14,\"\",lookup!I277)))","v":""},{"$f":"IF(E285=\"\",\"\",lookup!J277)","v":""},{"$f":"IF(E285=\"\",\"\",lookup!K277-lookup!J277)","v":""},"",{"$f":"IF(E285=\"\",\"\",IF(lookup!K277<0,0,lookup!K277))","v":""}]
[null,null,null,null,{"$f":"IF(I285=\"\",\"\",IF(B$13<E285+1,\"\",IF(I285=B$14,\"\",lookup!I278)))","v":""},{"$f":"IF(E286=\"\",\"\",lookup!J278)","v":""},{"$f":"IF(E286=\"\",\"\",lookup!K278-lookup!J278)","v":""},"",{"$f":"IF(E286=\"\",\"\",IF(lookup!K278<0,0,lookup!K278))","v":""}]
[null,null,null,null,{"$f":"IF(I286=\"\",\"\",IF(B$13<E286+1,\"\",IF(I286=B$14,\"\",lookup!I279)))","v":""},{"$f":"IF(E287=\"\",\"\",lookup!J279)","v":""},{"$f":"IF(E287=\"\",\"\",lookup!K279-lookup!J279)","v":""},"",{"$f":"IF(E287=\"\",\"\",IF(lookup!K279<0,0,lookup!K279))","v":""}]
[null,null,null,null,{"$f":"IF(I287=\"\",\"\",IF(B$13<E287+1,\"\",IF(I287=B$14,\"\",lookup!I280)))","v":""},{"$f":"IF(E288=\"\",\"\",lookup!J280)","v":""},{"$f":"IF(E288=\"\",\"\",lookup!K280-lookup!J280)","v":""},"",{"$f":"IF(E288=\"\",\"\",IF(lookup!K280<0,0,lookup!K280))","v":""}]
[null,null,null,null,{"$f":"IF(I288=\"\",\"\",IF(B$13<E288+1,\"\",IF(I288=B$14,\"\",lookup!I281)))","v":""},{"$f":"IF(E289=\"\",\"\",lookup!J281)","v":""},{"$f":"IF(E289=\"\",\"\",lookup!K281-lookup!J281)","v":""},"",{"$f":"IF(E289=\"\",\"\",IF(lookup!K281<0,0,lookup!K281))","v":""}]
[null,null,null,null,{"$f":"IF(I289=\"\",\"\",IF(B$13<E289+1,\"\",IF(I289=B$14,\"\",lookup!I282)))","v":""},{"$f":"IF(E290=\"\",\"\",lookup!J282)","v":""},{"$f":"IF(E290=\"\",\"\",lookup!K282-lookup!J282)","v":""},"",{"$f":"IF(E290=\"\",\"\",IF(lookup!K282<0,0,lookup!K282))","v":""}]
[null,null,null,null,{"$f":"IF(I290=\"\",\"\",IF(B$13<E290+1,\"\",IF(I290=B$14,\"\",lookup!I283)))","v":""},{"$f":"IF(E291=\"\",\"\",lookup!J283)","v":""},{"$f":"IF(E291=\"\",\"\",lookup!K283-lookup!J283)","v":""},"",{"$f":"IF(E291=\"\",\"\",IF(lookup!K283<0,0,lookup!K283))","v":""}]
[null,null,null,null,{"$f":"IF(I291=\"\",\"\",IF(B$13<E291+1,\"\",IF(I291=B$14,\"\",lookup!I284)))","v":""},{"$f":"IF(E292=\"\",\"\",lookup!J284)","v":""},{"$f":"IF(E292=\"\",\"\",lookup!K284-lookup!J284)","v":""},"",{"$f":"IF(E292=\"\",\"\",IF(lookup!K284<0,0,lookup!K284))","v":""}]
[null,null,null,null,{"$f":"IF(I292=\"\",\"\",IF(B$13<E292+1,\"\",IF(I292=B$14,\"\",lookup!I285)))","v":""},{"$f":"IF(E293=\"\",\"\",lookup!J285)","v":""},{"$f":"IF(E293=\"\",\"\",lookup!K285-lookup!J285)","v":""},"",{"$f":"IF(E293=\"\",\"\",IF(lookup!K285<0,0,lookup!K285))","v":""}]
[null,null,null,null,{"$f":"IF(I293=\"\",\"\",IF(B$13<E293+1,\"\",IF(I293=B$14,\"\",lookup!I286)))","v":""},{"$f":"IF(E294=\"\",\"\",lookup!J286)","v":""},{"$f":"IF(E294=\"\",\"\",lookup!K286-lookup!J286)","v":""},"",{"$f":"IF(E294=\"\",\"\",IF(lookup!K286<0,0,lookup!K286))","v":""}]
[null,null,null,null,{"$f":"IF(I294=\"\",\"\",IF(B$13<E294+1,\"\",IF(I294=B$14,\"\",lookup!I287)))","v":""},{"$f":"IF(E295=\"\",\"\",lookup!J287)","v":""},{"$f":"IF(E295=\"\",\"\",lookup!K287-lookup!J287)","v":""},"",{"$f":"IF(E295=\"\",\"\",IF(lookup!K287<0,0,lookup!K287))","v":""}]
[null,null,null,null,{"$f":"IF(I295=\"\",\"\",IF(B$13<E295+1,\"\",IF(I295=B$14,\"\",lookup!I288)))","v":""},{"$f":"IF(E296=\"\",\"\",lookup!J288)","v":""},{"$f":"IF(E296=\"\",\"\",lookup!K288-lookup!J288)","v":""},"",{"$f":"IF(E296=\"\",\"\",IF(lookup!K288<0,0,lookup!K288))","v":""}]
[null,null,null,null,{"$f":"IF(I296=\"\",\"\",IF(B$13<E296+1,\"\",IF(I296=B$14,\"\",lookup!I289)))","v":""},{"$f":"IF(E297=\"\",\"\",lookup!J289)","v":""},{"$f":"IF(E297=\"\",\"\",lookup!K289-lookup!J289)","v":""},"",{"$f":"IF(E297=\"\",\"\",IF(lookup!K289<0,0,lookup!K289))","v":""}]
[null,null,null,null,{"$f":"IF(I297=\"\",\"\",IF(B$13<E297+1,\"\",IF(I297=B$14,\"\",lookup!I290)))","v":""},{"$f":"IF(E298=\"\",\"\",lookup!J290)","v":""},{"$f":"IF(E298=\"\",\"\",lookup!K290-lookup!J290)","v":""},"",{"$f":"IF(E298=\"\",\"\",IF(lookup!K290<0,0,lookup!K290))","v":""}]
[null,null,null,null,{"$f":"IF(I298=\"\",\"\",IF(B$13<E298+1,\"\",IF(I298=B$14,\"\",lookup!I291)))","v":""},{"$f":"IF(E299=\"\",\"\",lookup!J291)","v":""},{"$f":"IF(E299=\"\",\"\",lookup!K291-lookup!J291)","v":""},"",{"$f":"IF(E299=\"\",\"\",IF(lookup!K291<0,0,lookup!K291))","v":""}]
[null,null,null,null,{"$f":"IF(I299=\"\",\"\",IF(B$13<E299+1,\"\",IF(I299=B$14,\"\",lookup!I292)))","v":""},{"$f":"IF(E300=\"\",\"\",lookup!J292)","v":""},{"$f":"IF(E300=\"\",\"\",lookup!K292-lookup!J292)","v":""},"",{"$f":"IF(E300=\"\",\"\",IF(lookup!K292<0,0,lookup!K292))","v":""}]
[null,null,null,null,{"$f":"IF(I300=\"\",\"\",IF(B$13<E300+1,\"\",IF(I300=B$14,\"\",lookup!I293)))","v":""},{"$f":"IF(E301=\"\",\"\",lookup!J293)","v":""},{"$f":"IF(E301=\"\",\"\",lookup!K293-lookup!J293)","v":""},"",{"$f":"IF(E301=\"\",\"\",IF(lookup!K293<0,0,lookup!K293))","v":""}]
[null,null,null,null,{"$f":"IF(I301=\"\",\"\",IF(B$13<E301+1,\"\",IF(I301=B$14,\"\",lookup!I294)))","v":""},{"$f":"IF(E302=\"\",\"\",lookup!J294)","v":""},{"$f":"IF(E302=\"\",\"\",lookup!K294-lookup!J294)","v":""},"",{"$f":"IF(E302=\"\",\"\",IF(lookup!K294<0,0,lookup!K294))","v":""}]
[null,null,null,null,{"$f":"IF(I302=\"\",\"\",IF(B$13<E302+1,\"\",IF(I302=B$14,\"\",lookup!I295)))","v":""},{"$f":"IF(E303=\"\",\"\",lookup!J295)","v":""},{"$f":"IF(E303=\"\",\"\",lookup!K295-lookup!J295)","v":""},"",{"$f":"IF(E303=\"\",\"\",IF(lookup!K295<0,0,lookup!K295))","v":""}]
[null,null,null,null,{"$f":"IF(I303=\"\",\"\",IF(B$13<E303+1,\"\",IF(I303=B$14,\"\",lookup!I296)))","v":""},{"$f":"IF(E304=\"\",\"\",lookup!J296)","v":""},{"$f":"IF(E304=\"\",\"\",lookup!K296-lookup!J296)","v":""},"",{"$f":"IF(E304=\"\",\"\",IF(lookup!K296<0,0,lookup!K296))","v":""}]
[null,null,null,null,{"$f":"IF(I304=\"\",\"\",IF(B$13<E304+1,\"\",IF(I304=B$14,\"\",lookup!I297)))","v":""},{"$f":"IF(E305=\"\",\"\",lookup!J297)","v":""},{"$f":"IF(E305=\"\",\"\",lookup!K297-lookup!J297)","v":""},"",{"$f":"IF(E305=\"\",\"\",IF(lookup!K297<0,0,lookup!K297))","v":""}]
[null,null,null,null,{"$f":"IF(I305=\"\",\"\",IF(B$13<E305+1,\"\",IF(I305=B$14,\"\",lookup!I298)))","v":""},{"$f":"IF(E306=\"\",\"\",lookup!J298)","v":""},{"$f":"IF(E306=\"\",\"\",lookup!K298-lookup!J298)","v":""},"",{"$f":"IF(E306=\"\",\"\",IF(lookup!K298<0,0,lookup!K298))","v":""}]
[null,null,null,null,{"$f":"IF(I306=\"\",\"\",IF(B$13<E306+1,\"\",IF(I306=B$14,\"\",lookup!I299)))","v":""},{"$f":"IF(E307=\"\",\"\",lookup!J299)","v":""},{"$f":"IF(E307=\"\",\"\",lookup!K299-lookup!J299)","v":""},"",{"$f":"IF(E307=\"\",\"\",IF(lookup!K299<0,0,lookup!K299))","v":""}]
[null,null,null,null,{"$f":"IF(I307=\"\",\"\",IF(B$13<E307+1,\"\",IF(I307=B$14,\"\",lookup!I300)))","v":""},{"$f":"IF(E308=\"\",\"\",lookup!J300)","v":""},{"$f":"IF(E308=\"\",\"\",lookup!K300-lookup!J300)","v":""},"",{"$f":"IF(E308=\"\",\"\",IF(lookup!K300<0,0,lookup!K300))","v":""}]
[null,null,null,null,{"$f":"IF(I308=\"\",\"\",IF(B$13<E308+1,\"\",IF(I308=B$14,\"\",lookup!I301)))","v":""},{"$f":"IF(E309=\"\",\"\",lookup!J301)","v":""},{"$f":"IF(E309=\"\",\"\",lookup!K301-lookup!J301)","v":""},"",{"$f":"IF(E309=\"\",\"\",IF(lookup!K301<0,0,lookup!K301))","v":""}]
[null,null,null,null,{"$f":"IF(I309=\"\",\"\",IF(B$13<E309+1,\"\",IF(I309=B$14,\"\",lookup!I302)))","v":""},{"$f":"IF(E310=\"\",\"\",lookup!J302)","v":""},{"$f":"IF(E310=\"\",\"\",lookup!K302-lookup!J302)","v":""},"",{"$f":"IF(E310=\"\",\"\",IF(lookup!K302<0,0,lookup!K302))","v":""}]
[null,null,null,null,{"$f":"IF(I310=\"\",\"\",IF(B$13<E310+1,\"\",IF(I310=B$14,\"\",lookup!I303)))","v":""},{"$f":"IF(E311=\"\",\"\",lookup!J303)","v":""},{"$f":"IF(E311=\"\",\"\",lookup!K303-lookup!J303)","v":""},"",{"$f":"IF(E311=\"\",\"\",IF(lookup!K303<0,0,lookup!K303))","v":""}]
[null,null,null,null,{"$f":"IF(I311=\"\",\"\",IF(B$13<E311+1,\"\",IF(I311=B$14,\"\",lookup!I304)))","v":""},{"$f":"IF(E312=\"\",\"\",lookup!J304)","v":""},{"$f":"IF(E312=\"\",\"\",lookup!K304-lookup!J304)","v":""},"",{"$f":"IF(E312=\"\",\"\",IF(lookup!K304<0,0,lookup!K304))","v":""}]
[null,null,null,null,{"$f":"IF(I312=\"\",\"\",IF(B$13<E312+1,\"\",IF(I312=B$14,\"\",lookup!I305)))","v":""},{"$f":"IF(E313=\"\",\"\",lookup!J305)","v":""},{"$f":"IF(E313=\"\",\"\",lookup!K305-lookup!J305)","v":""},"",{"$f":"IF(E313=\"\",\"\",IF(lookup!K305<0,0,lookup!K305))","v":""}]
[null,null,null,null,{"$f":"IF(I313=\"\",\"\",IF(B$13<E313+1,\"\",IF(I313=B$14,\"\",lookup!I306)))","v":""},{"$f":"IF(E314=\"\",\"\",lookup!J306)","v":""},{"$f":"IF(E314=\"\",\"\",lookup!K306-lookup!J306)","v":""},"",{"$f":"IF(E314=\"\",\"\",IF(lookup!K306<0,0,lookup!K306))","v":""}]
[null,null,null,null,{"$f":"IF(I314=\"\",\"\",IF(B$13<E314+1,\"\",IF(I314=B$14,\"\",lookup!I307)))","v":""},{"$f":"IF(E315=\"\",\"\",lookup!J307)","v":""},{"$f":"IF(E315=\"\",\"\",lookup!K307-lookup!J307)","v":""},"",{"$f":"IF(E315=\"\",\"\",IF(lookup!K307<0,0,lookup!K307))","v":""}]
[null,null,null,null,{"$f":"IF(I315=\"\",\"\",IF(B$13<E315+1,\"\",IF(I315=B$14,\"\",lookup!I308)))","v":""},{"$f":"IF(E316=\"\",\"\",lookup!J308)","v":""},{"$f":"IF(E316=\"\",\"\",lookup!K308-lookup!J308)","v":""},"",{"$f":"IF(E316=\"\",\"\",IF(lookup!K308<0,0,lookup!K308))","v":""}]
[null,null,null,null,{"$f":"IF(I316=\"\",\"\",IF(B$13<E316+1,\"\",IF(I316=B$14,\"\",lookup!I309)))","v":""},{"$f":"IF(E317=\"\",\"\",lookup!J309)","v":""},{"$f":"IF(E317=\"\",\"\",lookup!K309-lookup!J309)","v":""},"",{"$f":"IF(E317=\"\",\"\",IF(lookup!K309<0,0,lookup!K309))","v":""}]
[null,null,null,null,{"$f":"IF(I317=\"\",\"\",IF(B$13<E317+1,\"\",IF(I317=B$14,\"\",lookup!I310)))","v":""},{"$f":"IF(E318=\"\",\"\",lookup!J310)","v":""},{"$f":"IF(E318=\"\",\"\",lookup!K310-lookup!J310)","v":""},"",{"$f":"IF(E318=\"\",\"\",IF(lookup!K310<0,0,lookup!K310))","v":""}]
[null,null,null,null,{"$f":"IF(I318=\"\",\"\",IF(B$13<E318+1,\"\",IF(I318=B$14,\"\",lookup!I311)))","v":""},{"$f":"IF(E319=\"\",\"\",lookup!J311)","v":""},{"$f":"IF(E319=\"\",\"\",lookup!K311-lookup!J311)","v":""},"",{"$f":"IF(E319=\"\",\"\",IF(lookup!K311<0,0,lookup!K311))","v":""}]
[null,null,null,null,{"$f":"IF(I319=\"\",\"\",IF(B$13<E319+1,\"\",IF(I319=B$14,\"\",lookup!I312)))","v":""},{"$f":"IF(E320=\"\",\"\",lookup!J312)","v":""},{"$f":"IF(E320=\"\",\"\",lookup!K312-lookup!J312)","v":""},"",{"$f":"IF(E320=\"\",\"\",IF(lookup!K312<0,0,lookup!K312))","v":""}]
[null,null,null,null,{"$f":"IF(I320=\"\",\"\",IF(B$13<E320+1,\"\",IF(I320=B$14,\"\",lookup!I313)))","v":""},{"$f":"IF(E321=\"\",\"\",lookup!J313)","v":""},{"$f":"IF(E321=\"\",\"\",lookup!K313-lookup!J313)","v":""},"",{"$f":"IF(E321=\"\",\"\",IF(lookup!K313<0,0,lookup!K313))","v":""}]
[null,null,null,null,{"$f":"IF(I321=\"\",\"\",IF(B$13<E321+1,\"\",IF(I321=B$14,\"\",lookup!I314)))","v":""},{"$f":"IF(E322=\"\",\"\",lookup!J314)","v":""},{"$f":"IF(E322=\"\",\"\",lookup!K314-lookup!J314)","v":""},"",{"$f":"IF(E322=\"\",\"\",IF(lookup!K314<0,0,lookup!K314))","v":""}]
[null,null,null,null,{"$f":"IF(I322=\"\",\"\",IF(B$13<E322+1,\"\",IF(I322=B$14,\"\",lookup!I315)))","v":""},{"$f":"IF(E323=\"\",\"\",lookup!J315)","v":""},{"$f":"IF(E323=\"\",\"\",lookup!K315-lookup!J315)","v":""},"",{"$f":"IF(E323=\"\",\"\",IF(lookup!K315<0,0,lookup!K315))","v":""}]
[null,null,null,null,{"$f":"IF(I323=\"\",\"\",IF(B$13<E323+1,\"\",IF(I323=B$14,\"\",lookup!I316)))","v":""},{"$f":"IF(E324=\"\",\"\",lookup!J316)","v":""},{"$f":"IF(E324=\"\",\"\",lookup!K316-lookup!J316)","v":""},"",{"$f":"IF(E324=\"\",\"\",IF(lookup!K316<0,0,lookup!K316))","v":""}]
[null,null,null,null,{"$f":"IF(I324=\"\",\"\",IF(B$13<E324+1,\"\",IF(I324=B$14,\"\",lookup!I317)))","v":""},{"$f":"IF(E325=\"\",\"\",lookup!J317)","v":""},{"$f":"IF(E325=\"\",\"\",lookup!K317-lookup!J317)","v":""},"",{"$f":"IF(E325=\"\",\"\",IF(lookup!K317<0,0,lookup!K317))","v":""}]
[null,null,null,null,{"$f":"IF(I325=\"\",\"\",IF(B$13<E325+1,\"\",IF(I325=B$14,\"\",lookup!I318)))","v":""},{"$f":"IF(E326=\"\",\"\",lookup!J318)","v":""},{"$f":"IF(E326=\"\",\"\",lookup!K318-lookup!J318)","v":""},"",{"$f":"IF(E326=\"\",\"\",IF(lookup!K318<0,0,lookup!K318))","v":""}]
[null,null,null,null,{"$f":"IF(I326=\"\",\"\",IF(B$13<E326+1,\"\",IF(I326=B$14,\"\",lookup!I319)))","v":""},{"$f":"IF(E327=\"\",\"\",lookup!J319)","v":""},{"$f":"IF(E327=\"\",\"\",lookup!K319-lookup!J319)","v":""},"",{"$f":"IF(E327=\"\",\"\",IF(lookup!K319<0,0,lookup!K319))","v":""}]
[null,null,null,null,{"$f":"IF(I327=\"\",\"\",IF(B$13<E327+1,\"\",IF(I327=B$14,\"\",lookup!I320)))","v":""},{"$f":"IF(E328=\"\",\"\",lookup!J320)","v":""},{"$f":"IF(E328=\"\",\"\",lookup!K320-lookup!J320)","v":""},"",{"$f":"IF(E328=\"\",\"\",IF(lookup!K320<0,0,lookup!K320))","v":""}]
[null,null,null,null,{"$f":"IF(I328=\"\",\"\",IF(B$13<E328+1,\"\",IF(I328=B$14,\"\",lookup!I321)))","v":""},{"$f":"IF(E329=\"\",\"\",lookup!J321)","v":""},{"$f":"IF(E329=\"\",\"\",lookup!K321-lookup!J321)","v":""},"",{"$f":"IF(E329=\"\",\"\",IF(lookup!K321<0,0,lookup!K321))","v":""}]
[null,null,null,null,{"$f":"IF(I329=\"\",\"\",IF(B$13<E329+1,\"\",IF(I329=B$14,\"\",lookup!I322)))","v":""},{"$f":"IF(E330=\"\",\"\",lookup!J322)","v":""},{"$f":"IF(E330=\"\",\"\",lookup!K322-lookup!J322)","v":""},"",{"$f":"IF(E330=\"\",\"\",IF(lookup!K322<0,0,lookup!K322))","v":""}]
[null,null,null,null,{"$f":"IF(I330=\"\",\"\",IF(B$13<E330+1,\"\",IF(I330=B$14,\"\",lookup!I323)))","v":""},{"$f":"IF(E331=\"\",\"\",lookup!J323)","v":""},{"$f":"IF(E331=\"\",\"\",lookup!K323-lookup!J323)","v":""},{"$f":"IF(E331=\"\",\"\",H330+G331)","v":""},{"$f":"IF(E331=\"\",\"\",IF(lookup!K323<0,0,lookup!K323))","v":""}]
[null,null,null,null,{"$f":"IF(I331=\"\",\"\",IF(B$13<E331+1,\"\",IF(I331=B$14,\"\",lookup!I324)))","v":""},{"$f":"IF(E332=\"\",\"\",lookup!J324)","v":""},{"$f":"IF(E332=\"\",\"\",lookup!K324-lookup!J324)","v":""},"",{"$f":"IF(E332=\"\",\"\",IF(lookup!K324<0,0,lookup!K324))","v":""}]
[null,null,null,null,{"$f":"IF(I332=\"\",\"\",IF(B$13<E332+1,\"\",IF(I332=B$14,\"\",lookup!I325)))","v":""},{"$f":"IF(E333=\"\",\"\",lookup!J325)","v":""},{"$f":"IF(E333=\"\",\"\",lookup!K325-lookup!J325)","v":""},"",{"$f":"IF(E333=\"\",\"\",IF(lookup!K325<0,0,lookup!K325))","v":""}]
[null,null,null,null,{"$f":"IF(I333=\"\",\"\",IF(B$13<E333+1,\"\",IF(I333=B$14,\"\",lookup!I326)))","v":""},{"$f":"IF(E334=\"\",\"\",lookup!J326)","v":""},{"$f":"IF(E334=\"\",\"\",lookup!K326-lookup!J326)","v":""},"",{"$f":"IF(E334=\"\",\"\",IF(lookup!K326<0,0,lookup!K326))","v":""}]
[null,null,null,null,{"$f":"IF(I334=\"\",\"\",IF(B$13<E334+1,\"\",IF(I334=B$14,\"\",lookup!I327)))","v":""},{"$f":"IF(E335=\"\",\"\",lookup!J327)","v":""},{"$f":"IF(E335=\"\",\"\",lookup!K327-lookup!J327)","v":""},"",{"$f":"IF(E335=\"\",\"\",IF(lookup!K327<0,0,lookup!K327))","v":""}]
[null,null,null,null,{"$f":"IF(I335=\"\",\"\",IF(B$13<E335+1,\"\",IF(I335=B$14,\"\",lookup!I328)))","v":""},{"$f":"IF(E336=\"\",\"\",lookup!J328)","v":""},{"$f":"IF(E336=\"\",\"\",lookup!K328-lookup!J328)","v":""},"",{"$f":"IF(E336=\"\",\"\",IF(lookup!K328<0,0,lookup!K328))","v":""}]
[null,null,null,null,{"$f":"IF(I336=\"\",\"\",IF(B$13<E336+1,\"\",IF(I336=B$14,\"\",lookup!I329)))","v":""},{"$f":"IF(E337=\"\",\"\",lookup!J329)","v":""},{"$f":"IF(E337=\"\",\"\",lookup!K329-lookup!J329)","v":""},"",{"$f":"IF(E337=\"\",\"\",IF(lookup!K329<0,0,lookup!K329))","v":""}]
[null,null,null,null,{"$f":"IF(I337=\"\",\"\",IF(B$13<E337+1,\"\",IF(I337=B$14,\"\",lookup!I330)))","v":""},{"$f":"IF(E338=\"\",\"\",lookup!J330)","v":""},{"$f":"IF(E338=\"\",\"\",lookup!K330-lookup!J330)","v":""},"",{"$f":"IF(E338=\"\",\"\",IF(lookup!K330<0,0,lookup!K330))","v":""}]
[null,null,null,null,{"$f":"IF(I338=\"\",\"\",IF(B$13<E338+1,\"\",IF(I338=B$14,\"\",lookup!I331)))","v":""},{"$f":"IF(E339=\"\",\"\",lookup!J331)","v":""},{"$f":"IF(E339=\"\",\"\",lookup!K331-lookup!J331)","v":""},"",{"$f":"IF(E339=\"\",\"\",IF(lookup!K331<0,0,lookup!K331))","v":""}]
[null,null,null,null,{"$f":"IF(I339=\"\",\"\",IF(B$13<E339+1,\"\",IF(I339=B$14,\"\",lookup!I332)))","v":""},{"$f":"IF(E340=\"\",\"\",lookup!J332)","v":""},{"$f":"IF(E340=\"\",\"\",lookup!K332-lookup!J332)","v":""},"",{"$f":"IF(E340=\"\",\"\",IF(lookup!K332<0,0,lookup!K332))","v":""}]
[null,null,null,null,{"$f":"IF(I340=\"\",\"\",IF(B$13<E340+1,\"\",IF(I340=B$14,\"\",lookup!I333)))","v":""},{"$f":"IF(E341=\"\",\"\",lookup!J333)","v":""},{"$f":"IF(E341=\"\",\"\",lookup!K333-lookup!J333)","v":""},"",{"$f":"IF(E341=\"\",\"\",IF(lookup!K333<0,0,lookup!K333))","v":""}]
[null,null,null,null,{"$f":"IF(I341=\"\",\"\",IF(B$13<E341+1,\"\",IF(I341=B$14,\"\",lookup!I334)))","v":""},{"$f":"IF(E342=\"\",\"\",lookup!J334)","v":""},{"$f":"IF(E342=\"\",\"\",lookup!K334-lookup!J334)","v":""},"",{"$f":"IF(E342=\"\",\"\",IF(lookup!K334<0,0,lookup!K334))","v":""}]
[null,null,null,null,{"$f":"IF(I342=\"\",\"\",IF(B$13<E342+1,\"\",IF(I342=B$14,\"\",lookup!I335)))","v":""},{"$f":"IF(E343=\"\",\"\",lookup!J335)","v":""},{"$f":"IF(E343=\"\",\"\",lookup!K335-lookup!J335)","v":""},"",{"$f":"IF(E343=\"\",\"\",IF(lookup!K335<0,0,lookup!K335))","v":""}]
[null,null,null,null,{"$f":"IF(I343=\"\",\"\",IF(B$13<E343+1,\"\",IF(I343=B$14,\"\",lookup!I336)))","v":""},{"$f":"IF(E344=\"\",\"\",lookup!J336)","v":""},{"$f":"IF(E344=\"\",\"\",lookup!K336-lookup!J336)","v":""},"",{"$f":"IF(E344=\"\",\"\",IF(lookup!K336<0,0,lookup!K336))","v":""}]
[null,null,null,null,{"$f":"IF(I344=\"\",\"\",IF(B$13<E344+1,\"\",IF(I344=B$14,\"\",lookup!I337)))","v":""},{"$f":"IF(E345=\"\",\"\",lookup!J337)","v":""},{"$f":"IF(E345=\"\",\"\",lookup!K337-lookup!J337)","v":""},"",{"$f":"IF(E345=\"\",\"\",IF(lookup!K337<0,0,lookup!K337))","v":""}]
[null,null,null,null,{"$f":"IF(I345=\"\",\"\",IF(B$13<E345+1,\"\",IF(I345=B$14,\"\",lookup!I338)))","v":""},{"$f":"IF(E346=\"\",\"\",lookup!J338)","v":""},{"$f":"IF(E346=\"\",\"\",lookup!K338-lookup!J338)","v":""},"",{"$f":"IF(E346=\"\",\"\",IF(lookup!K338<0,0,lookup!K338))","v":""}]
[null,null,null,null,{"$f":"IF(I346=\"\",\"\",IF(B$13<E346+1,\"\",IF(I346=B$14,\"\",lookup!I339)))","v":""},{"$f":"IF(E347=\"\",\"\",lookup!J339)","v":""},{"$f":"IF(E347=\"\",\"\",lookup!K339-lookup!J339)","v":""},"",{"$f":"IF(E347=\"\",\"\",IF(lookup!K339<0,0,lookup!K339))","v":""}]
[null,null,null,null,{"$f":"IF(I347=\"\",\"\",IF(B$13<E347+1,\"\",IF(I347=B$14,\"\",lookup!I340)))","v":""},{"$f":"IF(E348=\"\",\"\",lookup!J340)","v":""},{"$f":"IF(E348=\"\",\"\",lookup!K340-lookup!J340)","v":""},"",{"$f":"IF(E348=\"\",\"\",IF(lookup!K340<0,0,lookup!K340))","v":""}]
[null,null,null,null,{"$f":"IF(I348=\"\",\"\",IF(B$13<E348+1,\"\",IF(I348=B$14,\"\",lookup!I341)))","v":""},{"$f":"IF(E349=\"\",\"\",lookup!J341)","v":""},{"$f":"IF(E349=\"\",\"\",lookup!K341-lookup!J341)","v":""},"",{"$f":"IF(E349=\"\",\"\",IF(lookup!K341<0,0,lookup!K341))","v":""}]
[null,null,null,null,{"$f":"IF(I349=\"\",\"\",IF(B$13<E349+1,\"\",IF(I349=B$14,\"\",lookup!I342)))","v":""},{"$f":"IF(E350=\"\",\"\",lookup!J342)","v":""},{"$f":"IF(E350=\"\",\"\",lookup!K342-lookup!J342)","v":""},"",{"$f":"IF(E350=\"\",\"\",IF(lookup!K342<0,0,lookup!K342))","v":""}]
[null,null,null,null,{"$f":"IF(I350=\"\",\"\",IF(B$13<E350+1,\"\",IF(I350=B$14,\"\",lookup!I343)))","v":""},{"$f":"IF(E351=\"\",\"\",lookup!J343)","v":""},{"$f":"IF(E351=\"\",\"\",lookup!K343-lookup!J343)","v":""},"",{"$f":"IF(E351=\"\",\"\",IF(lookup!K343<0,0,lookup!K343))","v":""}]
[null,null,null,null,{"$f":"IF(I351=\"\",\"\",IF(B$13<E351+1,\"\",IF(I351=B$14,\"\",lookup!I344)))","v":""},{"$f":"IF(E352=\"\",\"\",lookup!J344)","v":""},{"$f":"IF(E352=\"\",\"\",lookup!K344-lookup!J344)","v":""},"",{"$f":"IF(E352=\"\",\"\",IF(lookup!K344<0,0,lookup!K344))","v":""}]
[null,null,null,null,{"$f":"IF(I352=\"\",\"\",IF(B$13<E352+1,\"\",IF(I352=B$14,\"\",lookup!I345)))","v":""},{"$f":"IF(E353=\"\",\"\",lookup!J345)","v":""},{"$f":"IF(E353=\"\",\"\",lookup!K345-lookup!J345)","v":""},"",{"$f":"IF(E353=\"\",\"\",IF(lookup!K345<0,0,lookup!K345))","v":""}]
[null,null,null,null,{"$f":"IF(I353=\"\",\"\",IF(B$13<E353+1,\"\",IF(I353=B$14,\"\",lookup!I346)))","v":""},{"$f":"IF(E354=\"\",\"\",lookup!J346)","v":""},{"$f":"IF(E354=\"\",\"\",lookup!K346-lookup!J346)","v":""},"",{"$f":"IF(E354=\"\",\"\",IF(lookup!K346<0,0,lookup!K346))","v":""}]
[null,null,null,null,{"$f":"IF(I354=\"\",\"\",IF(B$13<E354+1,\"\",IF(I354=B$14,\"\",lookup!I347)))","v":""},{"$f":"IF(E355=\"\",\"\",lookup!J347)","v":""},{"$f":"IF(E355=\"\",\"\",lookup!K347-lookup!J347)","v":""},"",{"$f":"IF(E355=\"\",\"\",IF(lookup!K347<0,0,lookup!K347))","v":""}]
[null,null,null,null,{"$f":"IF(I355=\"\",\"\",IF(B$13<E355+1,\"\",IF(I355=B$14,\"\",lookup!I348)))","v":""},{"$f":"IF(E356=\"\",\"\",lookup!J348)","v":""},{"$f":"IF(E356=\"\",\"\",lookup!K348-lookup!J348)","v":""},"",{"$f":"IF(E356=\"\",\"\",IF(lookup!K348<0,0,lookup!K348))","v":""}]
[null,null,null,null,{"$f":"IF(I356=\"\",\"\",IF(B$13<E356+1,\"\",IF(I356=B$14,\"\",lookup!I349)))","v":""},{"$f":"IF(E357=\"\",\"\",lookup!J349)","v":""},{"$f":"IF(E357=\"\",\"\",lookup!K349-lookup!J349)","v":""},"",{"$f":"IF(E357=\"\",\"\",IF(lookup!K349<0,0,lookup!K349))","v":""}]
[null,null,null,null,{"$f":"IF(I357=\"\",\"\",IF(B$13<E357+1,\"\",IF(I357=B$14,\"\",lookup!I350)))","v":""},{"$f":"IF(E358=\"\",\"\",lookup!J350)","v":""},{"$f":"IF(E358=\"\",\"\",lookup!K350-lookup!J350)","v":""},"",{"$f":"IF(E358=\"\",\"\",IF(lookup!K350<0,0,lookup!K350))","v":""}]
[null,null,null,null,{"$f":"IF(I358=\"\",\"\",IF(B$13<E358+1,\"\",IF(I358=B$14,\"\",lookup!I351)))","v":""},{"$f":"IF(E359=\"\",\"\",lookup!J351)","v":""},{"$f":"IF(E359=\"\",\"\",lookup!K351-lookup!J351)","v":""},"",{"$f":"IF(E359=\"\",\"\",IF(lookup!K351<0,0,lookup!K351))","v":""}]
[null,null,null,null,{"$f":"IF(I359=\"\",\"\",IF(B$13<E359+1,\"\",IF(I359=B$14,\"\",lookup!I352)))","v":""},{"$f":"IF(E360=\"\",\"\",lookup!J352)","v":""},{"$f":"IF(E360=\"\",\"\",lookup!K352-lookup!J352)","v":""},"",{"$f":"IF(E360=\"\",\"\",IF(lookup!K352<0,0,lookup!K352))","v":""}]
[null,null,null,null,{"$f":"IF(I360=\"\",\"\",IF(B$13<E360+1,\"\",IF(I360=B$14,\"\",lookup!I353)))","v":""},{"$f":"IF(E361=\"\",\"\",lookup!J353)","v":""},{"$f":"IF(E361=\"\",\"\",lookup!K353-lookup!J353)","v":""},"",{"$f":"IF(E361=\"\",\"\",IF(lookup!K353<0,0,lookup!K353))","v":""}]
[null,null,null,null,{"$f":"IF(I361=\"\",\"\",IF(B$13<E361+1,\"\",IF(I361=B$14,\"\",lookup!I354)))","v":""},{"$f":"IF(E362=\"\",\"\",lookup!J354)","v":""},{"$f":"IF(E362=\"\",\"\",lookup!K354-lookup!J354)","v":""},"",{"$f":"IF(E362=\"\",\"\",IF(lookup!K354<0,0,lookup!K354))","v":""}]
[null,null,null,null,{"$f":"IF(I362=\"\",\"\",IF(B$13<E362+1,\"\",IF(I362=B$14,\"\",lookup!I355)))","v":""},{"$f":"IF(E363=\"\",\"\",lookup!J355)","v":""},{"$f":"IF(E363=\"\",\"\",lookup!K355-lookup!J355)","v":""},"",{"$f":"IF(E363=\"\",\"\",IF(lookup!K355<0,0,lookup!K355))","v":""}]
[null,null,null,null,{"$f":"IF(I363=\"\",\"\",IF(B$13<E363+1,\"\",IF(I363=B$14,\"\",lookup!I356)))","v":""},{"$f":"IF(E364=\"\",\"\",lookup!J356)","v":""},{"$f":"IF(E364=\"\",\"\",lookup!K356-lookup!J356)","v":""},"",{"$f":"IF(E364=\"\",\"\",IF(lookup!K356<0,0,lookup!K356))","v":""}]
[null,null,null,null,{"$f":"IF(I364=\"\",\"\",IF(B$13<E364+1,\"\",IF(I364=B$14,\"\",lookup!I357)))","v":""},{"$f":"IF(E365=\"\",\"\",lookup!J357)","v":""},{"$f":"IF(E365=\"\",\"\",lookup!K357-lookup!J357)","v":""},"",{"$f":"IF(E365=\"\",\"\",IF(lookup!K357<0,0,lookup!K357))","v":""}]
[null,null,null,null,{"$f":"IF(I365=\"\",\"\",IF(B$13<E365+1,\"\",IF(I365=B$14,\"\",lookup!I358)))","v":""},{"$f":"IF(E366=\"\",\"\",lookup!J358)","v":""},{"$f":"IF(E366=\"\",\"\",lookup!K358-lookup!J358)","v":""},"",{"$f":"IF(E366=\"\",\"\",IF(lookup!K358<0,0,lookup!K358))","v":""}]
[null,null,null,null,{"$f":"IF(I366=\"\",\"\",IF(B$13<E366+1,\"\",IF(I366=B$14,\"\",lookup!I359)))","v":""},{"$f":"IF(E367=\"\",\"\",lookup!J359)","v":""},{"$f":"IF(E367=\"\",\"\",lookup!K359-lookup!J359)","v":""},"",{"$f":"IF(E367=\"\",\"\",IF(lookup!K359<0,0,lookup!K359))","v":""}]
[null,null,null,null,{"$f":"IF(I367=\"\",\"\",IF(B$13<E367+1,\"\",IF(I367=B$14,\"\",lookup!I360)))","v":""},{"$f":"IF(E368=\"\",\"\",lookup!J360)","v":""},{"$f":"IF(E368=\"\",\"\",lookup!K360-lookup!J360)","v":""},"",{"$f":"IF(E368=\"\",\"\",IF(lookup!K360<0,0,lookup!K360))","v":""}]
[null,null,null,null,{"$f":"IF(I368=\"\",\"\",IF(B$13<E368+1,\"\",IF(I368=B$14,\"\",lookup!I361)))","v":""},{"$f":"IF(E369=\"\",\"\",lookup!J361)","v":""},{"$f":"IF(E369=\"\",\"\",lookup!K361-lookup!J361)","v":""},"",{"$f":"IF(E369=\"\",\"\",IF(lookup!K361<0,0,lookup!K361))","v":""}]
[null,null,null,null,{"$f":"IF(I369=\"\",\"\",IF(B$13<E369+1,\"\",IF(I369=B$14,\"\",lookup!I362)))","v":""},{"$f":"IF(E370=\"\",\"\",lookup!J362)","v":""},{"$f":"IF(E370=\"\",\"\",lookup!K362-lookup!J362)","v":""},"",{"$f":"IF(E370=\"\",\"\",IF(lookup!K362<0,0,lookup!K362))","v":""}]
[null,null,null,null,{"$f":"IF(I370=\"\",\"\",IF(B$13<E370+1,\"\",IF(I370=B$14,\"\",lookup!I363)))","v":""},{"$f":"IF(E371=\"\",\"\",lookup!J363)","v":""},{"$f":"IF(E371=\"\",\"\",lookup!K363-lookup!J363)","v":""},"",{"$f":"IF(E371=\"\",\"\",IF(lookup!K363<0,0,lookup!K363))","v":""}]
[null,null,null,null,{"$f":"IF(I371=\"\",\"\",IF(B$13<E371+1,\"\",IF(I371=B$14,\"\",lookup!I364)))","v":""},{"$f":"IF(E372=\"\",\"\",lookup!J364)","v":""},{"$f":"IF(E372=\"\",\"\",lookup!K364-lookup!J364)","v":""},"",{"$f":"IF(E372=\"\",\"\",IF(lookup!K364<0,0,lookup!K364))","v":""}]
[null,null,null,null,{"$f":"IF(I372=\"\",\"\",IF(B$13<E372+1,\"\",IF(I372=B$14,\"\",lookup!I365)))","v":""},{"$f":"IF(E373=\"\",\"\",lookup!J365)","v":""},{"$f":"IF(E373=\"\",\"\",lookup!K365-lookup!J365)","v":""},"",{"$f":"IF(E373=\"\",\"\",IF(lookup!K365<0,0,lookup!K365))","v":""}]
[null,null,null,null,{"$f":"IF(I373=\"\",\"\",IF(B$13<E373+1,\"\",IF(I373=B$14,\"\",lookup!I366)))","v":""},{"$f":"IF(E374=\"\",\"\",lookup!J366)","v":""},{"$f":"IF(E374=\"\",\"\",lookup!K366-lookup!J366)","v":""},"",{"$f":"IF(E374=\"\",\"\",IF(lookup!K366<0,0,lookup!K366))","v":""}]
[null,null,null,null,{"$f":"IF(I374=\"\",\"\",IF(B$13<E374+1,\"\",IF(I374=B$14,\"\",lookup!I367)))","v":""},{"$f":"IF(E375=\"\",\"\",lookup!J367)","v":""},{"$f":"IF(E375=\"\",\"\",lookup!K367-lookup!J367)","v":""},"",{"$f":"IF(E375=\"\",\"\",IF(lookup!K367<0,0,lookup!K367))","v":""}]
[null,null,null,null,{"$f":"IF(I375=\"\",\"\",IF(B$13<E375+1,\"\",IF(I375=B$14,\"\",lookup!I368)))","v":""},{"$f":"IF(E376=\"\",\"\",lookup!J368)","v":""},{"$f":"IF(E376=\"\",\"\",lookup!K368-lookup!J368)","v":""},"",{"$f":"IF(E376=\"\",\"\",IF(lookup!K368<0,0,lookup!K368))","v":""}]
[null,null,null,null,{"$f":"IF(I376=\"\",\"\",IF(B$13<E376+1,\"\",IF(I376=B$14,\"\",lookup!I369)))","v":""},{"$f":"IF(E377=\"\",\"\",lookup!J369)","v":""},{"$f":"IF(E377=\"\",\"\",lookup!K369-lookup!J369)","v":""},"",{"$f":"IF(E377=\"\",\"\",IF(lookup!K369<0,0,lookup!K369))","v":""}]
[null,null,null,null,{"$f":"IF(I377=\"\",\"\",IF(B$13<E377+1,\"\",IF(I377=B$14,\"\",lookup!I370)))","v":""},{"$f":"IF(E378=\"\",\"\",lookup!J370)","v":""},{"$f":"IF(E378=\"\",\"\",lookup!K370-lookup!J370)","v":""},"",{"$f":"IF(E378=\"\",\"\",IF(lookup!K370<0,0,lookup!K370))","v":""}]
[null,null,null,null,{"$f":"IF(I378=\"\",\"\",IF(B$13<E378+1,\"\",IF(I378=B$14,\"\",lookup!I371)))","v":""},{"$f":"IF(E379=\"\",\"\",lookup!J371)","v":""},{"$f":"IF(E379=\"\",\"\",lookup!K371-lookup!J371)","v":""},"",{"$f":"IF(E379=\"\",\"\",IF(lookup!K371<0,0,lookup!K371))","v":""}]
[null,null,null,null,{"$f":"IF(I379=\"\",\"\",IF(B$13<E379+1,\"\",IF(I379=B$14,\"\",lookup!I372)))","v":""},{"$f":"IF(E380=\"\",\"\",lookup!J372)","v":""},{"$f":"IF(E380=\"\",\"\",lookup!K372-lookup!J372)","v":""},"",{"$f":"IF(E380=\"\",\"\",IF(lookup!K372<0,0,lookup!K372))","v":""}]
[null,null,null,null,{"$f":"IF(I380=\"\",\"\",IF(B$13<E380+1,\"\",IF(I380=B$14,\"\",lookup!I373)))","v":""},{"$f":"IF(E381=\"\",\"\",lookup!J373)","v":""},{"$f":"IF(E381=\"\",\"\",lookup!K373-lookup!J373)","v":""},"",{"$f":"IF(E381=\"\",\"\",IF(lookup!K373<0,0,lookup!K373))","v":""}]
[null,null,null,null,{"$f":"IF(I381=\"\",\"\",IF(B$13<E381+1,\"\",IF(I381=B$14,\"\",lookup!I374)))","v":""},{"$f":"IF(E382=\"\",\"\",lookup!J374)","v":""},{"$f":"IF(E382=\"\",\"\",lookup!K374-lookup!J374)","v":""},"",{"$f":"IF(E382=\"\",\"\",IF(lookup!K374<0,0,lookup!K374))","v":""}]
[null,null,null,null,{"$f":"IF(I382=\"\",\"\",IF(B$13<E382+1,\"\",IF(I382=B$14,\"\",lookup!I375)))","v":""},{"$f":"IF(E383=\"\",\"\",lookup!J375)","v":""},{"$f":"IF(E383=\"\",\"\",lookup!K375-lookup!J375)","v":""},"",{"$f":"IF(E383=\"\",\"\",IF(lookup!K375<0,0,lookup!K375))","v":""}]
[null,null,null,null,{"$f":"IF(I383=\"\",\"\",IF(B$13<E383+1,\"\",IF(I383=B$14,\"\",lookup!I376)))","v":""},{"$f":"IF(E384=\"\",\"\",lookup!J376)","v":""},{"$f":"IF(E384=\"\",\"\",lookup!K376-lookup!J376)","v":""},"",{"$f":"IF(E384=\"\",\"\",IF(lookup!K376<0,0,lookup!K376))","v":""}]
[null,null,null,null,{"$f":"IF(I384=\"\",\"\",IF(B$13<E384+1,\"\",IF(I384=B$14,\"\",lookup!I377)))","v":""},{"$f":"IF(E385=\"\",\"\",lookup!J377)","v":""},{"$f":"IF(E385=\"\",\"\",lookup!K377-lookup!J377)","v":""},"",{"$f":"IF(E385=\"\",\"\",IF(lookup!K377<0,0,lookup!K377))","v":""}]
[null,null,null,null,{"$f":"IF(I385=\"\",\"\",IF(B$13<E385+1,\"\",IF(I385=B$14,\"\",lookup!I378)))","v":""},{"$f":"IF(E386=\"\",\"\",lookup!J378)","v":""},{"$f":"IF(E386=\"\",\"\",lookup!K378-lookup!J378)","v":""},"",{"$f":"IF(E386=\"\",\"\",IF(lookup!K378<0,0,lookup!K378))","v":""}]
[null,null,null,null,{"$f":"IF(I386=\"\",\"\",IF(B$13<E386+1,\"\",IF(I386=B$14,\"\",lookup!I379)))","v":""},{"$f":"IF(E387=\"\",\"\",lookup!J379)","v":""},{"$f":"IF(E387=\"\",\"\",lookup!K379-lookup!J379)","v":""},"",{"$f":"IF(E387=\"\",\"\",IF(lookup!K379<0,0,lookup!K379))","v":""}]
[null,null,null,null,{"$f":"IF(I387=\"\",\"\",IF(B$13<E387+1,\"\",IF(I387=B$14,\"\",lookup!I380)))","v":""},{"$f":"IF(E388=\"\",\"\",lookup!J380)","v":""},{"$f":"IF(E388=\"\",\"\",lookup!K380-lookup!J380)","v":""},"",{"$f":"IF(E388=\"\",\"\",IF(lookup!K380<0,0,lookup!K380))","v":""}]
[null,null,null,null,{"$f":"IF(I388=\"\",\"\",IF(B$13<E388+1,\"\",IF(I388=B$14,\"\",lookup!I381)))","v":""},{"$f":"IF(E389=\"\",\"\",lookup!J381)","v":""},{"$f":"IF(E389=\"\",\"\",lookup!K381-lookup!J381)","v":""},"",{"$f":"IF(E389=\"\",\"\",IF(lookup!K381<0,0,lookup!K381))","v":""}]
[null,null,null,null,{"$f":"IF(I389=\"\",\"\",IF(B$13<E389+1,\"\",IF(I389=B$14,\"\",lookup!I382)))","v":""},{"$f":"IF(E390=\"\",\"\",lookup!J382)","v":""},{"$f":"IF(E390=\"\",\"\",lookup!K382-lookup!J382)","v":""},"",{"$f":"IF(E390=\"\",\"\",IF(lookup!K382<0,0,lookup!K382))","v":""}]
[null,null,null,null,{"$f":"IF(I390=\"\",\"\",IF(B$13<E390+1,\"\",IF(I390=B$14,\"\",lookup!I383)))","v":""},{"$f":"IF(E391=\"\",\"\",lookup!J383)","v":""},{"$f":"IF(E391=\"\",\"\",lookup!K383-lookup!J383)","v":""},"",{"$f":"IF(E391=\"\",\"\",IF(lookup!K383<0,0,lookup!K383))","v":""}]
[null,null,null,null,{"$f":"IF(I391=\"\",\"\",IF(B$13<E391+1,\"\",IF(I391=B$14,\"\",lookup!I384)))","v":""},{"$f":"IF(E392=\"\",\"\",lookup!J384)","v":""},{"$f":"IF(E392=\"\",\"\",lookup!K384-lookup!J384)","v":""},"",{"$f":"IF(E392=\"\",\"\",IF(lookup!K384<0,0,lookup!K384))","v":""}]
[null,null,null,null,{"$f":"IF(I392=\"\",\"\",IF(B$13<E392+1,\"\",IF(I392=B$14,\"\",lookup!I385)))","v":""},{"$f":"IF(E393=\"\",\"\",lookup!J385)","v":""},{"$f":"IF(E393=\"\",\"\",lookup!K385-lookup!J385)","v":""},"",{"$f":"IF(E393=\"\",\"\",IF(lookup!K385<0,0,lookup!K385))","v":""}]
[null,null,null,null,{"$f":"IF(I393=\"\",\"\",IF(B$13<E393+1,\"\",IF(I393=B$14,\"\",lookup!I386)))","v":""},{"$f":"IF(E394=\"\",\"\",lookup!J386)","v":""},{"$f":"IF(E394=\"\",\"\",lookup!K386-lookup!J386)","v":""},"",{"$f":"IF(E394=\"\",\"\",IF(lookup!K386<0,0,lookup!K386))","v":""}]
[null,null,null,null,{"$f":"IF(I394=\"\",\"\",IF(B$13<E394+1,\"\",IF(I394=B$14,\"\",lookup!I387)))","v":""},{"$f":"IF(E395=\"\",\"\",lookup!J387)","v":""},{"$f":"IF(E395=\"\",\"\",lookup!K387-lookup!J387)","v":""},{"$f":"IF(E395=\"\",\"\",H394+G395)","v":""},{"$f":"IF(E395=\"\",\"\",IF(lookup!K387<0,0,lookup!K387))","v":""}]
[null,null,null,null,{"$f":"IF(I395=\"\",\"\",IF(B$13<E395+1,\"\",IF(I395=B$14,\"\",lookup!I388)))","v":""},{"$f":"IF(E396=\"\",\"\",lookup!J388)","v":""},{"$f":"IF(E396=\"\",\"\",lookup!K388-lookup!J388)","v":""},"",{"$f":"IF(E396=\"\",\"\",IF(lookup!K388<0,0,lookup!K388))","v":""}]
[null,null,null,null,{"$f":"IF(I396=\"\",\"\",IF(B$13<E396+1,\"\",IF(I396=B$14,\"\",lookup!I389)))","v":""},{"$f":"IF(E397=\"\",\"\",lookup!J389)","v":""},{"$f":"IF(E397=\"\",\"\",lookup!K389-lookup!J389)","v":""},"",{"$f":"IF(E397=\"\",\"\",IF(lookup!K389<0,0,lookup!K389))","v":""}]
[null,null,null,null,{"$f":"IF(I397=\"\",\"\",IF(B$13<E397+1,\"\",IF(I397=B$14,\"\",lookup!I390)))","v":""},{"$f":"IF(E398=\"\",\"\",lookup!J390)","v":""},{"$f":"IF(E398=\"\",\"\",lookup!K390-lookup!J390)","v":""},"",{"$f":"IF(E398=\"\",\"\",IF(lookup!K390<0,0,lookup!K390))","v":""}]
[null,null,null,null,{"$f":"IF(I398=\"\",\"\",IF(B$13<E398+1,\"\",IF(I398=B$14,\"\",lookup!I391)))","v":""},{"$f":"IF(E399=\"\",\"\",lookup!J391)","v":""},{"$f":"IF(E399=\"\",\"\",lookup!K391-lookup!J391)","v":""},"",{"$f":"IF(E399=\"\",\"\",IF(lookup!K391<0,0,lookup!K391))","v":""}]
[null,null,null,null,{"$f":"IF(I399=\"\",\"\",IF(B$13<E399+1,\"\",IF(I399=B$14,\"\",lookup!I392)))","v":""},{"$f":"IF(E400=\"\",\"\",lookup!J392)","v":""},{"$f":"IF(E400=\"\",\"\",lookup!K392-lookup!J392)","v":""},"",{"$f":"IF(E400=\"\",\"\",IF(lookup!K392<0,0,lookup!K392))","v":""}]
[null,null,null,null,{"$f":"IF(I400=\"\",\"\",IF(B$13<E400+1,\"\",IF(I400=B$14,\"\",lookup!I393)))","v":""},{"$f":"IF(E401=\"\",\"\",lookup!J393)","v":""},{"$f":"IF(E401=\"\",\"\",lookup!K393-lookup!J393)","v":""},"",{"$f":"IF(E401=\"\",\"\",IF(lookup!K393<0,0,lookup!K393))","v":""}]
[null,null,null,null,{"$f":"IF(I401=\"\",\"\",IF(B$13<E401+1,\"\",IF(I401=B$14,\"\",lookup!I394)))","v":""},{"$f":"IF(E402=\"\",\"\",lookup!J394)","v":""},{"$f":"IF(E402=\"\",\"\",lookup!K394-lookup!J394)","v":""},"",{"$f":"IF(E402=\"\",\"\",IF(lookup!K394<0,0,lookup!K394))","v":""}]
[null,null,null,null,{"$f":"IF(I402=\"\",\"\",IF(B$13<E402+1,\"\",IF(I402=B$14,\"\",lookup!I395)))","v":""},{"$f":"IF(E403=\"\",\"\",lookup!J395)","v":""},{"$f":"IF(E403=\"\",\"\",lookup!K395-lookup!J395)","v":""},"",{"$f":"IF(E403=\"\",\"\",IF(lookup!K395<0,0,lookup!K395))","v":""}]
[null,null,null,null,{"$f":"IF(I403=\"\",\"\",IF(B$13<E403+1,\"\",IF(I403=B$14,\"\",lookup!I396)))","v":""},{"$f":"IF(E404=\"\",\"\",lookup!J396)","v":""},{"$f":"IF(E404=\"\",\"\",lookup!K396-lookup!J396)","v":""},"",{"$f":"IF(E404=\"\",\"\",IF(lookup!K396<0,0,lookup!K396))","v":""}]
[null,null,null,null,{"$f":"IF(I404=\"\",\"\",IF(B$13<E404+1,\"\",IF(I404=B$14,\"\",lookup!I397)))","v":""},{"$f":"IF(E405=\"\",\"\",lookup!J397)","v":""},{"$f":"IF(E405=\"\",\"\",lookup!K397-lookup!J397)","v":""},"",{"$f":"IF(E405=\"\",\"\",IF(lookup!K397<0,0,lookup!K397))","v":""}]
[null,null,null,null,{"$f":"IF(I405=\"\",\"\",IF(B$13<E405+1,\"\",IF(I405=B$14,\"\",lookup!I398)))","v":""},{"$f":"IF(E406=\"\",\"\",lookup!J398)","v":""},{"$f":"IF(E406=\"\",\"\",lookup!K398-lookup!J398)","v":""},"",{"$f":"IF(E406=\"\",\"\",IF(lookup!K398<0,0,lookup!K398))","v":""}]
[null,null,null,null,{"$f":"IF(I406=\"\",\"\",IF(B$13<E406+1,\"\",IF(I406=B$14,\"\",lookup!I399)))","v":""},{"$f":"IF(E407=\"\",\"\",lookup!J399)","v":""},{"$f":"IF(E407=\"\",\"\",lookup!K399-lookup!J399)","v":""},"",{"$f":"IF(E407=\"\",\"\",IF(lookup!K399<0,0,lookup!K399))","v":""}]
[null,null,null,null,{"$f":"IF(I407=\"\",\"\",IF(B$13<E407+1,\"\",IF(I407=B$14,\"\",lookup!I400)))","v":""},{"$f":"IF(E408=\"\",\"\",lookup!J400)","v":""},{"$f":"IF(E408=\"\",\"\",lookup!K400-lookup!J400)","v":""},"",{"$f":"IF(E408=\"\",\"\",IF(lookup!K400<0,0,lookup!K400))","v":""}]
[null,null,null,null,{"$f":"IF(I408=\"\",\"\",IF(B$13<E408+1,\"\",IF(I408=B$14,\"\",lookup!I401)))","v":""},{"$f":"IF(E409=\"\",\"\",lookup!J401)","v":""},{"$f":"IF(E409=\"\",\"\",lookup!K401-lookup!J401)","v":""},"",{"$f":"IF(E409=\"\",\"\",IF(lookup!K401<0,0,lookup!K401))","v":""}]
[null,null,null,null,{"$f":"IF(I409=\"\",\"\",IF(B$13<E409+1,\"\",IF(I409=B$14,\"\",lookup!I402)))","v":""},{"$f":"IF(E410=\"\",\"\",lookup!J402)","v":""},{"$f":"IF(E410=\"\",\"\",lookup!K402-lookup!J402)","v":""},"",{"$f":"IF(E410=\"\",\"\",IF(lookup!K402<0,0,lookup!K402))","v":""}]
[null,null,null,null,{"$f":"IF(I410=\"\",\"\",IF(B$13<E410+1,\"\",IF(I410=B$14,\"\",lookup!I403)))","v":""},{"$f":"IF(E411=\"\",\"\",lookup!J403)","v":""},{"$f":"IF(E411=\"\",\"\",lookup!K403-lookup!J403)","v":""},"",{"$f":"IF(E411=\"\",\"\",IF(lookup!K403<0,0,lookup!K403))","v":""}]
[null,null,null,null,{"$f":"IF(I411=\"\",\"\",IF(B$13<E411+1,\"\",IF(I411=B$14,\"\",lookup!I404)))","v":""},{"$f":"IF(E412=\"\",\"\",lookup!J404)","v":""},{"$f":"IF(E412=\"\",\"\",lookup!K404-lookup!J404)","v":""},"",{"$f":"IF(E412=\"\",\"\",IF(lookup!K404<0,0,lookup!K404))","v":""}]
[null,null,null,null,{"$f":"IF(I412=\"\",\"\",IF(B$13<E412+1,\"\",IF(I412=B$14,\"\",lookup!I405)))","v":""},{"$f":"IF(E413=\"\",\"\",lookup!J405)","v":""},{"$f":"IF(E413=\"\",\"\",lookup!K405-lookup!J405)","v":""},"",{"$f":"IF(E413=\"\",\"\",IF(lookup!K405<0,0,lookup!K405))","v":""}]
[null,null,null,null,{"$f":"IF(I413=\"\",\"\",IF(B$13<E413+1,\"\",IF(I413=B$14,\"\",lookup!I406)))","v":""},{"$f":"IF(E414=\"\",\"\",lookup!J406)","v":""},{"$f":"IF(E414=\"\",\"\",lookup!K406-lookup!J406)","v":""},"",{"$f":"IF(E414=\"\",\"\",IF(lookup!K406<0,0,lookup!K406))","v":""}]
[null,null,null,null,{"$f":"IF(I414=\"\",\"\",IF(B$13<E414+1,\"\",IF(I414=B$14,\"\",lookup!I407)))","v":""},{"$f":"IF(E415=\"\",\"\",lookup!J407)","v":""},{"$f":"IF(E415=\"\",\"\",lookup!K407-lookup!J407)","v":""},"",{"$f":"IF(E415=\"\",\"\",IF(lookup!K407<0,0,lookup!K407))","v":""}]
[null,null,null,null,{"$f":"IF(I415=\"\",\"\",IF(B$13<E415+1,\"\",IF(I415=B$14,\"\",lookup!I408)))","v":""},{"$f":"IF(E416=\"\",\"\",lookup!J408)","v":""},{"$f":"IF(E416=\"\",\"\",lookup!K408-lookup!J408)","v":""},"",{"$f":"IF(E416=\"\",\"\",IF(lookup!K408<0,0,lookup!K408))","v":""}]
[null,null,null,null,{"$f":"IF(I416=\"\",\"\",IF(B$13<E416+1,\"\",IF(I416=B$14,\"\",lookup!I409)))","v":""},{"$f":"IF(E417=\"\",\"\",lookup!J409)","v":""},{"$f":"IF(E417=\"\",\"\",lookup!K409-lookup!J409)","v":""},"",{"$f":"IF(E417=\"\",\"\",IF(lookup!K409<0,0,lookup!K409))","v":""}]
[null,null,null,null,{"$f":"IF(I417=\"\",\"\",IF(B$13<E417+1,\"\",IF(I417=B$14,\"\",lookup!I410)))","v":""},{"$f":"IF(E418=\"\",\"\",lookup!J410)","v":""},{"$f":"IF(E418=\"\",\"\",lookup!K410-lookup!J410)","v":""},"",{"$f":"IF(E418=\"\",\"\",IF(lookup!K410<0,0,lookup!K410))","v":""}]
[null,null,null,null,{"$f":"IF(I418=\"\",\"\",IF(B$13<E418+1,\"\",IF(I418=B$14,\"\",lookup!I411)))","v":""},{"$f":"IF(E419=\"\",\"\",lookup!J411)","v":""},{"$f":"IF(E419=\"\",\"\",lookup!K411-lookup!J411)","v":""},"",{"$f":"IF(E419=\"\",\"\",IF(lookup!K411<0,0,lookup!K411))","v":""}]
[null,null,null,null,{"$f":"IF(I419=\"\",\"\",IF(B$13<E419+1,\"\",IF(I419=B$14,\"\",lookup!I412)))","v":""},{"$f":"IF(E420=\"\",\"\",lookup!J412)","v":""},{"$f":"IF(E420=\"\",\"\",lookup!K412-lookup!J412)","v":""},"",{"$f":"IF(E420=\"\",\"\",IF(lookup!K412<0,0,lookup!K412))","v":""}]
[null,null,null,null,{"$f":"IF(I420=\"\",\"\",IF(B$13<E420+1,\"\",IF(I420=B$14,\"\",lookup!I413)))","v":""},{"$f":"IF(E421=\"\",\"\",lookup!J413)","v":""},{"$f":"IF(E421=\"\",\"\",lookup!K413-lookup!J413)","v":""},"",{"$f":"IF(E421=\"\",\"\",IF(lookup!K413<0,0,lookup!K413))","v":""}]
[null,null,null,null,{"$f":"IF(I421=\"\",\"\",IF(B$13<E421+1,\"\",IF(I421=B$14,\"\",lookup!I414)))","v":""},{"$f":"IF(E422=\"\",\"\",lookup!J414)","v":""},{"$f":"IF(E422=\"\",\"\",lookup!K414-lookup!J414)","v":""},"",{"$f":"IF(E422=\"\",\"\",IF(lookup!K414<0,0,lookup!K414))","v":""}]
[null,null,null,null,{"$f":"IF(I422=\"\",\"\",IF(B$13<E422+1,\"\",IF(I422=B$14,\"\",lookup!I415)))","v":""},{"$f":"IF(E423=\"\",\"\",lookup!J415)","v":""},{"$f":"IF(E423=\"\",\"\",lookup!K415-lookup!J415)","v":""},"",{"$f":"IF(E423=\"\",\"\",IF(lookup!K415<0,0,lookup!K415))","v":""}]
[null,null,null,null,{"$f":"IF(I423=\"\",\"\",IF(B$13<E423+1,\"\",IF(I423=B$14,\"\",lookup!I416)))","v":""},{"$f":"IF(E424=\"\",\"\",lookup!J416)","v":""},{"$f":"IF(E424=\"\",\"\",lookup!K416-lookup!J416)","v":""},"",{"$f":"IF(E424=\"\",\"\",IF(lookup!K416<0,0,lookup!K416))","v":""}]
[null,null,null,null,{"$f":"IF(I424=\"\",\"\",IF(B$13<E424+1,\"\",IF(I424=B$14,\"\",lookup!I417)))","v":""},{"$f":"IF(E425=\"\",\"\",lookup!J417)","v":""},{"$f":"IF(E425=\"\",\"\",lookup!K417-lookup!J417)","v":""},"",{"$f":"IF(E425=\"\",\"\",IF(lookup!K417<0,0,lookup!K417))","v":""}]
[null,null,null,null,{"$f":"IF(I425=\"\",\"\",IF(B$13<E425+1,\"\",IF(I425=B$14,\"\",lookup!I418)))","v":""},{"$f":"IF(E426=\"\",\"\",lookup!J418)","v":""},{"$f":"IF(E426=\"\",\"\",lookup!K418-lookup!J418)","v":""},"",{"$f":"IF(E426=\"\",\"\",IF(lookup!K418<0,0,lookup!K418))","v":""}]
[null,null,null,null,{"$f":"IF(I426=\"\",\"\",IF(B$13<E426+1,\"\",IF(I426=B$14,\"\",lookup!I419)))","v":""},{"$f":"IF(E427=\"\",\"\",lookup!J419)","v":""},{"$f":"IF(E427=\"\",\"\",lookup!K419-lookup!J419)","v":""},"",{"$f":"IF(E427=\"\",\"\",IF(lookup!K419<0,0,lookup!K419))","v":""}]
[null,null,null,null,{"$f":"IF(I427=\"\",\"\",IF(B$13<E427+1,\"\",IF(I427=B$14,\"\",lookup!I420)))","v":""},{"$f":"IF(E428=\"\",\"\",lookup!J420)","v":""},{"$f":"IF(E428=\"\",\"\",lookup!K420-lookup!J420)","v":""},"",{"$f":"IF(E428=\"\",\"\",IF(lookup!K420<0,0,lookup!K420))","v":""}]
[null,null,null,null,{"$f":"IF(I428=\"\",\"\",IF(B$13<E428+1,\"\",IF(I428=B$14,\"\",lookup!I421)))","v":""},{"$f":"IF(E429=\"\",\"\",lookup!J421)","v":""},{"$f":"IF(E429=\"\",\"\",lookup!K421-lookup!J421)","v":""},"",{"$f":"IF(E429=\"\",\"\",IF(lookup!K421<0,0,lookup!K421))","v":""}]
[null,null,null,null,{"$f":"IF(I429=\"\",\"\",IF(B$13<E429+1,\"\",IF(I429=B$14,\"\",lookup!I422)))","v":""},{"$f":"IF(E430=\"\",\"\",lookup!J422)","v":""},{"$f":"IF(E430=\"\",\"\",lookup!K422-lookup!J422)","v":""},"",{"$f":"IF(E430=\"\",\"\",IF(lookup!K422<0,0,lookup!K422))","v":""}]
[null,null,null,null,{"$f":"IF(I430=\"\",\"\",IF(B$13<E430+1,\"\",IF(I430=B$14,\"\",lookup!I423)))","v":""},{"$f":"IF(E431=\"\",\"\",lookup!J423)","v":""},{"$f":"IF(E431=\"\",\"\",lookup!K423-lookup!J423)","v":""},"",{"$f":"IF(E431=\"\",\"\",IF(lookup!K423<0,0,lookup!K423))","v":""}]
[null,null,null,null,{"$f":"IF(I431=\"\",\"\",IF(B$13<E431+1,\"\",IF(I431=B$14,\"\",lookup!I424)))","v":""},{"$f":"IF(E432=\"\",\"\",lookup!J424)","v":""},{"$f":"IF(E432=\"\",\"\",lookup!K424-lookup!J424)","v":""},"",{"$f":"IF(E432=\"\",\"\",IF(lookup!K424<0,0,lookup!K424))","v":""}]
[null,null,null,null,{"$f":"IF(I432=\"\",\"\",IF(B$13<E432+1,\"\",IF(I432=B$14,\"\",lookup!I425)))","v":""},{"$f":"IF(E433=\"\",\"\",lookup!J425)","v":""},{"$f":"IF(E433=\"\",\"\",lookup!K425-lookup!J425)","v":""},"",{"$f":"IF(E433=\"\",\"\",IF(lookup!K425<0,0,lookup!K425))","v":""}]
[null,null,null,null,{"$f":"IF(I433=\"\",\"\",IF(B$13<E433+1,\"\",IF(I433=B$14,\"\",lookup!I426)))","v":""},{"$f":"IF(E434=\"\",\"\",lookup!J426)","v":""},{"$f":"IF(E434=\"\",\"\",lookup!K426-lookup!J426)","v":""},"",{"$f":"IF(E434=\"\",\"\",IF(lookup!K426<0,0,lookup!K426))","v":""}]
[null,null,null,null,{"$f":"IF(I434=\"\",\"\",IF(B$13<E434+1,\"\",IF(I434=B$14,\"\",lookup!I427)))","v":""},{"$f":"IF(E435=\"\",\"\",lookup!J427)","v":""},{"$f":"IF(E435=\"\",\"\",lookup!K427-lookup!J427)","v":""},"",{"$f":"IF(E435=\"\",\"\",IF(lookup!K427<0,0,lookup!K427))","v":""}]
[null,null,null,null,{"$f":"IF(I435=\"\",\"\",IF(B$13<E435+1,\"\",IF(I435=B$14,\"\",lookup!I428)))","v":""},{"$f":"IF(E436=\"\",\"\",lookup!J428)","v":""},{"$f":"IF(E436=\"\",\"\",lookup!K428-lookup!J428)","v":""},"",{"$f":"IF(E436=\"\",\"\",IF(lookup!K428<0,0,lookup!K428))","v":""}]
[null,null,null,null,{"$f":"IF(I436=\"\",\"\",IF(B$13<E436+1,\"\",IF(I436=B$14,\"\",lookup!I429)))","v":""},{"$f":"IF(E437=\"\",\"\",lookup!J429)","v":""},{"$f":"IF(E437=\"\",\"\",lookup!K429-lookup!J429)","v":""},"",{"$f":"IF(E437=\"\",\"\",IF(lookup!K429<0,0,lookup!K429))","v":""}]
[null,null,null,null,{"$f":"IF(I437=\"\",\"\",IF(B$13<E437+1,\"\",IF(I437=B$14,\"\",lookup!I430)))","v":""},{"$f":"IF(E438=\"\",\"\",lookup!J430)","v":""},{"$f":"IF(E438=\"\",\"\",lookup!K430-lookup!J430)","v":""},"",{"$f":"IF(E438=\"\",\"\",IF(lookup!K430<0,0,lookup!K430))","v":""}]
[null,null,null,null,{"$f":"IF(I438=\"\",\"\",IF(B$13<E438+1,\"\",IF(I438=B$14,\"\",lookup!I431)))","v":""},{"$f":"IF(E439=\"\",\"\",lookup!J431)","v":""},{"$f":"IF(E439=\"\",\"\",lookup!K431-lookup!J431)","v":""},"",{"$f":"IF(E439=\"\",\"\",IF(lookup!K431<0,0,lookup!K431))","v":""}]
[null,null,null,null,{"$f":"IF(I439=\"\",\"\",IF(B$13<E439+1,\"\",IF(I439=B$14,\"\",lookup!I432)))","v":""},{"$f":"IF(E440=\"\",\"\",lookup!J432)","v":""},{"$f":"IF(E440=\"\",\"\",lookup!K432-lookup!J432)","v":""},"",{"$f":"IF(E440=\"\",\"\",IF(lookup!K432<0,0,lookup!K432))","v":""}]
[null,null,null,null,{"$f":"IF(I440=\"\",\"\",IF(B$13<E440+1,\"\",IF(I440=B$14,\"\",lookup!I433)))","v":""},{"$f":"IF(E441=\"\",\"\",lookup!J433)","v":""},{"$f":"IF(E441=\"\",\"\",lookup!K433-lookup!J433)","v":""},"",{"$f":"IF(E441=\"\",\"\",IF(lookup!K433<0,0,lookup!K433))","v":""}]
[null,null,null,null,{"$f":"IF(I441=\"\",\"\",IF(B$13<E441+1,\"\",IF(I441=B$14,\"\",lookup!I434)))","v":""},{"$f":"IF(E442=\"\",\"\",lookup!J434)","v":""},{"$f":"IF(E442=\"\",\"\",lookup!K434-lookup!J434)","v":""},"",{"$f":"IF(E442=\"\",\"\",IF(lookup!K434<0,0,lookup!K434))","v":""}]
[null,null,null,null,{"$f":"IF(I442=\"\",\"\",IF(B$13<E442+1,\"\",IF(I442=B$14,\"\",lookup!I435)))","v":""},{"$f":"IF(E443=\"\",\"\",lookup!J435)","v":""},{"$f":"IF(E443=\"\",\"\",lookup!K435-lookup!J435)","v":""},"",{"$f":"IF(E443=\"\",\"\",IF(lookup!K435<0,0,lookup!K435))","v":""}]
[null,null,null,null,{"$f":"IF(I443=\"\",\"\",IF(B$13<E443+1,\"\",IF(I443=B$14,\"\",lookup!I436)))","v":""},{"$f":"IF(E444=\"\",\"\",lookup!J436)","v":""},{"$f":"IF(E444=\"\",\"\",lookup!K436-lookup!J436)","v":""},"",{"$f":"IF(E444=\"\",\"\",IF(lookup!K436<0,0,lookup!K436))","v":""}]
[null,null,null,null,{"$f":"IF(I444=\"\",\"\",IF(B$13<E444+1,\"\",IF(I444=B$14,\"\",lookup!I437)))","v":""},{"$f":"IF(E445=\"\",\"\",lookup!J437)","v":""},{"$f":"IF(E445=\"\",\"\",lookup!K437-lookup!J437)","v":""},"",{"$f":"IF(E445=\"\",\"\",IF(lookup!K437<0,0,lookup!K437))","v":""}]
[null,null,null,null,{"$f":"IF(I445=\"\",\"\",IF(B$13<E445+1,\"\",IF(I445=B$14,\"\",lookup!I438)))","v":""},{"$f":"IF(E446=\"\",\"\",lookup!J438)","v":""},{"$f":"IF(E446=\"\",\"\",lookup!K438-lookup!J438)","v":""},"",{"$f":"IF(E446=\"\",\"\",IF(lookup!K438<0,0,lookup!K438))","v":""}]
[null,null,null,null,{"$f":"IF(I446=\"\",\"\",IF(B$13<E446+1,\"\",IF(I446=B$14,\"\",lookup!I439)))","v":""},{"$f":"IF(E447=\"\",\"\",lookup!J439)","v":""},{"$f":"IF(E447=\"\",\"\",lookup!K439-lookup!J439)","v":""},"",{"$f":"IF(E447=\"\",\"\",IF(lookup!K439<0,0,lookup!K439))","v":""}]
[null,null,null,null,{"$f":"IF(I447=\"\",\"\",IF(B$13<E447+1,\"\",IF(I447=B$14,\"\",lookup!I440)))","v":""},{"$f":"IF(E448=\"\",\"\",lookup!J440)","v":""},{"$f":"IF(E448=\"\",\"\",lookup!K440-lookup!J440)","v":""},"",{"$f":"IF(E448=\"\",\"\",IF(lookup!K440<0,0,lookup!K440))","v":""}]
[null,null,null,null,{"$f":"IF(I448=\"\",\"\",IF(B$13<E448+1,\"\",IF(I448=B$14,\"\",lookup!I441)))","v":""},{"$f":"IF(E449=\"\",\"\",lookup!J441)","v":""},{"$f":"IF(E449=\"\",\"\",lookup!K441-lookup!J441)","v":""},"",{"$f":"IF(E449=\"\",\"\",IF(lookup!K441<0,0,lookup!K441))","v":""}]
[null,null,null,null,{"$f":"IF(I449=\"\",\"\",IF(B$13<E449+1,\"\",IF(I449=B$14,\"\",lookup!I442)))","v":""},{"$f":"IF(E450=\"\",\"\",lookup!J442)","v":""},{"$f":"IF(E450=\"\",\"\",lookup!K442-lookup!J442)","v":""},"",{"$f":"IF(E450=\"\",\"\",IF(lookup!K442<0,0,lookup!K442))","v":""}]
[null,null,null,null,{"$f":"IF(I450=\"\",\"\",IF(B$13<E450+1,\"\",IF(I450=B$14,\"\",lookup!I443)))","v":""},{"$f":"IF(E451=\"\",\"\",lookup!J443)","v":""},{"$f":"IF(E451=\"\",\"\",lookup!K443-lookup!J443)","v":""},"",{"$f":"IF(E451=\"\",\"\",IF(lookup!K443<0,0,lookup!K443))","v":""}]
[null,null,null,null,{"$f":"IF(I451=\"\",\"\",IF(B$13<E451+1,\"\",IF(I451=B$14,\"\",lookup!I444)))","v":""},{"$f":"IF(E452=\"\",\"\",lookup!J444)","v":""},{"$f":"IF(E452=\"\",\"\",lookup!K444-lookup!J444)","v":""},"",{"$f":"IF(E452=\"\",\"\",IF(lookup!K444<0,0,lookup!K444))","v":""}]
[null,null,null,null,{"$f":"IF(I452=\"\",\"\",IF(B$13<E452+1,\"\",IF(I452=B$14,\"\",lookup!I445)))","v":""},{"$f":"IF(E453=\"\",\"\",lookup!J445)","v":""},{"$f":"IF(E453=\"\",\"\",lookup!K445-lookup!J445)","v":""},"",{"$f":"IF(E453=\"\",\"\",IF(lookup!K445<0,0,lookup!K445))","v":""}]
[null,null,null,null,{"$f":"IF(I453=\"\",\"\",IF(B$13<E453+1,\"\",IF(I453=B$14,\"\",lookup!I446)))","v":""},{"$f":"IF(E454=\"\",\"\",lookup!J446)","v":""},{"$f":"IF(E454=\"\",\"\",lookup!K446-lookup!J446)","v":""},"",{"$f":"IF(E454=\"\",\"\",IF(lookup!K446<0,0,lookup!K446))","v":""}]
[null,null,null,null,{"$f":"IF(I454=\"\",\"\",IF(B$13<E454+1,\"\",IF(I454=B$14,\"\",lookup!I447)))","v":""},{"$f":"IF(E455=\"\",\"\",lookup!J447)","v":""},{"$f":"IF(E455=\"\",\"\",lookup!K447-lookup!J447)","v":""},"",{"$f":"IF(E455=\"\",\"\",IF(lookup!K447<0,0,lookup!K447))","v":""}]
[null,null,null,null,{"$f":"IF(I455=\"\",\"\",IF(B$13<E455+1,\"\",IF(I455=B$14,\"\",lookup!I448)))","v":""},{"$f":"IF(E456=\"\",\"\",lookup!J448)","v":""},{"$f":"IF(E456=\"\",\"\",lookup!K448-lookup!J448)","v":""},"",{"$f":"IF(E456=\"\",\"\",IF(lookup!K448<0,0,lookup!K448))","v":""}]
[null,null,null,null,{"$f":"IF(I456=\"\",\"\",IF(B$13<E456+1,\"\",IF(I456=B$14,\"\",lookup!I449)))","v":""},{"$f":"IF(E457=\"\",\"\",lookup!J449)","v":""},{"$f":"IF(E457=\"\",\"\",lookup!K449-lookup!J449)","v":""},"",{"$f":"IF(E457=\"\",\"\",IF(lookup!K449<0,0,lookup!K449))","v":""}]
[null,null,null,null,{"$f":"IF(I457=\"\",\"\",IF(B$13<E457+1,\"\",IF(I457=B$14,\"\",lookup!I450)))","v":""},{"$f":"IF(E458=\"\",\"\",lookup!J450)","v":""},{"$f":"IF(E458=\"\",\"\",lookup!K450-lookup!J450)","v":""},"",{"$f":"IF(E458=\"\",\"\",IF(lookup!K450<0,0,lookup!K450))","v":""}]
[null,null,null,null,{"$f":"IF(I458=\"\",\"\",IF(B$13<E458+1,\"\",IF(I458=B$14,\"\",lookup!I451)))","v":""},{"$f":"IF(E459=\"\",\"\",lookup!J451)","v":""},{"$f":"IF(E459=\"\",\"\",lookup!K451-lookup!J451)","v":""},{"$f":"IF(E459=\"\",\"\",H458+G459)","v":""},{"$f":"IF(E459=\"\",\"\",IF(lookup!K451<0,0,lookup!K451))","v":""}]
[null,null,null,null,{"$f":"IF(I459=\"\",\"\",IF(B$13<E459+1,\"\",IF(I459=B$14,\"\",lookup!I452)))","v":""},{"$f":"IF(E460=\"\",\"\",lookup!J452)","v":""},{"$f":"IF(E460=\"\",\"\",lookup!K452-lookup!J452)","v":""},"",{"$f":"IF(E460=\"\",\"\",IF(lookup!K452<0,0,lookup!K452))","v":""}]
[null,null,null,null,{"$f":"IF(I460=\"\",\"\",IF(B$13<E460+1,\"\",IF(I460=B$14,\"\",lookup!I453)))","v":""},{"$f":"IF(E461=\"\",\"\",lookup!J453)","v":""},{"$f":"IF(E461=\"\",\"\",lookup!K453-lookup!J453)","v":""},"",{"$f":"IF(E461=\"\",\"\",IF(lookup!K453<0,0,lookup!K453))","v":""}]
[null,null,null,null,{"$f":"IF(I461=\"\",\"\",IF(B$13<E461+1,\"\",IF(I461=B$14,\"\",lookup!I454)))","v":""},{"$f":"IF(E462=\"\",\"\",lookup!J454)","v":""},{"$f":"IF(E462=\"\",\"\",lookup!K454-lookup!J454)","v":""},"",{"$f":"IF(E462=\"\",\"\",IF(lookup!K454<0,0,lookup!K454))","v":""}]
[null,null,null,null,{"$f":"IF(I462=\"\",\"\",IF(B$13<E462+1,\"\",IF(I462=B$14,\"\",lookup!I455)))","v":""},{"$f":"IF(E463=\"\",\"\",lookup!J455)","v":""},{"$f":"IF(E463=\"\",\"\",lookup!K455-lookup!J455)","v":""},"",{"$f":"IF(E463=\"\",\"\",IF(lookup!K455<0,0,lookup!K455))","v":""}]
[null,null,null,null,{"$f":"IF(I463=\"\",\"\",IF(B$13<E463+1,\"\",IF(I463=B$14,\"\",lookup!I456)))","v":""},{"$f":"IF(E464=\"\",\"\",lookup!J456)","v":""},{"$f":"IF(E464=\"\",\"\",lookup!K456-lookup!J456)","v":""},"",{"$f":"IF(E464=\"\",\"\",IF(lookup!K456<0,0,lookup!K456))","v":""}]
[null,null,null,null,{"$f":"IF(I464=\"\",\"\",IF(B$13<E464+1,\"\",IF(I464=B$14,\"\",lookup!I457)))","v":""},{"$f":"IF(E465=\"\",\"\",lookup!J457)","v":""},{"$f":"IF(E465=\"\",\"\",lookup!K457-lookup!J457)","v":""},"",{"$f":"IF(E465=\"\",\"\",IF(lookup!K457<0,0,lookup!K457))","v":""}]
[null,null,null,null,{"$f":"IF(I465=\"\",\"\",IF(B$13<E465+1,\"\",IF(I465=B$14,\"\",lookup!I458)))","v":""},{"$f":"IF(E466=\"\",\"\",lookup!J458)","v":""},{"$f":"IF(E466=\"\",\"\",lookup!K458-lookup!J458)","v":""},"",{"$f":"IF(E466=\"\",\"\",IF(lookup!K458<0,0,lookup!K458))","v":""}]
[null,null,null,null,{"$f":"IF(I466=\"\",\"\",IF(B$13<E466+1,\"\",IF(I466=B$14,\"\",lookup!I459)))","v":""},{"$f":"IF(E467=\"\",\"\",lookup!J459)","v":""},{"$f":"IF(E467=\"\",\"\",lookup!K459-lookup!J459)","v":""},"",{"$f":"IF(E467=\"\",\"\",IF(lookup!K459<0,0,lookup!K459))","v":""}]
[null,null,null,null,{"$f":"IF(I467=\"\",\"\",IF(B$13<E467+1,\"\",IF(I467=B$14,\"\",lookup!I460)))","v":""},{"$f":"IF(E468=\"\",\"\",lookup!J460)","v":""},{"$f":"IF(E468=\"\",\"\",lookup!K460-lookup!J460)","v":""},"",{"$f":"IF(E468=\"\",\"\",IF(lookup!K460<0,0,lookup!K460))","v":""}]
[null,null,null,null,{"$f":"IF(I468=\"\",\"\",IF(B$13<E468+1,\"\",IF(I468=B$14,\"\",lookup!I461)))","v":""},{"$f":"IF(E469=\"\",\"\",lookup!J461)","v":""},{"$f":"IF(E469=\"\",\"\",lookup!K461-lookup!J461)","v":""},"",{"$f":"IF(E469=\"\",\"\",IF(lookup!K461<0,0,lookup!K461))","v":""}]
[null,null,null,null,{"$f":"IF(I469=\"\",\"\",IF(B$13<E469+1,\"\",IF(I469=B$14,\"\",lookup!I462)))","v":""},{"$f":"IF(E470=\"\",\"\",lookup!J462)","v":""},{"$f":"IF(E470=\"\",\"\",lookup!K462-lookup!J462)","v":""},"",{"$f":"IF(E470=\"\",\"\",IF(lookup!K462<0,0,lookup!K462))","v":""}]
[null,null,null,null,{"$f":"IF(I470=\"\",\"\",IF(B$13<E470+1,\"\",IF(I470=B$14,\"\",lookup!I463)))","v":""},{"$f":"IF(E471=\"\",\"\",lookup!J463)","v":""},{"$f":"IF(E471=\"\",\"\",lookup!K463-lookup!J463)","v":""},"",{"$f":"IF(E471=\"\",\"\",IF(lookup!K463<0,0,lookup!K463))","v":""}]
[null,null,null,null,{"$f":"IF(I471=\"\",\"\",IF(B$13<E471+1,\"\",IF(I471=B$14,\"\",lookup!I464)))","v":""},{"$f":"IF(E472=\"\",\"\",lookup!J464)","v":""},{"$f":"IF(E472=\"\",\"\",lookup!K464-lookup!J464)","v":""},"",{"$f":"IF(E472=\"\",\"\",IF(lookup!K464<0,0,lookup!K464))","v":""}]
[null,null,null,null,{"$f":"IF(I472=\"\",\"\",IF(B$13<E472+1,\"\",IF(I472=B$14,\"\",lookup!I465)))","v":""},{"$f":"IF(E473=\"\",\"\",lookup!J465)","v":""},{"$f":"IF(E473=\"\",\"\",lookup!K465-lookup!J465)","v":""},"",{"$f":"IF(E473=\"\",\"\",IF(lookup!K465<0,0,lookup!K465))","v":""}]
[null,null,null,null,{"$f":"IF(I473=\"\",\"\",IF(B$13<E473+1,\"\",IF(I473=B$14,\"\",lookup!I466)))","v":""},{"$f":"IF(E474=\"\",\"\",lookup!J466)","v":""},{"$f":"IF(E474=\"\",\"\",lookup!K466-lookup!J466)","v":""},"",{"$f":"IF(E474=\"\",\"\",IF(lookup!K466<0,0,lookup!K466))","v":""}]
[null,null,null,null,{"$f":"IF(I474=\"\",\"\",IF(B$13<E474+1,\"\",IF(I474=B$14,\"\",lookup!I467)))","v":""},{"$f":"IF(E475=\"\",\"\",lookup!J467)","v":""},{"$f":"IF(E475=\"\",\"\",lookup!K467-lookup!J467)","v":""},"",{"$f":"IF(E475=\"\",\"\",IF(lookup!K467<0,0,lookup!K467))","v":""}]
[null,null,null,null,{"$f":"IF(I475=\"\",\"\",IF(B$13<E475+1,\"\",IF(I475=B$14,\"\",lookup!I468)))","v":""},{"$f":"IF(E476=\"\",\"\",lookup!J468)","v":""},{"$f":"IF(E476=\"\",\"\",lookup!K468-lookup!J468)","v":""},"",{"$f":"IF(E476=\"\",\"\",IF(lookup!K468<0,0,lookup!K468))","v":""}]
[null,null,null,null,{"$f":"IF(I476=\"\",\"\",IF(B$13<E476+1,\"\",IF(I476=B$14,\"\",lookup!I469)))","v":""},{"$f":"IF(E477=\"\",\"\",lookup!J469)","v":""},{"$f":"IF(E477=\"\",\"\",lookup!K469-lookup!J469)","v":""},"",{"$f":"IF(E477=\"\",\"\",IF(lookup!K469<0,0,lookup!K469))","v":""}]
[null,null,null,null,{"$f":"IF(I477=\"\",\"\",IF(B$13<E477+1,\"\",IF(I477=B$14,\"\",lookup!I470)))","v":""},{"$f":"IF(E478=\"\",\"\",lookup!J470)","v":""},{"$f":"IF(E478=\"\",\"\",lookup!K470-lookup!J470)","v":""},"",{"$f":"IF(E478=\"\",\"\",IF(lookup!K470<0,0,lookup!K470))","v":""}]
[null,null,null,null,{"$f":"IF(I478=\"\",\"\",IF(B$13<E478+1,\"\",IF(I478=B$14,\"\",lookup!I471)))","v":""},{"$f":"IF(E479=\"\",\"\",lookup!J471)","v":""},{"$f":"IF(E479=\"\",\"\",lookup!K471-lookup!J471)","v":""},"",{"$f":"IF(E479=\"\",\"\",IF(lookup!K471<0,0,lookup!K471))","v":""}]
[null,null,null,null,{"$f":"IF(I479=\"\",\"\",IF(B$13<E479+1,\"\",IF(I479=B$14,\"\",lookup!I472)))","v":""},{"$f":"IF(E480=\"\",\"\",lookup!J472)","v":""},{"$f":"IF(E480=\"\",\"\",lookup!K472-lookup!J472)","v":""},"",{"$f":"IF(E480=\"\",\"\",IF(lookup!K472<0,0,lookup!K472))","v":""}]
[null,null,null,null,{"$f":"IF(I480=\"\",\"\",IF(B$13<E480+1,\"\",IF(I480=B$14,\"\",lookup!I473)))","v":""},{"$f":"IF(E481=\"\",\"\",lookup!J473)","v":""},{"$f":"IF(E481=\"\",\"\",lookup!K473-lookup!J473)","v":""},"",{"$f":"IF(E481=\"\",\"\",IF(lookup!K473<0,0,lookup!K473))","v":""}]
[null,null,null,null,{"$f":"IF(I481=\"\",\"\",IF(B$13<E481+1,\"\",IF(I481=B$14,\"\",lookup!I474)))","v":""},{"$f":"IF(E482=\"\",\"\",lookup!J474)","v":""},{"$f":"IF(E482=\"\",\"\",lookup!K474-lookup!J474)","v":""},"",{"$f":"IF(E482=\"\",\"\",IF(lookup!K474<0,0,lookup!K474))","v":""}]
[null,null,null,null,{"$f":"IF(I482=\"\",\"\",IF(B$13<E482+1,\"\",IF(I482=B$14,\"\",lookup!I475)))","v":""},{"$f":"IF(E483=\"\",\"\",lookup!J475)","v":""},{"$f":"IF(E483=\"\",\"\",lookup!K475-lookup!J475)","v":""},"",{"$f":"IF(E483=\"\",\"\",IF(lookup!K475<0,0,lookup!K475))","v":""}]
[null,null,null,null,{"$f":"IF(I483=\"\",\"\",IF(B$13<E483+1,\"\",IF(I483=B$14,\"\",lookup!I476)))","v":""},{"$f":"IF(E484=\"\",\"\",lookup!J476)","v":""},{"$f":"IF(E484=\"\",\"\",lookup!K476-lookup!J476)","v":""},"",{"$f":"IF(E484=\"\",\"\",IF(lookup!K476<0,0,lookup!K476))","v":""}]
[null,null,null,null,{"$f":"IF(I484=\"\",\"\",IF(B$13<E484+1,\"\",IF(I484=B$14,\"\",lookup!I477)))","v":""},{"$f":"IF(E485=\"\",\"\",lookup!J477)","v":""},{"$f":"IF(E485=\"\",\"\",lookup!K477-lookup!J477)","v":""},"",{"$f":"IF(E485=\"\",\"\",IF(lookup!K477<0,0,lookup!K477))","v":""}]
[null,null,null,null,{"$f":"IF(I485=\"\",\"\",IF(B$13<E485+1,\"\",IF(I485=B$14,\"\",lookup!I478)))","v":""},{"$f":"IF(E486=\"\",\"\",lookup!J478)","v":""},{"$f":"IF(E486=\"\",\"\",lookup!K478-lookup!J478)","v":""},"",{"$f":"IF(E486=\"\",\"\",IF(lookup!K478<0,0,lookup!K478))","v":""}]
[null,null,null,null,{"$f":"IF(I486=\"\",\"\",IF(B$13<E486+1,\"\",IF(I486=B$14,\"\",lookup!I479)))","v":""},{"$f":"IF(E487=\"\",\"\",lookup!J479)","v":""},{"$f":"IF(E487=\"\",\"\",lookup!K479-lookup!J479)","v":""},"",{"$f":"IF(E487=\"\",\"\",IF(lookup!K479<0,0,lookup!K479))","v":""}]
[null,null,null,null,{"$f":"IF(I487=\"\",\"\",IF(B$13<E487+1,\"\",IF(I487=B$14,\"\",lookup!I480)))","v":""},{"$f":"IF(E488=\"\",\"\",lookup!J480)","v":""},{"$f":"IF(E488=\"\",\"\",lookup!K480-lookup!J480)","v":""},"",{"$f":"IF(E488=\"\",\"\",IF(lookup!K480<0,0,lookup!K480))","v":""}]
[null,null,null,null,{"$f":"IF(I488=\"\",\"\",IF(B$13<E488+1,\"\",IF(I488=B$14,\"\",lookup!I481)))","v":""},{"$f":"IF(E489=\"\",\"\",lookup!J481)","v":""},{"$f":"IF(E489=\"\",\"\",lookup!K481-lookup!J481)","v":""},"",{"$f":"IF(E489=\"\",\"\",IF(lookup!K481<0,0,lookup!K481))","v":""}]
[null,null,null,null,{"$f":"IF(I489=\"\",\"\",IF(B$13<E489+1,\"\",IF(I489=B$14,\"\",lookup!I482)))","v":""},{"$f":"IF(E490=\"\",\"\",lookup!J482)","v":""},{"$f":"IF(E490=\"\",\"\",lookup!K482-lookup!J482)","v":""},"",{"$f":"IF(E490=\"\",\"\",IF(lookup!K482<0,0,lookup!K482))","v":""}]
[null,null,null,null,{"$f":"IF(I490=\"\",\"\",IF(B$13<E490+1,\"\",IF(I490=B$14,\"\",lookup!I483)))","v":""},{"$f":"IF(E491=\"\",\"\",lookup!J483)","v":""},{"$f":"IF(E491=\"\",\"\",lookup!K483-lookup!J483)","v":""},"",{"$f":"IF(E491=\"\",\"\",IF(lookup!K483<0,0,lookup!K483))","v":""}]
[null,null,null,null,{"$f":"IF(I491=\"\",\"\",IF(B$13<E491+1,\"\",IF(I491=B$14,\"\",lookup!I484)))","v":""},{"$f":"IF(E492=\"\",\"\",lookup!J484)","v":""},{"$f":"IF(E492=\"\",\"\",lookup!K484-lookup!J484)","v":""},"",{"$f":"IF(E492=\"\",\"\",IF(lookup!K484<0,0,lookup!K484))","v":""}]
[null,null,null,null,{"$f":"IF(I492=\"\",\"\",IF(B$13<E492+1,\"\",IF(I492=B$14,\"\",lookup!I485)))","v":""},{"$f":"IF(E493=\"\",\"\",lookup!J485)","v":""},{"$f":"IF(E493=\"\",\"\",lookup!K485-lookup!J485)","v":""},"",{"$f":"IF(E493=\"\",\"\",IF(lookup!K485<0,0,lookup!K485))","v":""}]
[null,null,null,null,{"$f":"IF(I493=\"\",\"\",IF(B$13<E493+1,\"\",IF(I493=B$14,\"\",lookup!I486)))","v":""},{"$f":"IF(E494=\"\",\"\",lookup!J486)","v":""},{"$f":"IF(E494=\"\",\"\",lookup!K486-lookup!J486)","v":""},"",{"$f":"IF(E494=\"\",\"\",IF(lookup!K486<0,0,lookup!K486))","v":""}]
[null,null,null,null,{"$f":"IF(I494=\"\",\"\",IF(B$13<E494+1,\"\",IF(I494=B$14,\"\",lookup!I487)))","v":""},{"$f":"IF(E495=\"\",\"\",lookup!J487)","v":""},{"$f":"IF(E495=\"\",\"\",lookup!K487-lookup!J487)","v":""},"",{"$f":"IF(E495=\"\",\"\",IF(lookup!K487<0,0,lookup!K487))","v":""}]
[null,null,null,null,{"$f":"IF(I495=\"\",\"\",IF(B$13<E495+1,\"\",IF(I495=B$14,\"\",lookup!I488)))","v":""},{"$f":"IF(E496=\"\",\"\",lookup!J488)","v":""},{"$f":"IF(E496=\"\",\"\",lookup!K488-lookup!J488)","v":""},"",{"$f":"IF(E496=\"\",\"\",IF(lookup!K488<0,0,lookup!K488))","v":""}]
[null,null,null,null,{"$f":"IF(I496=\"\",\"\",IF(B$13<E496+1,\"\",IF(I496=B$14,\"\",lookup!I489)))","v":""},{"$f":"IF(E497=\"\",\"\",lookup!J489)","v":""},{"$f":"IF(E497=\"\",\"\",lookup!K489-lookup!J489)","v":""},"",{"$f":"IF(E497=\"\",\"\",IF(lookup!K489<0,0,lookup!K489))","v":""}]
[null,null,null,null,{"$f":"IF(I497=\"\",\"\",IF(B$13<E497+1,\"\",IF(I497=B$14,\"\",lookup!I490)))","v":""},{"$f":"IF(E498=\"\",\"\",lookup!J490)","v":""},{"$f":"IF(E498=\"\",\"\",lookup!K490-lookup!J490)","v":""},"",{"$f":"IF(E498=\"\",\"\",IF(lookup!K490<0,0,lookup!K490))","v":""}]
[null,null,null,null,{"$f":"IF(I498=\"\",\"\",IF(B$13<E498+1,\"\",IF(I498=B$14,\"\",lookup!I491)))","v":""},{"$f":"IF(E499=\"\",\"\",lookup!J491)","v":""},{"$f":"IF(E499=\"\",\"\",lookup!K491-lookup!J491)","v":""},"",{"$f":"IF(E499=\"\",\"\",IF(lookup!K491<0,0,lookup!K491))","v":""}]
[null,null,null,null,{"$f":"IF(I499=\"\",\"\",IF(B$13<E499+1,\"\",IF(I499=B$14,\"\",lookup!I492)))","v":""},{"$f":"IF(E500=\"\",\"\",lookup!J492)","v":""},{"$f":"IF(E500=\"\",\"\",lookup!K492-lookup!J492)","v":""},"",{"$f":"IF(E500=\"\",\"\",IF(lookup!K492<0,0,lookup!K492))","v":""}]
[null,null,null,null,{"$f":"IF(I500=\"\",\"\",IF(B$13<E500+1,\"\",IF(I500=B$14,\"\",lookup!I493)))","v":""},{"$f":"IF(E501=\"\",\"\",lookup!J493)","v":""},{"$f":"IF(E501=\"\",\"\",lookup!K493-lookup!J493)","v":""},"",{"$f":"IF(E501=\"\",\"\",IF(lookup!K493<0,0,lookup!K493))","v":""}]
[null,null,null,null,{"$f":"IF(I501=\"\",\"\",IF(B$13<E501+1,\"\",IF(I501=B$14,\"\",lookup!I494)))","v":""},{"$f":"IF(E502=\"\",\"\",lookup!J494)","v":""},{"$f":"IF(E502=\"\",\"\",lookup!K494-lookup!J494)","v":""},"",{"$f":"IF(E502=\"\",\"\",IF(lookup!K494<0,0,lookup!K494))","v":""}]
[null,null,null,null,{"$f":"IF(I502=\"\",\"\",IF(B$13<E502+1,\"\",IF(I502=B$14,\"\",lookup!I495)))","v":""},{"$f":"IF(E503=\"\",\"\",lookup!J495)","v":""},{"$f":"IF(E503=\"\",\"\",lookup!K495-lookup!J495)","v":""},"",{"$f":"IF(E503=\"\",\"\",IF(lookup!K495<0,0,lookup!K495))","v":""}]
[null,null,null,null,{"$f":"IF(I503=\"\",\"\",IF(B$13<E503+1,\"\",IF(I503=B$14,\"\",lookup!I496)))","v":""},{"$f":"IF(E504=\"\",\"\",lookup!J496)","v":""},{"$f":"IF(E504=\"\",\"\",lookup!K496-lookup!J496)","v":""},"",{"$f":"IF(E504=\"\",\"\",IF(lookup!K496<0,0,lookup!K496))","v":""}]
[null,null,null,null,{"$f":"IF(I504=\"\",\"\",IF(B$13<E504+1,\"\",IF(I504=B$14,\"\",lookup!I497)))","v":""},{"$f":"IF(E505=\"\",\"\",lookup!J497)","v":""},{"$f":"IF(E505=\"\",\"\",lookup!K497-lookup!J497)","v":""},"",{"$f":"IF(E505=\"\",\"\",IF(lookup!K497<0,0,lookup!K497))","v":""}]
[null,null,null,null,{"$f":"IF(I505=\"\",\"\",IF(B$13<E505+1,\"\",IF(I505=B$14,\"\",lookup!I498)))","v":""},{"$f":"IF(E506=\"\",\"\",lookup!J498)","v":""},{"$f":"IF(E506=\"\",\"\",lookup!K498-lookup!J498)","v":""},"",{"$f":"IF(E506=\"\",\"\",IF(lookup!K498<0,0,lookup!K498))","v":""}]
[null,null,null,null,{"$f":"IF(I506=\"\",\"\",IF(B$13<E506+1,\"\",IF(I506=B$14,\"\",lookup!I499)))","v":""},{"$f":"IF(E507=\"\",\"\",lookup!J499)","v":""},{"$f":"IF(E507=\"\",\"\",lookup!K499-lookup!J499)","v":""},"",{"$f":"IF(E507=\"\",\"\",IF(lookup!K499<0,0,lookup!K499))","v":""}]
[null,null,null,null,{"$f":"IF(I507=\"\",\"\",IF(B$13<E507+1,\"\",IF(I507=B$14,\"\",lookup!I500)))","v":""},{"$f":"IF(E508=\"\",\"\",lookup!J500)","v":""},{"$f":"IF(E508=\"\",\"\",lookup!K500-lookup!J500)","v":""},"",{"$f":"IF(E508=\"\",\"\",IF(lookup!K500<0,0,lookup!K500))","v":""}]
[null,null,null,null,{"$f":"IF(I508=\"\",\"\",IF(B$13<E508+1,\"\",IF(I508=B$14,\"\",lookup!I501)))","v":""},{"$f":"IF(E509=\"\",\"\",lookup!J501)","v":""},{"$f":"IF(E509=\"\",\"\",lookup!K501-lookup!J501)","v":""},"",{"$f":"IF(E509=\"\",\"\",IF(lookup!K501<0,0,lookup!K501))","v":""}]
[null,null,null,null,{"$f":"IF(I509=\"\",\"\",IF(B$13<E509+1,\"\",IF(I509=B$14,\"\",lookup!I502)))","v":""},{"$f":"IF(E510=\"\",\"\",lookup!J502)","v":""},{"$f":"IF(E510=\"\",\"\",lookup!K502-lookup!J502)","v":""},"",{"$f":"IF(E510=\"\",\"\",IF(lookup!K502<0,0,lookup!K502))","v":""}]
[null,null,null,null,{"$f":"IF(I510=\"\",\"\",IF(B$13<E510+1,\"\",IF(I510=B$14,\"\",lookup!I503)))","v":""},{"$f":"IF(E511=\"\",\"\",lookup!J503)","v":""},{"$f":"IF(E511=\"\",\"\",lookup!K503-lookup!J503)","v":""},"",{"$f":"IF(E511=\"\",\"\",IF(lookup!K503<0,0,lookup!K503))","v":""}]
[null,null,null,null,{"$f":"IF(I511=\"\",\"\",IF(B$13<E511+1,\"\",IF(I511=B$14,\"\",lookup!I504)))","v":""},{"$f":"IF(E512=\"\",\"\",lookup!J504)","v":""},{"$f":"IF(E512=\"\",\"\",lookup!K504-lookup!J504)","v":""},"",{"$f":"IF(E512=\"\",\"\",IF(lookup!K504<0,0,lookup!K504))","v":""}]
[null,null,null,null,{"$f":"IF(I512=\"\",\"\",IF(B$13<E512+1,\"\",IF(I512=B$14,\"\",lookup!I505)))","v":""},{"$f":"IF(E513=\"\",\"\",lookup!J505)","v":""},{"$f":"IF(E513=\"\",\"\",lookup!K505-lookup!J505)","v":""},"",{"$f":"IF(E513=\"\",\"\",IF(lookup!K505<0,0,lookup!K505))","v":""}]
[null,null,null,null,{"$f":"IF(I513=\"\",\"\",IF(B$13<E513+1,\"\",IF(I513=B$14,\"\",lookup!I506)))","v":""},{"$f":"IF(E514=\"\",\"\",lookup!J506)","v":""},{"$f":"IF(E514=\"\",\"\",lookup!K506-lookup!J506)","v":""},"",{"$f":"IF(E514=\"\",\"\",IF(lookup!K506<0,0,lookup!K506))","v":""}]
[null,null,null,null,{"$f":"IF(I514=\"\",\"\",IF(B$13<E514+1,\"\",IF(I514=B$14,\"\",lookup!I507)))","v":""},{"$f":"IF(E515=\"\",\"\",lookup!J507)","v":""},{"$f":"IF(E515=\"\",\"\",lookup!K507-lookup!J507)","v":""},"",{"$f":"IF(E515=\"\",\"\",IF(lookup!K507<0,0,lookup!K507))","v":""}]
[null,null,null,null,{"$f":"IF(I515=\"\",\"\",IF(B$13<E515+1,\"\",IF(I515=B$14,\"\",lookup!I508)))","v":""},{"$f":"IF(E516=\"\",\"\",lookup!J508)","v":""},{"$f":"IF(E516=\"\",\"\",lookup!K508-lookup!J508)","v":""},"",{"$f":"IF(E516=\"\",\"\",IF(lookup!K508<0,0,lookup!K508))","v":""}]
[null,null,null,null,{"$f":"IF(I516=\"\",\"\",IF(B$13<E516+1,\"\",IF(I516=B$14,\"\",lookup!I509)))","v":""},{"$f":"IF(E517=\"\",\"\",lookup!J509)","v":""},{"$f":"IF(E517=\"\",\"\",lookup!K509-lookup!J509)","v":""},"",{"$f":"IF(E517=\"\",\"\",IF(lookup!K509<0,0,lookup!K509))","v":""}]
[null,null,null,null,{"$f":"IF(I517=\"\",\"\",IF(B$13<E517+1,\"\",IF(I517=B$14,\"\",lookup!I510)))","v":""},{"$f":"IF(E518=\"\",\"\",lookup!J510)","v":""},{"$f":"IF(E518=\"\",\"\",lookup!K510-lookup!J510)","v":""},"",{"$f":"IF(E518=\"\",\"\",IF(lookup!K510<0,0,lookup!K510))","v":""}]
[null,null,null,null,{"$f":"IF(I518=\"\",\"\",IF(B$13<E518+1,\"\",IF(I518=B$14,\"\",lookup!I511)))","v":""},{"$f":"IF(E519=\"\",\"\",lookup!J511)","v":""},{"$f":"IF(E519=\"\",\"\",lookup!K511-lookup!J511)","v":""},"",{"$f":"IF(E519=\"\",\"\",IF(lookup!K511<0,0,lookup!K511))","v":""}]
[null,null,null,null,{"$f":"IF(I519=\"\",\"\",IF(B$13<E519+1,\"\",IF(I519=B$14,\"\",lookup!I512)))","v":""},{"$f":"IF(E520=\"\",\"\",lookup!J512)","v":""},{"$f":"IF(E520=\"\",\"\",lookup!K512-lookup!J512)","v":""},"",{"$f":"IF(E520=\"\",\"\",IF(lookup!K512<0,0,lookup!K512))","v":""}]
[null,null,null,null,{"$f":"IF(I520=\"\",\"\",IF(B$13<E520+1,\"\",IF(I520=B$14,\"\",lookup!I513)))","v":""},{"$f":"IF(E521=\"\",\"\",lookup!J513)","v":""},{"$f":"IF(E521=\"\",\"\",lookup!K513-lookup!J513)","v":""},"",{"$f":"IF(E521=\"\",\"\",IF(lookup!K513<0,0,lookup!K513))","v":""}]
[null,null,null,null,{"$f":"IF(I521=\"\",\"\",IF(B$13<E521+1,\"\",IF(I521=B$14,\"\",lookup!I514)))","v":""},{"$f":"IF(E522=\"\",\"\",lookup!J514)","v":""},{"$f":"IF(E522=\"\",\"\",lookup!K514-lookup!J514)","v":""},"",{"$f":"IF(E522=\"\",\"\",IF(lookup!K514<0,0,lookup!K514))","v":""}]
[null,null,null,null,{"$f":"IF(I522=\"\",\"\",IF(B$13<E522+1,\"\",IF(I522=B$14,\"\",lookup!I515)))","v":""},{"$f":"IF(E523=\"\",\"\",lookup!J515)","v":""},{"$f":"IF(E523=\"\",\"\",lookup!K515-lookup!J515)","v":""},{"$f":"IF(E523=\"\",\"\",H522+G523)","v":""},{"$f":"IF(E523=\"\",\"\",IF(lookup!K515<0,0,lookup!K515))","v":""}]
[null,null,null,null,{"$f":"IF(I523=\"\",\"\",IF(B$13<E523+1,\"\",IF(I523=B$14,\"\",lookup!I516)))","v":""},{"$f":"IF(E524=\"\",\"\",lookup!J516)","v":""},{"$f":"IF(E524=\"\",\"\",lookup!K516-lookup!J516)","v":""},"",{"$f":"IF(E524=\"\",\"\",IF(lookup!K516<0,0,lookup!K516))","v":""}]
[null,null,null,null,{"$f":"IF(I524=\"\",\"\",IF(B$13<E524+1,\"\",IF(I524=B$14,\"\",lookup!I517)))","v":""},{"$f":"IF(E525=\"\",\"\",lookup!J517)","v":""},{"$f":"IF(E525=\"\",\"\",lookup!K517-lookup!J517)","v":""},"",{"$f":"IF(E525=\"\",\"\",IF(lookup!K517<0,0,lookup!K517))","v":""}]
[null,null,null,null,{"$f":"IF(I525=\"\",\"\",IF(B$13<E525+1,\"\",IF(I525=B$14,\"\",lookup!I518)))","v":""},{"$f":"IF(E526=\"\",\"\",lookup!J518)","v":""},{"$f":"IF(E526=\"\",\"\",lookup!K518-lookup!J518)","v":""},"",{"$f":"IF(E526=\"\",\"\",IF(lookup!K518<0,0,lookup!K518))","v":""}]
[null,null,null,null,{"$f":"IF(I526=\"\",\"\",IF(B$13<E526+1,\"\",IF(I526=B$14,\"\",lookup!I519)))","v":""},{"$f":"IF(E527=\"\",\"\",lookup!J519)","v":""},{"$f":"IF(E527=\"\",\"\",lookup!K519-lookup!J519)","v":""},"",{"$f":"IF(E527=\"\",\"\",IF(lookup!K519<0,0,lookup!K519))","v":""}]
[null,null,null,null,{"$f":"IF(I527=\"\",\"\",IF(B$13<E527+1,\"\",IF(I527=B$14,\"\",lookup!I520)))","v":""},{"$f":"IF(E528=\"\",\"\",lookup!J520)","v":""},{"$f":"IF(E528=\"\",\"\",lookup!K520-lookup!J520)","v":""},"",{"$f":"IF(E528=\"\",\"\",IF(lookup!K520<0,0,lookup!K520))","v":""}]
[null,null,null,null,{"$f":"IF(I528=\"\",\"\",IF(B$13<E528+1,\"\",IF(I528=B$14,\"\",lookup!I521)))","v":""},{"$f":"IF(E529=\"\",\"\",lookup!J521)","v":""},{"$f":"IF(E529=\"\",\"\",lookup!K521-lookup!J521)","v":""},"",{"$f":"IF(E529=\"\",\"\",IF(lookup!K521<0,0,lookup!K521))","v":""}]
[null,null,null,null,{"$f":"IF(I529=\"\",\"\",IF(B$13<E529+1,\"\",IF(I529=B$14,\"\",lookup!I522)))","v":""},{"$f":"IF(E530=\"\",\"\",lookup!J522)","v":""},{"$f":"IF(E530=\"\",\"\",lookup!K522-lookup!J522)","v":""},"",{"$f":"IF(E530=\"\",\"\",IF(lookup!K522<0,0,lookup!K522))","v":""}]
[null,null,null,null,{"$f":"IF(I530=\"\",\"\",IF(B$13<E530+1,\"\",IF(I530=B$14,\"\",lookup!I523)))","v":""},{"$f":"IF(E531=\"\",\"\",lookup!J523)","v":""},{"$f":"IF(E531=\"\",\"\",lookup!K523-lookup!J523)","v":""},"",{"$f":"IF(E531=\"\",\"\",IF(lookup!K523<0,0,lookup!K523))","v":""}]
[null,null,null,null,{"$f":"IF(I531=\"\",\"\",IF(B$13<E531+1,\"\",IF(I531=B$14,\"\",lookup!I524)))","v":""},{"$f":"IF(E532=\"\",\"\",lookup!J524)","v":""},{"$f":"IF(E532=\"\",\"\",lookup!K524-lookup!J524)","v":""},"",{"$f":"IF(E532=\"\",\"\",IF(lookup!K524<0,0,lookup!K524))","v":""}]
[null,null,null,null,{"$f":"IF(I532=\"\",\"\",IF(B$13<E532+1,\"\",IF(I532=B$14,\"\",lookup!I525)))","v":""},{"$f":"IF(E533=\"\",\"\",lookup!J525)","v":""},{"$f":"IF(E533=\"\",\"\",lookup!K525-lookup!J525)","v":""},"",{"$f":"IF(E533=\"\",\"\",IF(lookup!K525<0,0,lookup!K525))","v":""}]
[null,null,null,null,{"$f":"IF(I533=\"\",\"\",IF(B$13<E533+1,\"\",IF(I533=B$14,\"\",lookup!I526)))","v":""},{"$f":"IF(E534=\"\",\"\",lookup!J526)","v":""},{"$f":"IF(E534=\"\",\"\",lookup!K526-lookup!J526)","v":""},"",{"$f":"IF(E534=\"\",\"\",IF(lookup!K526<0,0,lookup!K526))","v":""}]
[null,null,null,null,{"$f":"IF(I534=\"\",\"\",IF(B$13<E534+1,\"\",IF(I534=B$14,\"\",lookup!I527)))","v":""},{"$f":"IF(E535=\"\",\"\",lookup!J527)","v":""},{"$f":"IF(E535=\"\",\"\",lookup!K527-lookup!J527)","v":""},"",{"$f":"IF(E535=\"\",\"\",IF(lookup!K527<0,0,lookup!K527))","v":""}]
[null,null,null,null,{"$f":"IF(I535=\"\",\"\",IF(B$13<E535+1,\"\",IF(I535=B$14,\"\",lookup!I528)))","v":""},{"$f":"IF(E536=\"\",\"\",lookup!J528)","v":""},{"$f":"IF(E536=\"\",\"\",lookup!K528-lookup!J528)","v":""},"",{"$f":"IF(E536=\"\",\"\",IF(lookup!K528<0,0,lookup!K528))","v":""}]
[null,null,null,null,{"$f":"IF(I536=\"\",\"\",IF(B$13<E536+1,\"\",IF(I536=B$14,\"\",lookup!I529)))","v":""},{"$f":"IF(E537=\"\",\"\",lookup!J529)","v":""},{"$f":"IF(E537=\"\",\"\",lookup!K529-lookup!J529)","v":""},"",{"$f":"IF(E537=\"\",\"\",IF(lookup!K529<0,0,lookup!K529))","v":""}]
[null,null,null,null,{"$f":"IF(I537=\"\",\"\",IF(B$13<E537+1,\"\",IF(I537=B$14,\"\",lookup!I530)))","v":""},{"$f":"IF(E538=\"\",\"\",lookup!J530)","v":""},{"$f":"IF(E538=\"\",\"\",lookup!K530-lookup!J530)","v":""},"",{"$f":"IF(E538=\"\",\"\",IF(lookup!K530<0,0,lookup!K530))","v":""}]
[null,null,null,null,{"$f":"IF(I538=\"\",\"\",IF(B$13<E538+1,\"\",IF(I538=B$14,\"\",lookup!I531)))","v":""},{"$f":"IF(E539=\"\",\"\",lookup!J531)","v":""},{"$f":"IF(E539=\"\",\"\",lookup!K531-lookup!J531)","v":""},"",{"$f":"IF(E539=\"\",\"\",IF(lookup!K531<0,0,lookup!K531))","v":""}]
[null,null,null,null,{"$f":"IF(I539=\"\",\"\",IF(B$13<E539+1,\"\",IF(I539=B$14,\"\",lookup!I532)))","v":""},{"$f":"IF(E540=\"\",\"\",lookup!J532)","v":""},{"$f":"IF(E540=\"\",\"\",lookup!K532-lookup!J532)","v":""},"",{"$f":"IF(E540=\"\",\"\",IF(lookup!K532<0,0,lookup!K532))","v":""}]
[null,null,null,null,{"$f":"IF(I540=\"\",\"\",IF(B$13<E540+1,\"\",IF(I540=B$14,\"\",lookup!I533)))","v":""},{"$f":"IF(E541=\"\",\"\",lookup!J533)","v":""},{"$f":"IF(E541=\"\",\"\",lookup!K533-lookup!J533)","v":""},"",{"$f":"IF(E541=\"\",\"\",IF(lookup!K533<0,0,lookup!K533))","v":""}]
[null,null,null,null,{"$f":"IF(I541=\"\",\"\",IF(B$13<E541+1,\"\",IF(I541=B$14,\"\",lookup!I534)))","v":""},{"$f":"IF(E542=\"\",\"\",lookup!J534)","v":""},{"$f":"IF(E542=\"\",\"\",lookup!K534-lookup!J534)","v":""},"",{"$f":"IF(E542=\"\",\"\",IF(lookup!K534<0,0,lookup!K534))","v":""}]
[null,null,null,null,{"$f":"IF(I542=\"\",\"\",IF(B$13<E542+1,\"\",IF(I542=B$14,\"\",lookup!I535)))","v":""},{"$f":"IF(E543=\"\",\"\",lookup!J535)","v":""},{"$f":"IF(E543=\"\",\"\",lookup!K535-lookup!J535)","v":""},"",{"$f":"IF(E543=\"\",\"\",IF(lookup!K535<0,0,lookup!K535))","v":""}]
[null,null,null,null,{"$f":"IF(I543=\"\",\"\",IF(B$13<E543+1,\"\",IF(I543=B$14,\"\",lookup!I536)))","v":""},{"$f":"IF(E544=\"\",\"\",lookup!J536)","v":""},{"$f":"IF(E544=\"\",\"\",lookup!K536-lookup!J536)","v":""},"",{"$f":"IF(E544=\"\",\"\",IF(lookup!K536<0,0,lookup!K536))","v":""}]
[null,null,null,null,{"$f":"IF(I544=\"\",\"\",IF(B$13<E544+1,\"\",IF(I544=B$14,\"\",lookup!I537)))","v":""},{"$f":"IF(E545=\"\",\"\",lookup!J537)","v":""},{"$f":"IF(E545=\"\",\"\",lookup!K537-lookup!J537)","v":""},"",{"$f":"IF(E545=\"\",\"\",IF(lookup!K537<0,0,lookup!K537))","v":""}]
[null,null,null,null,{"$f":"IF(I545=\"\",\"\",IF(B$13<E545+1,\"\",IF(I545=B$14,\"\",lookup!I538)))","v":""},{"$f":"IF(E546=\"\",\"\",lookup!J538)","v":""},{"$f":"IF(E546=\"\",\"\",lookup!K538-lookup!J538)","v":""},"",{"$f":"IF(E546=\"\",\"\",IF(lookup!K538<0,0,lookup!K538))","v":""}]
[null,null,null,null,{"$f":"IF(I546=\"\",\"\",IF(B$13<E546+1,\"\",IF(I546=B$14,\"\",lookup!I539)))","v":""},{"$f":"IF(E547=\"\",\"\",lookup!J539)","v":""},{"$f":"IF(E547=\"\",\"\",lookup!K539-lookup!J539)","v":""},"",{"$f":"IF(E547=\"\",\"\",IF(lookup!K539<0,0,lookup!K539))","v":""}]
[null,null,null,null,{"$f":"IF(I547=\"\",\"\",IF(B$13<E547+1,\"\",IF(I547=B$14,\"\",lookup!I540)))","v":""},{"$f":"IF(E548=\"\",\"\",lookup!J540)","v":""},{"$f":"IF(E548=\"\",\"\",lookup!K540-lookup!J540)","v":""},"",{"$f":"IF(E548=\"\",\"\",IF(lookup!K540<0,0,lookup!K540))","v":""}]
[null,null,null,null,{"$f":"IF(I548=\"\",\"\",IF(B$13<E548+1,\"\",IF(I548=B$14,\"\",lookup!I541)))","v":""},{"$f":"IF(E549=\"\",\"\",lookup!J541)","v":""},{"$f":"IF(E549=\"\",\"\",lookup!K541-lookup!J541)","v":""},"",{"$f":"IF(E549=\"\",\"\",IF(lookup!K541<0,0,lookup!K541))","v":""}]
[null,null,null,null,{"$f":"IF(I549=\"\",\"\",IF(B$13<E549+1,\"\",IF(I549=B$14,\"\",lookup!I542)))","v":""},{"$f":"IF(E550=\"\",\"\",lookup!J542)","v":""},{"$f":"IF(E550=\"\",\"\",lookup!K542-lookup!J542)","v":""},"",{"$f":"IF(E550=\"\",\"\",IF(lookup!K542<0,0,lookup!K542))","v":""}]
[null,null,null,null,{"$f":"IF(I550=\"\",\"\",IF(B$13<E550+1,\"\",IF(I550=B$14,\"\",lookup!I543)))","v":""},{"$f":"IF(E551=\"\",\"\",lookup!J543)","v":""},{"$f":"IF(E551=\"\",\"\",lookup!K543-lookup!J543)","v":""},"",{"$f":"IF(E551=\"\",\"\",IF(lookup!K543<0,0,lookup!K543))","v":""}]
[null,null,null,null,{"$f":"IF(I551=\"\",\"\",IF(B$13<E551+1,\"\",IF(I551=B$14,\"\",lookup!I544)))","v":""},{"$f":"IF(E552=\"\",\"\",lookup!J544)","v":""},{"$f":"IF(E552=\"\",\"\",lookup!K544-lookup!J544)","v":""},"",{"$f":"IF(E552=\"\",\"\",IF(lookup!K544<0,0,lookup!K544))","v":""}]
[null,null,null,null,{"$f":"IF(I552=\"\",\"\",IF(B$13<E552+1,\"\",IF(I552=B$14,\"\",lookup!I545)))","v":""},{"$f":"IF(E553=\"\",\"\",lookup!J545)","v":""},{"$f":"IF(E553=\"\",\"\",lookup!K545-lookup!J545)","v":""},"",{"$f":"IF(E553=\"\",\"\",IF(lookup!K545<0,0,lookup!K545))","v":""}]
[null,null,null,null,{"$f":"IF(I553=\"\",\"\",IF(B$13<E553+1,\"\",IF(I553=B$14,\"\",lookup!I546)))","v":""},{"$f":"IF(E554=\"\",\"\",lookup!J546)","v":""},{"$f":"IF(E554=\"\",\"\",lookup!K546-lookup!J546)","v":""},"",{"$f":"IF(E554=\"\",\"\",IF(lookup!K546<0,0,lookup!K546))","v":""}]
[null,null,null,null,{"$f":"IF(I554=\"\",\"\",IF(B$13<E554+1,\"\",IF(I554=B$14,\"\",lookup!I547)))","v":""},{"$f":"IF(E555=\"\",\"\",lookup!J547)","v":""},{"$f":"IF(E555=\"\",\"\",lookup!K547-lookup!J547)","v":""},"",{"$f":"IF(E555=\"\",\"\",IF(lookup!K547<0,0,lookup!K547))","v":""}]
[null,null,null,null,{"$f":"IF(I555=\"\",\"\",IF(B$13<E555+1,\"\",IF(I555=B$14,\"\",lookup!I548)))","v":""},{"$f":"IF(E556=\"\",\"\",lookup!J548)","v":""},{"$f":"IF(E556=\"\",\"\",lookup!K548-lookup!J548)","v":""},"",{"$f":"IF(E556=\"\",\"\",IF(lookup!K548<0,0,lookup!K548))","v":""}]
[null,null,null,null,{"$f":"IF(I556=\"\",\"\",IF(B$13<E556+1,\"\",IF(I556=B$14,\"\",lookup!I549)))","v":""},{"$f":"IF(E557=\"\",\"\",lookup!J549)","v":""},{"$f":"IF(E557=\"\",\"\",lookup!K549-lookup!J549)","v":""},"",{"$f":"IF(E557=\"\",\"\",IF(lookup!K549<0,0,lookup!K549))","v":""}]
[null,null,null,null,{"$f":"IF(I557=\"\",\"\",IF(B$13<E557+1,\"\",IF(I557=B$14,\"\",lookup!I550)))","v":""},{"$f":"IF(E558=\"\",\"\",lookup!J550)","v":""},{"$f":"IF(E558=\"\",\"\",lookup!K550-lookup!J550)","v":""},"",{"$f":"IF(E558=\"\",\"\",IF(lookup!K550<0,0,lookup!K550))","v":""}]
[null,null,null,null,{"$f":"IF(I558=\"\",\"\",IF(B$13<E558+1,\"\",IF(I558=B$14,\"\",lookup!I551)))","v":""},{"$f":"IF(E559=\"\",\"\",lookup!J551)","v":""},{"$f":"IF(E559=\"\",\"\",lookup!K551-lookup!J551)","v":""},"",{"$f":"IF(E559=\"\",\"\",IF(lookup!K551<0,0,lookup!K551))","v":""}]
[null,null,null,null,{"$f":"IF(I559=\"\",\"\",IF(B$13<E559+1,\"\",IF(I559=B$14,\"\",lookup!I552)))","v":""},{"$f":"IF(E560=\"\",\"\",lookup!J552)","v":""},{"$f":"IF(E560=\"\",\"\",lookup!K552-lookup!J552)","v":""},"",{"$f":"IF(E560=\"\",\"\",IF(lookup!K552<0,0,lookup!K552))","v":""}]
[null,null,null,null,{"$f":"IF(I560=\"\",\"\",IF(B$13<E560+1,\"\",IF(I560=B$14,\"\",lookup!I553)))","v":""},{"$f":"IF(E561=\"\",\"\",lookup!J553)","v":""},{"$f":"IF(E561=\"\",\"\",lookup!K553-lookup!J553)","v":""},"",{"$f":"IF(E561=\"\",\"\",IF(lookup!K553<0,0,lookup!K553))","v":""}]
[null,null,null,null,{"$f":"IF(I561=\"\",\"\",IF(B$13<E561+1,\"\",IF(I561=B$14,\"\",lookup!I554)))","v":""},{"$f":"IF(E562=\"\",\"\",lookup!J554)","v":""},{"$f":"IF(E562=\"\",\"\",lookup!K554-lookup!J554)","v":""},"",{"$f":"IF(E562=\"\",\"\",IF(lookup!K554<0,0,lookup!K554))","v":""}]
[null,null,null,null,{"$f":"IF(I562=\"\",\"\",IF(B$13<E562+1,\"\",IF(I562=B$14,\"\",lookup!I555)))","v":""},{"$f":"IF(E563=\"\",\"\",lookup!J555)","v":""},{"$f":"IF(E563=\"\",\"\",lookup!K555-lookup!J555)","v":""},"",{"$f":"IF(E563=\"\",\"\",IF(lookup!K555<0,0,lookup!K555))","v":""}]
[null,null,null,null,{"$f":"IF(I563=\"\",\"\",IF(B$13<E563+1,\"\",IF(I563=B$14,\"\",lookup!I556)))","v":""},{"$f":"IF(E564=\"\",\"\",lookup!J556)","v":""},{"$f":"IF(E564=\"\",\"\",lookup!K556-lookup!J556)","v":""},"",{"$f":"IF(E564=\"\",\"\",IF(lookup!K556<0,0,lookup!K556))","v":""}]
[null,null,null,null,{"$f":"IF(I564=\"\",\"\",IF(B$13<E564+1,\"\",IF(I564=B$14,\"\",lookup!I557)))","v":""},{"$f":"IF(E565=\"\",\"\",lookup!J557)","v":""},{"$f":"IF(E565=\"\",\"\",lookup!K557-lookup!J557)","v":""},"",{"$f":"IF(E565=\"\",\"\",IF(lookup!K557<0,0,lookup!K557))","v":""}]
[null,null,null,null,{"$f":"IF(I565=\"\",\"\",IF(B$13<E565+1,\"\",IF(I565=B$14,\"\",lookup!I558)))","v":""},{"$f":"IF(E566=\"\",\"\",lookup!J558)","v":""},{"$f":"IF(E566=\"\",\"\",lookup!K558-lookup!J558)","v":""},"",{"$f":"IF(E566=\"\",\"\",IF(lookup!K558<0,0,lookup!K558))","v":""}]
[null,null,null,null,{"$f":"IF(I566=\"\",\"\",IF(B$13<E566+1,\"\",IF(I566=B$14,\"\",lookup!I559)))","v":""},{"$f":"IF(E567=\"\",\"\",lookup!J559)","v":""},{"$f":"IF(E567=\"\",\"\",lookup!K559-lookup!J559)","v":""},"",{"$f":"IF(E567=\"\",\"\",IF(lookup!K559<0,0,lookup!K559))","v":""}]
[null,null,null,null,{"$f":"IF(I567=\"\",\"\",IF(B$13<E567+1,\"\",IF(I567=B$14,\"\",lookup!I560)))","v":""},{"$f":"IF(E568=\"\",\"\",lookup!J560)","v":""},{"$f":"IF(E568=\"\",\"\",lookup!K560-lookup!J560)","v":""},"",{"$f":"IF(E568=\"\",\"\",IF(lookup!K560<0,0,lookup!K560))","v":""}]
[null,null,null,null,{"$f":"IF(I568=\"\",\"\",IF(B$13<E568+1,\"\",IF(I568=B$14,\"\",lookup!I561)))","v":""},{"$f":"IF(E569=\"\",\"\",lookup!J561)","v":""},{"$f":"IF(E569=\"\",\"\",lookup!K561-lookup!J561)","v":""},"",{"$f":"IF(E569=\"\",\"\",IF(lookup!K561<0,0,lookup!K561))","v":""}]
[null,null,null,null,{"$f":"IF(I569=\"\",\"\",IF(B$13<E569+1,\"\",IF(I569=B$14,\"\",lookup!I562)))","v":""},{"$f":"IF(E570=\"\",\"\",lookup!J562)","v":""},{"$f":"IF(E570=\"\",\"\",lookup!K562-lookup!J562)","v":""},"",{"$f":"IF(E570=\"\",\"\",IF(lookup!K562<0,0,lookup!K562))","v":""}]
[null,null,null,null,{"$f":"IF(I570=\"\",\"\",IF(B$13<E570+1,\"\",IF(I570=B$14,\"\",lookup!I563)))","v":""},{"$f":"IF(E571=\"\",\"\",lookup!J563)","v":""},{"$f":"IF(E571=\"\",\"\",lookup!K563-lookup!J563)","v":""},"",{"$f":"IF(E571=\"\",\"\",IF(lookup!K563<0,0,lookup!K563))","v":""}]
[null,null,null,null,{"$f":"IF(I571=\"\",\"\",IF(B$13<E571+1,\"\",IF(I571=B$14,\"\",lookup!I564)))","v":""},{"$f":"IF(E572=\"\",\"\",lookup!J564)","v":""},{"$f":"IF(E572=\"\",\"\",lookup!K564-lookup!J564)","v":""},"",{"$f":"IF(E572=\"\",\"\",IF(lookup!K564<0,0,lookup!K564))","v":""}]
[null,null,null,null,{"$f":"IF(I572=\"\",\"\",IF(B$13<E572+1,\"\",IF(I572=B$14,\"\",lookup!I565)))","v":""},{"$f":"IF(E573=\"\",\"\",lookup!J565)","v":""},{"$f":"IF(E573=\"\",\"\",lookup!K565-lookup!J565)","v":""},"",{"$f":"IF(E573=\"\",\"\",IF(lookup!K565<0,0,lookup!K565))","v":""}]
[null,null,null,null,{"$f":"IF(I573=\"\",\"\",IF(B$13<E573+1,\"\",IF(I573=B$14,\"\",lookup!I566)))","v":""},{"$f":"IF(E574=\"\",\"\",lookup!J566)","v":""},{"$f":"IF(E574=\"\",\"\",lookup!K566-lookup!J566)","v":""},"",{"$f":"IF(E574=\"\",\"\",IF(lookup!K566<0,0,lookup!K566))","v":""}]
[null,null,null,null,{"$f":"IF(I574=\"\",\"\",IF(B$13<E574+1,\"\",IF(I574=B$14,\"\",lookup!I567)))","v":""},{"$f":"IF(E575=\"\",\"\",lookup!J567)","v":""},{"$f":"IF(E575=\"\",\"\",lookup!K567-lookup!J567)","v":""},"",{"$f":"IF(E575=\"\",\"\",IF(lookup!K567<0,0,lookup!K567))","v":""}]
[null,null,null,null,{"$f":"IF(I575=\"\",\"\",IF(B$13<E575+1,\"\",IF(I575=B$14,\"\",lookup!I568)))","v":""},{"$f":"IF(E576=\"\",\"\",lookup!J568)","v":""},{"$f":"IF(E576=\"\",\"\",lookup!K568-lookup!J568)","v":""},"",{"$f":"IF(E576=\"\",\"\",IF(lookup!K568<0,0,lookup!K568))","v":""}]
[null,null,null,null,{"$f":"IF(I576=\"\",\"\",IF(B$13<E576+1,\"\",IF(I576=B$14,\"\",lookup!I569)))","v":""},{"$f":"IF(E577=\"\",\"\",lookup!J569)","v":""},{"$f":"IF(E577=\"\",\"\",lookup!K569-lookup!J569)","v":""},"",{"$f":"IF(E577=\"\",\"\",IF(lookup!K569<0,0,lookup!K569))","v":""}]
[null,null,null,null,{"$f":"IF(I577=\"\",\"\",IF(B$13<E577+1,\"\",IF(I577=B$14,\"\",lookup!I570)))","v":""},{"$f":"IF(E578=\"\",\"\",lookup!J570)","v":""},{"$f":"IF(E578=\"\",\"\",lookup!K570-lookup!J570)","v":""},"",{"$f":"IF(E578=\"\",\"\",IF(lookup!K570<0,0,lookup!K570))","v":""}]
[null,null,null,null,{"$f":"IF(I578=\"\",\"\",IF(B$13<E578+1,\"\",IF(I578=B$14,\"\",lookup!I571)))","v":""},{"$f":"IF(E579=\"\",\"\",lookup!J571)","v":""},{"$f":"IF(E579=\"\",\"\",lookup!K571-lookup!J571)","v":""},"",{"$f":"IF(E579=\"\",\"\",IF(lookup!K571<0,0,lookup!K571))","v":""}]
[null,null,null,null,{"$f":"IF(I579=\"\",\"\",IF(B$13<E579+1,\"\",IF(I579=B$14,\"\",lookup!I572)))","v":""},{"$f":"IF(E580=\"\",\"\",lookup!J572)","v":""},{"$f":"IF(E580=\"\",\"\",lookup!K572-lookup!J572)","v":""},"",{"$f":"IF(E580=\"\",\"\",IF(lookup!K572<0,0,lookup!K572))","v":""}]
[null,null,null,null,{"$f":"IF(I580=\"\",\"\",IF(B$13<E580+1,\"\",IF(I580=B$14,\"\",lookup!I573)))","v":""},{"$f":"IF(E581=\"\",\"\",lookup!J573)","v":""},{"$f":"IF(E581=\"\",\"\",lookup!K573-lookup!J573)","v":""},"",{"$f":"IF(E581=\"\",\"\",IF(lookup!K573<0,0,lookup!K573))","v":""}]
[null,null,null,null,{"$f":"IF(I581=\"\",\"\",IF(B$13<E581+1,\"\",IF(I581=B$14,\"\",lookup!I574)))","v":""},{"$f":"IF(E582=\"\",\"\",lookup!J574)","v":""},{"$f":"IF(E582=\"\",\"\",lookup!K574-lookup!J574)","v":""},"",{"$f":"IF(E582=\"\",\"\",IF(lookup!K574<0,0,lookup!K574))","v":""}]
[null,null,null,null,{"$f":"IF(I582=\"\",\"\",IF(B$13<E582+1,\"\",IF(I582=B$14,\"\",lookup!I575)))","v":""},{"$f":"IF(E583=\"\",\"\",lookup!J575)","v":""},{"$f":"IF(E583=\"\",\"\",lookup!K575-lookup!J575)","v":""},"",{"$f":"IF(E583=\"\",\"\",IF(lookup!K575<0,0,lookup!K575))","v":""}]
[null,null,null,null,{"$f":"IF(I583=\"\",\"\",IF(B$13<E583+1,\"\",IF(I583=B$14,\"\",lookup!I576)))","v":""},{"$f":"IF(E584=\"\",\"\",lookup!J576)","v":""},{"$f":"IF(E584=\"\",\"\",lookup!K576-lookup!J576)","v":""},"",{"$f":"IF(E584=\"\",\"\",IF(lookup!K576<0,0,lookup!K576))","v":""}]
[null,null,null,null,{"$f":"IF(I584=\"\",\"\",IF(B$13<E584+1,\"\",IF(I584=B$14,\"\",lookup!I577)))","v":""},{"$f":"IF(E585=\"\",\"\",lookup!J577)","v":""},{"$f":"IF(E585=\"\",\"\",lookup!K577-lookup!J577)","v":""},"",{"$f":"IF(E585=\"\",\"\",IF(lookup!K577<0,0,lookup!K577))","v":""}]
[null,null,null,null,{"$f":"IF(I585=\"\",\"\",IF(B$13<E585+1,\"\",IF(I585=B$14,\"\",lookup!I578)))","v":""},{"$f":"IF(E586=\"\",\"\",lookup!J578)","v":""},{"$f":"IF(E586=\"\",\"\",lookup!K578-lookup!J578)","v":""},"",{"$f":"IF(E586=\"\",\"\",IF(lookup!K578<0,0,lookup!K578))","v":""}]
[null,null,null,null,{"$f":"IF(I586=\"\",\"\",IF(B$13<E586+1,\"\",IF(I586=B$14,\"\",lookup!I579)))","v":""},{"$f":"IF(E587=\"\",\"\",lookup!J579)","v":""},{"$f":"IF(E587=\"\",\"\",lookup!K579-lookup!J579)","v":""},{"$f":"IF(E587=\"\",\"\",H586+G587)","v":""},{"$f":"IF(E587=\"\",\"\",IF(lookup!K579<0,0,lookup!K579))","v":""}]
[null,null,null,null,{"$f":"IF(I587=\"\",\"\",IF(B$13<E587+1,\"\",IF(I587=B$14,\"\",lookup!I580)))","v":""},{"$f":"IF(E588=\"\",\"\",lookup!J580)","v":""},{"$f":"IF(E588=\"\",\"\",lookup!K580-lookup!J580)","v":""},"",{"$f":"IF(E588=\"\",\"\",IF(lookup!K580<0,0,lookup!K580))","v":""}]
[null,null,null,null,{"$f":"IF(I588=\"\",\"\",IF(B$13<E588+1,\"\",IF(I588=B$14,\"\",lookup!I581)))","v":""},{"$f":"IF(E589=\"\",\"\",lookup!J581)","v":""},{"$f":"IF(E589=\"\",\"\",lookup!K581-lookup!J581)","v":""},"",{"$f":"IF(E589=\"\",\"\",IF(lookup!K581<0,0,lookup!K581))","v":""}]
[null,null,null,null,{"$f":"IF(I589=\"\",\"\",IF(B$13<E589+1,\"\",IF(I589=B$14,\"\",lookup!I582)))","v":""},{"$f":"IF(E590=\"\",\"\",lookup!J582)","v":""},{"$f":"IF(E590=\"\",\"\",lookup!K582-lookup!J582)","v":""},"",{"$f":"IF(E590=\"\",\"\",IF(lookup!K582<0,0,lookup!K582))","v":""}]
[null,null,null,null,{"$f":"IF(I590=\"\",\"\",IF(B$13<E590+1,\"\",IF(I590=B$14,\"\",lookup!I583)))","v":""},{"$f":"IF(E591=\"\",\"\",lookup!J583)","v":""},{"$f":"IF(E591=\"\",\"\",lookup!K583-lookup!J583)","v":""},"",{"$f":"IF(E591=\"\",\"\",IF(lookup!K583<0,0,lookup!K583))","v":""}]
[null,null,null,null,{"$f":"IF(I591=\"\",\"\",IF(B$13<E591+1,\"\",IF(I591=B$14,\"\",lookup!I584)))","v":""},{"$f":"IF(E592=\"\",\"\",lookup!J584)","v":""},{"$f":"IF(E592=\"\",\"\",lookup!K584-lookup!J584)","v":""},"",{"$f":"IF(E592=\"\",\"\",IF(lookup!K584<0,0,lookup!K584))","v":""}]
[null,null,null,null,{"$f":"IF(I592=\"\",\"\",IF(B$13<E592+1,\"\",IF(I592=B$14,\"\",lookup!I585)))","v":""},{"$f":"IF(E593=\"\",\"\",lookup!J585)","v":""},{"$f":"IF(E593=\"\",\"\",lookup!K585-lookup!J585)","v":""},"",{"$f":"IF(E593=\"\",\"\",IF(lookup!K585<0,0,lookup!K585))","v":""}]
[null,null,null,null,{"$f":"IF(I593=\"\",\"\",IF(B$13<E593+1,\"\",IF(I593=B$14,\"\",lookup!I586)))","v":""},{"$f":"IF(E594=\"\",\"\",lookup!J586)","v":""},{"$f":"IF(E594=\"\",\"\",lookup!K586-lookup!J586)","v":""},"",{"$f":"IF(E594=\"\",\"\",IF(lookup!K586<0,0,lookup!K586))","v":""}]
[null,null,null,null,{"$f":"IF(I594=\"\",\"\",IF(B$13<E594+1,\"\",IF(I594=B$14,\"\",lookup!I587)))","v":""},{"$f":"IF(E595=\"\",\"\",lookup!J587)","v":""},{"$f":"IF(E595=\"\",\"\",lookup!K587-lookup!J587)","v":""},"",{"$f":"IF(E595=\"\",\"\",IF(lookup!K587<0,0,lookup!K587))","v":""}]
[null,null,null,null,{"$f":"IF(I595=\"\",\"\",IF(B$13<E595+1,\"\",IF(I595=B$14,\"\",lookup!I588)))","v":""},{"$f":"IF(E596=\"\",\"\",lookup!J588)","v":""},{"$f":"IF(E596=\"\",\"\",lookup!K588-lookup!J588)","v":""},"",{"$f":"IF(E596=\"\",\"\",IF(lookup!K588<0,0,lookup!K588))","v":""}]
[null,null,null,null,{"$f":"IF(I596=\"\",\"\",IF(B$13<E596+1,\"\",IF(I596=B$14,\"\",lookup!I589)))","v":""},{"$f":"IF(E597=\"\",\"\",lookup!J589)","v":""},{"$f":"IF(E597=\"\",\"\",lookup!K589-lookup!J589)","v":""},"",{"$f":"IF(E597=\"\",\"\",IF(lookup!K589<0,0,lookup!K589))","v":""}]
[null,null,null,null,{"$f":"IF(I597=\"\",\"\",IF(B$13<E597+1,\"\",IF(I597=B$14,\"\",lookup!I590)))","v":""},{"$f":"IF(E598=\"\",\"\",lookup!J590)","v":""},{"$f":"IF(E598=\"\",\"\",lookup!K590-lookup!J590)","v":""},"",{"$f":"IF(E598=\"\",\"\",IF(lookup!K590<0,0,lookup!K590))","v":""}]
[null,null,null,null,{"$f":"IF(I598=\"\",\"\",IF(B$13<E598+1,\"\",IF(I598=B$14,\"\",lookup!I591)))","v":""},{"$f":"IF(E599=\"\",\"\",lookup!J591)","v":""},{"$f":"IF(E599=\"\",\"\",lookup!K591-lookup!J591)","v":""},"",{"$f":"IF(E599=\"\",\"\",IF(lookup!K591<0,0,lookup!K591))","v":""}]
[null,null,null,null,{"$f":"IF(I599=\"\",\"\",IF(B$13<E599+1,\"\",IF(I599=B$14,\"\",lookup!I592)))","v":""},{"$f":"IF(E600=\"\",\"\",lookup!J592)","v":""},{"$f":"IF(E600=\"\",\"\",lookup!K592-lookup!J592)","v":""},"",{"$f":"IF(E600=\"\",\"\",IF(lookup!K592<0,0,lookup!K592))","v":""}]
[null,null,null,null,{"$f":"IF(I600=\"\",\"\",IF(B$13<E600+1,\"\",IF(I600=B$14,\"\",lookup!I593)))","v":""},{"$f":"IF(E601=\"\",\"\",lookup!J593)","v":""},{"$f":"IF(E601=\"\",\"\",lookup!K593-lookup!J593)","v":""},"",{"$f":"IF(E601=\"\",\"\",IF(lookup!K593<0,0,lookup!K593))","v":""}]
[null,null,null,null,{"$f":"IF(I601=\"\",\"\",IF(B$13<E601+1,\"\",IF(I601=B$14,\"\",lookup!I594)))","v":""},{"$f":"IF(E602=\"\",\"\",lookup!J594)","v":""},{"$f":"IF(E602=\"\",\"\",lookup!K594-lookup!J594)","v":""},"",{"$f":"IF(E602=\"\",\"\",IF(lookup!K594<0,0,lookup!K594))","v":""}]
[null,null,null,null,{"$f":"IF(I602=\"\",\"\",IF(B$13<E602+1,\"\",IF(I602=B$14,\"\",lookup!I595)))","v":""},{"$f":"IF(E603=\"\",\"\",lookup!J595)","v":""},{"$f":"IF(E603=\"\",\"\",lookup!K595-lookup!J595)","v":""},"",{"$f":"IF(E603=\"\",\"\",IF(lookup!K595<0,0,lookup!K595))","v":""}]
[null,null,null,null,{"$f":"IF(I603=\"\",\"\",IF(B$13<E603+1,\"\",IF(I603=B$14,\"\",lookup!I596)))","v":""},{"$f":"IF(E604=\"\",\"\",lookup!J596)","v":""},{"$f":"IF(E604=\"\",\"\",lookup!K596-lookup!J596)","v":""},"",{"$f":"IF(E604=\"\",\"\",IF(lookup!K596<0,0,lookup!K596))","v":""}]
[null,null,null,null,{"$f":"IF(I604=\"\",\"\",IF(B$13<E604+1,\"\",IF(I604=B$14,\"\",lookup!I597)))","v":""},{"$f":"IF(E605=\"\",\"\",lookup!J597)","v":""},{"$f":"IF(E605=\"\",\"\",lookup!K597-lookup!J597)","v":""},"",{"$f":"IF(E605=\"\",\"\",IF(lookup!K597<0,0,lookup!K597))","v":""}]
[null,null,null,null,{"$f":"IF(I605=\"\",\"\",IF(B$13<E605+1,\"\",IF(I605=B$14,\"\",lookup!I598)))","v":""},{"$f":"IF(E606=\"\",\"\",lookup!J598)","v":""},{"$f":"IF(E606=\"\",\"\",lookup!K598-lookup!J598)","v":""},"",{"$f":"IF(E606=\"\",\"\",IF(lookup!K598<0,0,lookup!K598))","v":""}]
[null,null,null,null,{"$f":"IF(I606=\"\",\"\",IF(B$13<E606+1,\"\",IF(I606=B$14,\"\",lookup!I599)))","v":""},{"$f":"IF(E607=\"\",\"\",lookup!J599)","v":""},{"$f":"IF(E607=\"\",\"\",lookup!K599-lookup!J599)","v":""},"",{"$f":"IF(E607=\"\",\"\",IF(lookup!K599<0,0,lookup!K599))","v":""}]
[null,null,null,null,{"$f":"IF(I607=\"\",\"\",IF(B$13<E607+1,\"\",IF(I607=B$14,\"\",lookup!I600)))","v":""},{"$f":"IF(E608=\"\",\"\",lookup!J600)","v":""},{"$f":"IF(E608=\"\",\"\",lookup!K600-lookup!J600)","v":""},"",{"$f":"IF(E608=\"\",\"\",IF(lookup!K600<0,0,lookup!K600))","v":""}]
[null,null,null,null,{"$f":"IF(I608=\"\",\"\",IF(B$13<E608+1,\"\",IF(I608=B$14,\"\",lookup!I601)))","v":""},{"$f":"IF(E609=\"\",\"\",lookup!J601)","v":""},{"$f":"IF(E609=\"\",\"\",lookup!K601-lookup!J601)","v":""},"",{"$f":"IF(E609=\"\",\"\",IF(lookup!K601<0,0,lookup!K601))","v":""}]
[null,null,null,null,{"$f":"IF(I609=\"\",\"\",IF(B$13<E609+1,\"\",IF(I609=B$14,\"\",lookup!I602)))","v":""},{"$f":"IF(E610=\"\",\"\",lookup!J602)","v":""},{"$f":"IF(E610=\"\",\"\",lookup!K602-lookup!J602)","v":""},"",{"$f":"IF(E610=\"\",\"\",IF(lookup!K602<0,0,lookup!K602))","v":""}]

{"sheet":"Future Value","index":3,"n_rows":610,"n_cols":9,"rows_kept":610,"cut":false,"hidden":true,"merged":[]}
[]
[]
[]
[]
[]
[]
[]
[]
["Future Value",null,null,null,"Period","Present Value","Added Value","Total Added Value","Future Value"]
[null,null,null,null,0,null,null,null,{"$f":"B12","v":100}]
["Interest Rate per Period",10,null,null,{"$f":"IF(B13=0,\"\",1)","v":1},{"$f":"IF(E11=\"\",\"\",lookup!N3)","v":100},{"$f":"IF(E11=\"\",\"\",lookup!O3-lookup!N3)","v":10.000000000000014},{"$f":"IF(E11=\"\",\"\",H10+G11)","v":10.000000000000014},{"$f":"IF(E11=\"\",\"\",IF(lookup!O3<0,0,lookup!O3))","v":110.00000000000001}]
["Present Value",100,null,null,{"$f":"IF(I11=\"\",\"\",IF(B$13<E11+1,\"\",IF(I11=B$14,\"\",lookup!M4)))","v":2},{"$f":"IF(E12=\"\",\"\",lookup!N4)","v":110.00000000000001},{"$f":"IF(E12=\"\",\"\",lookup!O4-lookup!N4)","v":11},{"$f":"IF(E12=\"\",\"\",H11+G12)","v":21.000000000000014},{"$f":"IF(E12=\"\",\"\",IF(lookup!O4<0,0,lookup!O4))","v":121.00000000000001}]
["No of Periods",60,null,null,{"$f":"IF(I12=\"\",\"\",IF(B$13<E12+1,\"\",IF(I12=B$14,\"\",lookup!M5)))","v":3},{"$f":"IF(E13=\"\",\"\",lookup!N5)","v":121.00000000000001},{"$f":"IF(E13=\"\",\"\",lookup!O5-lookup!N5)","v":12.100000000000037},{"$f":"IF(E13=\"\",\"\",H12+G13)","v":33.100000000000051},{"$f":"IF(E13=\"\",\"\",IF(lookup!O5<0,0,lookup!O5))","v":133.10000000000005}]
["Future Value",{"$f":"B12*(1+B11/100)^B13","v":30448.163954141932},null,null,{"$f":"IF(I13=\"\",\"\",IF(B$13<E13+1,\"\",IF(I13=B$14,\"\",lookup!M6)))","v":4},{"$f":"IF(E14=\"\",\"\",lookup!N6)","v":133.10000000000005},{"$f":"IF(E14=\"\",\"\",lookup!O6-lookup!N6)","v":13.310000000000002},46.410000000000053,{"$f":"IF(E14=\"\",\"\",IF(lookup!O6<0,0,lookup!O6))","v":146.41000000000005}]
[null,null,null,null,{"$f":"IF(I14=\"\",\"\",IF(B$13<E14+1,\"\",IF(I14=B$14,\"\",lookup!M7)))","v":5},{"$f":"IF(E15=\"\",\"\",lookup!N7)","v":146.41000000000005},{"$f":"IF(E15=\"\",\"\",lookup!O7-lookup!N7)","v":14.640999999999991},61.051000000000045,{"$f":"IF(E15=\"\",\"\",IF(lookup!O7<0,0,lookup!O7))","v":161.05100000000004}]
[null,null,null,null,{"$f":"IF(I15=\"\",\"\",IF(B$13<E15+1,\"\",IF(I15=B$14,\"\",lookup!M8)))","v":6},{"$f":"IF(E16=\"\",\"\",lookup!N8)","v":161.05100000000004},{"$f":"IF(E16=\"\",\"\",lookup!O8-lookup!N8)","v":16.10510000000005},77.156100000000094,{"$f":"IF(E16=\"\",\"\",IF(lookup!O8<0,0,lookup!O8))","v":177.15610000000009}]
[null,null,null,null,{"$f":"IF(I16=\"\",\"\",IF(B$13<E16+1,\"\",IF(I16=B$14,\"\",lookup!M9)))","v":7},{"$f":"IF(E17=\"\",\"\",lookup!N9)","v":177.15610000000009},{"$f":"IF(E17=\"\",\"\",lookup!O9-lookup!N9)","v":17.715610000000027},94.871710000000121,{"$f":"IF(E17=\"\",\"\",IF(lookup!O9<0,0,lookup!O9))","v":194.87171000000012}]
[null,null,null,null,{"$f":"IF(I17=\"\",\"\",IF(B$13<E17+1,\"\",IF(I17=B$14,\"\",lookup!M10)))","v":8},{"$f":"IF(E18=\"\",\"\",lookup!N10)","v":194.87171000000012},{"$f":"IF(E18=\"\",\"\",lookup!O10-lookup!N10)","v":19.487170999999989},114.35888100000011,{"$f":"IF(E18=\"\",\"\",IF(lookup!O10<0,0,lookup!O10))","v":214.35888100000011}]
[null,null,null,null,{"$f":"IF(I18=\"\",\"\",IF(B$13<E18+1,\"\",IF(I18=B$14,\"\",lookup!M11)))","v":9},{"$f":"IF(E19=\"\",\"\",lookup!N11)","v":214.35888100000011},{"$f":"IF(E19=\"\",\"\",lookup!O11-lookup!N11)","v":21.435888100000028},135.79476910000014,{"$f":"IF(E19=\"\",\"\",IF(lookup!O11<0,0,lookup!O11))","v":235.79476910000014}]
[null,null,null,null,{"$f":"IF(I19=\"\",\"\",IF(B$13<E19+1,\"\",IF(I19=B$14,\"\",lookup!M12)))","v":10},{"$f":"IF(E20=\"\",\"\",lookup!N12)","v":235.79476910000014},{"$f":"IF(E20=\"\",\"\",lookup!O12-lookup!N12)","v":23.579476910000068},159.37424601000021,{"$f":"IF(E20=\"\",\"\",IF(lookup!O12<0,0,lookup!O12))","v":259.37424601000021}]
[null,null,null,null,{"$f":"IF(I20=\"\",\"\",IF(B$13<E20+1,\"\",IF(I20=B$14,\"\",lookup!M13)))","v":11},{"$f":"IF(E21=\"\",\"\",lookup!N13)","v":259.37424601000021},{"$f":"IF(E21=\"\",\"\",lookup!O13-lookup!N13)","v":25.937424601000032},185.31167061100024,{"$f":"IF(E21=\"\",\"\",IF(lookup!O13<0,0,lookup!O13))","v":285.31167061100024}]
[null,null,null,null,{"$f":"IF(I21=\"\",\"\",IF(B$13<E21+1,\"\",IF(I21=B$14,\"\",lookup!M14)))","v":12},{"$f":"IF(E22=\"\",\"\",lookup!N14)","v":285.31167061100024},{"$f":"IF(E22=\"\",\"\",lookup!O14-lookup!N14)","v":28.531167061100007},213.84283767210025,{"$f":"IF(E22=\"\",\"\",IF(lookup!O14<0,0,lookup!O14))","v":313.84283767210025}]
[null,null,null,null,{"$f":"IF(I22=\"\",\"\",IF(B$13<E22+1,\"\",IF(I22=B$14,\"\",lookup!M15)))","v":13},{"$f":"IF(E23=\"\",\"\",lookup!N15)","v":313.84283767210025},{"$f":"IF(E23=\"\",\"\",lookup!O15-lookup!N15)","v":31.384283767210036},245.22712143931028,{"$f":"IF(E23=\"\",\"\",IF(lookup!O15<0,0,lookup!O15))","v":345.22712143931028}]
[null,null,null,null,{"$f":"IF(I23=\"\",\"\",IF(B$13<E23+1,\"\",IF(I23=B$14,\"\",lookup!M16)))","v":14},{"$f":"IF(E24=\"\",\"\",lookup!N16)","v":345.22712143931028},{"$f":"IF(E24=\"\",\"\",lookup!O16-lookup!N16)","v":34.52271214393113},279.74983358324141,{"$f":"IF(E24=\"\",\"\",IF(lookup!O16<0,0,lookup!O16))","v":379.74983358324141}]
[null,null,null,null,{"$f":"IF(I24=\"\",\"\",IF(B$13<E24+1,\"\",IF(I24=B$14,\"\",lookup!M17)))","v":15},{"$f":"IF(E25=\"\",\"\",lookup!N17)","v":379.74983358324141},{"$f":"IF(E25=\"\",\"\",lookup!O17-lookup!N17)","v":37.974983358324153},317.72481694156556,{"$f":"IF(E25=\"\",\"\",IF(lookup!O17<0,0,lookup!O17))","v":417.72481694156556}]
[null,null,null,null,{"$f":"IF(I25=\"\",\"\",IF(B$13<E25+1,\"\",IF(I25=B$14,\"\",lookup!M18)))","v":16},{"$f":"IF(E26=\"\",\"\",lookup!N18)","v":417.72481694156556},{"$f":"IF(E26=\"\",\"\",lookup!O18-lookup!N18)","v":41.772481694156568},359.49729863572213,{"$f":"IF(E26=\"\",\"\",IF(lookup!O18<0,0,lookup!O18))","v":459.49729863572213}]
[null,null,null,null,{"$f":"IF(I26=\"\",\"\",IF(B$13<E26+1,\"\",IF(I26=B$14,\"\",lookup!M19)))","v":17},{"$f":"IF(E27=\"\",\"\",lookup!N19)","v":459.49729863572213},{"$f":"IF(E27=\"\",\"\",lookup!O19-lookup!N19)","v":45.949729863572202},405.44702849929433,{"$f":"IF(E27=\"\",\"\",IF(lookup!O19<0,0,lookup!O19))","v":505.44702849929433}]
[null,null,null,null,{"$f":"IF(I27=\"\",\"\",IF(B$13<E27+1,\"\",IF(I27=B$14,\"\",lookup!M20)))","v":18},{"$f":"IF(E28=\"\",\"\",lookup!N20)","v":505.44702849929433},{"$f":"IF(E28=\"\",\"\",lookup!O20-lookup!N20)","v":50.544702849929422},455.99173134922376,{"$f":"IF(E28=\"\",\"\",IF(lookup!O20<0,0,lookup!O20))","v":555.99173134922376}]
[null,null,null,null,{"$f":"IF(I28=\"\",\"\",IF(B$13<E28+1,\"\",IF(I28=B$14,\"\",lookup!M21)))","v":19},{"$f":"IF(E29=\"\",\"\",lookup!N21)","v":555.99173134922376},{"$f":"IF(E29=\"\",\"\",lookup!O21-lookup!N21)","v":55.59917313492258},511.59090448414634,{"$f":"IF(E29=\"\",\"\",IF(lookup!O21<0,0,lookup!O21))","v":611.59090448414634}]
[null,null,null,null,{"$f":"IF(I29=\"\",\"\",IF(B$13<E29+1,\"\",IF(I29=B$14,\"\",lookup!M22)))","v":20},{"$f":"IF(E30=\"\",\"\",lookup!N22)","v":611.59090448414634},{"$f":"IF(E30=\"\",\"\",lookup!O22-lookup!N22)","v":61.159090448414531},572.74999493256087,{"$f":"IF(E30=\"\",\"\",IF(lookup!O22<0,0,lookup!O22))","v":672.74999493256087}]
[null,null,null,null,{"$f":"IF(I30=\"\",\"\",IF(B$13<E30+1,\"\",IF(I30=B$14,\"\",lookup!M23)))","v":21},{"$f":"IF(E31=\"\",\"\",lookup!N23)","v":672.74999493256087},{"$f":"IF(E31=\"\",\"\",lookup!O23-lookup!N23)","v":67.274999493256246},640.02499442581711,{"$f":"IF(E31=\"\",\"\",IF(lookup!O23<0,0,lookup!O23))","v":740.02499442581711}]
[null,null,null,null,{"$f":"IF(I31=\"\",\"\",IF(B$13<E31+1,\"\",IF(I31=B$14,\"\",lookup!M24)))","v":22},{"$f":"IF(E32=\"\",\"\",lookup!N24)","v":740.02499442581711},{"$f":"IF(E32=\"\",\"\",lookup!O24-lookup!N24)","v":74.002499442581779},714.02749386839889,{"$f":"IF(E32=\"\",\"\",IF(lookup!O24<0,0,lookup!O24))","v":814.02749386839889}]
[null,null,null,null,{"$f":"IF(I32=\"\",\"\",IF(B$13<E32+1,\"\",IF(I32=B$14,\"\",lookup!M25)))","v":23},{"$f":"IF(E33=\"\",\"\",lookup!N25)","v":814.02749386839889},{"$f":"IF(E33=\"\",\"\",lookup!O25-lookup!N25)","v":81.402749386840014},795.43024325523891,{"$f":"IF(E33=\"\",\"\",IF(lookup!O25<0,0,lookup!O25))","v":895.43024325523891}]
[null,null,null,null,{"$f":"IF(I33=\"\",\"\",IF(B$13<E33+1,\"\",IF(I33=B$14,\"\",lookup!M26)))","v":24},{"$f":"IF(E34=\"\",\"\",lookup!N26)","v":895.43024325523891},{"$f":"IF(E34=\"\",\"\",lookup!O26-lookup!N26)","v":89.543024325523675},884.97326758076258,{"$f":"IF(E34=\"\",\"\",IF(lookup!O26<0,0,lookup!O26))","v":984.97326758076258}]
[null,null,null,null,{"$f":"IF(I34=\"\",\"\",IF(B$13<E34+1,\"\",IF(I34=B$14,\"\",lookup!M27)))","v":25},{"$f":"IF(E35=\"\",\"\",lookup!N27)","v":984.97326758076258},{"$f":"IF(E35=\"\",\"\",lookup!O27-lookup!N27)","v":98.497326758076611},983.47059433883919,{"$f":"IF(E35=\"\",\"\",IF(lookup!O27<0,0,lookup!O27))","v":1083.4705943388392}]
[null,null,null,null,{"$f":"IF(I35=\"\",\"\",IF(B$13<E35+1,\"\",IF(I35=B$14,\"\",lookup!M28)))","v":26},{"$f":"IF(E36=\"\",\"\",lookup!N28)","v":1083.4705943388392},{"$f":"IF(E36=\"\",\"\",lookup!O28-lookup!N28)","v":108.34705943388394},1091.8176537727231,{"$f":"IF(E36=\"\",\"\",IF(lookup!O28<0,0,lookup!O28))","v":1191.8176537727231}]
[null,null,null,null,{"$f":"IF(I36=\"\",\"\",IF(B$13<E36+1,\"\",IF(I36=B$14,\"\",lookup!M29)))","v":27},{"$f":"IF(E37=\"\",\"\",lookup!N29)","v":1191.8176537727231},{"$f":"IF(E37=\"\",\"\",lookup!O29-lookup!N29)","v":119.18176537727254},1210.9994191499957,{"$f":"IF(E37=\"\",\"\",IF(lookup!O29<0,0,lookup!O29))","v":1310.9994191499957}]
[null,null,null,null,{"$f":"IF(I37=\"\",\"\",IF(B$13<E37+1,\"\",IF(I37=B$14,\"\",lookup!M30)))","v":28},{"$f":"IF(E38=\"\",\"\",lookup!N30)","v":1310.9994191499957},{"$f":"IF(E38=\"\",\"\",lookup!O30-lookup!N30)","v":131.09994191499936},1342.099361064995,{"$f":"IF(E38=\"\",\"\",IF(lookup!O30<0,0,lookup!O30))","v":1442.099361064995}]
[null,null,null,null,{"$f":"IF(I38=\"\",\"\",IF(B$13<E38+1,\"\",IF(I38=B$14,\"\",lookup!M31)))","v":29},{"$f":"IF(E39=\"\",\"\",lookup!N31)","v":1442.099361064995},{"$f":"IF(E39=\"\",\"\",lookup!O31-lookup!N31)","v":144.20993610649953},1486.3092971714946,{"$f":"IF(E39=\"\",\"\",IF(lookup!O31<0,0,lookup!O31))","v":1586.3092971714946}]
[null,null,null,null,{"$f":"IF(I39=\"\",\"\",IF(B$13<E39+1,\"\",IF(I39=B$14,\"\",lookup!M32)))","v":30},{"$f":"IF(E40=\"\",\"\",lookup!N32)","v":1586.3092971714946},{"$f":"IF(E40=\"\",\"\",lookup!O32-lookup!N32)","v":158.63092971714991},1644.9402268886445,{"$f":"IF(E40=\"\",\"\",IF(lookup!O32<0,0,lookup!O32))","v":1744.9402268886445}]
[null,null,null,null,{"$f":"IF(I40=\"\",\"\",IF(B$13<E40+1,\"\",IF(I40=B$14,\"\",lookup!M33)))","v":31},{"$f":"IF(E41=\"\",\"\",lookup!N33)","v":1744.9402268886445},{"$f":"IF(E41=\"\",\"\",lookup!O33-lookup!N33)","v":174.49402268886456},1819.434249577509,{"$f":"IF(E41=\"\",\"\",IF(lookup!O33<0,0,lookup!O33))","v":1919.434249577509}]
[null,null,null,null,{"$f":"IF(I41=\"\",\"\",IF(B$13<E41+1,\"\",IF(I41=B$14,\"\",lookup!M34)))","v":32},{"$f":"IF(E42=\"\",\"\",lookup!N34)","v":1919.434249577509},{"$f":"IF(E42=\"\",\"\",lookup!O34-lookup!N34)","v":191.94342495775072},2011.3776745352598,{"$f":"IF(E42=\"\",\"\",IF(lookup!O34<0,0,lookup!O34))","v":2111.3776745352598}]
[null,null,null,null,{"$f":"IF(I42=\"\",\"\",IF(B$13<E42+1,\"\",IF(I42=B$14,\"\",lookup!M35)))","v":33},{"$f":"IF(E43=\"\",\"\",lookup!N35)","v":2111.3776745352598},{"$f":"IF(E43=\"\",\"\",lookup!O35-lookup!N35)","v":211.13776745352652},2222.5154419887863,{"$f":"IF(E43=\"\",\"\",IF(lookup!O35<0,0,lookup!O35))","v":2322.5154419887863}]
[null,null,null,null,{"$f":"IF(I43=\"\",\"\",IF(B$13<E43+1,\"\",IF(I43=B$14,\"\",lookup!M36)))","v":34},{"$f":"IF(E44=\"\",\"\",lookup!N36)","v":2322.5154419887863},{"$f":"IF(E44=\"\",\"\",lookup!O36-lookup!N36)","v":232.25154419887849},2454.7669861876648,{"$f":"IF(E44=\"\",\"\",IF(lookup!O36<0,0,lookup!O36))","v":2554.7669861876648}]
[null,null,null,null,{"$f":"IF(I44=\"\",\"\",IF(B$13<E44+1,\"\",IF(I44=B$14,\"\",lookup!M37)))","v":35},{"$f":"IF(E45=\"\",\"\",lookup!N37)","v":2554.7669861876648},{"$f":"IF(E45=\"\",\"\",lookup!O37-lookup!N37)","v":255.47669861876693},2710.2436848064317,{"$f":"IF(E45=\"\",\"\",IF(lookup!O37<0,0,lookup!O37))","v":2810.2436848064317}]
[null,null,null,null,{"$f":"IF(I45=\"\",\"\",IF(B$13<E45+1,\"\",IF(I45=B$14,\"\",lookup!M38)))","v":36},{"$f":"IF(E46=\"\",\"\",lookup!N38)","v":2810.2436848064317},{"$f":"IF(E46=\"\",\"\",lookup!O38-lookup!N38)","v":281.02436848064326},2991.268053287075,{"$f":"IF(E46=\"\",\"\",IF(lookup!O38<0,0,lookup!O38))","v":3091.268053287075}]
[null,null,null,null,{"$f":"IF(I46=\"\",\"\",IF(B$13<E46+1,\"\",IF(I46=B$14,\"\",lookup!M39)))","v":37},{"$f":"IF(E47=\"\",\"\",lookup!N39)","v":3091.268053287075},{"$f":"IF(E47=\"\",\"\",lookup!O39-lookup!N39)","v":309.12680532870763},3300.3948586157826,{"$f":"IF(E47=\"\",\"\",IF(lookup!O39<0,0,lookup!O39))","v":3400.3948586157826}]
[null,null,null,null,{"$f":"IF(I47=\"\",\"\",IF(B$13<E47+1,\"\",IF(I47=B$14,\"\",lookup!M40)))","v":38},{"$f":"IF(E48=\"\",\"\",lookup!N40)","v":3400.3948586157826},{"$f":"IF(E48=\"\",\"\",lookup!O40-lookup!N40)","v":340.03948586157912},3640.4343444773617,{"$f":"IF(E48=\"\",\"\",IF(lookup!O40<0,0,lookup!O40))","v":3740.4343444773617}]
[null,null,null,null,{"$f":"IF(I48=\"\",\"\",IF(B$13<E48+1,\"\",IF(I48=B$14,\"\",lookup!M41)))","v":39},{"$f":"IF(E49=\"\",\"\",lookup!N41)","v":3740.4343444773617},{"$f":"IF(E49=\"\",\"\",lookup!O41-lookup!N41)","v":374.04343444773667},4014.4777789250984,{"$f":"IF(E49=\"\",\"\",IF(lookup!O41<0,0,lookup!O41))","v":4114.4777789250984}]
[null,null,null,null,{"$f":"IF(I49=\"\",\"\",IF(B$13<E49+1,\"\",IF(I49=B$14,\"\",lookup!M42)))","v":40},{"$f":"IF(E50=\"\",\"\",lookup!N42)","v":4114.4777789250984},{"$f":"IF(E50=\"\",\"\",lookup!O42-lookup!N42)","v":411.44777789250929},4425.9255568176077,{"$f":"IF(E50=\"\",\"\",IF(lookup!O42<0,0,lookup!O42))","v":4525.9255568176077}]
[null,null,null,null,{"$f":"IF(I50=\"\",\"\",IF(B$13<E50+1,\"\",IF(I50=B$14,\"\",lookup!M43)))","v":41},{"$f":"IF(E51=\"\",\"\",lookup!N43)","v":4525.9255568176077},{"$f":"IF(E51=\"\",\"\",lookup!O43-lookup!N43)","v":452.59255568176104},4878.5181124993687,{"$f":"IF(E51=\"\",\"\",IF(lookup!O43<0,0,lookup!O43))","v":4978.5181124993687}]
[null,null,null,null,{"$f":"IF(I51=\"\",\"\",IF(B$13<E51+1,\"\",IF(I51=B$14,\"\",lookup!M44)))","v":42},{"$f":"IF(E52=\"\",\"\",lookup!N44)","v":4978.5181124993687},{"$f":"IF(E52=\"\",\"\",lookup!O44-lookup!N44)","v":497.85181124993687},5376.3699237493056,{"$f":"IF(E52=\"\",\"\",IF(lookup!O44<0,0,lookup!O44))","v":5476.3699237493056}]
[null,null,null,null,{"$f":"IF(I52=\"\",\"\",IF(B$13<E52+1,\"\",IF(I52=B$14,\"\",lookup!M45)))","v":43},{"$f":"IF(E53=\"\",\"\",lookup!N45)","v":5476.3699237493056},{"$f":"IF(E53=\"\",\"\",lookup!O45-lookup!N45)","v":547.63699237493165},5924.0069161242373,{"$f":"IF(E53=\"\",\"\",IF(lookup!O45<0,0,lookup!O45))","v":6024.0069161242373}]
[null,null,null,null,{"$f":"IF(I53=\"\",\"\",IF(B$13<E53+1,\"\",IF(I53=B$14,\"\",lookup!M46)))","v":44},{"$f":"IF(E54=\"\",\"\",lookup!N46)","v":6024.0069161242373},{"$f":"IF(E54=\"\",\"\",lookup!O46-lookup!N46)","v":602.40069161242354},6526.4076077366608,{"$f":"IF(E54=\"\",\"\",IF(lookup!O46<0,0,lookup!O46))","v":6626.4076077366608}]
[null,null,null,null,{"$f":"IF(I54=\"\",\"\",IF(B$13<E54+1,\"\",IF(I54=B$14,\"\",lookup!M47)))","v":45},{"$f":"IF(E55=\"\",\"\",lookup!N47)","v":6626.4076077366608},{"$f":"IF(E55=\"\",\"\",lookup!O47-lookup!N47)","v":662.64076077366735},7189.0483685103281,{"$f":"IF(E55=\"\",\"\",IF(lookup!O47<0,0,lookup!O47))","v":7289.0483685103281}]
[null,null,null,null,{"$f":"IF(I55=\"\",\"\",IF(B$13<E55+1,\"\",IF(I55=B$14,\"\",lookup!M48)))","v":46},{"$f":"IF(E56=\"\",\"\",lookup!N48)","v":7289.0483685103281},{"$f":"IF(E56=\"\",\"\",lookup!O48-lookup!N48)","v":728.904836851033},7917.9532053613611,{"$f":"IF(E56=\"\",\"\",IF(lookup!O48<0,0,lookup!O48))","v":8017.9532053613611}]
[null,null,null,null,{"$f":"IF(I56=\"\",\"\",IF(B$13<E56+1,\"\",IF(I56=B$14,\"\",lookup!M49)))","v":47},{"$f":"IF(E57=\"\",\"\",lookup!N49)","v":8017.9532053613611},{"$f":"IF(E57=\"\",\"\",lookup!O49-lookup!N49)","v":801.79532053613639},8719.7485258974975,{"$f":"IF(E57=\"\",\"\",IF(lookup!O49<0,0,lookup!O49))","v":8819.7485258974975}]
[null,null,null,null,{"$f":"IF(I57=\"\",\"\",IF(B$13<E57+1,\"\",IF(I57=B$14,\"\",lookup!M50)))","v":48},{"$f":"IF(E58=\"\",\"\",lookup!N50)","v":8819.7485258974975},{"$f":"IF(E58=\"\",\"\",lookup!O50-lookup!N50)","v":881.9748525897503},9601.7233784872478,{"$f":"IF(E58=\"\",\"\",IF(lookup!O50<0,0,lookup!O50))","v":9701.7233784872478}]
[null,null,null,null,{"$f":"IF(I58=\"\",\"\",IF(B$13<E58+1,\"\",IF(I58=B$14,\"\",lookup!M51)))","v":49},{"$f":"IF(E59=\"\",\"\",lookup!N51)","v":9701.7233784872478},{"$f":"IF(E59=\"\",\"\",lookup!O51-lookup!N51)","v":970.17233784872587},10571.895716335974,{"$f":"IF(E59=\"\",\"\",IF(lookup!O51<0,0,lookup!O51))","v":10671.895716335974}]
[null,null,null,null,{"$f":"IF(I59=\"\",\"\",IF(B$13<E59+1,\"\",IF(I59=B$14,\"\",lookup!M52)))","v":50},{"$f":"IF(E60=\"\",\"\",lookup!N52)","v":10671.895716335974},{"$f":"IF(E60=\"\",\"\",lookup!O52-lookup!N52)","v":1067.1895716335985},11639.085287969572,{"$f":"IF(E60=\"\",\"\",IF(lookup!O52<0,0,lookup!O52))","v":11739.085287969572}]
[null,null,null,null,{"$f":"IF(I60=\"\",\"\",IF(B$13<E60+1,\"\",IF(I60=B$14,\"\",lookup!M53)))","v":51},{"$f":"IF(E61=\"\",\"\",lookup!N53)","v":11739.085287969572},{"$f":"IF(E61=\"\",\"\",lookup!O53-lookup!N53)","v":1173.9085287969574},12812.99381676653,{"$f":"IF(E61=\"\",\"\",IF(lookup!O53<0,0,lookup!O53))","v":12912.99381676653}]
[null,null,null,null,{"$f":"IF(I61=\"\",\"\",IF(B$13<E61+1,\"\",IF(I61=B$14,\"\",lookup!M54)))","v":52},{"$f":"IF(E62=\"\",\"\",lookup!N54)","v":12912.99381676653},{"$f":"IF(E62=\"\",\"\",lookup!O54-lookup!N54)","v":1291.2993816766557},14104.293198443185,{"$f":"IF(E62=\"\",\"\",IF(lookup!O54<0,0,lookup!O54))","v":14204.293198443185}]
[null,null,null,null,{"$f":"IF(I62=\"\",\"\",IF(B$13<E62+1,\"\",IF(I62=B$14,\"\",lookup!M55)))","v":53},{"$f":"IF(E63=\"\",\"\",lookup!N55)","v":14204.293198443185},{"$f":"IF(E63=\"\",\"\",lookup!O55-lookup!N55)","v":1420.4293198443193},15524.722518287504,{"$f":"IF(E63=\"\",\"\",IF(lookup!O55<0,0,lookup!O55))","v":15624.722518287504}]
[null,null,null,null,{"$f":"IF(I63=\"\",\"\",IF(B$13<E63+1,\"\",IF(I63=B$14,\"\",lookup!M56)))","v":54},{"$f":"IF(E64=\"\",\"\",lookup!N56)","v":15624.722518287504},{"$f":"IF(E64=\"\",\"\",lookup!O56-lookup!N56)","v":1562.4722518287526},17087.194770116257,{"$f":"IF(E64=\"\",\"\",IF(lookup!O56<0,0,lookup!O56))","v":17187.194770116257}]
[null,null,null,null,{"$f":"IF(I64=\"\",\"\",IF(B$13<E64+1,\"\",IF(I64=B$14,\"\",lookup!M57)))","v":55},{"$f":"IF(E65=\"\",\"\",lookup!N57)","v":17187.194770116257},{"$f":"IF(E65=\"\",\"\",lookup!O57-lookup!N57)","v":1718.7194770116257},18805.914247127883,{"$f":"IF(E65=\"\",\"\",IF(lookup!O57<0,0,lookup!O57))","v":18905.914247127883}]
[null,null,null,null,{"$f":"IF(I65=\"\",\"\",IF(B$13<E65+1,\"\",IF(I65=B$14,\"\",lookup!M58)))","v":56},{"$f":"IF(E66=\"\",\"\",lookup!N58)","v":18905.914247127883},{"$f":"IF(E66=\"\",\"\",lookup!O58-lookup!N58)","v":1890.5914247127876},20696.50567184067,{"$f":"IF(E66=\"\",\"\",IF(lookup!O58<0,0,lookup!O58))","v":20796.50567184067}]
[null,null,null,null,{"$f":"IF(I66=\"\",\"\",IF(B$13<E66+1,\"\",IF(I66=B$14,\"\",lookup!M59)))","v":57},{"$f":"IF(E67=\"\",\"\",lookup!N59)","v":20796.50567184067},{"$f":"IF(E67=\"\",\"\",lookup!O59-lookup!N59)","v":2079.6505671840714},22776.156239024742,{"$f":"IF(E67=\"\",\"\",IF(lookup!O59<0,0,lookup!O59))","v":22876.156239024742}]
[null,null,null,null,{"$f":"IF(I67=\"\",\"\",IF(B$13<E67+1,\"\",IF(I67=B$14,\"\",lookup!M60)))","v":58},{"$f":"IF(E68=\"\",\"\",lookup!N60)","v":22876.156239024742},{"$f":"IF(E68=\"\",\"\",lookup!O60-lookup!N60)","v":2287.6156239024713},25063.771862927213,{"$f":"IF(E68=\"\",\"\",IF(lookup!O60<0,0,lookup!O60))","v":25163.771862927213}]
[null,null,null,null,{"$f":"IF(I68=\"\",\"\",IF(B$13<E68+1,\"\",IF(I68=B$14,\"\",lookup!M61)))","v":59},{"$f":"IF(E69=\"\",\"\",lookup!N61)","v":25163.771862927213},{"$f":"IF(E69=\"\",\"\",lookup!O61-lookup!N61)","v":2516.3771862927315},27580.149049219945,{"$f":"IF(E69=\"\",\"\",IF(lookup!O61<0,0,lookup!O61))","v":27680.149049219945}]
[null,null,null,null,{"$f":"IF(I69=\"\",\"\",IF(B$13<E69+1,\"\",IF(I69=B$14,\"\",lookup!M62)))","v":60},{"$f":"IF(E70=\"\",\"\",lookup!N62)","v":27680.149049219945},{"$f":"IF(E70=\"\",\"\",lookup!O62-lookup!N62)","v":2768.0149049219872},30348.163954141932,{"$f":"IF(E70=\"\",\"\",IF(lookup!O62<0,0,lookup!O62))","v":30448.163954141932}]
[null,null,null,null,{"$f":"IF(I70=\"\",\"\",IF(B$13<E70+1,\"\",IF(I70=B$14,\"\",lookup!M63)))","v":""},{"$f":"IF(E71=\"\",\"\",lookup!N63)","v":""},{"$f":"IF(E71=\"\",\"\",lookup!O63-lookup!N63)","v":""},"",{"$f":"IF(E71=\"\",\"\",IF(lookup!O63<0,0,lookup!O63))","v":""}]
[null,null,null,null,{"$f":"IF(I71=\"\",\"\",IF(B$13<E71+1,\"\",IF(I71=B$14,\"\",lookup!M64)))","v":""},{"$f":"IF(E72=\"\",\"\",lookup!N64)","v":""},{"$f":"IF(E72=\"\",\"\",lookup!O64-lookup!N64)","v":""},"",{"$f":"IF(E72=\"\",\"\",IF(lookup!O64<0,0,lookup!O64))","v":""}]
[null,null,null,null,{"$f":"IF(I72=\"\",\"\",IF(B$13<E72+1,\"\",IF(I72=B$14,\"\",lookup!M65)))","v":""},{"$f":"IF(E73=\"\",\"\",lookup!N65)","v":""},{"$f":"IF(E73=\"\",\"\",lookup!O65-lookup!N65)","v":""},"",{"$f":"IF(E73=\"\",\"\",IF(lookup!O65<0,0,lookup!O65))","v":""}]
[null,null,null,null,{"$f":"IF(I73=\"\",\"\",IF(B$13<E73+1,\"\",IF(I73=B$14,\"\",lookup!M66)))","v":""},{"$f":"IF(E74=\"\",\"\",lookup!N66)","v":""},{"$f":"IF(E74=\"\",\"\",lookup!O66-lookup!N66)","v":""},"",{"$f":"IF(E74=\"\",\"\",IF(lookup!O66<0,0,lookup!O66))","v":""}]
[null,null,null,null,{"$f":"IF(I74=\"\",\"\",IF(B$13<E74+1,\"\",IF(I74=B$14,\"\",lookup!M67)))","v":""},{"$f":"IF(E75=\"\",\"\",lookup!N67)","v":""},{"$f":"IF(E75=\"\",\"\",lookup!O67-lookup!N67)","v":""},"",{"$f":"IF(E75=\"\",\"\",IF(lookup!O67<0,0,lookup!O67))","v":""}]
[null,null,null,null,{"$f":"IF(I75=\"\",\"\",IF(B$13<E75+1,\"\",IF(I75=B$14,\"\",lookup!M68)))","v":""},{"$f":"IF(E76=\"\",\"\",lookup!N68)","v":""},{"$f":"IF(E76=\"\",\"\",lookup!O68-lookup!N68)","v":""},"",{"$f":"IF(E76=\"\",\"\",IF(lookup!O68<0,0,lookup!O68))","v":""}]
[null,null,null,null,{"$f":"IF(I76=\"\",\"\",IF(B$13<E76+1,\"\",IF(I76=B$14,\"\",lookup!M69)))","v":""},{"$f":"IF(E77=\"\",\"\",lookup!N69)","v":""},{"$f":"IF(E77=\"\",\"\",lookup!O69-lookup!N69)","v":""},{"$f":"IF(E77=\"\",\"\",H76+G77)","v":""},{"$f":"IF(E77=\"\",\"\",IF(lookup!O69<0,0,lookup!O69))","v":""}]
[null,null,null,null,{"$f":"IF(I77=\"\",\"\",IF(B$13<E77+1,\"\",IF(I77=B$14,\"\",lookup!M70)))","v":""},{"$f":"IF(E78=\"\",\"\",lookup!N70)","v":""},{"$f":"IF(E78=\"\",\"\",lookup!O70-lookup!N70)","v":""},"",{"$f":"IF(E78=\"\",\"\",IF(lookup!O70<0,0,lookup!O70))","v":""}]
[null,null,null,null,{"$f":"IF(I78=\"\",\"\",IF(B$13<E78+1,\"\",IF(I78=B$14,\"\",lookup!M71)))","v":""},{"$f":"IF(E79=\"\",\"\",lookup!N71)","v":""},{"$f":"IF(E79=\"\",\"\",lookup!O71-lookup!N71)","v":""},"",{"$f":"IF(E79=\"\",\"\",IF(lookup!O71<0,0,lookup!O71))","v":""}]
[null,null,null,null,{"$f":"IF(I79=\"\",\"\",IF(B$13<E79+1,\"\",IF(I79=B$14,\"\",lookup!M72)))","v":""},{"$f":"IF(E80=\"\",\"\",lookup!N72)","v":""},{"$f":"IF(E80=\"\",\"\",lookup!O72-lookup!N72)","v":""},"",{"$f":"IF(E80=\"\",\"\",IF(lookup!O72<0,0,lookup!O72))","v":""}]
[null,null,null,null,{"$f":"IF(I80=\"\",\"\",IF(B$13<E80+1,\"\",IF(I80=B$14,\"\",lookup!M73)))","v":""},{"$f":"IF(E81=\"\",\"\",lookup!N73)","v":""},{"$f":"IF(E81=\"\",\"\",lookup!O73-lookup!N73)","v":""},"",{"$f":"IF(E81=\"\",\"\",IF(lookup!O73<0,0,lookup!O73))","v":""}]
[null,null,null,null,{"$f":"IF(I81=\"\",\"\",IF(B$13<E81+1,\"\",IF(I81=B$14,\"\",lookup!M74)))","v":""},{"$f":"IF(E82=\"\",\"\",lookup!N74)","v":""},{"$f":"IF(E82=\"\",\"\",lookup!O74-lookup!N74)","v":""},"",{"$f":"IF(E82=\"\",\"\",IF(lookup!O74<0,0,lookup!O74))","v":""}]
[null,null,null,null,{"$f":"IF(I82=\"\",\"\",IF(B$13<E82+1,\"\",IF(I82=B$14,\"\",lookup!M75)))","v":""},{"$f":"IF(E83=\"\",\"\",lookup!N75)","v":""},{"$f":"IF(E83=\"\",\"\",lookup!O75-lookup!N75)","v":""},"",{"$f":"IF(E83=\"\",\"\",IF(lookup!O75<0,0,lookup!O75))","v":""}]
[null,null,null,null,{"$f":"IF(I83=\"\",\"\",IF(B$13<E83+1,\"\",IF(I83=B$14,\"\",lookup!M76)))","v":""},{"$f":"IF(E84=\"\",\"\",lookup!N76)","v":""},{"$f":"IF(E84=\"\",\"\",lookup!O76-lookup!N76)","v":""},"",{"$f":"IF(E84=\"\",\"\",IF(lookup!O76<0,0,lookup!O76))","v":""}]
[null,null,null,null,{"$f":"IF(I84=\"\",\"\",IF(B$13<E84+1,\"\",IF(I84=B$14,\"\",lookup!M77)))","v":""},{"$f":"IF(E85=\"\",\"\",lookup!N77)","v":""},{"$f":"IF(E85=\"\",\"\",lookup!O77-lookup!N77)","v":""},"",{"$f":"IF(E85=\"\",\"\",IF(lookup!O77<0,0,lookup!O77))","v":""}]
[null,null,null,null,{"$f":"IF(I85=\"\",\"\",IF(B$13<E85+1,\"\",IF(I85=B$14,\"\",lookup!M78)))","v":""},{"$f":"IF(E86=\"\",\"\",lookup!N78)","v":""},{"$f":"IF(E86=\"\",\"\",lookup!O78-lookup!N78)","v":""},"",{"$f":"IF(E86=\"\",\"\",IF(lookup!O78<0,0,lookup!O78))","v":""}]
[null,null,null,null,{"$f":"IF(I86=\"\",\"\",IF(B$13<E86+1,\"\",IF(I86=B$14,\"\",lookup!M79)))","v":""},{"$f":"IF(E87=\"\",\"\",lookup!N79)","v":""},{"$f":"IF(E87=\"\",\"\",lookup!O79-lookup!N79)","v":""},"",{"$f":"IF(E87=\"\",\"\",IF(lookup!O79<0,0,lookup!O79))","v":""}]
[null,null,null,null,{"$f":"IF(I87=\"\",\"\",IF(B$13<E87+1,\"\",IF(I87=B$14,\"\",lookup!M80)))","v":""},{"$f":"IF(E88=\"\",\"\",lookup!N80)","v":""},{"$f":"IF(E88=\"\",\"\",lookup!O80-lookup!N80)","v":""},"",{"$f":"IF(E88=\"\",\"\",IF(lookup!O80<0,0,lookup!O80))","v":""}]
[null,null,null,null,{"$f":"IF(I88=\"\",\"\",IF(B$13<E88+1,\"\",IF(I88=B$14,\"\",lookup!M81)))","v":""},{"$f":"IF(E89=\"\",\"\",lookup!N81)","v":""},{"$f":"IF(E89=\"\",\"\",lookup!O81-lookup!N81)","v":""},"",{"$f":"IF(E89=\"\",\"\",IF(lookup!O81<0,0,lookup!O81))","v":""}]
[null,null,null,null,{"$f":"IF(I89=\"\",\"\",IF(B$13<E89+1,\"\",IF(I89=B$14,\"\",lookup!M82)))","v":""},{"$f":"IF(E90=\"\",\"\",lookup!N82)","v":""},{"$f":"IF(E90=\"\",\"\",lookup!O82-lookup!N82)","v":""},"",{"$f":"IF(E90=\"\",\"\",IF(lookup!O82<0,0,lookup!O82))","v":""}]
[null,null,null,null,{"$f":"IF(I90=\"\",\"\",IF(B$13<E90+1,\"\",IF(I90=B$14,\"\",lookup!M83)))","v":""},{"$f":"IF(E91=\"\",\"\",lookup!N83)","v":""},{"$f":"IF(E91=\"\",\"\",lookup!O83-lookup!N83)","v":""},"",{"$f":"IF(E91=\"\",\"\",IF(lookup!O83<0,0,lookup!O83))","v":""}]
[null,null,null,null,{"$f":"IF(I91=\"\",\"\",IF(B$13<E91+1,\"\",IF(I91=B$14,\"\",lookup!M84)))","v":""},{"$f":"IF(E92=\"\",\"\",lookup!N84)","v":""},{"$f":"IF(E92=\"\",\"\",lookup!O84-lookup!N84)","v":""},"",{"$f":"IF(E92=\"\",\"\",IF(lookup!O84<0,0,lookup!O84))","v":""}]
[null,null,null,null,{"$f":"IF(I92=\"\",\"\",IF(B$13<E92+1,\"\",IF(I92=B$14,\"\",lookup!M85)))","v":""},{"$f":"IF(E93=\"\",\"\",lookup!N85)","v":""},{"$f":"IF(E93=\"\",\"\",lookup!O85-lookup!N85)","v":""},"",{"$f":"IF(E93=\"\",\"\",IF(lookup!O85<0,0,lookup!O85))","v":""}]
[null,null,null,null,{"$f":"IF(I93=\"\",\"\",IF(B$13<E93+1,\"\",IF(I93=B$14,\"\",lookup!M86)))","v":""},{"$f":"IF(E94=\"\",\"\",lookup!N86)","v":""},{"$f":"IF(E94=\"\",\"\",lookup!O86-lookup!N86)","v":""},"",{"$f":"IF(E94=\"\",\"\",IF(lookup!O86<0,0,lookup!O86))","v":""}]
[null,null,null,null,{"$f":"IF(I94=\"\",\"\",IF(B$13<E94+1,\"\",IF(I94=B$14,\"\",lookup!M87)))","v":""},{"$f":"IF(E95=\"\",\"\",lookup!N87)","v":""},{"$f":"IF(E95=\"\",\"\",lookup!O87-lookup!N87)","v":""},"",{"$f":"IF(E95=\"\",\"\",IF(lookup!O87<0,0,lookup!O87))","v":""}]
[null,null,null,null,{"$f":"IF(I95=\"\",\"\",IF(B$13<E95+1,\"\",IF(I95=B$14,\"\",lookup!M88)))","v":""},{"$f":"IF(E96=\"\",\"\",lookup!N88)","v":""},{"$f":"IF(E96=\"\",\"\",lookup!O88-lookup!N88)","v":""},"",{"$f":"IF(E96=\"\",\"\",IF(lookup!O88<0,0,lookup!O88))","v":""}]
[null,null,null,null,{"$f":"IF(I96=\"\",\"\",IF(B$13<E96+1,\"\",IF(I96=B$14,\"\",lookup!M89)))","v":""},{"$f":"IF(E97=\"\",\"\",lookup!N89)","v":""},{"$f":"IF(E97=\"\",\"\",lookup!O89-lookup!N89)","v":""},"",{"$f":"IF(E97=\"\",\"\",IF(lookup!O89<0,0,lookup!O89))","v":""}]
[null,null,null,null,{"$f":"IF(I97=\"\",\"\",IF(B$13<E97+1,\"\",IF(I97=B$14,\"\",lookup!M90)))","v":""},{"$f":"IF(E98=\"\",\"\",lookup!N90)","v":""},{"$f":"IF(E98=\"\",\"\",lookup!O90-lookup!N90)","v":""},"",{"$f":"IF(E98=\"\",\"\",IF(lookup!O90<0,0,lookup!O90))","v":""}]
[null,null,null,null,{"$f":"IF(I98=\"\",\"\",IF(B$13<E98+1,\"\",IF(I98=B$14,\"\",lookup!M91)))","v":""},{"$f":"IF(E99=\"\",\"\",lookup!N91)","v":""},{"$f":"IF(E99=\"\",\"\",lookup!O91-lookup!N91)","v":""},"",{"$f":"IF(E99=\"\",\"\",IF(lookup!O91<0,0,lookup!O91))","v":""}]
[null,null,null,null,{"$f":"IF(I99=\"\",\"\",IF(B$13<E99+1,\"\",IF(I99=B$14,\"\",lookup!M92)))","v":""},{"$f":"IF(E100=\"\",\"\",lookup!N92)","v":""},{"$f":"IF(E100=\"\",\"\",lookup!O92-lookup!N92)","v":""},"",{"$f":"IF(E100=\"\",\"\",IF(lookup!O92<0,0,lookup!O92))","v":""}]
[null,null,null,null,{"$f":"IF(I100=\"\",\"\",IF(B$13<E100+1,\"\",IF(I100=B$14,\"\",lookup!M93)))","v":""},{"$f":"IF(E101=\"\",\"\",lookup!N93)","v":""},{"$f":"IF(E101=\"\",\"\",lookup!O93-lookup!N93)","v":""},"",{"$f":"IF(E101=\"\",\"\",IF(lookup!O93<0,0,lookup!O93))","v":""}]
[null,null,null,null,{"$f":"IF(I101=\"\",\"\",IF(B$13<E101+1,\"\",IF(I101=B$14,\"\",lookup!M94)))","v":""},{"$f":"IF(E102=\"\",\"\",lookup!N94)","v":""},{"$f":"IF(E102=\"\",\"\",lookup!O94-lookup!N94)","v":""},"",{"$f":"IF(E102=\"\",\"\",IF(lookup!O94<0,0,lookup!O94))","v":""}]
[null,null,null,null,{"$f":"IF(I102=\"\",\"\",IF(B$13<E102+1,\"\",IF(I102=B$14,\"\",lookup!M95)))","v":""},{"$f":"IF(E103=\"\",\"\",lookup!N95)","v":""},{"$f":"IF(E103=\"\",\"\",lookup!O95-lookup!N95)","v":""},"",{"$f":"IF(E103=\"\",\"\",IF(lookup!O95<0,0,lookup!O95))","v":""}]
[null,null,null,null,{"$f":"IF(I103=\"\",\"\",IF(B$13<E103+1,\"\",IF(I103=B$14,\"\",lookup!M96)))","v":""},{"$f":"IF(E104=\"\",\"\",lookup!N96)","v":""},{"$f":"IF(E104=\"\",\"\",lookup!O96-lookup!N96)","v":""},"",{"$f":"IF(E104=\"\",\"\",IF(lookup!O96<0,0,lookup!O96))","v":""}]
[null,null,null,null,{"$f":"IF(I104=\"\",\"\",IF(B$13<E104+1,\"\",IF(I104=B$14,\"\",lookup!M97)))","v":""},{"$f":"IF(E105=\"\",\"\",lookup!N97)","v":""},{"$f":"IF(E105=\"\",\"\",lookup!O97-lookup!N97)","v":""},"",{"$f":"IF(E105=\"\",\"\",IF(lookup!O97<0,0,lookup!O97))","v":""}]
[null,null,null,null,{"$f":"IF(I105=\"\",\"\",IF(B$13<E105+1,\"\",IF(I105=B$14,\"\",lookup!M98)))","v":""},{"$f":"IF(E106=\"\",\"\",lookup!N98)","v":""},{"$f":"IF(E106=\"\",\"\",lookup!O98-lookup!N98)","v":""},"",{"$f":"IF(E106=\"\",\"\",IF(lookup!O98<0,0,lookup!O98))","v":""}]
[null,null,null,null,{"$f":"IF(I106=\"\",\"\",IF(B$13<E106+1,\"\",IF(I106=B$14,\"\",lookup!M99)))","v":""},{"$f":"IF(E107=\"\",\"\",lookup!N99)","v":""},{"$f":"IF(E107=\"\",\"\",lookup!O99-lookup!N99)","v":""},"",{"$f":"IF(E107=\"\",\"\",IF(lookup!O99<0,0,lookup!O99))","v":""}]
[null,null,null,null,{"$f":"IF(I107=\"\",\"\",IF(B$13<E107+1,\"\",IF(I107=B$14,\"\",lookup!M100)))","v":""},{"$f":"IF(E108=\"\",\"\",lookup!N100)","v":""},{"$f":"IF(E108=\"\",\"\",lookup!O100-lookup!N100)","v":""},"",{"$f":"IF(E108=\"\",\"\",IF(lookup!O100<0,0,lookup!O100))","v":""}]
[null,null,null,null,{"$f":"IF(I108=\"\",\"\",IF(B$13<E108+1,\"\",IF(I108=B$14,\"\",lookup!M101)))","v":""},{"$f":"IF(E109=\"\",\"\",lookup!N101)","v":""},{"$f":"IF(E109=\"\",\"\",lookup!O101-lookup!N101)","v":""},"",{"$f":"IF(E109=\"\",\"\",IF(lookup!O101<0,0,lookup!O101))","v":""}]
[null,null,null,null,{"$f":"IF(I109=\"\",\"\",IF(B$13<E109+1,\"\",IF(I109=B$14,\"\",lookup!M102)))","v":""},{"$f":"IF(E110=\"\",\"\",lookup!N102)","v":""},{"$f":"IF(E110=\"\",\"\",lookup!O102-lookup!N102)","v":""},"",{"$f":"IF(E110=\"\",\"\",IF(lookup!O102<0,0,lookup!O102))","v":""}]
[null,null,null,null,{"$f":"IF(I110=\"\",\"\",IF(B$13<E110+1,\"\",IF(I110=B$14,\"\",lookup!M103)))","v":""},{"$f":"IF(E111=\"\",\"\",lookup!N103)","v":""},{"$f":"IF(E111=\"\",\"\",lookup!O103-lookup!N103)","v":""},"",{"$f":"IF(E111=\"\",\"\",IF(lookup!O103<0,0,lookup!O103))","v":""}]
[null,null,null,null,{"$f":"IF(I111=\"\",\"\",IF(B$13<E111+1,\"\",IF(I111=B$14,\"\",lookup!M104)))","v":""},{"$f":"IF(E112=\"\",\"\",lookup!N104)","v":""},{"$f":"IF(E112=\"\",\"\",lookup!O104-lookup!N104)","v":""},"",{"$f":"IF(E112=\"\",\"\",IF(lookup!O104<0,0,lookup!O104))","v":""}]
[null,null,null,null,{"$f":"IF(I112=\"\",\"\",IF(B$13<E112+1,\"\",IF(I112=B$14,\"\",lookup!M105)))","v":""},{"$f":"IF(E113=\"\",\"\",lookup!N105)","v":""},{"$f":"IF(E113=\"\",\"\",lookup!O105-lookup!N105)","v":""},"",{"$f":"IF(E113=\"\",\"\",IF(lookup!O105<0,0,lookup!O105))","v":""}]
[null,null,null,null,{"$f":"IF(I113=\"\",\"\",IF(B$13<E113+1,\"\",IF(I113=B$14,\"\",lookup!M106)))","v":""},{"$f":"IF(E114=\"\",\"\",lookup!N106)","v":""},{"$f":"IF(E114=\"\",\"\",lookup!O106-lookup!N106)","v":""},"",{"$f":"IF(E114=\"\",\"\",IF(lookup!O106<0,0,lookup!O106))","v":""}]
[null,null,null,null,{"$f":"IF(I114=\"\",\"\",IF(B$13<E114+1,\"\",IF(I114=B$14,\"\",lookup!M107)))","v":""},{"$f":"IF(E115=\"\",\"\",lookup!N107)","v":""},{"$f":"IF(E115=\"\",\"\",lookup!O107-lookup!N107)","v":""},"",{"$f":"IF(E115=\"\",\"\",IF(lookup!O107<0,0,lookup!O107))","v":""}]
[null,null,null,null,{"$f":"IF(I115=\"\",\"\",IF(B$13<E115+1,\"\",IF(I115=B$14,\"\",lookup!M108)))","v":""},{"$f":"IF(E116=\"\",\"\",lookup!N108)","v":""},{"$f":"IF(E116=\"\",\"\",lookup!O108-lookup!N108)","v":""},"",{"$f":"IF(E116=\"\",\"\",IF(lookup!O108<0,0,lookup!O108))","v":""}]
[null,null,null,null,{"$f":"IF(I116=\"\",\"\",IF(B$13<E116+1,\"\",IF(I116=B$14,\"\",lookup!M109)))","v":""},{"$f":"IF(E117=\"\",\"\",lookup!N109)","v":""},{"$f":"IF(E117=\"\",\"\",lookup!O109-lookup!N109)","v":""},"",{"$f":"IF(E117=\"\",\"\",IF(lookup!O109<0,0,lookup!O109))","v":""}]
[null,null,null,null,{"$f":"IF(I117=\"\",\"\",IF(B$13<E117+1,\"\",IF(I117=B$14,\"\",lookup!M110)))","v":""},{"$f":"IF(E118=\"\",\"\",lookup!N110)","v":""},{"$f":"IF(E118=\"\",\"\",lookup!O110-lookup!N110)","v":""},"",{"$f":"IF(E118=\"\",\"\",IF(lookup!O110<0,0,lookup!O110))","v":""}]
[null,null,null,null,{"$f":"IF(I118=\"\",\"\",IF(B$13<E118+1,\"\",IF(I118=B$14,\"\",lookup!M111)))","v":""},{"$f":"IF(E119=\"\",\"\",lookup!N111)","v":""},{"$f":"IF(E119=\"\",\"\",lookup!O111-lookup!N111)","v":""},"",{"$f":"IF(E119=\"\",\"\",IF(lookup!O111<0,0,lookup!O111))","v":""}]
[null,null,null,null,{"$f":"IF(I119=\"\",\"\",IF(B$13<E119+1,\"\",IF(I119=B$14,\"\",lookup!M112)))","v":""},{"$f":"IF(E120=\"\",\"\",lookup!N112)","v":""},{"$f":"IF(E120=\"\",\"\",lookup!O112-lookup!N112)","v":""},"",{"$f":"IF(E120=\"\",\"\",IF(lookup!O112<0,0,lookup!O112))","v":""}]
[null,null,null,null,{"$f":"IF(I120=\"\",\"\",IF(B$13<E120+1,\"\",IF(I120=B$14,\"\",lookup!M113)))","v":""},{"$f":"IF(E121=\"\",\"\",lookup!N113)","v":""},{"$f":"IF(E121=\"\",\"\",lookup!O113-lookup!N113)","v":""},"",{"$f":"IF(E121=\"\",\"\",IF(lookup!O113<0,0,lookup!O113))","v":""}]
[null,null,null,null,{"$f":"IF(I121=\"\",\"\",IF(B$13<E121+1,\"\",IF(I121=B$14,\"\",lookup!M114)))","v":""},{"$f":"IF(E122=\"\",\"\",lookup!N114)","v":""},{"$f":"IF(E122=\"\",\"\",lookup!O114-lookup!N114)","v":""},"",{"$f":"IF(E122=\"\",\"\",IF(lookup!O114<0,0,lookup!O114))","v":""}]
[null,null,null,null,{"$f":"IF(I122=\"\",\"\",IF(B$13<E122+1,\"\",IF(I122=B$14,\"\",lookup!M115)))","v":""},{"$f":"IF(E123=\"\",\"\",lookup!N115)","v":""},{"$f":"IF(E123=\"\",\"\",lookup!O115-lookup!N115)","v":""},"",{"$f":"IF(E123=\"\",\"\",IF(lookup!O115<0,0,lookup!O115))","v":""}]
[null,null,null,null,{"$f":"IF(I123=\"\",\"\",IF(B$13<E123+1,\"\",IF(I123=B$14,\"\",lookup!M116)))","v":""},{"$f":"IF(E124=\"\",\"\",lookup!N116)","v":""},{"$f":"IF(E124=\"\",\"\",lookup!O116-lookup!N116)","v":""},"",{"$f":"IF(E124=\"\",\"\",IF(lookup!O116<0,0,lookup!O116))","v":""}]
[null,null,null,null,{"$f":"IF(I124=\"\",\"\",IF(B$13<E124+1,\"\",IF(I124=B$14,\"\",lookup!M117)))","v":""},{"$f":"IF(E125=\"\",\"\",lookup!N117)","v":""},{"$f":"IF(E125=\"\",\"\",lookup!O117-lookup!N117)","v":""},"",{"$f":"IF(E125=\"\",\"\",IF(lookup!O117<0,0,lookup!O117))","v":""}]
[null,null,null,null,{"$f":"IF(I125=\"\",\"\",IF(B$13<E125+1,\"\",IF(I125=B$14,\"\",lookup!M118)))","v":""},{"$f":"IF(E126=\"\",\"\",lookup!N118)","v":""},{"$f":"IF(E126=\"\",\"\",lookup!O118-lookup!N118)","v":""},"",{"$f":"IF(E126=\"\",\"\",IF(lookup!O118<0,0,lookup!O118))","v":""}]
[null,null,null,null,{"$f":"IF(I126=\"\",\"\",IF(B$13<E126+1,\"\",IF(I126=B$14,\"\",lookup!M119)))","v":""},{"$f":"IF(E127=\"\",\"\",lookup!N119)","v":""},{"$f":"IF(E127=\"\",\"\",lookup!O119-lookup!N119)","v":""},"",{"$f":"IF(E127=\"\",\"\",IF(lookup!O119<0,0,lookup!O119))","v":""}]
[null,null,null,null,{"$f":"IF(I127=\"\",\"\",IF(B$13<E127+1,\"\",IF(I127=B$14,\"\",lookup!M120)))","v":""},{"$f":"IF(E128=\"\",\"\",lookup!N120)","v":""},{"$f":"IF(E128=\"\",\"\",lookup!O120-lookup!N120)","v":""},"",{"$f":"IF(E128=\"\",\"\",IF(lookup!O120<0,0,lookup!O120))","v":""}]
[null,null,null,null,{"$f":"IF(I128=\"\",\"\",IF(B$13<E128+1,\"\",IF(I128=B$14,\"\",lookup!M121)))","v":""},{"$f":"IF(E129=\"\",\"\",lookup!N121)","v":""},{"$f":"IF(E129=\"\",\"\",lookup!O121-lookup!N121)","v":""},"",{"$f":"IF(E129=\"\",\"\",IF(lookup!O121<0,0,lookup!O121))","v":""}]
[null,null,null,null,{"$f":"IF(I129=\"\",\"\",IF(B$13<E129+1,\"\",IF(I129=B$14,\"\",lookup!M122)))","v":""},{"$f":"IF(E130=\"\",\"\",lookup!N122)","v":""},{"$f":"IF(E130=\"\",\"\",lookup!O122-lookup!N122)","v":""},"",{"$f":"IF(E130=\"\",\"\",IF(lookup!O122<0,0,lookup!O122))","v":""}]
[null,null,null,null,{"$f":"IF(I130=\"\",\"\",IF(B$13<E130+1,\"\",IF(I130=B$14,\"\",lookup!M123)))","v":""},{"$f":"IF(E131=\"\",\"\",lookup!N123)","v":""},{"$f":"IF(E131=\"\",\"\",lookup!O123-lookup!N123)","v":""},"",{"$f":"IF(E131=\"\",\"\",IF(lookup!O123<0,0,lookup!O123))","v":""}]
[null,null,null,null,{"$f":"IF(I131=\"\",\"\",IF(B$13<E131+1,\"\",IF(I131=B$14,\"\",lookup!M124)))","v":""},{"$f":"IF(E132=\"\",\"\",lookup!N124)","v":""},{"$f":"IF(E132=\"\",\"\",lookup!O124-lookup!N124)","v":""},"",{"$f":"IF(E132=\"\",\"\",IF(lookup!O124<0,0,lookup!O124))","v":""}]
[null,null,null,null,{"$f":"IF(I132=\"\",\"\",IF(B$13<E132+1,\"\",IF(I132=B$14,\"\",lookup!M125)))","v":""},{"$f":"IF(E133=\"\",\"\",lookup!N125)","v":""},{"$f":"IF(E133=\"\",\"\",lookup!O125-lookup!N125)","v":""},"",{"$f":"IF(E133=\"\",\"\",IF(lookup!O125<0,0,lookup!O125))","v":""}]
[null,null,null,null,{"$f":"IF(I133=\"\",\"\",IF(B$13<E133+1,\"\",IF(I133=B$14,\"\",lookup!M126)))","v":""},{"$f":"IF(E134=\"\",\"\",lookup!N126)","v":""},{"$f":"IF(E134=\"\",\"\",lookup!O126-lookup!N126)","v":""},"",{"$f":"IF(E134=\"\",\"\",IF(lookup!O126<0,0,lookup!O126))","v":""}]
[null,null,null,null,{"$f":"IF(I134=\"\",\"\",IF(B$13<E134+1,\"\",IF(I134=B$14,\"\",lookup!M127)))","v":""},{"$f":"IF(E135=\"\",\"\",lookup!N127)","v":""},{"$f":"IF(E135=\"\",\"\",lookup!O127-lookup!N127)","v":""},"",{"$f":"IF(E135=\"\",\"\",IF(lookup!O127<0,0,lookup!O127))","v":""}]
[null,null,null,null,{"$f":"IF(I135=\"\",\"\",IF(B$13<E135+1,\"\",IF(I135=B$14,\"\",lookup!M128)))","v":""},{"$f":"IF(E136=\"\",\"\",lookup!N128)","v":""},{"$f":"IF(E136=\"\",\"\",lookup!O128-lookup!N128)","v":""},"",{"$f":"IF(E136=\"\",\"\",IF(lookup!O128<0,0,lookup!O128))","v":""}]
[null,null,null,null,{"$f":"IF(I136=\"\",\"\",IF(B$13<E136+1,\"\",IF(I136=B$14,\"\",lookup!M129)))","v":""},{"$f":"IF(E137=\"\",\"\",lookup!N129)","v":""},{"$f":"IF(E137=\"\",\"\",lookup!O129-lookup!N129)","v":""},"",{"$f":"IF(E137=\"\",\"\",IF(lookup!O129<0,0,lookup!O129))","v":""}]
[null,null,null,null,{"$f":"IF(I137=\"\",\"\",IF(B$13<E137+1,\"\",IF(I137=B$14,\"\",lookup!M130)))","v":""},{"$f":"IF(E138=\"\",\"\",lookup!N130)","v":""},{"$f":"IF(E138=\"\",\"\",lookup!O130-lookup!N130)","v":""},"",{"$f":"IF(E138=\"\",\"\",IF(lookup!O130<0,0,lookup!O130))","v":""}]
[null,null,null,null,{"$f":"IF(I138=\"\",\"\",IF(B$13<E138+1,\"\",IF(I138=B$14,\"\",lookup!M131)))","v":""},{"$f":"IF(E139=\"\",\"\",lookup!N131)","v":""},{"$f":"IF(E139=\"\",\"\",lookup!O131-lookup!N131)","v":""},"",{"$f":"IF(E139=\"\",\"\",IF(lookup!O131<0,0,lookup!O131))","v":""}]
[null,null,null,null,{"$f":"IF(I139=\"\",\"\",IF(B$13<E139+1,\"\",IF(I139=B$14,\"\",lookup!M132)))","v":""},{"$f":"IF(E140=\"\",\"\",lookup!N132)","v":""},{"$f":"IF(E140=\"\",\"\",lookup!O132-lookup!N132)","v":""},"",{"$f":"IF(E140=\"\",\"\",IF(lookup!O132<0,0,lookup!O132))","v":""}]
[null,null,null,null,{"$f":"IF(I140=\"\",\"\",IF(B$13<E140+1,\"\",IF(I140=B$14,\"\",lookup!M133)))","v":""},{"$f":"IF(E141=\"\",\"\",lookup!N133)","v":""},{"$f":"IF(E141=\"\",\"\",lookup!O133-lookup!N133)","v":""},{"$f":"IF(E141=\"\",\"\",H140+G141)","v":""},{"$f":"IF(E141=\"\",\"\",IF(lookup!O133<0,0,lookup!O133))","v":""}]
[null,null,null,null,{"$f":"IF(I141=\"\",\"\",IF(B$13<E141+1,\"\",IF(I141=B$14,\"\",lookup!M134)))","v":""},{"$f":"IF(E142=\"\",\"\",lookup!N134)","v":""},{"$f":"IF(E142=\"\",\"\",lookup!O134-lookup!N134)","v":""},"",{"$f":"IF(E142=\"\",\"\",IF(lookup!O134<0,0,lookup!O134))","v":""}]
[null,null,null,null,{"$f":"IF(I142=\"\",\"\",IF(B$13<E142+1,\"\",IF(I142=B$14,\"\",lookup!M135)))","v":""},{"$f":"IF(E143=\"\",\"\",lookup!N135)","v":""},{"$f":"IF(E143=\"\",\"\",lookup!O135-lookup!N135)","v":""},"",{"$f":"IF(E143=\"\",\"\",IF(lookup!O135<0,0,lookup!O135))","v":""}]
[null,null,null,null,{"$f":"IF(I143=\"\",\"\",IF(B$13<E143+1,\"\",IF(I143=B$14,\"\",lookup!M136)))","v":""},{"$f":"IF(E144=\"\",\"\",lookup!N136)","v":""},{"$f":"IF(E144=\"\",\"\",lookup!O136-lookup!N136)","v":""},"",{"$f":"IF(E144=\"\",\"\",IF(lookup!O136<0,0,lookup!O136))","v":""}]
[null,null,null,null,{"$f":"IF(I144=\"\",\"\",IF(B$13<E144+1,\"\",IF(I144=B$14,\"\",lookup!M137)))","v":""},{"$f":"IF(E145=\"\",\"\",lookup!N137)","v":""},{"$f":"IF(E145=\"\",\"\",lookup!O137-lookup!N137)","v":""},"",{"$f":"IF(E145=\"\",\"\",IF(lookup!O137<0,0,lookup!O137))","v":""}]
[null,null,null,null,{"$f":"IF(I145=\"\",\"\",IF(B$13<E145+1,\"\",IF(I145=B$14,\"\",lookup!M138)))","v":""},{"$f":"IF(E146=\"\",\"\",lookup!N138)","v":""},{"$f":"IF(E146=\"\",\"\",lookup!O138-lookup!N138)","v":""},"",{"$f":"IF(E146=\"\",\"\",IF(lookup!O138<0,0,lookup!O138))","v":""}]
[null,null,null,null,{"$f":"IF(I146=\"\",\"\",IF(B$13<E146+1,\"\",IF(I146=B$14,\"\",lookup!M139)))","v":""},{"$f":"IF(E147=\"\",\"\",lookup!N139)","v":""},{"$f":"IF(E147=\"\",\"\",lookup!O139-lookup!N139)","v":""},"",{"$f":"IF(E147=\"\",\"\",IF(lookup!O139<0,0,lookup!O139))","v":""}]
[null,null,null,null,{"$f":"IF(I147=\"\",\"\",IF(B$13<E147+1,\"\",IF(I147=B$14,\"\",lookup!M140)))","v":""},{"$f":"IF(E148=\"\",\"\",lookup!N140)","v":""},{"$f":"IF(E148=\"\",\"\",lookup!O140-lookup!N140)","v":""},"",{"$f":"IF(E148=\"\",\"\",IF(lookup!O140<0,0,lookup!O140))","v":""}]
[null,null,null,null,{"$f":"IF(I148=\"\",\"\",IF(B$13<E148+1,\"\",IF(I148=B$14,\"\",lookup!M141)))","v":""},{"$f":"IF(E149=\"\",\"\",lookup!N141)","v":""},{"$f":"IF(E149=\"\",\"\",lookup!O141-lookup!N141)","v":""},"",{"$f":"IF(E149=\"\",\"\",IF(lookup!O141<0,0,lookup!O141))","v":""}]
[null,null,null,null,{"$f":"IF(I149=\"\",\"\",IF(B$13<E149+1,\"\",IF(I149=B$14,\"\",lookup!M142)))","v":""},{"$f":"IF(E150=\"\",\"\",lookup!N142)","v":""},{"$f":"IF(E150=\"\",\"\",lookup!O142-lookup!N142)","v":""},"",{"$f":"IF(E150=\"\",\"\",IF(lookup!O142<0,0,lookup!O142))","v":""}]
[null,null,null,null,{"$f":"IF(I150=\"\",\"\",IF(B$13<E150+1,\"\",IF(I150=B$14,\"\",lookup!M143)))","v":""},{"$f":"IF(E151=\"\",\"\",lookup!N143)","v":""},{"$f":"IF(E151=\"\",\"\",lookup!O143-lookup!N143)","v":""},"",{"$f":"IF(E151=\"\",\"\",IF(lookup!O143<0,0,lookup!O143))","v":""}]
[null,null,null,null,{"$f":"IF(I151=\"\",\"\",IF(B$13<E151+1,\"\",IF(I151=B$14,\"\",lookup!M144)))","v":""},{"$f":"IF(E152=\"\",\"\",lookup!N144)","v":""},{"$f":"IF(E152=\"\",\"\",lookup!O144-lookup!N144)","v":""},"",{"$f":"IF(E152=\"\",\"\",IF(lookup!O144<0,0,lookup!O144))","v":""}]
[null,null,null,null,{"$f":"IF(I152=\"\",\"\",IF(B$13<E152+1,\"\",IF(I152=B$14,\"\",lookup!M145)))","v":""},{"$f":"IF(E153=\"\",\"\",lookup!N145)","v":""},{"$f":"IF(E153=\"\",\"\",lookup!O145-lookup!N145)","v":""},"",{"$f":"IF(E153=\"\",\"\",IF(lookup!O145<0,0,lookup!O145))","v":""}]
[null,null,null,null,{"$f":"IF(I153=\"\",\"\",IF(B$13<E153+1,\"\",IF(I153=B$14,\"\",lookup!M146)))","v":""},{"$f":"IF(E154=\"\",\"\",lookup!N146)","v":""},{"$f":"IF(E154=\"\",\"\",lookup!O146-lookup!N146)","v":""},"",{"$f":"IF(E154=\"\",\"\",IF(lookup!O146<0,0,lookup!O146))","v":""}]
[null,null,null,null,{"$f":"IF(I154=\"\",\"\",IF(B$13<E154+1,\"\",IF(I154=B$14,\"\",lookup!M147)))","v":""},{"$f":"IF(E155=\"\",\"\",lookup!N147)","v":""},{"$f":"IF(E155=\"\",\"\",lookup!O147-lookup!N147)","v":""},"",{"$f":"IF(E155=\"\",\"\",IF(lookup!O147<0,0,lookup!O147))","v":""}]
[null,null,null,null,{"$f":"IF(I155=\"\",\"\",IF(B$13<E155+1,\"\",IF(I155=B$14,\"\",lookup!M148)))","v":""},{"$f":"IF(E156=\"\",\"\",lookup!N148)","v":""},{"$f":"IF(E156=\"\",\"\",lookup!O148-lookup!N148)","v":""},"",{"$f":"IF(E156=\"\",\"\",IF(lookup!O148<0,0,lookup!O148))","v":""}]
[null,null,null,null,{"$f":"IF(I156=\"\",\"\",IF(B$13<E156+1,\"\",IF(I156=B$14,\"\",lookup!M149)))","v":""},{"$f":"IF(E157=\"\",\"\",lookup!N149)","v":""},{"$f":"IF(E157=\"\",\"\",lookup!O149-lookup!N149)","v":""},"",{"$f":"IF(E157=\"\",\"\",IF(lookup!O149<0,0,lookup!O149))","v":""}]
[null,null,null,null,{"$f":"IF(I157=\"\",\"\",IF(B$13<E157+1,\"\",IF(I157=B$14,\"\",lookup!M150)))","v":""},{"$f":"IF(E158=\"\",\"\",lookup!N150)","v":""},{"$f":"IF(E158=\"\",\"\",lookup!O150-lookup!N150)","v":""},"",{"$f":"IF(E158=\"\",\"\",IF(lookup!O150<0,0,lookup!O150))","v":""}]
[null,null,null,null,{"$f":"IF(I158=\"\",\"\",IF(B$13<E158+1,\"\",IF(I158=B$14,\"\",lookup!M151)))","v":""},{"$f":"IF(E159=\"\",\"\",lookup!N151)","v":""},{"$f":"IF(E159=\"\",\"\",lookup!O151-lookup!N151)","v":""},"",{"$f":"IF(E159=\"\",\"\",IF(lookup!O151<0,0,lookup!O151))","v":""}]
[null,null,null,null,{"$f":"IF(I159=\"\",\"\",IF(B$13<E159+1,\"\",IF(I159=B$14,\"\",lookup!M152)))","v":""},{"$f":"IF(E160=\"\",\"\",lookup!N152)","v":""},{"$f":"IF(E160=\"\",\"\",lookup!O152-lookup!N152)","v":""},"",{"$f":"IF(E160=\"\",\"\",IF(lookup!O152<0,0,lookup!O152))","v":""}]
[null,null,null,null,{"$f":"IF(I160=\"\",\"\",IF(B$13<E160+1,\"\",IF(I160=B$14,\"\",lookup!M153)))","v":""},{"$f":"IF(E161=\"\",\"\",lookup!N153)","v":""},{"$f":"IF(E161=\"\",\"\",lookup!O153-lookup!N153)","v":""},"",{"$f":"IF(E161=\"\",\"\",IF(lookup!O153<0,0,lookup!O153))","v":""}]
[null,null,null,null,{"$f":"IF(I161=\"\",\"\",IF(B$13<E161+1,\"\",IF(I161=B$14,\"\",lookup!M154)))","v":""},{"$f":"IF(E162=\"\",\"\",lookup!N154)","v":""},{"$f":"IF(E162=\"\",\"\",lookup!O154-lookup!N154)","v":""},"",{"$f":"IF(E162=\"\",\"\",IF(lookup!O154<0,0,lookup!O154))","v":""}]
[null,null,null,null,{"$f":"IF(I162=\"\",\"\",IF(B$13<E162+1,\"\",IF(I162=B$14,\"\",lookup!M155)))","v":""},{"$f":"IF(E163=\"\",\"\",lookup!N155)","v":""},{"$f":"IF(E163=\"\",\"\",lookup!O155-lookup!N155)","v":""},"",{"$f":"IF(E163=\"\",\"\",IF(lookup!O155<0,0,lookup!O155))","v":""}]
[null,null,null,null,{"$f":"IF(I163=\"\",\"\",IF(B$13<E163+1,\"\",IF(I163=B$14,\"\",lookup!M156)))","v":""},{"$f":"IF(E164=\"\",\"\",lookup!N156)","v":""},{"$f":"IF(E164=\"\",\"\",lookup!O156-lookup!N156)","v":""},"",{"$f":"IF(E164=\"\",\"\",IF(lookup!O156<0,0,lookup!O156))","v":""}]
[null,null,null,null,{"$f":"IF(I164=\"\",\"\",IF(B$13<E164+1,\"\",IF(I164=B$14,\"\",lookup!M157)))","v":""},{"$f":"IF(E165=\"\",\"\",lookup!N157)","v":""},{"$f":"IF(E165=\"\",\"\",lookup!O157-lookup!N157)","v":""},"",{"$f":"IF(E165=\"\",\"\",IF(lookup!O157<0,0,lookup!O157))","v":""}]
[null,null,null,null,{"$f":"IF(I165=\"\",\"\",IF(B$13<E165+1,\"\",IF(I165=B$14,\"\",lookup!M158)))","v":""},{"$f":"IF(E166=\"\",\"\",lookup!N158)","v":""},{"$f":"IF(E166=\"\",\"\",lookup!O158-lookup!N158)","v":""},"",{"$f":"IF(E166=\"\",\"\",IF(lookup!O158<0,0,lookup!O158))","v":""}]
[null,null,null,null,{"$f":"IF(I166=\"\",\"\",IF(B$13<E166+1,\"\",IF(I166=B$14,\"\",lookup!M159)))","v":""},{"$f":"IF(E167=\"\",\"\",lookup!N159)","v":""},{"$f":"IF(E167=\"\",\"\",lookup!O159-lookup!N159)","v":""},"",{"$f":"IF(E167=\"\",\"\",IF(lookup!O159<0,0,lookup!O159))","v":""}]
[null,null,null,null,{"$f":"IF(I167=\"\",\"\",IF(B$13<E167+1,\"\",IF(I167=B$14,\"\",lookup!M160)))","v":""},{"$f":"IF(E168=\"\",\"\",lookup!N160)","v":""},{"$f":"IF(E168=\"\",\"\",lookup!O160-lookup!N160)","v":""},"",{"$f":"IF(E168=\"\",\"\",IF(lookup!O160<0,0,lookup!O160))","v":""}]
[null,null,null,null,{"$f":"IF(I168=\"\",\"\",IF(B$13<E168+1,\"\",IF(I168=B$14,\"\",lookup!M161)))","v":""},{"$f":"IF(E169=\"\",\"\",lookup!N161)","v":""},{"$f":"IF(E169=\"\",\"\",lookup!O161-lookup!N161)","v":""},"",{"$f":"IF(E169=\"\",\"\",IF(lookup!O161<0,0,lookup!O161))","v":""}]
[null,null,null,null,{"$f":"IF(I169=\"\",\"\",IF(B$13<E169+1,\"\",IF(I169=B$14,\"\",lookup!M162)))","v":""},{"$f":"IF(E170=\"\",\"\",lookup!N162)","v":""},{"$f":"IF(E170=\"\",\"\",lookup!O162-lookup!N162)","v":""},"",{"$f":"IF(E170=\"\",\"\",IF(lookup!O162<0,0,lookup!O162))","v":""}]
[null,null,null,null,{"$f":"IF(I170=\"\",\"\",IF(B$13<E170+1,\"\",IF(I170=B$14,\"\",lookup!M163)))","v":""},{"$f":"IF(E171=\"\",\"\",lookup!N163)","v":""},{"$f":"IF(E171=\"\",\"\",lookup!O163-lookup!N163)","v":""},"",{"$f":"IF(E171=\"\",\"\",IF(lookup!O163<0,0,lookup!O163))","v":""}]
[null,null,null,null,{"$f":"IF(I171=\"\",\"\",IF(B$13<E171+1,\"\",IF(I171=B$14,\"\",lookup!M164)))","v":""},{"$f":"IF(E172=\"\",\"\",lookup!N164)","v":""},{"$f":"IF(E172=\"\",\"\",lookup!O164-lookup!N164)","v":""},"",{"$f":"IF(E172=\"\",\"\",IF(lookup!O164<0,0,lookup!O164))","v":""}]
[null,null,null,null,{"$f":"IF(I172=\"\",\"\",IF(B$13<E172+1,\"\",IF(I172=B$14,\"\",lookup!M165)))","v":""},{"$f":"IF(E173=\"\",\"\",lookup!N165)","v":""},{"$f":"IF(E173=\"\",\"\",lookup!O165-lookup!N165)","v":""},"",{"$f":"IF(E173=\"\",\"\",IF(lookup!O165<0,0,lookup!O165))","v":""}]
[null,null,null,null,{"$f":"IF(I173=\"\",\"\",IF(B$13<E173+1,\"\",IF(I173=B$14,\"\",lookup!M166)))","v":""},{"$f":"IF(E174=\"\",\"\",lookup!N166)","v":""},{"$f":"IF(E174=\"\",\"\",lookup!O166-lookup!N166)","v":""},"",{"$f":"IF(E174=\"\",\"\",IF(lookup!O166<0,0,lookup!O166))","v":""}]
[null,null,null,null,{"$f":"IF(I174=\"\",\"\",IF(B$13<E174+1,\"\",IF(I174=B$14,\"\",lookup!M167)))","v":""},{"$f":"IF(E175=\"\",\"\",lookup!N167)","v":""},{"$f":"IF(E175=\"\",\"\",lookup!O167-lookup!N167)","v":""},"",{"$f":"IF(E175=\"\",\"\",IF(lookup!O167<0,0,lookup!O167))","v":""}]
[null,null,null,null,{"$f":"IF(I175=\"\",\"\",IF(B$13<E175+1,\"\",IF(I175=B$14,\"\",lookup!M168)))","v":""},{"$f":"IF(E176=\"\",\"\",lookup!N168)","v":""},{"$f":"IF(E176=\"\",\"\",lookup!O168-lookup!N168)","v":""},"",{"$f":"IF(E176=\"\",\"\",IF(lookup!O168<0,0,lookup!O168))","v":""}]
[null,null,null,null,{"$f":"IF(I176=\"\",\"\",IF(B$13<E176+1,\"\",IF(I176=B$14,\"\",lookup!M169)))","v":""},{"$f":"IF(E177=\"\",\"\",lookup!N169)","v":""},{"$f":"IF(E177=\"\",\"\",lookup!O169-lookup!N169)","v":""},"",{"$f":"IF(E177=\"\",\"\",IF(lookup!O169<0,0,lookup!O169))","v":""}]
[null,null,null,null,{"$f":"IF(I177=\"\",\"\",IF(B$13<E177+1,\"\",IF(I177=B$14,\"\",lookup!M170)))","v":""},{"$f":"IF(E178=\"\",\"\",lookup!N170)","v":""},{"$f":"IF(E178=\"\",\"\",lookup!O170-lookup!N170)","v":""},"",{"$f":"IF(E178=\"\",\"\",IF(lookup!O170<0,0,lookup!O170))","v":""}]
[null,null,null,null,{"$f":"IF(I178=\"\",\"\",IF(B$13<E178+1,\"\",IF(I178=B$14,\"\",lookup!M171)))","v":""},{"$f":"IF(E179=\"\",\"\",lookup!N171)","v":""},{"$f":"IF(E179=\"\",\"\",lookup!O171-lookup!N171)","v":""},"",{"$f":"IF(E179=\"\",\"\",IF(lookup!O171<0,0,lookup!O171))","v":""}]
[null,null,null,null,{"$f":"IF(I179=\"\",\"\",IF(B$13<E179+1,\"\",IF(I179=B$14,\"\",lookup!M172)))","v":""},{"$f":"IF(E180=\"\",\"\",lookup!N172)","v":""},{"$f":"IF(E180=\"\",\"\",lookup!O172-lookup!N172)","v":""},"",{"$f":"IF(E180=\"\",\"\",IF(lookup!O172<0,0,lookup!O172))","v":""}]
[null,null,null,null,{"$f":"IF(I180=\"\",\"\",IF(B$13<E180+1,\"\",IF(I180=B$14,\"\",lookup!M173)))","v":""},{"$f":"IF(E181=\"\",\"\",lookup!N173)","v":""},{"$f":"IF(E181=\"\",\"\",lookup!O173-lookup!N173)","v":""},"",{"$f":"IF(E181=\"\",\"\",IF(lookup!O173<0,0,lookup!O173))","v":""}]
[null,null,null,null,{"$f":"IF(I181=\"\",\"\",IF(B$13<E181+1,\"\",IF(I181=B$14,\"\",lookup!M174)))","v":""},{"$f":"IF(E182=\"\",\"\",lookup!N174)","v":""},{"$f":"IF(E182=\"\",\"\",lookup!O174-lookup!N174)","v":""},"",{"$f":"IF(E182=\"\",\"\",IF(lookup!O174<0,0,lookup!O174))","v":""}]
[null,null,null,null,{"$f":"IF(I182=\"\",\"\",IF(B$13<E182+1,\"\",IF(I182=B$14,\"\",lookup!M175)))","v":""},{"$f":"IF(E183=\"\",\"\",lookup!N175)","v":""},{"$f":"IF(E183=\"\",\"\",lookup!O175-lookup!N175)","v":""},"",{"$f":"IF(E183=\"\",\"\",IF(lookup!O175<0,0,lookup!O175))","v":""}]
[null,null,null,null,{"$f":"IF(I183=\"\",\"\",IF(B$13<E183+1,\"\",IF(I183=B$14,\"\",lookup!M176)))","v":""},{"$f":"IF(E184=\"\",\"\",lookup!N176)","v":""},{"$f":"IF(E184=\"\",\"\",lookup!O176-lookup!N176)","v":""},"",{"$f":"IF(E184=\"\",\"\",IF(lookup!O176<0,0,lookup!O176))","v":""}]
[null,null,null,null,{"$f":"IF(I184=\"\",\"\",IF(B$13<E184+1,\"\",IF(I184=B$14,\"\",lookup!M177)))","v":""},{"$f":"IF(E185=\"\",\"\",lookup!N177)","v":""},{"$f":"IF(E185=\"\",\"\",lookup!O177-lookup!N177)","v":""},"",{"$f":"IF(E185=\"\",\"\",IF(lookup!O177<0,0,lookup!O177))","v":""}]
[null,null,null,null,{"$f":"IF(I185=\"\",\"\",IF(B$13<E185+1,\"\",IF(I185=B$14,\"\",lookup!M178)))","v":""},{"$f":"IF(E186=\"\",\"\",lookup!N178)","v":""},{"$f":"IF(E186=\"\",\"\",lookup!O178-lookup!N178)","v":""},"",{"$f":"IF(E186=\"\",\"\",IF(lookup!O178<0,0,lookup!O178))","v":""}]
[null,null,null,null,{"$f":"IF(I186=\"\",\"\",IF(B$13<E186+1,\"\",IF(I186=B$14,\"\",lookup!M179)))","v":""},{"$f":"IF(E187=\"\",\"\",lookup!N179)","v":""},{"$f":"IF(E187=\"\",\"\",lookup!O179-lookup!N179)","v":""},"",{"$f":"IF(E187=\"\",\"\",IF(lookup!O179<0,0,lookup!O179))","v":""}]
[null,null,null,null,{"$f":"IF(I187=\"\",\"\",IF(B$13<E187+1,\"\",IF(I187=B$14,\"\",lookup!M180)))","v":""},{"$f":"IF(E188=\"\",\"\",lookup!N180)","v":""},{"$f":"IF(E188=\"\",\"\",lookup!O180-lookup!N180)","v":""},"",{"$f":"IF(E188=\"\",\"\",IF(lookup!O180<0,0,lookup!O180))","v":""}]
[null,null,null,null,{"$f":"IF(I188=\"\",\"\",IF(B$13<E188+1,\"\",IF(I188=B$14,\"\",lookup!M181)))","v":""},{"$f":"IF(E189=\"\",\"\",lookup!N181)","v":""},{"$f":"IF(E189=\"\",\"\",lookup!O181-lookup!N181)","v":""},"",{"$f":"IF(E189=\"\",\"\",IF(lookup!O181<0,0,lookup!O181))","v":""}]
[null,null,null,null,{"$f":"IF(I189=\"\",\"\",IF(B$13<E189+1,\"\",IF(I189=B$14,\"\",lookup!M182)))","v":""},{"$f":"IF(E190=\"\",\"\",lookup!N182)","v":""},{"$f":"IF(E190=\"\",\"\",lookup!O182-lookup!N182)","v":""},"",{"$f":"IF(E190=\"\",\"\",IF(lookup!O182<0,0,lookup!O182))","v":""}]
[null,null,null,null,{"$f":"IF(I190=\"\",\"\",IF(B$13<E190+1,\"\",IF(I190=B$14,\"\",lookup!M183)))","v":""},{"$f":"IF(E191=\"\",\"\",lookup!N183)","v":""},{"$f":"IF(E191=\"\",\"\",lookup!O183-lookup!N183)","v":""},"",{"$f":"IF(E191=\"\",\"\",IF(lookup!O183<0,0,lookup!O183))","v":""}]
[null,null,null,null,{"$f":"IF(I191=\"\",\"\",IF(B$13<E191+1,\"\",IF(I191=B$14,\"\",lookup!M184)))","v":""},{"$f":"IF(E192=\"\",\"\",lookup!N184)","v":""},{"$f":"IF(E192=\"\",\"\",lookup!O184-lookup!N184)","v":""},"",{"$f":"IF(E192=\"\",\"\",IF(lookup!O184<0,0,lookup!O184))","v":""}]
[null,null,null,null,{"$f":"IF(I192=\"\",\"\",IF(B$13<E192+1,\"\",IF(I192=B$14,\"\",lookup!M185)))","v":""},{"$f":"IF(E193=\"\",\"\",lookup!N185)","v":""},{"$f":"IF(E193=\"\",\"\",lookup!O185-lookup!N185)","v":""},"",{"$f":"IF(E193=\"\",\"\",IF(lookup!O185<0,0,lookup!O185))","v":""}]
[null,null,null,null,{"$f":"IF(I193=\"\",\"\",IF(B$13<E193+1,\"\",IF(I193=B$14,\"\",lookup!M186)))","v":""},{"$f":"IF(E194=\"\",\"\",lookup!N186)","v":""},{"$f":"IF(E194=\"\",\"\",lookup!O186-lookup!N186)","v":""},"",{"$f":"IF(E194=\"\",\"\",IF(lookup!O186<0,0,lookup!O186))","v":""}]
[null,null,null,null,{"$f":"IF(I194=\"\",\"\",IF(B$13<E194+1,\"\",IF(I194=B$14,\"\",lookup!M187)))","v":""},{"$f":"IF(E195=\"\",\"\",lookup!N187)","v":""},{"$f":"IF(E195=\"\",\"\",lookup!O187-lookup!N187)","v":""},"",{"$f":"IF(E195=\"\",\"\",IF(lookup!O187<0,0,lookup!O187))","v":""}]
[null,null,null,null,{"$f":"IF(I195=\"\",\"\",IF(B$13<E195+1,\"\",IF(I195=B$14,\"\",lookup!M188)))","v":""},{"$f":"IF(E196=\"\",\"\",lookup!N188)","v":""},{"$f":"IF(E196=\"\",\"\",lookup!O188-lookup!N188)","v":""},"",{"$f":"IF(E196=\"\",\"\",IF(lookup!O188<0,0,lookup!O188))","v":""}]
[null,null,null,null,{"$f":"IF(I196=\"\",\"\",IF(B$13<E196+1,\"\",IF(I196=B$14,\"\",lookup!M189)))","v":""},{"$f":"IF(E197=\"\",\"\",lookup!N189)","v":""},{"$f":"IF(E197=\"\",\"\",lookup!O189-lookup!N189)","v":""},"",{"$f":"IF(E197=\"\",\"\",IF(lookup!O189<0,0,lookup!O189))","v":""}]
[null,null,null,null,{"$f":"IF(I197=\"\",\"\",IF(B$13<E197+1,\"\",IF(I197=B$14,\"\",lookup!M190)))","v":""},{"$f":"IF(E198=\"\",\"\",lookup!N190)","v":""},{"$f":"IF(E198=\"\",\"\",lookup!O190-lookup!N190)","v":""},"",{"$f":"IF(E198=\"\",\"\",IF(lookup!O190<0,0,lookup!O190))","v":""}]
[null,null,null,null,{"$f":"IF(I198=\"\",\"\",IF(B$13<E198+1,\"\",IF(I198=B$14,\"\",lookup!M191)))","v":""},{"$f":"IF(E199=\"\",\"\",lookup!N191)","v":""},{"$f":"IF(E199=\"\",\"\",lookup!O191-lookup!N191)","v":""},"",{"$f":"IF(E199=\"\",\"\",IF(lookup!O191<0,0,lookup!O191))","v":""}]
[null,null,null,null,{"$f":"IF(I199=\"\",\"\",IF(B$13<E199+1,\"\",IF(I199=B$14,\"\",lookup!M192)))","v":""},{"$f":"IF(E200=\"\",\"\",lookup!N192)","v":""},{"$f":"IF(E200=\"\",\"\",lookup!O192-lookup!N192)","v":""},"",{"$f":"IF(E200=\"\",\"\",IF(lookup!O192<0,0,lookup!O192))","v":""}]
[null,null,null,null,{"$f":"IF(I200=\"\",\"\",IF(B$13<E200+1,\"\",IF(I200=B$14,\"\",lookup!M193)))","v":""},{"$f":"IF(E201=\"\",\"\",lookup!N193)","v":""},{"$f":"IF(E201=\"\",\"\",lookup!O193-lookup!N193)","v":""},"",{"$f":"IF(E201=\"\",\"\",IF(lookup!O193<0,0,lookup!O193))","v":""}]
[null,null,null,null,{"$f":"IF(I201=\"\",\"\",IF(B$13<E201+1,\"\",IF(I201=B$14,\"\",lookup!M194)))","v":""},{"$f":"IF(E202=\"\",\"\",lookup!N194)","v":""},{"$f":"IF(E202=\"\",\"\",lookup!O194-lookup!N194)","v":""},"",{"$f":"IF(E202=\"\",\"\",IF(lookup!O194<0,0,lookup!O194))","v":""}]
[null,null,null,null,{"$f":"IF(I202=\"\",\"\",IF(B$13<E202+1,\"\",IF(I202=B$14,\"\",lookup!M195)))","v":""},{"$f":"IF(E203=\"\",\"\",lookup!N195)","v":""},{"$f":"IF(E203=\"\",\"\",lookup!O195-lookup!N195)","v":""},"",{"$f":"IF(E203=\"\",\"\",IF(lookup!O195<0,0,lookup!O195))","v":""}]
[null,null,null,null,{"$f":"IF(I203=\"\",\"\",IF(B$13<E203+1,\"\",IF(I203=B$14,\"\",lookup!M196)))","v":""},{"$f":"IF(E204=\"\",\"\",lookup!N196)","v":""},{"$f":"IF(E204=\"\",\"\",lookup!O196-lookup!N196)","v":""},"",{"$f":"IF(E204=\"\",\"\",IF(lookup!O196<0,0,lookup!O196))","v":""}]
[null,null,null,null,{"$f":"IF(I204=\"\",\"\",IF(B$13<E204+1,\"\",IF(I204=B$14,\"\",lookup!M197)))","v":""},{"$f":"IF(E205=\"\",\"\",lookup!N197)","v":""},{"$f":"IF(E205=\"\",\"\",lookup!O197-lookup!N197)","v":""},{"$f":"IF(E205=\"\",\"\",H204+G205)","v":""},{"$f":"IF(E205=\"\",\"\",IF(lookup!O197<0,0,lookup!O197))","v":""}]
[null,null,null,null,{"$f":"IF(I205=\"\",\"\",IF(B$13<E205+1,\"\",IF(I205=B$14,\"\",lookup!M198)))","v":""},{"$f":"IF(E206=\"\",\"\",lookup!N198)","v":""},{"$f":"IF(E206=\"\",\"\",lookup!O198-lookup!N198)","v":""},"",{"$f":"IF(E206=\"\",\"\",IF(lookup!O198<0,0,lookup!O198))","v":""}]
[null,null,null,null,{"$f":"IF(I206=\"\",\"\",IF(B$13<E206+1,\"\",IF(I206=B$14,\"\",lookup!M199)))","v":""},{"$f":"IF(E207=\"\",\"\",lookup!N199)","v":""},{"$f":"IF(E207=\"\",\"\",lookup!O199-lookup!N199)","v":""},"",{"$f":"IF(E207=\"\",\"\",IF(lookup!O199<0,0,lookup!O199))","v":""}]
[null,null,null,null,{"$f":"IF(I207=\"\",\"\",IF(B$13<E207+1,\"\",IF(I207=B$14,\"\",lookup!M200)))","v":""},{"$f":"IF(E208=\"\",\"\",lookup!N200)","v":""},{"$f":"IF(E208=\"\",\"\",lookup!O200-lookup!N200)","v":""},"",{"$f":"IF(E208=\"\",\"\",IF(lookup!O200<0,0,lookup!O200))","v":""}]
[null,null,null,null,{"$f":"IF(I208=\"\",\"\",IF(B$13<E208+1,\"\",IF(I208=B$14,\"\",lookup!M201)))","v":""},{"$f":"IF(E209=\"\",\"\",lookup!N201)","v":""},{"$f":"IF(E209=\"\",\"\",lookup!O201-lookup!N201)","v":""},"",{"$f":"IF(E209=\"\",\"\",IF(lookup!O201<0,0,lookup!O201))","v":""}]
[null,null,null,null,{"$f":"IF(I209=\"\",\"\",IF(B$13<E209+1,\"\",IF(I209=B$14,\"\",lookup!M202)))","v":""},{"$f":"IF(E210=\"\",\"\",lookup!N202)","v":""},{"$f":"IF(E210=\"\",\"\",lookup!O202-lookup!N202)","v":""},"",{"$f":"IF(E210=\"\",\"\",IF(lookup!O202<0,0,lookup!O202))","v":""}]
[null,null,null,null,{"$f":"IF(I210=\"\",\"\",IF(B$13<E210+1,\"\",IF(I210=B$14,\"\",lookup!M203)))","v":""},{"$f":"IF(E211=\"\",\"\",lookup!N203)","v":""},{"$f":"IF(E211=\"\",\"\",lookup!O203-lookup!N203)","v":""},"",{"$f":"IF(E211=\"\",\"\",IF(lookup!O203<0,0,lookup!O203))","v":""}]
[null,null,null,null,{"$f":"IF(I211=\"\",\"\",IF(B$13<E211+1,\"\",IF(I211=B$14,\"\",lookup!M204)))","v":""},{"$f":"IF(E212=\"\",\"\",lookup!N204)","v":""},{"$f":"IF(E212=\"\",\"\",lookup!O204-lookup!N204)","v":""},"",{"$f":"IF(E212=\"\",\"\",IF(lookup!O204<0,0,lookup!O204))","v":""}]
[null,null,null,null,{"$f":"IF(I212=\"\",\"\",IF(B$13<E212+1,\"\",IF(I212=B$14,\"\",lookup!M205)))","v":""},{"$f":"IF(E213=\"\",\"\",lookup!N205)","v":""},{"$f":"IF(E213=\"\",\"\",lookup!O205-lookup!N205)","v":""},"",{"$f":"IF(E213=\"\",\"\",IF(lookup!O205<0,0,lookup!O205))","v":""}]
[null,null,null,null,{"$f":"IF(I213=\"\",\"\",IF(B$13<E213+1,\"\",IF(I213=B$14,\"\",lookup!M206)))","v":""},{"$f":"IF(E214=\"\",\"\",lookup!N206)","v":""},{"$f":"IF(E214=\"\",\"\",lookup!O206-lookup!N206)","v":""},"",{"$f":"IF(E214=\"\",\"\",IF(lookup!O206<0,0,lookup!O206))","v":""}]
[null,null,null,null,{"$f":"IF(I214=\"\",\"\",IF(B$13<E214+1,\"\",IF(I214=B$14,\"\",lookup!M207)))","v":""},{"$f":"IF(E215=\"\",\"\",lookup!N207)","v":""},{"$f":"IF(E215=\"\",\"\",lookup!O207-lookup!N207)","v":""},"",{"$f":"IF(E215=\"\",\"\",IF(lookup!O207<0,0,lookup!O207))","v":""}]
[null,null,null,null,{"$f":"IF(I215=\"\",\"\",IF(B$13<E215+1,\"\",IF(I215=B$14,\"\",lookup!M208)))","v":""},{"$f":"IF(E216=\"\",\"\",lookup!N208)","v":""},{"$f":"IF(E216=\"\",\"\",lookup!O208-lookup!N208)","v":""},"",{"$f":"IF(E216=\"\",\"\",IF(lookup!O208<0,0,lookup!O208))","v":""}]
[null,null,null,null,{"$f":"IF(I216=\"\",\"\",IF(B$13<E216+1,\"\",IF(I216=B$14,\"\",lookup!M209)))","v":""},{"$f":"IF(E217=\"\",\"\",lookup!N209)","v":""},{"$f":"IF(E217=\"\",\"\",lookup!O209-lookup!N209)","v":""},"",{"$f":"IF(E217=\"\",\"\",IF(lookup!O209<0,0,lookup!O209))","v":""}]
[null,null,null,null,{"$f":"IF(I217=\"\",\"\",IF(B$13<E217+1,\"\",IF(I217=B$14,\"\",lookup!M210)))","v":""},{"$f":"IF(E218=\"\",\"\",lookup!N210)","v":""},{"$f":"IF(E218=\"\",\"\",lookup!O210-lookup!N210)","v":""},"",{"$f":"IF(E218=\"\",\"\",IF(lookup!O210<0,0,lookup!O210))","v":""}]
[null,null,null,null,{"$f":"IF(I218=\"\",\"\",IF(B$13<E218+1,\"\",IF(I218=B$14,\"\",lookup!M211)))","v":""},{"$f":"IF(E219=\"\",\"\",lookup!N211)","v":""},{"$f":"IF(E219=\"\",\"\",lookup!O211-lookup!N211)","v":""},"",{"$f":"IF(E219=\"\",\"\",IF(lookup!O211<0,0,lookup!O211))","v":""}]
[null,null,null,null,{"$f":"IF(I219=\"\",\"\",IF(B$13<E219+1,\"\",IF(I219=B$14,\"\",lookup!M212)))","v":""},{"$f":"IF(E220=\"\",\"\",lookup!N212)","v":""},{"$f":"IF(E220=\"\",\"\",lookup!O212-lookup!N212)","v":""},"",{"$f":"IF(E220=\"\",\"\",IF(lookup!O212<0,0,lookup!O212))","v":""}]
[null,null,null,null,{"$f":"IF(I220=\"\",\"\",IF(B$13<E220+1,\"\",IF(I220=B$14,\"\",lookup!M213)))","v":""},{"$f":"IF(E221=\"\",\"\",lookup!N213)","v":""},{"$f":"IF(E221=\"\",\"\",lookup!O213-lookup!N213)","v":""},"",{"$f":"IF(E221=\"\",\"\",IF(lookup!O213<0,0,lookup!O213))","v":""}]
[null,null,null,null,{"$f":"IF(I221=\"\",\"\",IF(B$13<E221+1,\"\",IF(I221=B$14,\"\",lookup!M214)))","v":""},{"$f":"IF(E222=\"\",\"\",lookup!N214)","v":""},{"$f":"IF(E222=\"\",\"\",lookup!O214-lookup!N214)","v":""},"",{"$f":"IF(E222=\"\",\"\",IF(lookup!O214<0,0,lookup!O214))","v":""}]
[null,null,null,null,{"$f":"IF(I222=\"\",\"\",IF(B$13<E222+1,\"\",IF(I222=B$14,\"\",lookup!M215)))","v":""},{"$f":"IF(E223=\"\",\"\",lookup!N215)","v":""},{"$f":"IF(E223=\"\",\"\",lookup!O215-lookup!N215)","v":""},"",{"$f":"IF(E223=\"\",\"\",IF(lookup!O215<0,0,lookup!O215))","v":""}]
[null,null,null,null,{"$f":"IF(I223=\"\",\"\",IF(B$13<E223+1,\"\",IF(I223=B$14,\"\",lookup!M216)))","v":""},{"$f":"IF(E224=\"\",\"\",lookup!N216)","v":""},{"$f":"IF(E224=\"\",\"\",lookup!O216-lookup!N216)","v":""},"",{"$f":"IF(E224=\"\",\"\",IF(lookup!O216<0,0,lookup!O216))","v":""}]
[null,null,null,null,{"$f":"IF(I224=\"\",\"\",IF(B$13<E224+1,\"\",IF(I224=B$14,\"\",lookup!M217)))","v":""},{"$f":"IF(E225=\"\",\"\",lookup!N217)","v":""},{"$f":"IF(E225=\"\",\"\",lookup!O217-lookup!N217)","v":""},"",{"$f":"IF(E225=\"\",\"\",IF(lookup!O217<0,0,lookup!O217))","v":""}]
[null,null,null,null,{"$f":"IF(I225=\"\",\"\",IF(B$13<E225+1,\"\",IF(I225=B$14,\"\",lookup!M218)))","v":""},{"$f":"IF(E226=\"\",\"\",lookup!N218)","v":""},{"$f":"IF(E226=\"\",\"\",lookup!O218-lookup!N218)","v":""},"",{"$f":"IF(E226=\"\",\"\",IF(lookup!O218<0,0,lookup!O218))","v":""}]
[null,null,null,null,{"$f":"IF(I226=\"\",\"\",IF(B$13<E226+1,\"\",IF(I226=B$14,\"\",lookup!M219)))","v":""},{"$f":"IF(E227=\"\",\"\",lookup!N219)","v":""},{"$f":"IF(E227=\"\",\"\",lookup!O219-lookup!N219)","v":""},"",{"$f":"IF(E227=\"\",\"\",IF(lookup!O219<0,0,lookup!O219))","v":""}]
[null,null,null,null,{"$f":"IF(I227=\"\",\"\",IF(B$13<E227+1,\"\",IF(I227=B$14,\"\",lookup!M220)))","v":""},{"$f":"IF(E228=\"\",\"\",lookup!N220)","v":""},{"$f":"IF(E228=\"\",\"\",lookup!O220-lookup!N220)","v":""},"",{"$f":"IF(E228=\"\",\"\",IF(lookup!O220<0,0,lookup!O220))","v":""}]
[null,null,null,null,{"$f":"IF(I228=\"\",\"\",IF(B$13<E228+1,\"\",IF(I228=B$14,\"\",lookup!M221)))","v":""},{"$f":"IF(E229=\"\",\"\",lookup!N221)","v":""},{"$f":"IF(E229=\"\",\"\",lookup!O221-lookup!N221)","v":""},"",{"$f":"IF(E229=\"\",\"\",IF(lookup!O221<0,0,lookup!O221))","v":""}]
[null,null,null,null,{"$f":"IF(I229=\"\",\"\",IF(B$13<E229+1,\"\",IF(I229=B$14,\"\",lookup!M222)))","v":""},{"$f":"IF(E230=\"\",\"\",lookup!N222)","v":""},{"$f":"IF(E230=\"\",\"\",lookup!O222-lookup!N222)","v":""},"",{"$f":"IF(E230=\"\",\"\",IF(lookup!O222<0,0,lookup!O222))","v":""}]
[null,null,null,null,{"$f":"IF(I230=\"\",\"\",IF(B$13<E230+1,\"\",IF(I230=B$14,\"\",lookup!M223)))","v":""},{"$f":"IF(E231=\"\",\"\",lookup!N223)","v":""},{"$f":"IF(E231=\"\",\"\",lookup!O223-lookup!N223)","v":""},"",{"$f":"IF(E231=\"\",\"\",IF(lookup!O223<0,0,lookup!O223))","v":""}]
[null,null,null,null,{"$f":"IF(I231=\"\",\"\",IF(B$13<E231+1,\"\",IF(I231=B$14,\"\",lookup!M224)))","v":""},{"$f":"IF(E232=\"\",\"\",lookup!N224)","v":""},{"$f":"IF(E232=\"\",\"\",lookup!O224-lookup!N224)","v":""},"",{"$f":"IF(E232=\"\",\"\",IF(lookup!O224<0,0,lookup!O224))","v":""}]
[null,null,null,null,{"$f":"IF(I232=\"\",\"\",IF(B$13<E232+1,\"\",IF(I232=B$14,\"\",lookup!M225)))","v":""},{"$f":"IF(E233=\"\",\"\",lookup!N225)","v":""},{"$f":"IF(E233=\"\",\"\",lookup!O225-lookup!N225)","v":""},"",{"$f":"IF(E233=\"\",\"\",IF(lookup!O225<0,0,lookup!O225))","v":""}]
[null,null,null,null,{"$f":"IF(I233=\"\",\"\",IF(B$13<E233+1,\"\",IF(I233=B$14,\"\",lookup!M226)))","v":""},{"$f":"IF(E234=\"\",\"\",lookup!N226)","v":""},{"$f":"IF(E234=\"\",\"\",lookup!O226-lookup!N226)","v":""},"",{"$f":"IF(E234=\"\",\"\",IF(lookup!O226<0,0,lookup!O226))","v":""}]
[null,null,null,null,{"$f":"IF(I234=\"\",\"\",IF(B$13<E234+1,\"\",IF(I234=B$14,\"\",lookup!M227)))","v":""},{"$f":"IF(E235=\"\",\"\",lookup!N227)","v":""},{"$f":"IF(E235=\"\",\"\",lookup!O227-lookup!N227)","v":""},"",{"$f":"IF(E235=\"\",\"\",IF(lookup!O227<0,0,lookup!O227))","v":""}]
[null,null,null,null,{"$f":"IF(I235=\"\",\"\",IF(B$13<E235+1,\"\",IF(I235=B$14,\"\",lookup!M228)))","v":""},{"$f":"IF(E236=\"\",\"\",lookup!N228)","v":""},{"$f":"IF(E236=\"\",\"\",lookup!O228-lookup!N228)","v":""},"",{"$f":"IF(E236=\"\",\"\",IF(lookup!O228<0,0,lookup!O228))","v":""}]
[null,null,null,null,{"$f":"IF(I236=\"\",\"\",IF(B$13<E236+1,\"\",IF(I236=B$14,\"\",lookup!M229)))","v":""},{"$f":"IF(E237=\"\",\"\",lookup!N229)","v":""},{"$f":"IF(E237=\"\",\"\",lookup!O229-lookup!N229)","v":""},"",{"$f":"IF(E237=\"\",\"\",IF(lookup!O229<0,0,lookup!O229))","v":""}]
[null,null,null,null,{"$f":"IF(I237=\"\",\"\",IF(B$13<E237+1,\"\",IF(I237=B$14,\"\",lookup!M230)))","v":""},{"$f":"IF(E238=\"\",\"\",lookup!N230)","v":""},{"$f":"IF(E238=\"\",\"\",lookup!O230-lookup!N230)","v":""},"",{"$f":"IF(E238=\"\",\"\",IF(lookup!O230<0,0,lookup!O230))","v":""}]
[null,null,null,null,{"$f":"IF(I238=\"\",\"\",IF(B$13<E238+1,\"\",IF(I238=B$14,\"\",lookup!M231)))","v":""},{"$f":"IF(E239=\"\",\"\",lookup!N231)","v":""},{"$f":"IF(E239=\"\",\"\",lookup!O231-lookup!N231)","v":""},"",{"$f":"IF(E239=\"\",\"\",IF(lookup!O231<0,0,lookup!O231))","v":""}]
[null,null,null,null,{"$f":"IF(I239=\"\",\"\",IF(B$13<E239+1,\"\",IF(I239=B$14,\"\",lookup!M232)))","v":""},{"$f":"IF(E240=\"\",\"\",lookup!N232)","v":""},{"$f":"IF(E240=\"\",\"\",lookup!O232-lookup!N232)","v":""},"",{"$f":"IF(E240=\"\",\"\",IF(lookup!O232<0,0,lookup!O232))","v":""}]
[null,null,null,null,{"$f":"IF(I240=\"\",\"\",IF(B$13<E240+1,\"\",IF(I240=B$14,\"\",lookup!M233)))","v":""},{"$f":"IF(E241=\"\",\"\",lookup!N233)","v":""},{"$f":"IF(E241=\"\",\"\",lookup!O233-lookup!N233)","v":""},"",{"$f":"IF(E241=\"\",\"\",IF(lookup!O233<0,0,lookup!O233))","v":""}]
[null,null,null,null,{"$f":"IF(I241=\"\",\"\",IF(B$13<E241+1,\"\",IF(I241=B$14,\"\",lookup!M234)))","v":""},{"$f":"IF(E242=\"\",\"\",lookup!N234)","v":""},{"$f":"IF(E242=\"\",\"\",lookup!O234-lookup!N234)","v":""},"",{"$f":"IF(E242=\"\",\"\",IF(lookup!O234<0,0,lookup!O234))","v":""}]
[null,null,null,null,{"$f":"IF(I242=\"\",\"\",IF(B$13<E242+1,\"\",IF(I242=B$14,\"\",lookup!M235)))","v":""},{"$f":"IF(E243=\"\",\"\",lookup!N235)","v":""},{"$f":"IF(E243=\"\",\"\",lookup!O235-lookup!N235)","v":""},"",{"$f":"IF(E243=\"\",\"\",IF(lookup!O235<0,0,lookup!O235))","v":""}]
[null,null,null,null,{"$f":"IF(I243=\"\",\"\",IF(B$13<E243+1,\"\",IF(I243=B$14,\"\",lookup!M236)))","v":""},{"$f":"IF(E244=\"\",\"\",lookup!N236)","v":""},{"$f":"IF(E244=\"\",\"\",lookup!O236-lookup!N236)","v":""},"",{"$f":"IF(E244=\"\",\"\",IF(lookup!O236<0,0,lookup!O236))","v":""}]
[null,null,null,null,{"$f":"IF(I244=\"\",\"\",IF(B$13<E244+1,\"\",IF(I244=B$14,\"\",lookup!M237)))","v":""},{"$f":"IF(E245=\"\",\"\",lookup!N237)","v":""},{"$f":"IF(E245=\"\",\"\",lookup!O237-lookup!N237)","v":""},"",{"$f":"IF(E245=\"\",\"\",IF(lookup!O237<0,0,lookup!O237))","v":""}]
[null,null,null,null,{"$f":"IF(I245=\"\",\"\",IF(B$13<E245+1,\"\",IF(I245=B$14,\"\",lookup!M238)))","v":""},{"$f":"IF(E246=\"\",\"\",lookup!N238)","v":""},{"$f":"IF(E246=\"\",\"\",lookup!O238-lookup!N238)","v":""},"",{"$f":"IF(E246=\"\",\"\",IF(lookup!O238<0,0,lookup!O238))","v":""}]
[null,null,null,null,{"$f":"IF(I246=\"\",\"\",IF(B$13<E246+1,\"\",IF(I246=B$14,\"\",lookup!M239)))","v":""},{"$f":"IF(E247=\"\",\"\",lookup!N239)","v":""},{"$f":"IF(E247=\"\",\"\",lookup!O239-lookup!N239)","v":""},"",{"$f":"IF(E247=\"\",\"\",IF(lookup!O239<0,0,lookup!O239))","v":""}]
[null,null,null,null,{"$f":"IF(I247=\"\",\"\",IF(B$13<E247+1,\"\",IF(I247=B$14,\"\",lookup!M240)))","v":""},{"$f":"IF(E248=\"\",\"\",lookup!N240)","v":""},{"$f":"IF(E248=\"\",\"\",lookup!O240-lookup!N240)","v":""},"",{"$f":"IF(E248=\"\",\"\",IF(lookup!O240<0,0,lookup!O240))","v":""}]
[null,null,null,null,{"$f":"IF(I248=\"\",\"\",IF(B$13<E248+1,\"\",IF(I248=B$14,\"\",lookup!M241)))","v":""},{"$f":"IF(E249=\"\",\"\",lookup!N241)","v":""},{"$f":"IF(E249=\"\",\"\",lookup!O241-lookup!N241)","v":""},"",{"$f":"IF(E249=\"\",\"\",IF(lookup!O241<0,0,lookup!O241))","v":""}]
[null,null,null,null,{"$f":"IF(I249=\"\",\"\",IF(B$13<E249+1,\"\",IF(I249=B$14,\"\",lookup!M242)))","v":""},{"$f":"IF(E250=\"\",\"\",lookup!N242)","v":""},{"$f":"IF(E250=\"\",\"\",lookup!O242-lookup!N242)","v":""},"",{"$f":"IF(E250=\"\",\"\",IF(lookup!O242<0,0,lookup!O242))","v":""}]
[null,null,null,null,{"$f":"IF(I250=\"\",\"\",IF(B$13<E250+1,\"\",IF(I250=B$14,\"\",lookup!M243)))","v":""},{"$f":"IF(E251=\"\",\"\",lookup!N243)","v":""},{"$f":"IF(E251=\"\",\"\",lookup!O243-lookup!N243)","v":""},"",{"$f":"IF(E251=\"\",\"\",IF(lookup!O243<0,0,lookup!O243))","v":""}]
[null,null,null,null,{"$f":"IF(I251=\"\",\"\",IF(B$13<E251+1,\"\",IF(I251=B$14,\"\",lookup!M244)))","v":""},{"$f":"IF(E252=\"\",\"\",lookup!N244)","v":""},{"$f":"IF(E252=\"\",\"\",lookup!O244-lookup!N244)","v":""},"",{"$f":"IF(E252=\"\",\"\",IF(lookup!O244<0,0,lookup!O244))","v":""}]
[null,null,null,null,{"$f":"IF(I252=\"\",\"\",IF(B$13<E252+1,\"\",IF(I252=B$14,\"\",lookup!M245)))","v":""},{"$f":"IF(E253=\"\",\"\",lookup!N245)","v":""},{"$f":"IF(E253=\"\",\"\",lookup!O245-lookup!N245)","v":""},"",{"$f":"IF(E253=\"\",\"\",IF(lookup!O245<0,0,lookup!O245))","v":""}]
[null,null,null,null,{"$f":"IF(I253=\"\",\"\",IF(B$13<E253+1,\"\",IF(I253=B$14,\"\",lookup!M246)))","v":""},{"$f":"IF(E254=\"\",\"\",lookup!N246)","v":""},{"$f":"IF(E254=\"\",\"\",lookup!O246-lookup!N246)","v":""},"",{"$f":"IF(E254=\"\",\"\",IF(lookup!O246<0,0,lookup!O246))","v":""}]
[null,null,null,null,{"$f":"IF(I254=\"\",\"\",IF(B$13<E254+1,\"\",IF(I254=B$14,\"\",lookup!M247)))","v":""},{"$f":"IF(E255=\"\",\"\",lookup!N247)","v":""},{"$f":"IF(E255=\"\",\"\",lookup!O247-lookup!N247)","v":""},"",{"$f":"IF(E255=\"\",\"\",IF(lookup!O247<0,0,lookup!O247))","v":""}]
[null,null,null,null,{"$f":"IF(I255=\"\",\"\",IF(B$13<E255+1,\"\",IF(I255=B$14,\"\",lookup!M248)))","v":""},{"$f":"IF(E256=\"\",\"\",lookup!N248)","v":""},{"$f":"IF(E256=\"\",\"\",lookup!O248-lookup!N248)","v":""},"",{"$f":"IF(E256=\"\",\"\",IF(lookup!O248<0,0,lookup!O248))","v":""}]
[null,null,null,null,{"$f":"IF(I256=\"\",\"\",IF(B$13<E256+1,\"\",IF(I256=B$14,\"\",lookup!M249)))","v":""},{"$f":"IF(E257=\"\",\"\",lookup!N249)","v":""},{"$f":"IF(E257=\"\",\"\",lookup!O249-lookup!N249)","v":""},"",{"$f":"IF(E257=\"\",\"\",IF(lookup!O249<0,0,lookup!O249))","v":""}]
[null,null,null,null,{"$f":"IF(I257=\"\",\"\",IF(B$13<E257+1,\"\",IF(I257=B$14,\"\",lookup!M250)))","v":""},{"$f":"IF(E258=\"\",\"\",lookup!N250)","v":""},{"$f":"IF(E258=\"\",\"\",lookup!O250-lookup!N250)","v":""},"",{"$f":"IF(E258=\"\",\"\",IF(lookup!O250<0,0,lookup!O250))","v":""}]
[null,null,null,null,{"$f":"IF(I258=\"\",\"\",IF(B$13<E258+1,\"\",IF(I258=B$14,\"\",lookup!M251)))","v":""},{"$f":"IF(E259=\"\",\"\",lookup!N251)","v":""},{"$f":"IF(E259=\"\",\"\",lookup!O251-lookup!N251)","v":""},"",{"$f":"IF(E259=\"\",\"\",IF(lookup!O251<0,0,lookup!O251))","v":""}]
[null,null,null,null,{"$f":"IF(I259=\"\",\"\",IF(B$13<E259+1,\"\",IF(I259=B$14,\"\",lookup!M252)))","v":""},{"$f":"IF(E260=\"\",\"\",lookup!N252)","v":""},{"$f":"IF(E260=\"\",\"\",lookup!O252-lookup!N252)","v":""},"",{"$f":"IF(E260=\"\",\"\",IF(lookup!O252<0,0,lookup!O252))","v":""}]
[null,null,null,null,{"$f":"IF(I260=\"\",\"\",IF(B$13<E260+1,\"\",IF(I260=B$14,\"\",lookup!M253)))","v":""},{"$f":"IF(E261=\"\",\"\",lookup!N253)","v":""},{"$f":"IF(E261=\"\",\"\",lookup!O253-lookup!N253)","v":""},"",{"$f":"IF(E261=\"\",\"\",IF(lookup!O253<0,0,lookup!O253))","v":""}]
[null,null,null,null,{"$f":"IF(I261=\"\",\"\",IF(B$13<E261+1,\"\",IF(I261=B$14,\"\",lookup!M254)))","v":""},{"$f":"IF(E262=\"\",\"\",lookup!N254)","v":""},{"$f":"IF(E262=\"\",\"\",lookup!O254-lookup!N254)","v":""},"",{"$f":"IF(E262=\"\",\"\",IF(lookup!O254<0,0,lookup!O254))","v":""}]
[null,null,null,null,{"$f":"IF(I262=\"\",\"\",IF(B$13<E262+1,\"\",IF(I262=B$14,\"\",lookup!M255)))","v":""},{"$f":"IF(E263=\"\",\"\",lookup!N255)","v":""},{"$f":"IF(E263=\"\",\"\",lookup!O255-lookup!N255)","v":""},"",{"$f":"IF(E263=\"\",\"\",IF(lookup!O255<0,0,lookup!O255))","v":""}]
[null,null,null,null,{"$f":"IF(I263=\"\",\"\",IF(B$13<E263+1,\"\",IF(I263=B$14,\"\",lookup!M256)))","v":""},{"$f":"IF(E264=\"\",\"\",lookup!N256)","v":""},{"$f":"IF(E264=\"\",\"\",lookup!O256-lookup!N256)","v":""},"",{"$f":"IF(E264=\"\",\"\",IF(lookup!O256<0,0,lookup!O256))","v":""}]
[null,null,null,null,{"$f":"IF(I264=\"\",\"\",IF(B$13<E264+1,\"\",IF(I264=B$14,\"\",lookup!M257)))","v":""},{"$f":"IF(E265=\"\",\"\",lookup!N257)","v":""},{"$f":"IF(E265=\"\",\"\",lookup!O257-lookup!N257)","v":""},"",{"$f":"IF(E265=\"\",\"\",IF(lookup!O257<0,0,lookup!O257))","v":""}]
[null,null,null,null,{"$f":"IF(I265=\"\",\"\",IF(B$13<E265+1,\"\",IF(I265=B$14,\"\",lookup!M258)))","v":""},{"$f":"IF(E266=\"\",\"\",lookup!N258)","v":""},{"$f":"IF(E266=\"\",\"\",lookup!O258-lookup!N258)","v":""},"",{"$f":"IF(E266=\"\",\"\",IF(lookup!O258<0,0,lookup!O258))","v":""}]
[null,null,null,null,{"$f":"IF(I266=\"\",\"\",IF(B$13<E266+1,\"\",IF(I266=B$14,\"\",lookup!M259)))","v":""},{"$f":"IF(E267=\"\",\"\",lookup!N259)","v":""},{"$f":"IF(E267=\"\",\"\",lookup!O259-lookup!N259)","v":""},"",{"$f":"IF(E267=\"\",\"\",IF(lookup!O259<0,0,lookup!O259))","v":""}]
[null,null,null,null,{"$f":"IF(I267=\"\",\"\",IF(B$13<E267+1,\"\",IF(I267=B$14,\"\",lookup!M260)))","v":""},{"$f":"IF(E268=\"\",\"\",lookup!N260)","v":""},{"$f":"IF(E268=\"\",\"\",lookup!O260-lookup!N260)","v":""},"",{"$f":"IF(E268=\"\",\"\",IF(lookup!O260<0,0,lookup!O260))","v":""}]
[null,null,null,null,{"$f":"IF(I268=\"\",\"\",IF(B$13<E268+1,\"\",IF(I268=B$14,\"\",lookup!M261)))","v":""},{"$f":"IF(E269=\"\",\"\",lookup!N261)","v":""},{"$f":"IF(E269=\"\",\"\",lookup!O261-lookup!N261)","v":""},{"$f":"IF(E269=\"\",\"\",H268+G269)","v":""},{"$f":"IF(E269=\"\",\"\",IF(lookup!O261<0,0,lookup!O261))","v":""}]
[null,null,null,null,{"$f":"IF(I269=\"\",\"\",IF(B$13<E269+1,\"\",IF(I269=B$14,\"\",lookup!M262)))","v":""},{"$f":"IF(E270=\"\",\"\",lookup!N262)","v":""},{"$f":"IF(E270=\"\",\"\",lookup!O262-lookup!N262)","v":""},"",{"$f":"IF(E270=\"\",\"\",IF(lookup!O262<0,0,lookup!O262))","v":""}]
[null,null,null,null,{"$f":"IF(I270=\"\",\"\",IF(B$13<E270+1,\"\",IF(I270=B$14,\"\",lookup!M263)))","v":""},{"$f":"IF(E271=\"\",\"\",lookup!N263)","v":""},{"$f":"IF(E271=\"\",\"\",lookup!O263-lookup!N263)","v":""},"",{"$f":"IF(E271=\"\",\"\",IF(lookup!O263<0,0,lookup!O263))","v":""}]
[null,null,null,null,{"$f":"IF(I271=\"\",\"\",IF(B$13<E271+1,\"\",IF(I271=B$14,\"\",lookup!M264)))","v":""},{"$f":"IF(E272=\"\",\"\",lookup!N264)","v":""},{"$f":"IF(E272=\"\",\"\",lookup!O264-lookup!N264)","v":""},"",{"$f":"IF(E272=\"\",\"\",IF(lookup!O264<0,0,lookup!O264))","v":""}]
[null,null,null,null,{"$f":"IF(I272=\"\",\"\",IF(B$13<E272+1,\"\",IF(I272=B$14,\"\",lookup!M265)))","v":""},{"$f":"IF(E273=\"\",\"\",lookup!N265)","v":""},{"$f":"IF(E273=\"\",\"\",lookup!O265-lookup!N265)","v":""},"",{"$f":"IF(E273=\"\",\"\",IF(lookup!O265<0,0,lookup!O265))","v":""}]
[null,null,null,null,{"$f":"IF(I273=\"\",\"\",IF(B$13<E273+1,\"\",IF(I273=B$14,\"\",lookup!M266)))","v":""},{"$f":"IF(E274=\"\",\"\",lookup!N266)","v":""},{"$f":"IF(E274=\"\",\"\",lookup!O266-lookup!N266)","v":""},"",{"$f":"IF(E274=\"\",\"\",IF(lookup!O266<0,0,lookup!O266))","v":""}]
[null,null,null,null,{"$f":"IF(I274=\"\",\"\",IF(B$13<E274+1,\"\",IF(I274=B$14,\"\",lookup!M267)))","v":""},{"$f":"IF(E275=\"\",\"\",lookup!N267)","v":""},{"$f":"IF(E275=\"\",\"\",lookup!O267-lookup!N267)","v":""},"",{"$f":"IF(E275=\"\",\"\",IF(lookup!O267<0,0,lookup!O267))","v":""}]
[null,null,null,null,{"$f":"IF(I275=\"\",\"\",IF(B$13<E275+1,\"\",IF(I275=B$14,\"\",lookup!M268)))","v":""},{"$f":"IF(E276=\"\",\"\",lookup!N268)","v":""},{"$f":"IF(E276=\"\",\"\",lookup!O268-lookup!N268)","v":""},"",{"$f":"IF(E276=\"\",\"\",IF(lookup!O268<0,0,lookup!O268))","v":""}]
[null,null,null,null,{"$f":"IF(I276=\"\",\"\",IF(B$13<E276+1,\"\",IF(I276=B$14,\"\",lookup!M269)))","v":""},{"$f":"IF(E277=\"\",\"\",lookup!N269)","v":""},{"$f":"IF(E277=\"\",\"\",lookup!O269-lookup!N269)","v":""},"",{"$f":"IF(E277=\"\",\"\",IF(lookup!O269<0,0,lookup!O269))","v":""}]
[null,null,null,null,{"$f":"IF(I277=\"\",\"\",IF(B$13<E277+1,\"\",IF(I277=B$14,\"\",lookup!M270)))","v":""},{"$f":"IF(E278=\"\",\"\",lookup!N270)","v":""},{"$f":"IF(E278=\"\",\"\",lookup!O270-lookup!N270)","v":""},"",{"$f":"IF(E278=\"\",\"\",IF(lookup!O270<0,0,lookup!O270))","v":""}]
[null,null,null,null,{"$f":"IF(I278=\"\",\"\",IF(B$13<E278+1,\"\",IF(I278=B$14,\"\",lookup!M271)))","v":""},{"$f":"IF(E279=\"\",\"\",lookup!N271)","v":""},{"$f":"IF(E279=\"\",\"\",lookup!O271-lookup!N271)","v":""},"",{"$f":"IF(E279=\"\",\"\",IF(lookup!O271<0,0,lookup!O271))","v":""}]
[null,null,null,null,{"$f":"IF(I279=\"\",\"\",IF(B$13<E279+1,\"\",IF(I279=B$14,\"\",lookup!M272)))","v":""},{"$f":"IF(E280=\"\",\"\",lookup!N272)","v":""},{"$f":"IF(E280=\"\",\"\",lookup!O272-lookup!N272)","v":""},"",{"$f":"IF(E280=\"\",\"\",IF(lookup!O272<0,0,lookup!O272))","v":""}]
[null,null,null,null,{"$f":"IF(I280=\"\",\"\",IF(B$13<E280+1,\"\",IF(I280=B$14,\"\",lookup!M273)))","v":""},{"$f":"IF(E281=\"\",\"\",lookup!N273)","v":""},{"$f":"IF(E281=\"\",\"\",lookup!O273-lookup!N273)","v":""},"",{"$f":"IF(E281=\"\",\"\",IF(lookup!O273<0,0,lookup!O273))","v":""}]
[null,null,null,null,{"$f":"IF(I281=\"\",\"\",IF(B$13<E281+1,\"\",IF(I281=B$14,\"\",lookup!M274)))","v":""},{"$f":"IF(E282=\"\",\"\",lookup!N274)","v":""},{"$f":"IF(E282=\"\",\"\",lookup!O274-lookup!N274)","v":""},"",{"$f":"IF(E282=\"\",\"\",IF(lookup!O274<0,0,lookup!O274))","v":""}]
[null,null,null,null,{"$f":"IF(I282=\"\",\"\",IF(B$13<E282+1,\"\",IF(I282=B$14,\"\",lookup!M275)))","v":""},{"$f":"IF(E283=\"\",\"\",lookup!N275)","v":""},{"$f":"IF(E283=\"\",\"\",lookup!O275-lookup!N275)","v":""},"",{"$f":"IF(E283=\"\",\"\",IF(lookup!O275<0,0,lookup!O275))","v":""}]
[null,null,null,null,{"$f":"IF(I283=\"\",\"\",IF(B$13<E283+1,\"\",IF(I283=B$14,\"\",lookup!M276)))","v":""},{"$f":"IF(E284=\"\",\"\",lookup!N276)","v":""},{"$f":"IF(E284=\"\",\"\",lookup!O276-lookup!N276)","v":""},"",{"$f":"IF(E284=\"\",\"\",IF(lookup!O276<0,0,lookup!O276))","v":""}]
[null,null,null,null,{"$f":"IF(I284=\"\",\"\",IF(B$13<E284+1,\"\",IF(I284=B$14,\"\",lookup!M277)))","v":""},{"$f":"IF(E285=\"\",\"\",lookup!N277)","v":""},{"$f":"IF(E285=\"\",\"\",lookup!O277-lookup!N277)","v":""},"",{"$f":"IF(E285=\"\",\"\",IF(lookup!O277<0,0,lookup!O277))","v":""}]
[null,null,null,null,{"$f":"IF(I285=\"\",\"\",IF(B$13<E285+1,\"\",IF(I285=B$14,\"\",lookup!M278)))","v":""},{"$f":"IF(E286=\"\",\"\",lookup!N278)","v":""},{"$f":"IF(E286=\"\",\"\",lookup!O278-lookup!N278)","v":""},"",{"$f":"IF(E286=\"\",\"\",IF(lookup!O278<0,0,lookup!O278))","v":""}]
[null,null,null,null,{"$f":"IF(I286=\"\",\"\",IF(B$13<E286+1,\"\",IF(I286=B$14,\"\",lookup!M279)))","v":""},{"$f":"IF(E287=\"\",\"\",lookup!N279)","v":""},{"$f":"IF(E287=\"\",\"\",lookup!O279-lookup!N279)","v":""},"",{"$f":"IF(E287=\"\",\"\",IF(lookup!O279<0,0,lookup!O279))","v":""}]
[null,null,null,null,{"$f":"IF(I287=\"\",\"\",IF(B$13<E287+1,\"\",IF(I287=B$14,\"\",lookup!M280)))","v":""},{"$f":"IF(E288=\"\",\"\",lookup!N280)","v":""},{"$f":"IF(E288=\"\",\"\",lookup!O280-lookup!N280)","v":""},"",{"$f":"IF(E288=\"\",\"\",IF(lookup!O280<0,0,lookup!O280))","v":""}]
[null,null,null,null,{"$f":"IF(I288=\"\",\"\",IF(B$13<E288+1,\"\",IF(I288=B$14,\"\",lookup!M281)))","v":""},{"$f":"IF(E289=\"\",\"\",lookup!N281)","v":""},{"$f":"IF(E289=\"\",\"\",lookup!O281-lookup!N281)","v":""},"",{"$f":"IF(E289=\"\",\"\",IF(lookup!O281<0,0,lookup!O281))","v":""}]
[null,null,null,null,{"$f":"IF(I289=\"\",\"\",IF(B$13<E289+1,\"\",IF(I289=B$14,\"\",lookup!M282)))","v":""},{"$f":"IF(E290=\"\",\"\",lookup!N282)","v":""},{"$f":"IF(E290=\"\",\"\",lookup!O282-lookup!N282)","v":""},"",{"$f":"IF(E290=\"\",\"\",IF(lookup!O282<0,0,lookup!O282))","v":""}]
[null,null,null,null,{"$f":"IF(I290=\"\",\"\",IF(B$13<E290+1,\"\",IF(I290=B$14,\"\",lookup!M283)))","v":""},{"$f":"IF(E291=\"\",\"\",lookup!N283)","v":""},{"$f":"IF(E291=\"\",\"\",lookup!O283-lookup!N283)","v":""},"",{"$f":"IF(E291=\"\",\"\",IF(lookup!O283<0,0,lookup!O283))","v":""}]
[null,null,null,null,{"$f":"IF(I291=\"\",\"\",IF(B$13<E291+1,\"\",IF(I291=B$14,\"\",lookup!M284)))","v":""},{"$f":"IF(E292=\"\",\"\",lookup!N284)","v":""},{"$f":"IF(E292=\"\",\"\",lookup!O284-lookup!N284)","v":""},"",{"$f":"IF(E292=\"\",\"\",IF(lookup!O284<0,0,lookup!O284))","v":""}]
[null,null,null,null,{"$f":"IF(I292=\"\",\"\",IF(B$13<E292+1,\"\",IF(I292=B$14,\"\",lookup!M285)))","v":""},{"$f":"IF(E293=\"\",\"\",lookup!N285)","v":""},{"$f":"IF(E293=\"\",\"\",lookup!O285-lookup!N285)","v":""},"",{"$f":"IF(E293=\"\",\"\",IF(lookup!O285<0,0,lookup!O285))","v":""}]
[null,null,null,null,{"$f":"IF(I293=\"\",\"\",IF(B$13<E293+1,\"\",IF(I293=B$14,\"\",lookup!M286)))","v":""},{"$f":"IF(E294=\"\",\"\",lookup!N286)","v":""},{"$f":"IF(E294=\"\",\"\",lookup!O286-lookup!N286)","v":""},"",{"$f":"IF(E294=\"\",\"\",IF(lookup!O286<0,0,lookup!O286))","v":""}]
[null,null,null,null,{"$f":"IF(I294=\"\",\"\",IF(B$13<E294+1,\"\",IF(I294=B$14,\"\",lookup!M287)))","v":""},{"$f":"IF(E295=\"\",\"\",lookup!N287)","v":""},{"$f":"IF(E295=\"\",\"\",lookup!O287-lookup!N287)","v":""},"",{"$f":"IF(E295=\"\",\"\",IF(lookup!O287<0,0,lookup!O287))","v":""}]
[null,null,null,null,{"$f":"IF(I295=\"\",\"\",IF(B$13<E295+1,\"\",IF(I295=B$14,\"\",lookup!M288)))","v":""},{"$f":"IF(E296=\"\",\"\",lookup!N288)","v":""},{"$f":"IF(E296=\"\",\"\",lookup!O288-lookup!N288)","v":""},"",{"$f":"IF(E296=\"\",\"\",IF(lookup!O288<0,0,lookup!O288))","v":""}]
[null,null,null,null,{"$f":"IF(I296=\"\",\"\",IF(B$13<E296+1,\"\",IF(I296=B$14,\"\",lookup!M289)))","v":""},{"$f":"IF(E297=\"\",\"\",lookup!N289)","v":""},{"$f":"IF(E297=\"\",\"\",lookup!O289-lookup!N289)","v":""},"",{"$f":"IF(E297=\"\",\"\",IF(lookup!O289<0,0,lookup!O289))","v":""}]
[null,null,null,null,{"$f":"IF(I297=\"\",\"\",IF(B$13<E297+1,\"\",IF(I297=B$14,\"\",lookup!M290)))","v":""},{"$f":"IF(E298=\"\",\"\",lookup!N290)","v":""},{"$f":"IF(E298=\"\",\"\",lookup!O290-lookup!N290)","v":""},"",{"$f":"IF(E298=\"\",\"\",IF(lookup!O290<0,0,lookup!O290))","v":""}]
[null,null,null,null,{"$f":"IF(I298=\"\",\"\",IF(B$13<E298+1,\"\",IF(I298=B$14,\"\",lookup!M291)))","v":""},{"$f":"IF(E299=\"\",\"\",lookup!N291)","v":""},{"$f":"IF(E299=\"\",\"\",lookup!O291-lookup!N291)","v":""},"",{"$f":"IF(E299=\"\",\"\",IF(lookup!O291<0,0,lookup!O291))","v":""}]
[null,null,null,null,{"$f":"IF(I299=\"\",\"\",IF(B$13<E299+1,\"\",IF(I299=B$14,\"\",lookup!M292)))","v":""},{"$f":"IF(E300=\"\",\"\",lookup!N292)","v":""},{"$f":"IF(E300=\"\",\"\",lookup!O292-lookup!N292)","v":""},"",{"$f":"IF(E300=\"\",\"\",IF(lookup!O292<0,0,lookup!O292))","v":""}]
[null,null,null,null,{"$f":"IF(I300=\"\",\"\",IF(B$13<E300+1,\"\",IF(I300=B$14,\"\",lookup!M293)))","v":""},{"$f":"IF(E301=\"\",\"\",lookup!N293)","v":""},{"$f":"IF(E301=\"\",\"\",lookup!O293-lookup!N293)","v":""},"",{"$f":"IF(E301=\"\",\"\",IF(lookup!O293<0,0,lookup!O293))","v":""}]
[null,null,null,null,{"$f":"IF(I301=\"\",\"\",IF(B$13<E301+1,\"\",IF(I301=B$14,\"\",lookup!M294)))","v":""},{"$f":"IF(E302=\"\",\"\",lookup!N294)","v":""},{"$f":"IF(E302=\"\",\"\",lookup!O294-lookup!N294)","v":""},"",{"$f":"IF(E302=\"\",\"\",IF(lookup!O294<0,0,lookup!O294))","v":""}]
[null,null,null,null,{"$f":"IF(I302=\"\",\"\",IF(B$13<E302+1,\"\",IF(I302=B$14,\"\",lookup!M295)))","v":""},{"$f":"IF(E303=\"\",\"\",lookup!N295)","v":""},{"$f":"IF(E303=\"\",\"\",lookup!O295-lookup!N295)","v":""},"",{"$f":"IF(E303=\"\",\"\",IF(lookup!O295<0,0,lookup!O295))","v":""}]
[null,null,null,null,{"$f":"IF(I303=\"\",\"\",IF(B$13<E303+1,\"\",IF(I303=B$14,\"\",lookup!M296)))","v":""},{"$f":"IF(E304=\"\",\"\",lookup!N296)","v":""},{"$f":"IF(E304=\"\",\"\",lookup!O296-lookup!N296)","v":""},"",{"$f":"IF(E304=\"\",\"\",IF(lookup!O296<0,0,lookup!O296))","v":""}]
[null,null,null,null,{"$f":"IF(I304=\"\",\"\",IF(B$13<E304+1,\"\",IF(I304=B$14,\"\",lookup!M297)))","v":""},{"$f":"IF(E305=\"\",\"\",lookup!N297)","v":""},{"$f":"IF(E305=\"\",\"\",lookup!O297-lookup!N297)","v":""},"",{"$f":"IF(E305=\"\",\"\",IF(lookup!O297<0,0,lookup!O297))","v":""}]
[null,null,null,null,{"$f":"IF(I305=\"\",\"\",IF(B$13<E305+1,\"\",IF(I305=B$14,\"\",lookup!M298)))","v":""},{"$f":"IF(E306=\"\",\"\",lookup!N298)","v":""},{"$f":"IF(E306=\"\",\"\",lookup!O298-lookup!N298)","v":""},"",{"$f":"IF(E306=\"\",\"\",IF(lookup!O298<0,0,lookup!O298))","v":""}]
[null,null,null,null,{"$f":"IF(I306=\"\",\"\",IF(B$13<E306+1,\"\",IF(I306=B$14,\"\",lookup!M299)))","v":""},{"$f":"IF(E307=\"\",\"\",lookup!N299)","v":""},{"$f":"IF(E307=\"\",\"\",lookup!O299-lookup!N299)","v":""},"",{"$f":"IF(E307=\"\",\"\",IF(lookup!O299<0,0,lookup!O299))","v":""}]
[null,null,null,null,{"$f":"IF(I307=\"\",\"\",IF(B$13<E307+1,\"\",IF(I307=B$14,\"\",lookup!M300)))","v":""},{"$f":"IF(E308=\"\",\"\",lookup!N300)","v":""},{"$f":"IF(E308=\"\",\"\",lookup!O300-lookup!N300)","v":""},"",{"$f":"IF(E308=\"\",\"\",IF(lookup!O300<0,0,lookup!O300))","v":""}]
[null,null,null,null,{"$f":"IF(I308=\"\",\"\",IF(B$13<E308+1,\"\",IF(I308=B$14,\"\",lookup!M301)))","v":""},{"$f":"IF(E309=\"\",\"\",lookup!N301)","v":""},{"$f":"IF(E309=\"\",\"\",lookup!O301-lookup!N301)","v":""},"",{"$f":"IF(E309=\"\",\"\",IF(lookup!O301<0,0,lookup!O301))","v":""}]
[null,null,null,null,{"$f":"IF(I309=\"\",\"\",IF(B$13<E309+1,\"\",IF(I309=B$14,\"\",lookup!M302)))","v":""},{"$f":"IF(E310=\"\",\"\",lookup!N302)","v":""},{"$f":"IF(E310=\"\",\"\",lookup!O302-lookup!N302)","v":""},"",{"$f":"IF(E310=\"\",\"\",IF(lookup!O302<0,0,lookup!O302))","v":""}]
[null,null,null,null,{"$f":"IF(I310=\"\",\"\",IF(B$13<E310+1,\"\",IF(I310=B$14,\"\",lookup!M303)))","v":""},{"$f":"IF(E311=\"\",\"\",lookup!N303)","v":""},{"$f":"IF(E311=\"\",\"\",lookup!O303-lookup!N303)","v":""},"",{"$f":"IF(E311=\"\",\"\",IF(lookup!O303<0,0,lookup!O303))","v":""}]
[null,null,null,null,{"$f":"IF(I311=\"\",\"\",IF(B$13<E311+1,\"\",IF(I311=B$14,\"\",lookup!M304)))","v":""},{"$f":"IF(E312=\"\",\"\",lookup!N304)","v":""},{"$f":"IF(E312=\"\",\"\",lookup!O304-lookup!N304)","v":""},"",{"$f":"IF(E312=\"\",\"\",IF(lookup!O304<0,0,lookup!O304))","v":""}]
[null,null,null,null,{"$f":"IF(I312=\"\",\"\",IF(B$13<E312+1,\"\",IF(I312=B$14,\"\",lookup!M305)))","v":""},{"$f":"IF(E313=\"\",\"\",lookup!N305)","v":""},{"$f":"IF(E313=\"\",\"\",lookup!O305-lookup!N305)","v":""},"",{"$f":"IF(E313=\"\",\"\",IF(lookup!O305<0,0,lookup!O305))","v":""}]
[null,null,null,null,{"$f":"IF(I313=\"\",\"\",IF(B$13<E313+1,\"\",IF(I313=B$14,\"\",lookup!M306)))","v":""},{"$f":"IF(E314=\"\",\"\",lookup!N306)","v":""},{"$f":"IF(E314=\"\",\"\",lookup!O306-lookup!N306)","v":""},"",{"$f":"IF(E314=\"\",\"\",IF(lookup!O306<0,0,lookup!O306))","v":""}]
[null,null,null,null,{"$f":"IF(I314=\"\",\"\",IF(B$13<E314+1,\"\",IF(I314=B$14,\"\",lookup!M307)))","v":""},{"$f":"IF(E315=\"\",\"\",lookup!N307)","v":""},{"$f":"IF(E315=\"\",\"\",lookup!O307-lookup!N307)","v":""},"",{"$f":"IF(E315=\"\",\"\",IF(lookup!O307<0,0,lookup!O307))","v":""}]
[null,null,null,null,{"$f":"IF(I315=\"\",\"\",IF(B$13<E315+1,\"\",IF(I315=B$14,\"\",lookup!M308)))","v":""},{"$f":"IF(E316=\"\",\"\",lookup!N308)","v":""},{"$f":"IF(E316=\"\",\"\",lookup!O308-lookup!N308)","v":""},"",{"$f":"IF(E316=\"\",\"\",IF(lookup!O308<0,0,lookup!O308))","v":""}]
[null,null,null,null,{"$f":"IF(I316=\"\",\"\",IF(B$13<E316+1,\"\",IF(I316=B$14,\"\",lookup!M309)))","v":""},{"$f":"IF(E317=\"\",\"\",lookup!N309)","v":""},{"$f":"IF(E317=\"\",\"\",lookup!O309-lookup!N309)","v":""},"",{"$f":"IF(E317=\"\",\"\",IF(lookup!O309<0,0,lookup!O309))","v":""}]
[null,null,null,null,{"$f":"IF(I317=\"\",\"\",IF(B$13<E317+1,\"\",IF(I317=B$14,\"\",lookup!M310)))","v":""},{"$f":"IF(E318=\"\",\"\",lookup!N310)","v":""},{"$f":"IF(E318=\"\",\"\",lookup!O310-lookup!N310)","v":""},"",{"$f":"IF(E318=\"\",\"\",IF(lookup!O310<0,0,lookup!O310))","v":""}]
[null,null,null,null,{"$f":"IF(I318=\"\",\"\",IF(B$13<E318+1,\"\",IF(I318=B$14,\"\",lookup!M311)))","v":""},{"$f":"IF(E319=\"\",\"\",lookup!N311)","v":""},{"$f":"IF(E319=\"\",\"\",lookup!O311-lookup!N311)","v":""},"",{"$f":"IF(E319=\"\",\"\",IF(lookup!O311<0,0,lookup!O311))","v":""}]
[null,null,null,null,{"$f":"IF(I319=\"\",\"\",IF(B$13<E319+1,\"\",IF(I319=B$14,\"\",lookup!M312)))","v":""},{"$f":"IF(E320=\"\",\"\",lookup!N312)","v":""},{"$f":"IF(E320=\"\",\"\",lookup!O312-lookup!N312)","v":""},"",{"$f":"IF(E320=\"\",\"\",IF(lookup!O312<0,0,lookup!O312))","v":""}]
[null,null,null,null,{"$f":"IF(I320=\"\",\"\",IF(B$13<E320+1,\"\",IF(I320=B$14,\"\",lookup!M313)))","v":""},{"$f":"IF(E321=\"\",\"\",lookup!N313)","v":""},{"$f":"IF(E321=\"\",\"\",lookup!O313-lookup!N313)","v":""},"",{"$f":"IF(E321=\"\",\"\",IF(lookup!O313<0,0,lookup!O313))","v":""}]
[null,null,null,null,{"$f":"IF(I321=\"\",\"\",IF(B$13<E321+1,\"\",IF(I321=B$14,\"\",lookup!M314)))","v":""},{"$f":"IF(E322=\"\",\"\",lookup!N314)","v":""},{"$f":"IF(E322=\"\",\"\",lookup!O314-lookup!N314)","v":""},"",{"$f":"IF(E322=\"\",\"\",IF(lookup!O314<0,0,lookup!O314))","v":""}]
[null,null,null,null,{"$f":"IF(I322=\"\",\"\",IF(B$13<E322+1,\"\",IF(I322=B$14,\"\",lookup!M315)))","v":""},{"$f":"IF(E323=\"\",\"\",lookup!N315)","v":""},{"$f":"IF(E323=\"\",\"\",lookup!O315-lookup!N315)","v":""},"",{"$f":"IF(E323=\"\",\"\",IF(lookup!O315<0,0,lookup!O315))","v":""}]
[null,null,null,null,{"$f":"IF(I323=\"\",\"\",IF(B$13<E323+1,\"\",IF(I323=B$14,\"\",lookup!M316)))","v":""},{"$f":"IF(E324=\"\",\"\",lookup!N316)","v":""},{"$f":"IF(E324=\"\",\"\",lookup!O316-lookup!N316)","v":""},"",{"$f":"IF(E324=\"\",\"\",IF(lookup!O316<0,0,lookup!O316))","v":""}]
[null,null,null,null,{"$f":"IF(I324=\"\",\"\",IF(B$13<E324+1,\"\",IF(I324=B$14,\"\",lookup!M317)))","v":""},{"$f":"IF(E325=\"\",\"\",lookup!N317)","v":""},{"$f":"IF(E325=\"\",\"\",lookup!O317-lookup!N317)","v":""},"",{"$f":"IF(E325=\"\",\"\",IF(lookup!O317<0,0,lookup!O317))","v":""}]
[null,null,null,null,{"$f":"IF(I325=\"\",\"\",IF(B$13<E325+1,\"\",IF(I325=B$14,\"\",lookup!M318)))","v":""},{"$f":"IF(E326=\"\",\"\",lookup!N318)","v":""},{"$f":"IF(E326=\"\",\"\",lookup!O318-lookup!N318)","v":""},"",{"$f":"IF(E326=\"\",\"\",IF(lookup!O318<0,0,lookup!O318))","v":""}]
[null,null,null,null,{"$f":"IF(I326=\"\",\"\",IF(B$13<E326+1,\"\",IF(I326=B$14,\"\",lookup!M319)))","v":""},{"$f":"IF(E327=\"\",\"\",lookup!N319)","v":""},{"$f":"IF(E327=\"\",\"\",lookup!O319-lookup!N319)","v":""},"",{"$f":"IF(E327=\"\",\"\",IF(lookup!O319<0,0,lookup!O319))","v":""}]
[null,null,null,null,{"$f":"IF(I327=\"\",\"\",IF(B$13<E327+1,\"\",IF(I327=B$14,\"\",lookup!M320)))","v":""},{"$f":"IF(E328=\"\",\"\",lookup!N320)","v":""},{"$f":"IF(E328=\"\",\"\",lookup!O320-lookup!N320)","v":""},"",{"$f":"IF(E328=\"\",\"\",IF(lookup!O320<0,0,lookup!O320))","v":""}]
[null,null,null,null,{"$f":"IF(I328=\"\",\"\",IF(B$13<E328+1,\"\",IF(I328=B$14,\"\",lookup!M321)))","v":""},{"$f":"IF(E329=\"\",\"\",lookup!N321)","v":""},{"$f":"IF(E329=\"\",\"\",lookup!O321-lookup!N321)","v":""},"",{"$f":"IF(E329=\"\",\"\",IF(lookup!O321<0,0,lookup!O321))","v":""}]
[null,null,null,null,{"$f":"IF(I329=\"\",\"\",IF(B$13<E329+1,\"\",IF(I329=B$14,\"\",lookup!M322)))","v":""},{"$f":"IF(E330=\"\",\"\",lookup!N322)","v":""},{"$f":"IF(E330=\"\",\"\",lookup!O322-lookup!N322)","v":""},"",{"$f":"IF(E330=\"\",\"\",IF(lookup!O322<0,0,lookup!O322))","v":""}]
[null,null,null,null,{"$f":"IF(I330=\"\",\"\",IF(B$13<E330+1,\"\",IF(I330=B$14,\"\",lookup!M323)))","v":""},{"$f":"IF(E331=\"\",\"\",lookup!N323)","v":""},{"$f":"IF(E331=\"\",\"\",lookup!O323-lookup!N323)","v":""},"",{"$f":"IF(E331=\"\",\"\",IF(lookup!O323<0,0,lookup!O323))","v":""}]
[null,null,null,null,{"$f":"IF(I331=\"\",\"\",IF(B$13<E331+1,\"\",IF(I331=B$14,\"\",lookup!M324)))","v":""},{"$f":"IF(E332=\"\",\"\",lookup!N324)","v":""},{"$f":"IF(E332=\"\",\"\",lookup!O324-lookup!N324)","v":""},"",{"$f":"IF(E332=\"\",\"\",IF(lookup!O324<0,0,lookup!O324))","v":""}]
[null,null,null,null,{"$f":"IF(I332=\"\",\"\",IF(B$13<E332+1,\"\",IF(I332=B$14,\"\",lookup!M325)))","v":""},{"$f":"IF(E333=\"\",\"\",lookup!N325)","v":""},{"$f":"IF(E333=\"\",\"\",lookup!O325-lookup!N325)","v":""},{"$f":"IF(E333=\"\",\"\",H332+G333)","v":""},{"$f":"IF(E333=\"\",\"\",IF(lookup!O325<0,0,lookup!O325))","v":""}]
[null,null,null,null,{"$f":"IF(I333=\"\",\"\",IF(B$13<E333+1,\"\",IF(I333=B$14,\"\",lookup!M326)))","v":""},{"$f":"IF(E334=\"\",\"\",lookup!N326)","v":""},{"$f":"IF(E334=\"\",\"\",lookup!O326-lookup!N326)","v":""},"",{"$f":"IF(E334=\"\",\"\",IF(lookup!O326<0,0,lookup!O326))","v":""}]
[null,null,null,null,{"$f":"IF(I334=\"\",\"\",IF(B$13<E334+1,\"\",IF(I334=B$14,\"\",lookup!M327)))","v":""},{"$f":"IF(E335=\"\",\"\",lookup!N327)","v":""},{"$f":"IF(E335=\"\",\"\",lookup!O327-lookup!N327)","v":""},"",{"$f":"IF(E335=\"\",\"\",IF(lookup!O327<0,0,lookup!O327))","v":""}]
[null,null,null,null,{"$f":"IF(I335=\"\",\"\",IF(B$13<E335+1,\"\",IF(I335=B$14,\"\",lookup!M328)))","v":""},{"$f":"IF(E336=\"\",\"\",lookup!N328)","v":""},{"$f":"IF(E336=\"\",\"\",lookup!O328-lookup!N328)","v":""},"",{"$f":"IF(E336=\"\",\"\",IF(lookup!O328<0,0,lookup!O328))","v":""}]
[null,null,null,null,{"$f":"IF(I336=\"\",\"\",IF(B$13<E336+1,\"\",IF(I336=B$14,\"\",lookup!M329)))","v":""},{"$f":"IF(E337=\"\",\"\",lookup!N329)","v":""},{"$f":"IF(E337=\"\",\"\",lookup!O329-lookup!N329)","v":""},"",{"$f":"IF(E337=\"\",\"\",IF(lookup!O329<0,0,lookup!O329))","v":""}]
[null,null,null,null,{"$f":"IF(I337=\"\",\"\",IF(B$13<E337+1,\"\",IF(I337=B$14,\"\",lookup!M330)))","v":""},{"$f":"IF(E338=\"\",\"\",lookup!N330)","v":""},{"$f":"IF(E338=\"\",\"\",lookup!O330-lookup!N330)","v":""},"",{"$f":"IF(E338=\"\",\"\",IF(lookup!O330<0,0,lookup!O330))","v":""}]
[null,null,null,null,{"$f":"IF(I338=\"\",\"\",IF(B$13<E338+1,\"\",IF(I338=B$14,\"\",lookup!M331)))","v":""},{"$f":"IF(E339=\"\",\"\",lookup!N331)","v":""},{"$f":"IF(E339=\"\",\"\",lookup!O331-lookup!N331)","v":""},"",{"$f":"IF(E339=\"\",\"\",IF(lookup!O331<0,0,lookup!O331))","v":""}]
[null,null,null,null,{"$f":"IF(I339=\"\",\"\",IF(B$13<E339+1,\"\",IF(I339=B$14,\"\",lookup!M332)))","v":""},{"$f":"IF(E340=\"\",\"\",lookup!N332)","v":""},{"$f":"IF(E340=\"\",\"\",lookup!O332-lookup!N332)","v":""},"",{"$f":"IF(E340=\"\",\"\",IF(lookup!O332<0,0,lookup!O332))","v":""}]
[null,null,null,null,{"$f":"IF(I340=\"\",\"\",IF(B$13<E340+1,\"\",IF(I340=B$14,\"\",lookup!M333)))","v":""},{"$f":"IF(E341=\"\",\"\",lookup!N333)","v":""},{"$f":"IF(E341=\"\",\"\",lookup!O333-lookup!N333)","v":""},"",{"$f":"IF(E341=\"\",\"\",IF(lookup!O333<0,0,lookup!O333))","v":""}]
[null,null,null,null,{"$f":"IF(I341=\"\",\"\",IF(B$13<E341+1,\"\",IF(I341=B$14,\"\",lookup!M334)))","v":""},{"$f":"IF(E342=\"\",\"\",lookup!N334)","v":""},{"$f":"IF(E342=\"\",\"\",lookup!O334-lookup!N334)","v":""},"",{"$f":"IF(E342=\"\",\"\",IF(lookup!O334<0,0,lookup!O334))","v":""}]
[null,null,null,null,{"$f":"IF(I342=\"\",\"\",IF(B$13<E342+1,\"\",IF(I342=B$14,\"\",lookup!M335)))","v":""},{"$f":"IF(E343=\"\",\"\",lookup!N335)","v":""},{"$f":"IF(E343=\"\",\"\",lookup!O335-lookup!N335)","v":""},"",{"$f":"IF(E343=\"\",\"\",IF(lookup!O335<0,0,lookup!O335))","v":""}]
[null,null,null,null,{"$f":"IF(I343=\"\",\"\",IF(B$13<E343+1,\"\",IF(I343=B$14,\"\",lookup!M336)))","v":""},{"$f":"IF(E344=\"\",\"\",lookup!N336)","v":""},{"$f":"IF(E344=\"\",\"\",lookup!O336-lookup!N336)","v":""},"",{"$f":"IF(E344=\"\",\"\",IF(lookup!O336<0,0,lookup!O336))","v":""}]
[null,null,null,null,{"$f":"IF(I344=\"\",\"\",IF(B$13<E344+1,\"\",IF(I344=B$14,\"\",lookup!M337)))","v":""},{"$f":"IF(E345=\"\",\"\",lookup!N337)","v":""},{"$f":"IF(E345=\"\",\"\",lookup!O337-lookup!N337)","v":""},"",{"$f":"IF(E345=\"\",\"\",IF(lookup!O337<0,0,lookup!O337))","v":""}]
[null,null,null,null,{"$f":"IF(I345=\"\",\"\",IF(B$13<E345+1,\"\",IF(I345=B$14,\"\",lookup!M338)))","v":""},{"$f":"IF(E346=\"\",\"\",lookup!N338)","v":""},{"$f":"IF(E346=\"\",\"\",lookup!O338-lookup!N338)","v":""},"",{"$f":"IF(E346=\"\",\"\",IF(lookup!O338<0,0,lookup!O338))","v":""}]
[null,null,null,null,{"$f":"IF(I346=\"\",\"\",IF(B$13<E346+1,\"\",IF(I346=B$14,\"\",lookup!M339)))","v":""},{"$f":"IF(E347=\"\",\"\",lookup!N339)","v":""},{"$f":"IF(E347=\"\",\"\",lookup!O339-lookup!N339)","v":""},"",{"$f":"IF(E347=\"\",\"\",IF(lookup!O339<0,0,lookup!O339))","v":""}]
[null,null,null,null,{"$f":"IF(I347=\"\",\"\",IF(B$13<E347+1,\"\",IF(I347=B$14,\"\",lookup!M340)))","v":""},{"$f":"IF(E348=\"\",\"\",lookup!N340)","v":""},{"$f":"IF(E348=\"\",\"\",lookup!O340-lookup!N340)","v":""},"",{"$f":"IF(E348=\"\",\"\",IF(lookup!O340<0,0,lookup!O340))","v":""}]
[null,null,null,null,{"$f":"IF(I348=\"\",\"\",IF(B$13<E348+1,\"\",IF(I348=B$14,\"\",lookup!M341)))","v":""},{"$f":"IF(E349=\"\",\"\",lookup!N341)","v":""},{"$f":"IF(E349=\"\",\"\",lookup!O341-lookup!N341)","v":""},"",{"$f":"IF(E349=\"\",\"\",IF(lookup!O341<0,0,lookup!O341))","v":""}]
[null,null,null,null,{"$f":"IF(I349=\"\",\"\",IF(B$13<E349+1,\"\",IF(I349=B$14,\"\",lookup!M342)))","v":""},{"$f":"IF(E350=\"\",\"\",lookup!N342)","v":""},{"$f":"IF(E350=\"\",\"\",lookup!O342-lookup!N342)","v":""},"",{"$f":"IF(E350=\"\",\"\",IF(lookup!O342<0,0,lookup!O342))","v":""}]
[null,null,null,null,{"$f":"IF(I350=\"\",\"\",IF(B$13<E350+1,\"\",IF(I350=B$14,\"\",lookup!M343)))","v":""},{"$f":"IF(E351=\"\",\"\",lookup!N343)","v":""},{"$f":"IF(E351=\"\",\"\",lookup!O343-lookup!N343)","v":""},"",{"$f":"IF(E351=\"\",\"\",IF(lookup!O343<0,0,lookup!O343))","v":""}]
[null,null,null,null,{"$f":"IF(I351=\"\",\"\",IF(B$13<E351+1,\"\",IF(I351=B$14,\"\",lookup!M344)))","v":""},{"$f":"IF(E352=\"\",\"\",lookup!N344)","v":""},{"$f":"IF(E352=\"\",\"\",lookup!O344-lookup!N344)","v":""},"",{"$f":"IF(E352=\"\",\"\",IF(lookup!O344<0,0,lookup!O344))","v":""}]
[null,null,null,null,{"$f":"IF(I352=\"\",\"\",IF(B$13<E352+1,\"\",IF(I352=B$14,\"\",lookup!M345)))","v":""},{"$f":"IF(E353=\"\",\"\",lookup!N345)","v":""},{"$f":"IF(E353=\"\",\"\",lookup!O345-lookup!N345)","v":""},"",{"$f":"IF(E353=\"\",\"\",IF(lookup!O345<0,0,lookup!O345))","v":""}]
[null,null,null,null,{"$f":"IF(I353=\"\",\"\",IF(B$13<E353+1,\"\",IF(I353=B$14,\"\",lookup!M346)))","v":""},{"$f":"IF(E354=\"\",\"\",lookup!N346)","v":""},{"$f":"IF(E354=\"\",\"\",lookup!O346-lookup!N346)","v":""},"",{"$f":"IF(E354=\"\",\"\",IF(lookup!O346<0,0,lookup!O346))","v":""}]
[null,null,null,null,{"$f":"IF(I354=\"\",\"\",IF(B$13<E354+1,\"\",IF(I354=B$14,\"\",lookup!M347)))","v":""},{"$f":"IF(E355=\"\",\"\",lookup!N347)","v":""},{"$f":"IF(E355=\"\",\"\",lookup!O347-lookup!N347)","v":""},"",{"$f":"IF(E355=\"\",\"\",IF(lookup!O347<0,0,lookup!O347))","v":""}]
[null,null,null,null,{"$f":"IF(I355=\"\",\"\",IF(B$13<E355+1,\"\",IF(I355=B$14,\"\",lookup!M348)))","v":""},{"$f":"IF(E356=\"\",\"\",lookup!N348)","v":""},{"$f":"IF(E356=\"\",\"\",lookup!O348-lookup!N348)","v":""},"",{"$f":"IF(E356=\"\",\"\",IF(lookup!O348<0,0,lookup!O348))","v":""}]
[null,null,null,null,{"$f":"IF(I356=\"\",\"\",IF(B$13<E356+1,\"\",IF(I356=B$14,\"\",lookup!M349)))","v":""},{"$f":"IF(E357=\"\",\"\",lookup!N349)","v":""},{"$f":"IF(E357=\"\",\"\",lookup!O349-lookup!N349)","v":""},"",{"$f":"IF(E357=\"\",\"\",IF(lookup!O349<0,0,lookup!O349))","v":""}]
[null,null,null,null,{"$f":"IF(I357=\"\",\"\",IF(B$13<E357+1,\"\",IF(I357=B$14,\"\",lookup!M350)))","v":""},{"$f":"IF(E358=\"\",\"\",lookup!N350)","v":""},{"$f":"IF(E358=\"\",\"\",lookup!O350-lookup!N350)","v":""},"",{"$f":"IF(E358=\"\",\"\",IF(lookup!O350<0,0,lookup!O350))","v":""}]
[null,null,null,null,{"$f":"IF(I358=\"\",\"\",IF(B$13<E358+1,\"\",IF(I358=B$14,\"\",lookup!M351)))","v":""},{"$f":"IF(E359=\"\",\"\",lookup!N351)","v":""},{"$f":"IF(E359=\"\",\"\",lookup!O351-lookup!N351)","v":""},"",{"$f":"IF(E359=\"\",\"\",IF(lookup!O351<0,0,lookup!O351))","v":""}]
[null,null,null,null,{"$f":"IF(I359=\"\",\"\",IF(B$13<E359+1,\"\",IF(I359=B$14,\"\",lookup!M352)))","v":""},{"$f":"IF(E360=\"\",\"\",lookup!N352)","v":""},{"$f":"IF(E360=\"\",\"\",lookup!O352-lookup!N352)","v":""},"",{"$f":"IF(E360=\"\",\"\",IF(lookup!O352<0,0,lookup!O352))","v":""}]
[null,null,null,null,{"$f":"IF(I360=\"\",\"\",IF(B$13<E360+1,\"\",IF(I360=B$14,\"\",lookup!M353)))","v":""},{"$f":"IF(E361=\"\",\"\",lookup!N353)","v":""},{"$f":"IF(E361=\"\",\"\",lookup!O353-lookup!N353)","v":""},"",{"$f":"IF(E361=\"\",\"\",IF(lookup!O353<0,0,lookup!O353))","v":""}]
[null,null,null,null,{"$f":"IF(I361=\"\",\"\",IF(B$13<E361+1,\"\",IF(I361=B$14,\"\",lookup!M354)))","v":""},{"$f":"IF(E362=\"\",\"\",lookup!N354)","v":""},{"$f":"IF(E362=\"\",\"\",lookup!O354-lookup!N354)","v":""},"",{"$f":"IF(E362=\"\",\"\",IF(lookup!O354<0,0,lookup!O354))","v":""}]
[null,null,null,null,{"$f":"IF(I362=\"\",\"\",IF(B$13<E362+1,\"\",IF(I362=B$14,\"\",lookup!M355)))","v":""},{"$f":"IF(E363=\"\",\"\",lookup!N355)","v":""},{"$f":"IF(E363=\"\",\"\",lookup!O355-lookup!N355)","v":""},"",{"$f":"IF(E363=\"\",\"\",IF(lookup!O355<0,0,lookup!O355))","v":""}]
[null,null,null,null,{"$f":"IF(I363=\"\",\"\",IF(B$13<E363+1,\"\",IF(I363=B$14,\"\",lookup!M356)))","v":""},{"$f":"IF(E364=\"\",\"\",lookup!N356)","v":""},{"$f":"IF(E364=\"\",\"\",lookup!O356-lookup!N356)","v":""},"",{"$f":"IF(E364=\"\",\"\",IF(lookup!O356<0,0,lookup!O356))","v":""}]
[null,null,null,null,{"$f":"IF(I364=\"\",\"\",IF(B$13<E364+1,\"\",IF(I364=B$14,\"\",lookup!M357)))","v":""},{"$f":"IF(E365=\"\",\"\",lookup!N357)","v":""},{"$f":"IF(E365=\"\",\"\",lookup!O357-lookup!N357)","v":""},"",{"$f":"IF(E365=\"\",\"\",IF(lookup!O357<0,0,lookup!O357))","v":""}]
[null,null,null,null,{"$f":"IF(I365=\"\",\"\",IF(B$13<E365+1,\"\",IF(I365=B$14,\"\",lookup!M358)))","v":""},{"$f":"IF(E366=\"\",\"\",lookup!N358)","v":""},{"$f":"IF(E366=\"\",\"\",lookup!O358-lookup!N358)","v":""},"",{"$f":"IF(E366=\"\",\"\",IF(lookup!O358<0,0,lookup!O358))","v":""}]
[null,null,null,null,{"$f":"IF(I366=\"\",\"\",IF(B$13<E366+1,\"\",IF(I366=B$14,\"\",lookup!M359)))","v":""},{"$f":"IF(E367=\"\",\"\",lookup!N359)","v":""},{"$f":"IF(E367=\"\",\"\",lookup!O359-lookup!N359)","v":""},"",{"$f":"IF(E367=\"\",\"\",IF(lookup!O359<0,0,lookup!O359))","v":""}]
[null,null,null,null,{"$f":"IF(I367=\"\",\"\",IF(B$13<E367+1,\"\",IF(I367=B$14,\"\",lookup!M360)))","v":""},{"$f":"IF(E368=\"\",\"\",lookup!N360)","v":""},{"$f":"IF(E368=\"\",\"\",lookup!O360-lookup!N360)","v":""},"",{"$f":"IF(E368=\"\",\"\",IF(lookup!O360<0,0,lookup!O360))","v":""}]
[null,null,null,null,{"$f":"IF(I368=\"\",\"\",IF(B$13<E368+1,\"\",IF(I368=B$14,\"\",lookup!M361)))","v":""},{"$f":"IF(E369=\"\",\"\",lookup!N361)","v":""},{"$f":"IF(E369=\"\",\"\",lookup!O361-lookup!N361)","v":""},"",{"$f":"IF(E369=\"\",\"\",IF(lookup!O361<0,0,lookup!O361))","v":""}]
[null,null,null,null,{"$f":"IF(I369=\"\",\"\",IF(B$13<E369+1,\"\",IF(I369=B$14,\"\",lookup!M362)))","v":""},{"$f":"IF(E370=\"\",\"\",lookup!N362)","v":""},{"$f":"IF(E370=\"\",\"\",lookup!O362-lookup!N362)","v":""},"",{"$f":"IF(E370=\"\",\"\",IF(lookup!O362<0,0,lookup!O362))","v":""}]
[null,null,null,null,{"$f":"IF(I370=\"\",\"\",IF(B$13<E370+1,\"\",IF(I370=B$14,\"\",lookup!M363)))","v":""},{"$f":"IF(E371=\"\",\"\",lookup!N363)","v":""},{"$f":"IF(E371=\"\",\"\",lookup!O363-lookup!N363)","v":""},"",{"$f":"IF(E371=\"\",\"\",IF(lookup!O363<0,0,lookup!O363))","v":""}]
[null,null,null,null,{"$f":"IF(I371=\"\",\"\",IF(B$13<E371+1,\"\",IF(I371=B$14,\"\",lookup!M364)))","v":""},{"$f":"IF(E372=\"\",\"\",lookup!N364)","v":""},{"$f":"IF(E372=\"\",\"\",lookup!O364-lookup!N364)","v":""},"",{"$f":"IF(E372=\"\",\"\",IF(lookup!O364<0,0,lookup!O364))","v":""}]
[null,null,null,null,{"$f":"IF(I372=\"\",\"\",IF(B$13<E372+1,\"\",IF(I372=B$14,\"\",lookup!M365)))","v":""},{"$f":"IF(E373=\"\",\"\",lookup!N365)","v":""},{"$f":"IF(E373=\"\",\"\",lookup!O365-lookup!N365)","v":""},"",{"$f":"IF(E373=\"\",\"\",IF(lookup!O365<0,0,lookup!O365))","v":""}]
[null,null,null,null,{"$f":"IF(I373=\"\",\"\",IF(B$13<E373+1,\"\",IF(I373=B$14,\"\",lookup!M366)))","v":""},{"$f":"IF(E374=\"\",\"\",lookup!N366)","v":""},{"$f":"IF(E374=\"\",\"\",lookup!O366-lookup!N366)","v":""},"",{"$f":"IF(E374=\"\",\"\",IF(lookup!O366<0,0,lookup!O366))","v":""}]
[null,null,null,null,{"$f":"IF(I374=\"\",\"\",IF(B$13<E374+1,\"\",IF(I374=B$14,\"\",lookup!M367)))","v":""},{"$f":"IF(E375=\"\",\"\",lookup!N367)","v":""},{"$f":"IF(E375=\"\",\"\",lookup!O367-lookup!N367)","v":""},"",{"$f":"IF(E375=\"\",\"\",IF(lookup!O367<0,0,lookup!O367))","v":""}]
[null,null,null,null,{"$f":"IF(I375=\"\",\"\",IF(B$13<E375+1,\"\",IF(I375=B$14,\"\",lookup!M368)))","v":""},{"$f":"IF(E376=\"\",\"\",lookup!N368)","v":""},{"$f":"IF(E376=\"\",\"\",lookup!O368-lookup!N368)","v":""},"",{"$f":"IF(E376=\"\",\"\",IF(lookup!O368<0,0,lookup!O368))","v":""}]
[null,null,null,null,{"$f":"IF(I376=\"\",\"\",IF(B$13<E376+1,\"\",IF(I376=B$14,\"\",lookup!M369)))","v":""},{"$f":"IF(E377=\"\",\"\",lookup!N369)","v":""},{"$f":"IF(E377=\"\",\"\",lookup!O369-lookup!N369)","v":""},"",{"$f":"IF(E377=\"\",\"\",IF(lookup!O369<0,0,lookup!O369))","v":""}]
[null,null,null,null,{"$f":"IF(I377=\"\",\"\",IF(B$13<E377+1,\"\",IF(I377=B$14,\"\",lookup!M370)))","v":""},{"$f":"IF(E378=\"\",\"\",lookup!N370)","v":""},{"$f":"IF(E378=\"\",\"\",lookup!O370-lookup!N370)","v":""},"",{"$f":"IF(E378=\"\",\"\",IF(lookup!O370<0,0,lookup!O370))","v":""}]
[null,null,null,null,{"$f":"IF(I378=\"\",\"\",IF(B$13<E378+1,\"\",IF(I378=B$14,\"\",lookup!M371)))","v":""},{"$f":"IF(E379=\"\",\"\",lookup!N371)","v":""},{"$f":"IF(E379=\"\",\"\",lookup!O371-lookup!N371)","v":""},"",{"$f":"IF(E379=\"\",\"\",IF(lookup!O371<0,0,lookup!O371))","v":""}]
[null,null,null,null,{"$f":"IF(I379=\"\",\"\",IF(B$13<E379+1,\"\",IF(I379=B$14,\"\",lookup!M372)))","v":""},{"$f":"IF(E380=\"\",\"\",lookup!N372)","v":""},{"$f":"IF(E380=\"\",\"\",lookup!O372-lookup!N372)","v":""},"",{"$f":"IF(E380=\"\",\"\",IF(lookup!O372<0,0,lookup!O372))","v":""}]
[null,null,null,null,{"$f":"IF(I380=\"\",\"\",IF(B$13<E380+1,\"\",IF(I380=B$14,\"\",lookup!M373)))","v":""},{"$f":"IF(E381=\"\",\"\",lookup!N373)","v":""},{"$f":"IF(E381=\"\",\"\",lookup!O373-lookup!N373)","v":""},"",{"$f":"IF(E381=\"\",\"\",IF(lookup!O373<0,0,lookup!O373))","v":""}]
[null,null,null,null,{"$f":"IF(I381=\"\",\"\",IF(B$13<E381+1,\"\",IF(I381=B$14,\"\",lookup!M374)))","v":""},{"$f":"IF(E382=\"\",\"\",lookup!N374)","v":""},{"$f":"IF(E382=\"\",\"\",lookup!O374-lookup!N374)","v":""},"",{"$f":"IF(E382=\"\",\"\",IF(lookup!O374<0,0,lookup!O374))","v":""}]
[null,null,null,null,{"$f":"IF(I382=\"\",\"\",IF(B$13<E382+1,\"\",IF(I382=B$14,\"\",lookup!M375)))","v":""},{"$f":"IF(E383=\"\",\"\",lookup!N375)","v":""},{"$f":"IF(E383=\"\",\"\",lookup!O375-lookup!N375)","v":""},"",{"$f":"IF(E383=\"\",\"\",IF(lookup!O375<0,0,lookup!O375))","v":""}]
[null,null,null,null,{"$f":"IF(I383=\"\",\"\",IF(B$13<E383+1,\"\",IF(I383=B$14,\"\",lookup!M376)))","v":""},{"$f":"IF(E384=\"\",\"\",lookup!N376)","v":""},{"$f":"IF(E384=\"\",\"\",lookup!O376-lookup!N376)","v":""},"",{"$f":"IF(E384=\"\",\"\",IF(lookup!O376<0,0,lookup!O376))","v":""}]
[null,null,null,null,{"$f":"IF(I384=\"\",\"\",IF(B$13<E384+1,\"\",IF(I384=B$14,\"\",lookup!M377)))","v":""},{"$f":"IF(E385=\"\",\"\",lookup!N377)","v":""},{"$f":"IF(E385=\"\",\"\",lookup!O377-lookup!N377)","v":""},"",{"$f":"IF(E385=\"\",\"\",IF(lookup!O377<0,0,lookup!O377))","v":""}]
[null,null,null,null,{"$f":"IF(I385=\"\",\"\",IF(B$13<E385+1,\"\",IF(I385=B$14,\"\",lookup!M378)))","v":""},{"$f":"IF(E386=\"\",\"\",lookup!N378)","v":""},{"$f":"IF(E386=\"\",\"\",lookup!O378-lookup!N378)","v":""},"",{"$f":"IF(E386=\"\",\"\",IF(lookup!O378<0,0,lookup!O378))","v":""}]
[null,null,null,null,{"$f":"IF(I386=\"\",\"\",IF(B$13<E386+1,\"\",IF(I386=B$14,\"\",lookup!M379)))","v":""},{"$f":"IF(E387=\"\",\"\",lookup!N379)","v":""},{"$f":"IF(E387=\"\",\"\",lookup!O379-lookup!N379)","v":""},"",{"$f":"IF(E387=\"\",\"\",IF(lookup!O379<0,0,lookup!O379))","v":""}]
[null,null,null,null,{"$f":"IF(I387=\"\",\"\",IF(B$13<E387+1,\"\",IF(I387=B$14,\"\",lookup!M380)))","v":""},{"$f":"IF(E388=\"\",\"\",lookup!N380)","v":""},{"$f":"IF(E388=\"\",\"\",lookup!O380-lookup!N380)","v":""},"",{"$f":"IF(E388=\"\",\"\",IF(lookup!O380<0,0,lookup!O380))","v":""}]
[null,null,null,null,{"$f":"IF(I388=\"\",\"\",IF(B$13<E388+1,\"\",IF(I388=B$14,\"\",lookup!M381)))","v":""},{"$f":"IF(E389=\"\",\"\",lookup!N381)","v":""},{"$f":"IF(E389=\"\",\"\",lookup!O381-lookup!N381)","v":""},"",{"$f":"IF(E389=\"\",\"\",IF(lookup!O381<0,0,lookup!O381))","v":""}]
[null,null,null,null,{"$f":"IF(I389=\"\",\"\",IF(B$13<E389+1,\"\",IF(I389=B$14,\"\",lookup!M382)))","v":""},{"$f":"IF(E390=\"\",\"\",lookup!N382)","v":""},{"$f":"IF(E390=\"\",\"\",lookup!O382-lookup!N382)","v":""},"",{"$f":"IF(E390=\"\",\"\",IF(lookup!O382<0,0,lookup!O382))","v":""}]
[null,null,null,null,{"$f":"IF(I390=\"\",\"\",IF(B$13<E390+1,\"\",IF(I390=B$14,\"\",lookup!M383)))","v":""},{"$f":"IF(E391=\"\",\"\",lookup!N383)","v":""},{"$f":"IF(E391=\"\",\"\",lookup!O383-lookup!N383)","v":""},"",{"$f":"IF(E391=\"\",\"\",IF(lookup!O383<0,0,lookup!O383))","v":""}]
[null,null,null,null,{"$f":"IF(I391=\"\",\"\",IF(B$13<E391+1,\"\",IF(I391=B$14,\"\",lookup!M384)))","v":""},{"$f":"IF(E392=\"\",\"\",lookup!N384)","v":""},{"$f":"IF(E392=\"\",\"\",lookup!O384-lookup!N384)","v":""},"",{"$f":"IF(E392=\"\",\"\",IF(lookup!O384<0,0,lookup!O384))","v":""}]
[null,null,null,null,{"$f":"IF(I392=\"\",\"\",IF(B$13<E392+1,\"\",IF(I392=B$14,\"\",lookup!M385)))","v":""},{"$f":"IF(E393=\"\",\"\",lookup!N385)","v":""},{"$f":"IF(E393=\"\",\"\",lookup!O385-lookup!N385)","v":""},"",{"$f":"IF(E393=\"\",\"\",IF(lookup!O385<0,0,lookup!O385))","v":""}]
[null,null,null,null,{"$f":"IF(I393=\"\",\"\",IF(B$13<E393+1,\"\",IF(I393=B$14,\"\",lookup!M386)))","v":""},{"$f":"IF(E394=\"\",\"\",lookup!N386)","v":""},{"$f":"IF(E394=\"\",\"\",lookup!O386-lookup!N386)","v":""},"",{"$f":"IF(E394=\"\",\"\",IF(lookup!O386<0,0,lookup!O386))","v":""}]
[null,null,null,null,{"$f":"IF(I394=\"\",\"\",IF(B$13<E394+1,\"\",IF(I394=B$14,\"\",lookup!M387)))","v":""},{"$f":"IF(E395=\"\",\"\",lookup!N387)","v":""},{"$f":"IF(E395=\"\",\"\",lookup!O387-lookup!N387)","v":""},"",{"$f":"IF(E395=\"\",\"\",IF(lookup!O387<0,0,lookup!O387))","v":""}]
[null,null,null,null,{"$f":"IF(I395=\"\",\"\",IF(B$13<E395+1,\"\",IF(I395=B$14,\"\",lookup!M388)))","v":""},{"$f":"IF(E396=\"\",\"\",lookup!N388)","v":""},{"$f":"IF(E396=\"\",\"\",lookup!O388-lookup!N388)","v":""},"",{"$f":"IF(E396=\"\",\"\",IF(lookup!O388<0,0,lookup!O388))","v":""}]
[null,null,null,null,{"$f":"IF(I396=\"\",\"\",IF(B$13<E396+1,\"\",IF(I396=B$14,\"\",lookup!M389)))","v":""},{"$f":"IF(E397=\"\",\"\",lookup!N389)","v":""},{"$f":"IF(E397=\"\",\"\",lookup!O389-lookup!N389)","v":""},{"$f":"IF(E397=\"\",\"\",H396+G397)","v":""},{"$f":"IF(E397=\"\",\"\",IF(lookup!O389<0,0,lookup!O389))","v":""}]
[null,null,null,null,{"$f":"IF(I397=\"\",\"\",IF(B$13<E397+1,\"\",IF(I397=B$14,\"\",lookup!M390)))","v":""},{"$f":"IF(E398=\"\",\"\",lookup!N390)","v":""},{"$f":"IF(E398=\"\",\"\",lookup!O390-lookup!N390)","v":""},"",{"$f":"IF(E398=\"\",\"\",IF(lookup!O390<0,0,lookup!O390))","v":""}]
[null,null,null,null,{"$f":"IF(I398=\"\",\"\",IF(B$13<E398+1,\"\",IF(I398=B$14,\"\",lookup!M391)))","v":""},{"$f":"IF(E399=\"\",\"\",lookup!N391)","v":""},{"$f":"IF(E399=\"\",\"\",lookup!O391-lookup!N391)","v":""},"",{"$f":"IF(E399=\"\",\"\",IF(lookup!O391<0,0,lookup!O391))","v":""}]
[null,null,null,null,{"$f":"IF(I399=\"\",\"\",IF(B$13<E399+1,\"\",IF(I399=B$14,\"\",lookup!M392)))","v":""},{"$f":"IF(E400=\"\",\"\",lookup!N392)","v":""},{"$f":"IF(E400=\"\",\"\",lookup!O392-lookup!N392)","v":""},"",{"$f":"IF(E400=\"\",\"\",IF(lookup!O392<0,0,lookup!O392))","v":""}]
[null,null,null,null,{"$f":"IF(I400=\"\",\"\",IF(B$13<E400+1,\"\",IF(I400=B$14,\"\",lookup!M393)))","v":""},{"$f":"IF(E401=\"\",\"\",lookup!N393)","v":""},{"$f":"IF(E401=\"\",\"\",lookup!O393-lookup!N393)","v":""},"",{"$f":"IF(E401=\"\",\"\",IF(lookup!O393<0,0,lookup!O393))","v":""}]
[null,null,null,null,{"$f":"IF(I401=\"\",\"\",IF(B$13<E401+1,\"\",IF(I401=B$14,\"\",lookup!M394)))","v":""},{"$f":"IF(E402=\"\",\"\",lookup!N394)","v":""},{"$f":"IF(E402=\"\",\"\",lookup!O394-lookup!N394)","v":""},"",{"$f":"IF(E402=\"\",\"\",IF(lookup!O394<0,0,lookup!O394))","v":""}]
[null,null,null,null,{"$f":"IF(I402=\"\",\"\",IF(B$13<E402+1,\"\",IF(I402=B$14,\"\",lookup!M395)))","v":""},{"$f":"IF(E403=\"\",\"\",lookup!N395)","v":""},{"$f":"IF(E403=\"\",\"\",lookup!O395-lookup!N395)","v":""},"",{"$f":"IF(E403=\"\",\"\",IF(lookup!O395<0,0,lookup!O395))","v":""}]
[null,null,null,null,{"$f":"IF(I403=\"\",\"\",IF(B$13<E403+1,\"\",IF(I403=B$14,\"\",lookup!M396)))","v":""},{"$f":"IF(E404=\"\",\"\",lookup!N396)","v":""},{"$f":"IF(E404=\"\",\"\",lookup!O396-lookup!N396)","v":""},"",{"$f":"IF(E404=\"\",\"\",IF(lookup!O396<0,0,lookup!O396))","v":""}]
[null,null,null,null,{"$f":"IF(I404=\"\",\"\",IF(B$13<E404+1,\"\",IF(I404=B$14,\"\",lookup!M397)))","v":""},{"$f":"IF(E405=\"\",\"\",lookup!N397)","v":""},{"$f":"IF(E405=\"\",\"\",lookup!O397-lookup!N397)","v":""},"",{"$f":"IF(E405=\"\",\"\",IF(lookup!O397<0,0,lookup!O397))","v":""}]
[null,null,null,null,{"$f":"IF(I405=\"\",\"\",IF(B$13<E405+1,\"\",IF(I405=B$14,\"\",lookup!M398)))","v":""},{"$f":"IF(E406=\"\",\"\",lookup!N398)","v":""},{"$f":"IF(E406=\"\",\"\",lookup!O398-lookup!N398)","v":""},"",{"$f":"IF(E406=\"\",\"\",IF(lookup!O398<0,0,lookup!O398))","v":""}]
[null,null,null,null,{"$f":"IF(I406=\"\",\"\",IF(B$13<E406+1,\"\",IF(I406=B$14,\"\",lookup!M399)))","v":""},{"$f":"IF(E407=\"\",\"\",lookup!N399)","v":""},{"$f":"IF(E407=\"\",\"\",lookup!O399-lookup!N399)","v":""},"",{"$f":"IF(E407=\"\",\"\",IF(lookup!O399<0,0,lookup!O399))","v":""}]
[null,null,null,null,{"$f":"IF(I407=\"\",\"\",IF(B$13<E407+1,\"\",IF(I407=B$14,\"\",lookup!M400)))","v":""},{"$f":"IF(E408=\"\",\"\",lookup!N400)","v":""},{"$f":"IF(E408=\"\",\"\",lookup!O400-lookup!N400)","v":""},"",{"$f":"IF(E408=\"\",\"\",IF(lookup!O400<0,0,lookup!O400))","v":""}]
[null,null,null,null,{"$f":"IF(I408=\"\",\"\",IF(B$13<E408+1,\"\",IF(I408=B$14,\"\",lookup!M401)))","v":""},{"$f":"IF(E409=\"\",\"\",lookup!N401)","v":""},{"$f":"IF(E409=\"\",\"\",lookup!O401-lookup!N401)","v":""},"",{"$f":"IF(E409=\"\",\"\",IF(lookup!O401<0,0,lookup!O401))","v":""}]
[null,null,null,null,{"$f":"IF(I409=\"\",\"\",IF(B$13<E409+1,\"\",IF(I409=B$14,\"\",lookup!M402)))","v":""},{"$f":"IF(E410=\"\",\"\",lookup!N402)","v":""},{"$f":"IF(E410=\"\",\"\",lookup!O402-lookup!N402)","v":""},"",{"$f":"IF(E410=\"\",\"\",IF(lookup!O402<0,0,lookup!O402))","v":""}]
[null,null,null,null,{"$f":"IF(I410=\"\",\"\",IF(B$13<E410+1,\"\",IF(I410=B$14,\"\",lookup!M403)))","v":""},{"$f":"IF(E411=\"\",\"\",lookup!N403)","v":""},{"$f":"IF(E411=\"\",\"\",lookup!O403-lookup!N403)","v":""},"",{"$f":"IF(E411=\"\",\"\",IF(lookup!O403<0,0,lookup!O403))","v":""}]
[null,null,null,null,{"$f":"IF(I411=\"\",\"\",IF(B$13<E411+1,\"\",IF(I411=B$14,\"\",lookup!M404)))","v":""},{"$f":"IF(E412=\"\",\"\",lookup!N404)","v":""},{"$f":"IF(E412=\"\",\"\",lookup!O404-lookup!N404)","v":""},"",{"$f":"IF(E412=\"\",\"\",IF(lookup!O404<0,0,lookup!O404))","v":""}]
[null,null,null,null,{"$f":"IF(I412=\"\",\"\",IF(B$13<E412+1,\"\",IF(I412=B$14,\"\",lookup!M405)))","v":""},{"$f":"IF(E413=\"\",\"\",lookup!N405)","v":""},{"$f":"IF(E413=\"\",\"\",lookup!O405-lookup!N405)","v":""},"",{"$f":"IF(E413=\"\",\"\",IF(lookup!O405<0,0,lookup!O405))","v":""}]
[null,null,null,null,{"$f":"IF(I413=\"\",\"\",IF(B$13<E413+1,\"\",IF(I413=B$14,\"\",lookup!M406)))","v":""},{"$f":"IF(E414=\"\",\"\",lookup!N406)","v":""},{"$f":"IF(E414=\"\",\"\",lookup!O406-lookup!N406)","v":""},"",{"$f":"IF(E414=\"\",\"\",IF(lookup!O406<0,0,lookup!O406))","v":""}]
[null,null,null,null,{"$f":"IF(I414=\"\",\"\",IF(B$13<E414+1,\"\",IF(I414=B$14,\"\",lookup!M407)))","v":""},{"$f":"IF(E415=\"\",\"\",lookup!N407)","v":""},{"$f":"IF(E415=\"\",\"\",lookup!O407-lookup!N407)","v":""},"",{"$f":"IF(E415=\"\",\"\",IF(lookup!O407<0,0,lookup!O407))","v":""}]
[null,null,null,null,{"$f":"IF(I415=\"\",\"\",IF(B$13<E415+1,\"\",IF(I415=B$14,\"\",lookup!M408)))","v":""},{"$f":"IF(E416=\"\",\"\",lookup!N408)","v":""},{"$f":"IF(E416=\"\",\"\",lookup!O408-lookup!N408)","v":""},"",{"$f":"IF(E416=\"\",\"\",IF(lookup!O408<0,0,lookup!O408))","v":""}]
[null,null,null,null,{"$f":"IF(I416=\"\",\"\",IF(B$13<E416+1,\"\",IF(I416=B$14,\"\",lookup!M409)))","v":""},{"$f":"IF(E417=\"\",\"\",lookup!N409)","v":""},{"$f":"IF(E417=\"\",\"\",lookup!O409-lookup!N409)","v":""},"",{"$f":"IF(E417=\"\",\"\",IF(lookup!O409<0,0,lookup!O409))","v":""}]
[null,null,null,null,{"$f":"IF(I417=\"\",\"\",IF(B$13<E417+1,\"\",IF(I417=B$14,\"\",lookup!M410)))","v":""},{"$f":"IF(E418=\"\",\"\",lookup!N410)","v":""},{"$f":"IF(E418=\"\",\"\",lookup!O410-lookup!N410)","v":""},"",{"$f":"IF(E418=\"\",\"\",IF(lookup!O410<0,0,lookup!O410))","v":""}]
[null,null,null,null,{"$f":"IF(I418=\"\",\"\",IF(B$13<E418+1,\"\",IF(I418=B$14,\"\",lookup!M411)))","v":""},{"$f":"IF(E419=\"\",\"\",lookup!N411)","v":""},{"$f":"IF(E419=\"\",\"\",lookup!O411-lookup!N411)","v":""},"",{"$f":"IF(E419=\"\",\"\",IF(lookup!O411<0,0,lookup!O411))","v":""}]
[null,null,null,null,{"$f":"IF(I419=\"\",\"\",IF(B$13<E419+1,\"\",IF(I419=B$14,\"\",lookup!M412)))","v":""},{"$f":"IF(E420=\"\",\"\",lookup!N412)","v":""},{"$f":"IF(E420=\"\",\"\",lookup!O412-lookup!N412)","v":""},"",{"$f":"IF(E420=\"\",\"\",IF(lookup!O412<0,0,lookup!O412))","v":""}]
[null,null,null,null,{"$f":"IF(I420=\"\",\"\",IF(B$13<E420+1,\"\",IF(I420=B$14,\"\",lookup!M413)))","v":""},{"$f":"IF(E421=\"\",\"\",lookup!N413)","v":""},{"$f":"IF(E421=\"\",\"\",lookup!O413-lookup!N413)","v":""},"",{"$f":"IF(E421=\"\",\"\",IF(lookup!O413<0,0,lookup!O413))","v":""}]
[null,null,null,null,{"$f":"IF(I421=\"\",\"\",IF(B$13<E421+1,\"\",IF(I421=B$14,\"\",lookup!M414)))","v":""},{"$f":"IF(E422=\"\",\"\",lookup!N414)","v":""},{"$f":"IF(E422=\"\",\"\",lookup!O414-lookup!N414)","v":""},"",{"$f":"IF(E422=\"\",\"\",IF(lookup!O414<0,0,lookup!O414))","v":""}]
[null,null,null,null,{"$f":"IF(I422=\"\",\"\",IF(B$13<E422+1,\"\",IF(I422=B$14,\"\",lookup!M415)))","v":""},{"$f":"IF(E423=\"\",\"\",lookup!N415)","v":""},{"$f":"IF(E423=\"\",\"\",lookup!O415-lookup!N415)","v":""},"",{"$f":"IF(E423=\"\",\"\",IF(lookup!O415<0,0,lookup!O415))","v":""}]
[null,null,null,null,{"$f":"IF(I423=\"\",\"\",IF(B$13<E423+1,\"\",IF(I423=B$14,\"\",lookup!M416)))","v":""},{"$f":"IF(E424=\"\",\"\",lookup!N416)","v":""},{"$f":"IF(E424=\"\",\"\",lookup!O416-lookup!N416)","v":""},"",{"$f":"IF(E424=\"\",\"\",IF(lookup!O416<0,0,lookup!O416))","v":""}]
[null,null,null,null,{"$f":"IF(I424=\"\",\"\",IF(B$13<E424+1,\"\",IF(I424=B$14,\"\",lookup!M417)))","v":""},{"$f":"IF(E425=\"\",\"\",lookup!N417)","v":""},{"$f":"IF(E425=\"\",\"\",lookup!O417-lookup!N417)","v":""},"",{"$f":"IF(E425=\"\",\"\",IF(lookup!O417<0,0,lookup!O417))","v":""}]
[null,null,null,null,{"$f":"IF(I425=\"\",\"\",IF(B$13<E425+1,\"\",IF(I425=B$14,\"\",lookup!M418)))","v":""},{"$f":"IF(E426=\"\",\"\",lookup!N418)","v":""},{"$f":"IF(E426=\"\",\"\",lookup!O418-lookup!N418)","v":""},"",{"$f":"IF(E426=\"\",\"\",IF(lookup!O418<0,0,lookup!O418))","v":""}]
[null,null,null,null,{"$f":"IF(I426=\"\",\"\",IF(B$13<E426+1,\"\",IF(I426=B$14,\"\",lookup!M419)))","v":""},{"$f":"IF(E427=\"\",\"\",lookup!N419)","v":""},{"$f":"IF(E427=\"\",\"\",lookup!O419-lookup!N419)","v":""},"",{"$f":"IF(E427=\"\",\"\",IF(lookup!O419<0,0,lookup!O419))","v":""}]
[null,null,null,null,{"$f":"IF(I427=\"\",\"\",IF(B$13<E427+1,\"\",IF(I427=B$14,\"\",lookup!M420)))","v":""},{"$f":"IF(E428=\"\",\"\",lookup!N420)","v":""},{"$f":"IF(E428=\"\",\"\",lookup!O420-lookup!N420)","v":""},"",{"$f":"IF(E428=\"\",\"\",IF(lookup!O420<0,0,lookup!O420))","v":""}]
[null,null,null,null,{"$f":"IF(I428=\"\",\"\",IF(B$13<E428+1,\"\",IF(I428=B$14,\"\",lookup!M421)))","v":""},{"$f":"IF(E429=\"\",\"\",lookup!N421)","v":""},{"$f":"IF(E429=\"\",\"\",lookup!O421-lookup!N421)","v":""},"",{"$f":"IF(E429=\"\",\"\",IF(lookup!O421<0,0,lookup!O421))","v":""}]
[null,null,null,null,{"$f":"IF(I429=\"\",\"\",IF(B$13<E429+1,\"\",IF(I429=B$14,\"\",lookup!M422)))","v":""},{"$f":"IF(E430=\"\",\"\",lookup!N422)","v":""},{"$f":"IF(E430=\"\",\"\",lookup!O422-lookup!N422)","v":""},"",{"$f":"IF(E430=\"\",\"\",IF(lookup!O422<0,0,lookup!O422))","v":""}]
[null,null,null,null,{"$f":"IF(I430=\"\",\"\",IF(B$13<E430+1,\"\",IF(I430=B$14,\"\",lookup!M423)))","v":""},{"$f":"IF(E431=\"\",\"\",lookup!N423)","v":""},{"$f":"IF(E431=\"\",\"\",lookup!O423-lookup!N423)","v":""},"",{"$f":"IF(E431=\"\",\"\",IF(lookup!O423<0,0,lookup!O423))","v":""}]
[null,null,null,null,{"$f":"IF(I431=\"\",\"\",IF(B$13<E431+1,\"\",IF(I431=B$14,\"\",lookup!M424)))","v":""},{"$f":"IF(E432=\"\",\"\",lookup!N424)","v":""},{"$f":"IF(E432=\"\",\"\",lookup!O424-lookup!N424)","v":""},"",{"$f":"IF(E432=\"\",\"\",IF(lookup!O424<0,0,lookup!O424))","v":""}]
[null,null,null,null,{"$f":"IF(I432=\"\",\"\",IF(B$13<E432+1,\"\",IF(I432=B$14,\"\",lookup!M425)))","v":""},{"$f":"IF(E433=\"\",\"\",lookup!N425)","v":""},{"$f":"IF(E433=\"\",\"\",lookup!O425-lookup!N425)","v":""},"",{"$f":"IF(E433=\"\",\"\",IF(lookup!O425<0,0,lookup!O425))","v":""}]
[null,null,null,null,{"$f":"IF(I433=\"\",\"\",IF(B$13<E433+1,\"\",IF(I433=B$14,\"\",lookup!M426)))","v":""},{"$f":"IF(E434=\"\",\"\",lookup!N426)","v":""},{"$f":"IF(E434=\"\",\"\",lookup!O426-lookup!N426)","v":""},"",{"$f":"IF(E434=\"\",\"\",IF(lookup!O426<0,0,lookup!O426))","v":""}]
[null,null,null,null,{"$f":"IF(I434=\"\",\"\",IF(B$13<E434+1,\"\",IF(I434=B$14,\"\",lookup!M427)))","v":""},{"$f":"IF(E435=\"\",\"\",lookup!N427)","v":""},{"$f":"IF(E435=\"\",\"\",lookup!O427-lookup!N427)","v":""},"",{"$f":"IF(E435=\"\",\"\",IF(lookup!O427<0,0,lookup!O427))","v":""}]
[null,null,null,null,{"$f":"IF(I435=\"\",\"\",IF(B$13<E435+1,\"\",IF(I435=B$14,\"\",lookup!M428)))","v":""},{"$f":"IF(E436=\"\",\"\",lookup!N428)","v":""},{"$f":"IF(E436=\"\",\"\",lookup!O428-lookup!N428)","v":""},"",{"$f":"IF(E436=\"\",\"\",IF(lookup!O428<0,0,lookup!O428))","v":""}]
[null,null,null,null,{"$f":"IF(I436=\"\",\"\",IF(B$13<E436+1,\"\",IF(I436=B$14,\"\",lookup!M429)))","v":""},{"$f":"IF(E437=\"\",\"\",lookup!N429)","v":""},{"$f":"IF(E437=\"\",\"\",lookup!O429-lookup!N429)","v":""},"",{"$f":"IF(E437=\"\",\"\",IF(lookup!O429<0,0,lookup!O429))","v":""}]
[null,null,null,null,{"$f":"IF(I437=\"\",\"\",IF(B$13<E437+1,\"\",IF(I437=B$14,\"\",lookup!M430)))","v":""},{"$f":"IF(E438=\"\",\"\",lookup!N430)","v":""},{"$f":"IF(E438=\"\",\"\",lookup!O430-lookup!N430)","v":""},"",{"$f":"IF(E438=\"\",\"\",IF(lookup!O430<0,0,lookup!O430))","v":""}]
[null,null,null,null,{"$f":"IF(I438=\"\",\"\",IF(B$13<E438+1,\"\",IF(I438=B$14,\"\",lookup!M431)))","v":""},{"$f":"IF(E439=\"\",\"\",lookup!N431)","v":""},{"$f":"IF(E439=\"\",\"\",lookup!O431-lookup!N431)","v":""},"",{"$f":"IF(E439=\"\",\"\",IF(lookup!O431<0,0,lookup!O431))","v":""}]
[null,null,null,null,{"$f":"IF(I439=\"\",\"\",IF(B$13<E439+1,\"\",IF(I439=B$14,\"\",lookup!M432)))","v":""},{"$f":"IF(E440=\"\",\"\",lookup!N432)","v":""},{"$f":"IF(E440=\"\",\"\",lookup!O432-lookup!N432)","v":""},"",{"$f":"IF(E440=\"\",\"\",IF(lookup!O432<0,0,lookup!O432))","v":""}]
[null,null,null,null,{"$f":"IF(I440=\"\",\"\",IF(B$13<E440+1,\"\",IF(I440=B$14,\"\",lookup!M433)))","v":""},{"$f":"IF(E441=\"\",\"\",lookup!N433)","v":""},{"$f":"IF(E441=\"\",\"\",lookup!O433-lookup!N433)","v":""},"",{"$f":"IF(E441=\"\",\"\",IF(lookup!O433<0,0,lookup!O433))","v":""}]
[null,null,null,null,{"$f":"IF(I441=\"\",\"\",IF(B$13<E441+1,\"\",IF(I441=B$14,\"\",lookup!M434)))","v":""},{"$f":"IF(E442=\"\",\"\",lookup!N434)","v":""},{"$f":"IF(E442=\"\",\"\",lookup!O434-lookup!N434)","v":""},"",{"$f":"IF(E442=\"\",\"\",IF(lookup!O434<0,0,lookup!O434))","v":""}]
[null,null,null,null,{"$f":"IF(I442=\"\",\"\",IF(B$13<E442+1,\"\",IF(I442=B$14,\"\",lookup!M435)))","v":""},{"$f":"IF(E443=\"\",\"\",lookup!N435)","v":""},{"$f":"IF(E443=\"\",\"\",lookup!O435-lookup!N435)","v":""},"",{"$f":"IF(E443=\"\",\"\",IF(lookup!O435<0,0,lookup!O435))","v":""}]
[null,null,null,null,{"$f":"IF(I443=\"\",\"\",IF(B$13<E443+1,\"\",IF(I443=B$14,\"\",lookup!M436)))","v":""},{"$f":"IF(E444=\"\",\"\",lookup!N436)","v":""},{"$f":"IF(E444=\"\",\"\",lookup!O436-lookup!N436)","v":""},"",{"$f":"IF(E444=\"\",\"\",IF(lookup!O436<0,0,lookup!O436))","v":""}]
[null,null,null,null,{"$f":"IF(I444=\"\",\"\",IF(B$13<E444+1,\"\",IF(I444=B$14,\"\",lookup!M437)))","v":""},{"$f":"IF(E445=\"\",\"\",lookup!N437)","v":""},{"$f":"IF(E445=\"\",\"\",lookup!O437-lookup!N437)","v":""},"",{"$f":"IF(E445=\"\",\"\",IF(lookup!O437<0,0,lookup!O437))","v":""}]
[null,null,null,null,{"$f":"IF(I445=\"\",\"\",IF(B$13<E445+1,\"\",IF(I445=B$14,\"\",lookup!M438)))","v":""},{"$f":"IF(E446=\"\",\"\",lookup!N438)","v":""},{"$f":"IF(E446=\"\",\"\",lookup!O438-lookup!N438)","v":""},"",{"$f":"IF(E446=\"\",\"\",IF(lookup!O438<0,0,lookup!O438))","v":""}]
[null,null,null,null,{"$f":"IF(I446=\"\",\"\",IF(B$13<E446+1,\"\",IF(I446=B$14,\"\",lookup!M439)))","v":""},{"$f":"IF(E447=\"\",\"\",lookup!N439)","v":""},{"$f":"IF(E447=\"\",\"\",lookup!O439-lookup!N439)","v":""},"",{"$f":"IF(E447=\"\",\"\",IF(lookup!O439<0,0,lookup!O439))","v":""}]
[null,null,null,null,{"$f":"IF(I447=\"\",\"\",IF(B$13<E447+1,\"\",IF(I447=B$14,\"\",lookup!M440)))","v":""},{"$f":"IF(E448=\"\",\"\",lookup!N440)","v":""},{"$f":"IF(E448=\"\",\"\",lookup!O440-lookup!N440)","v":""},"",{"$f":"IF(E448=\"\",\"\",IF(lookup!O440<0,0,lookup!O440))","v":""}]
[null,null,null,null,{"$f":"IF(I448=\"\",\"\",IF(B$13<E448+1,\"\",IF(I448=B$14,\"\",lookup!M441)))","v":""},{"$f":"IF(E449=\"\",\"\",lookup!N441)","v":""},{"$f":"IF(E449=\"\",\"\",lookup!O441-lookup!N441)","v":""},"",{"$f":"IF(E449=\"\",\"\",IF(lookup!O441<0,0,lookup!O441))","v":""}]
[null,null,null,null,{"$f":"IF(I449=\"\",\"\",IF(B$13<E449+1,\"\",IF(I449=B$14,\"\",lookup!M442)))","v":""},{"$f":"IF(E450=\"\",\"\",lookup!N442)","v":""},{"$f":"IF(E450=\"\",\"\",lookup!O442-lookup!N442)","v":""},"",{"$f":"IF(E450=\"\",\"\",IF(lookup!O442<0,0,lookup!O442))","v":""}]
[null,null,null,null,{"$f":"IF(I450=\"\",\"\",IF(B$13<E450+1,\"\",IF(I450=B$14,\"\",lookup!M443)))","v":""},{"$f":"IF(E451=\"\",\"\",lookup!N443)","v":""},{"$f":"IF(E451=\"\",\"\",lookup!O443-lookup!N443)","v":""},"",{"$f":"IF(E451=\"\",\"\",IF(lookup!O443<0,0,lookup!O443))","v":""}]
[null,null,null,null,{"$f":"IF(I451=\"\",\"\",IF(B$13<E451+1,\"\",IF(I451=B$14,\"\",lookup!M444)))","v":""},{"$f":"IF(E452=\"\",\"\",lookup!N444)","v":""},{"$f":"IF(E452=\"\",\"\",lookup!O444-lookup!N444)","v":""},"",{"$f":"IF(E452=\"\",\"\",IF(lookup!O444<0,0,lookup!O444))","v":""}]
[null,null,null,null,{"$f":"IF(I452=\"\",\"\",IF(B$13<E452+1,\"\",IF(I452=B$14,\"\",lookup!M445)))","v":""},{"$f":"IF(E453=\"\",\"\",lookup!N445)","v":""},{"$f":"IF(E453=\"\",\"\",lookup!O445-lookup!N445)","v":""},"",{"$f":"IF(E453=\"\",\"\",IF(lookup!O445<0,0,lookup!O445))","v":""}]
[null,null,null,null,{"$f":"IF(I453=\"\",\"\",IF(B$13<E453+1,\"\",IF(I453=B$14,\"\",lookup!M446)))","v":""},{"$f":"IF(E454=\"\",\"\",lookup!N446)","v":""},{"$f":"IF(E454=\"\",\"\",lookup!O446-lookup!N446)","v":""},"",{"$f":"IF(E454=\"\",\"\",IF(lookup!O446<0,0,lookup!O446))","v":""}]
[null,null,null,null,{"$f":"IF(I454=\"\",\"\",IF(B$13<E454+1,\"\",IF(I454=B$14,\"\",lookup!M447)))","v":""},{"$f":"IF(E455=\"\",\"\",lookup!N447)","v":""},{"$f":"IF(E455=\"\",\"\",lookup!O447-lookup!N447)","v":""},"",{"$f":"IF(E455=\"\",\"\",IF(lookup!O447<0,0,lookup!O447))","v":""}]
[null,null,null,null,{"$f":"IF(I455=\"\",\"\",IF(B$13<E455+1,\"\",IF(I455=B$14,\"\",lookup!M448)))","v":""},{"$f":"IF(E456=\"\",\"\",lookup!N448)","v":""},{"$f":"IF(E456=\"\",\"\",lookup!O448-lookup!N448)","v":""},"",{"$f":"IF(E456=\"\",\"\",IF(lookup!O448<0,0,lookup!O448))","v":""}]
[null,null,null,null,{"$f":"IF(I456=\"\",\"\",IF(B$13<E456+1,\"\",IF(I456=B$14,\"\",lookup!M449)))","v":""},{"$f":"IF(E457=\"\",\"\",lookup!N449)","v":""},{"$f":"IF(E457=\"\",\"\",lookup!O449-lookup!N449)","v":""},"",{"$f":"IF(E457=\"\",\"\",IF(lookup!O449<0,0,lookup!O449))","v":""}]
[null,null,null,null,{"$f":"IF(I457=\"\",\"\",IF(B$13<E457+1,\"\",IF(I457=B$14,\"\",lookup!M450)))","v":""},{"$f":"IF(E458=\"\",\"\",lookup!N450)","v":""},{"$f":"IF(E458=\"\",\"\",lookup!O450-lookup!N450)","v":""},"",{"$f":"IF(E458=\"\",\"\",IF(lookup!O450<0,0,lookup!O450))","v":""}]
[null,null,null,null,{"$f":"IF(I458=\"\",\"\",IF(B$13<E458+1,\"\",IF(I458=B$14,\"\",lookup!M451)))","v":""},{"$f":"IF(E459=\"\",\"\",lookup!N451)","v":""},{"$f":"IF(E459=\"\",\"\",lookup!O451-lookup!N451)","v":""},"",{"$f":"IF(E459=\"\",\"\",IF(lookup!O451<0,0,lookup!O451))","v":""}]
[null,null,null,null,{"$f":"IF(I459=\"\",\"\",IF(B$13<E459+1,\"\",IF(I459=B$14,\"\",lookup!M452)))","v":""},{"$f":"IF(E460=\"\",\"\",lookup!N452)","v":""},{"$f":"IF(E460=\"\",\"\",lookup!O452-lookup!N452)","v":""},"",{"$f":"IF(E460=\"\",\"\",IF(lookup!O452<0,0,lookup!O452))","v":""}]
[null,null,null,null,{"$f":"IF(I460=\"\",\"\",IF(B$13<E460+1,\"\",IF(I460=B$14,\"\",lookup!M453)))","v":""},{"$f":"IF(E461=\"\",\"\",lookup!N453)","v":""},{"$f":"IF(E461=\"\",\"\",lookup!O453-lookup!N453)","v":""},{"$f":"IF(E461=\"\",\"\",H460+G461)","v":""},{"$f":"IF(E461=\"\",\"\",IF(lookup!O453<0,0,lookup!O453))","v":""}]
[null,null,null,null,{"$f":"IF(I461=\"\",\"\",IF(B$13<E461+1,\"\",IF(I461=B$14,\"\",lookup!M454)))","v":""},{"$f":"IF(E462=\"\",\"\",lookup!N454)","v":""},{"$f":"IF(E462=\"\",\"\",lookup!O454-lookup!N454)","v":""},"",{"$f":"IF(E462=\"\",\"\",IF(lookup!O454<0,0,lookup!O454))","v":""}]
[null,null,null,null,{"$f":"IF(I462=\"\",\"\",IF(B$13<E462+1,\"\",IF(I462=B$14,\"\",lookup!M455)))","v":""},{"$f":"IF(E463=\"\",\"\",lookup!N455)","v":""},{"$f":"IF(E463=\"\",\"\",lookup!O455-lookup!N455)","v":""},"",{"$f":"IF(E463=\"\",\"\",IF(lookup!O455<0,0,lookup!O455))","v":""}]
[null,null,null,null,{"$f":"IF(I463=\"\",\"\",IF(B$13<E463+1,\"\",IF(I463=B$14,\"\",lookup!M456)))","v":""},{"$f":"IF(E464=\"\",\"\",lookup!N456)","v":""},{"$f":"IF(E464=\"\",\"\",lookup!O456-lookup!N456)","v":""},"",{"$f":"IF(E464=\"\",\"\",IF(lookup!O456<0,0,lookup!O456))","v":""}]
[null,null,null,null,{"$f":"IF(I464=\"\",\"\",IF(B$13<E464+1,\"\",IF(I464=B$14,\"\",lookup!M457)))","v":""},{"$f":"IF(E465=\"\",\"\",lookup!N457)","v":""},{"$f":"IF(E465=\"\",\"\",lookup!O457-lookup!N457)","v":""},"",{"$f":"IF(E465=\"\",\"\",IF(lookup!O457<0,0,lookup!O457))","v":""}]
[null,null,null,null,{"$f":"IF(I465=\"\",\"\",IF(B$13<E465+1,\"\",IF(I465=B$14,\"\",lookup!M458)))","v":""},{"$f":"IF(E466=\"\",\"\",lookup!N458)","v":""},{"$f":"IF(E466=\"\",\"\",lookup!O458-lookup!N458)","v":""},"",{"$f":"IF(E466=\"\",\"\",IF(lookup!O458<0,0,lookup!O458))","v":""}]
[null,null,null,null,{"$f":"IF(I466=\"\",\"\",IF(B$13<E466+1,\"\",IF(I466=B$14,\"\",lookup!M459)))","v":""},{"$f":"IF(E467=\"\",\"\",lookup!N459)","v":""},{"$f":"IF(E467=\"\",\"\",lookup!O459-lookup!N459)","v":""},"",{"$f":"IF(E467=\"\",\"\",IF(lookup!O459<0,0,lookup!O459))","v":""}]
[null,null,null,null,{"$f":"IF(I467=\"\",\"\",IF(B$13<E467+1,\"\",IF(I467=B$14,\"\",lookup!M460)))","v":""},{"$f":"IF(E468=\"\",\"\",lookup!N460)","v":""},{"$f":"IF(E468=\"\",\"\",lookup!O460-lookup!N460)","v":""},"",{"$f":"IF(E468=\"\",\"\",IF(lookup!O460<0,0,lookup!O460))","v":""}]
[null,null,null,null,{"$f":"IF(I468=\"\",\"\",IF(B$13<E468+1,\"\",IF(I468=B$14,\"\",lookup!M461)))","v":""},{"$f":"IF(E469=\"\",\"\",lookup!N461)","v":""},{"$f":"IF(E469=\"\",\"\",lookup!O461-lookup!N461)","v":""},"",{"$f":"IF(E469=\"\",\"\",IF(lookup!O461<0,0,lookup!O461))","v":""}]
[null,null,null,null,{"$f":"IF(I469=\"\",\"\",IF(B$13<E469+1,\"\",IF(I469=B$14,\"\",lookup!M462)))","v":""},{"$f":"IF(E470=\"\",\"\",lookup!N462)","v":""},{"$f":"IF(E470=\"\",\"\",lookup!O462-lookup!N462)","v":""},"",{"$f":"IF(E470=\"\",\"\",IF(lookup!O462<0,0,lookup!O462))","v":""}]
[null,null,null,null,{"$f":"IF(I470=\"\",\"\",IF(B$13<E470+1,\"\",IF(I470=B$14,\"\",lookup!M463)))","v":""},{"$f":"IF(E471=\"\",\"\",lookup!N463)","v":""},{"$f":"IF(E471=\"\",\"\",lookup!O463-lookup!N463)","v":""},"",{"$f":"IF(E471=\"\",\"\",IF(lookup!O463<0,0,lookup!O463))","v":""}]
[null,null,null,null,{"$f":"IF(I471=\"\",\"\",IF(B$13<E471+1,\"\",IF(I471=B$14,\"\",lookup!M464)))","v":""},{"$f":"IF(E472=\"\",\"\",lookup!N464)","v":""},{"$f":"IF(E472=\"\",\"\",lookup!O464-lookup!N464)","v":""},"",{"$f":"IF(E472=\"\",\"\",IF(lookup!O464<0,0,lookup!O464))","v":""}]
[null,null,null,null,{"$f":"IF(I472=\"\",\"\",IF(B$13<E472+1,\"\",IF(I472=B$14,\"\",lookup!M465)))","v":""},{"$f":"IF(E473=\"\",\"\",lookup!N465)","v":""},{"$f":"IF(E473=\"\",\"\",lookup!O465-lookup!N465)","v":""},"",{"$f":"IF(E473=\"\",\"\",IF(lookup!O465<0,0,lookup!O465))","v":""}]
[null,null,null,null,{"$f":"IF(I473=\"\",\"\",IF(B$13<E473+1,\"\",IF(I473=B$14,\"\",lookup!M466)))","v":""},{"$f":"IF(E474=\"\",\"\",lookup!N466)","v":""},{"$f":"IF(E474=\"\",\"\",lookup!O466-lookup!N466)","v":""},"",{"$f":"IF(E474=\"\",\"\",IF(lookup!O466<0,0,lookup!O466))","v":""}]
[null,null,null,null,{"$f":"IF(I474=\"\",\"\",IF(B$13<E474+1,\"\",IF(I474=B$14,\"\",lookup!M467)))","v":""},{"$f":"IF(E475=\"\",\"\",lookup!N467)","v":""},{"$f":"IF(E475=\"\",\"\",lookup!O467-lookup!N467)","v":""},"",{"$f":"IF(E475=\"\",\"\",IF(lookup!O467<0,0,lookup!O467))","v":""}]
[null,null,null,null,{"$f":"IF(I475=\"\",\"\",IF(B$13<E475+1,\"\",IF(I475=B$14,\"\",lookup!M468)))","v":""},{"$f":"IF(E476=\"\",\"\",lookup!N468)","v":""},{"$f":"IF(E476=\"\",\"\",lookup!O468-lookup!N468)","v":""},"",{"$f":"IF(E476=\"\",\"\",IF(lookup!O468<0,0,lookup!O468))","v":""}]
[null,null,null,null,{"$f":"IF(I476=\"\",\"\",IF(B$13<E476+1,\"\",IF(I476=B$14,\"\",lookup!M469)))","v":""},{"$f":"IF(E477=\"\",\"\",lookup!N469)","v":""},{"$f":"IF(E477=\"\",\"\",lookup!O469-lookup!N469)","v":""},"",{"$f":"IF(E477=\"\",\"\",IF(lookup!O469<0,0,lookup!O469))","v":""}]
[null,null,null,null,{"$f":"IF(I477=\"\",\"\",IF(B$13<E477+1,\"\",IF(I477=B$14,\"\",lookup!M470)))","v":""},{"$f":"IF(E478=\"\",\"\",lookup!N470)","v":""},{"$f":"IF(E478=\"\",\"\",lookup!O470-lookup!N470)","v":""},"",{"$f":"IF(E478=\"\",\"\",IF(lookup!O470<0,0,lookup!O470))","v":""}]
[null,null,null,null,{"$f":"IF(I478=\"\",\"\",IF(B$13<E478+1,\"\",IF(I478=B$14,\"\",lookup!M471)))","v":""},{"$f":"IF(E479=\"\",\"\",lookup!N471)","v":""},{"$f":"IF(E479=\"\",\"\",lookup!O471-lookup!N471)","v":""},"",{"$f":"IF(E479=\"\",\"\",IF(lookup!O471<0,0,lookup!O471))","v":""}]
[null,null,null,null,{"$f":"IF(I479=\"\",\"\",IF(B$13<E479+1,\"\",IF(I479=B$14,\"\",lookup!M472)))","v":""},{"$f":"IF(E480=\"\",\"\",lookup!N472)","v":""},{"$f":"IF(E480=\"\",\"\",lookup!O472-lookup!N472)","v":""},"",{"$f":"IF(E480=\"\",\"\",IF(lookup!O472<0,0,lookup!O472))","v":""}]
[null,null,null,null,{"$f":"IF(I480=\"\",\"\",IF(B$13<E480+1,\"\",IF(I480=B$14,\"\",lookup!M473)))","v":""},{"$f":"IF(E481=\"\",\"\",lookup!N473)","v":""},{"$f":"IF(E481=\"\",\"\",lookup!O473-lookup!N473)","v":""},"",{"$f":"IF(E481=\"\",\"\",IF(lookup!O473<0,0,lookup!O473))","v":""}]
[null,null,null,null,{"$f":"IF(I481=\"\",\"\",IF(B$13<E481+1,\"\",IF(I481=B$14,\"\",lookup!M474)))","v":""},{"$f":"IF(E482=\"\",\"\",lookup!N474)","v":""},{"$f":"IF(E482=\"\",\"\",lookup!O474-lookup!N474)","v":""},"",{"$f":"IF(E482=\"\",\"\",IF(lookup!O474<0,0,lookup!O474))","v":""}]
[null,null,null,null,{"$f":"IF(I482=\"\",\"\",IF(B$13<E482+1,\"\",IF(I482=B$14,\"\",lookup!M475)))","v":""},{"$f":"IF(E483=\"\",\"\",lookup!N475)","v":""},{"$f":"IF(E483=\"\",\"\",lookup!O475-lookup!N475)","v":""},"",{"$f":"IF(E483=\"\",\"\",IF(lookup!O475<0,0,lookup!O475))","v":""}]
[null,null,null,null,{"$f":"IF(I483=\"\",\"\",IF(B$13<E483+1,\"\",IF(I483=B$14,\"\",lookup!M476)))","v":""},{"$f":"IF(E484=\"\",\"\",lookup!N476)","v":""},{"$f":"IF(E484=\"\",\"\",lookup!O476-lookup!N476)","v":""},"",{"$f":"IF(E484=\"\",\"\",IF(lookup!O476<0,0,lookup!O476))","v":""}]
[null,null,null,null,{"$f":"IF(I484=\"\",\"\",IF(B$13<E484+1,\"\",IF(I484=B$14,\"\",lookup!M477)))","v":""},{"$f":"IF(E485=\"\",\"\",lookup!N477)","v":""},{"$f":"IF(E485=\"\",\"\",lookup!O477-lookup!N477)","v":""},"",{"$f":"IF(E485=\"\",\"\",IF(lookup!O477<0,0,lookup!O477))","v":""}]
[null,null,null,null,{"$f":"IF(I485=\"\",\"\",IF(B$13<E485+1,\"\",IF(I485=B$14,\"\",lookup!M478)))","v":""},{"$f":"IF(E486=\"\",\"\",lookup!N478)","v":""},{"$f":"IF(E486=\"\",\"\",lookup!O478-lookup!N478)","v":""},"",{"$f":"IF(E486=\"\",\"\",IF(lookup!O478<0,0,lookup!O478))","v":""}]
[null,null,null,null,{"$f":"IF(I486=\"\",\"\",IF(B$13<E486+1,\"\",IF(I486=B$14,\"\",lookup!M479)))","v":""},{"$f":"IF(E487=\"\",\"\",lookup!N479)","v":""},{"$f":"IF(E487=\"\",\"\",lookup!O479-lookup!N479)","v":""},"",{"$f":"IF(E487=\"\",\"\",IF(lookup!O479<0,0,lookup!O479))","v":""}]
[null,null,null,null,{"$f":"IF(I487=\"\",\"\",IF(B$13<E487+1,\"\",IF(I487=B$14,\"\",lookup!M480)))","v":""},{"$f":"IF(E488=\"\",\"\",lookup!N480)","v":""},{"$f":"IF(E488=\"\",\"\",lookup!O480-lookup!N480)","v":""},"",{"$f":"IF(E488=\"\",\"\",IF(lookup!O480<0,0,lookup!O480))","v":""}]
[null,null,null,null,{"$f":"IF(I488=\"\",\"\",IF(B$13<E488+1,\"\",IF(I488=B$14,\"\",lookup!M481)))","v":""},{"$f":"IF(E489=\"\",\"\",lookup!N481)","v":""},{"$f":"IF(E489=\"\",\"\",lookup!O481-lookup!N481)","v":""},"",{"$f":"IF(E489=\"\",\"\",IF(lookup!O481<0,0,lookup!O481))","v":""}]
[null,null,null,null,{"$f":"IF(I489=\"\",\"\",IF(B$13<E489+1,\"\",IF(I489=B$14,\"\",lookup!M482)))","v":""},{"$f":"IF(E490=\"\",\"\",lookup!N482)","v":""},{"$f":"IF(E490=\"\",\"\",lookup!O482-lookup!N482)","v":""},"",{"$f":"IF(E490=\"\",\"\",IF(lookup!O482<0,0,lookup!O482))","v":""}]
[null,null,null,null,{"$f":"IF(I490=\"\",\"\",IF(B$13<E490+1,\"\",IF(I490=B$14,\"\",lookup!M483)))","v":""},{"$f":"IF(E491=\"\",\"\",lookup!N483)","v":""},{"$f":"IF(E491=\"\",\"\",lookup!O483-lookup!N483)","v":""},"",{"$f":"IF(E491=\"\",\"\",IF(lookup!O483<0,0,lookup!O483))","v":""}]
[null,null,null,null,{"$f":"IF(I491=\"\",\"\",IF(B$13<E491+1,\"\",IF(I491=B$14,\"\",lookup!M484)))","v":""},{"$f":"IF(E492=\"\",\"\",lookup!N484)","v":""},{"$f":"IF(E492=\"\",\"\",lookup!O484-lookup!N484)","v":""},"",{"$f":"IF(E492=\"\",\"\",IF(lookup!O484<0,0,lookup!O484))","v":""}]
[null,null,null,null,{"$f":"IF(I492=\"\",\"\",IF(B$13<E492+1,\"\",IF(I492=B$14,\"\",lookup!M485)))","v":""},{"$f":"IF(E493=\"\",\"\",lookup!N485)","v":""},{"$f":"IF(E493=\"\",\"\",lookup!O485-lookup!N485)","v":""},"",{"$f":"IF(E493=\"\",\"\",IF(lookup!O485<0,0,lookup!O485))","v":""}]
[null,null,null,null,{"$f":"IF(I493=\"\",\"\",IF(B$13<E493+1,\"\",IF(I493=B$14,\"\",lookup!M486)))","v":""},{"$f":"IF(E494=\"\",\"\",lookup!N486)","v":""},{"$f":"IF(E494=\"\",\"\",lookup!O486-lookup!N486)","v":""},"",{"$f":"IF(E494=\"\",\"\",IF(lookup!O486<0,0,lookup!O486))","v":""}]
[null,null,null,null,{"$f":"IF(I494=\"\",\"\",IF(B$13<E494+1,\"\",IF(I494=B$14,\"\",lookup!M487)))","v":""},{"$f":"IF(E495=\"\",\"\",lookup!N487)","v":""},{"$f":"IF(E495=\"\",\"\",lookup!O487-lookup!N487)","v":""},"",{"$f":"IF(E495=\"\",\"\",IF(lookup!O487<0,0,lookup!O487))","v":""}]
[null,null,null,null,{"$f":"IF(I495=\"\",\"\",IF(B$13<E495+1,\"\",IF(I495=B$14,\"\",lookup!M488)))","v":""},{"$f":"IF(E496=\"\",\"\",lookup!N488)","v":""},{"$f":"IF(E496=\"\",\"\",lookup!O488-lookup!N488)","v":""},"",{"$f":"IF(E496=\"\",\"\",IF(lookup!O488<0,0,lookup!O488))","v":""}]
[null,null,null,null,{"$f":"IF(I496=\"\",\"\",IF(B$13<E496+1,\"\",IF(I496=B$14,\"\",lookup!M489)))","v":""},{"$f":"IF(E497=\"\",\"\",lookup!N489)","v":""},{"$f":"IF(E497=\"\",\"\",lookup!O489-lookup!N489)","v":""},"",{"$f":"IF(E497=\"\",\"\",IF(lookup!O489<0,0,lookup!O489))","v":""}]
[null,null,null,null,{"$f":"IF(I497=\"\",\"\",IF(B$13<E497+1,\"\",IF(I497=B$14,\"\",lookup!M490)))","v":""},{"$f":"IF(E498=\"\",\"\",lookup!N490)","v":""},{"$f":"IF(E498=\"\",\"\",lookup!O490-lookup!N490)","v":""},"",{"$f":"IF(E498=\"\",\"\",IF(lookup!O490<0,0,lookup!O490))","v":""}]
[null,null,null,null,{"$f":"IF(I498=\"\",\"\",IF(B$13<E498+1,\"\",IF(I498=B$14,\"\",lookup!M491)))","v":""},{"$f":"IF(E499=\"\",\"\",lookup!N491)","v":""},{"$f":"IF(E499=\"\",\"\",lookup!O491-lookup!N491)","v":""},"",{"$f":"IF(E499=\"\",\"\",IF(lookup!O491<0,0,lookup!O491))","v":""}]
[null,null,null,null,{"$f":"IF(I499=\"\",\"\",IF(B$13<E499+1,\"\",IF(I499=B$14,\"\",lookup!M492)))","v":""},{"$f":"IF(E500=\"\",\"\",lookup!N492)","v":""},{"$f":"IF(E500=\"\",\"\",lookup!O492-lookup!N492)","v":""},"",{"$f":"IF(E500=\"\",\"\",IF(lookup!O492<0,0,lookup!O492))","v":""}]
[null,null,null,null,{"$f":"IF(I500=\"\",\"\",IF(B$13<E500+1,\"\",IF(I500=B$14,\"\",lookup!M493)))","v":""},{"$f":"IF(E501=\"\",\"\",lookup!N493)","v":""},{"$f":"IF(E501=\"\",\"\",lookup!O493-lookup!N493)","v":""},"",{"$f":"IF(E501=\"\",\"\",IF(lookup!O493<0,0,lookup!O493))","v":""}]
[null,null,null,null,{"$f":"IF(I501=\"\",\"\",IF(B$13<E501+1,\"\",IF(I501=B$14,\"\",lookup!M494)))","v":""},{"$f":"IF(E502=\"\",\"\",lookup!N494)","v":""},{"$f":"IF(E502=\"\",\"\",lookup!O494-lookup!N494)","v":""},"",{"$f":"IF(E502=\"\",\"\",IF(lookup!O494<0,0,lookup!O494))","v":""}]
[null,null,null,null,{"$f":"IF(I502=\"\",\"\",IF(B$13<E502+1,\"\",IF(I502=B$14,\"\",lookup!M495)))","v":""},{"$f":"IF(E503=\"\",\"\",lookup!N495)","v":""},{"$f":"IF(E503=\"\",\"\",lookup!O495-lookup!N495)","v":""},"",{"$f":"IF(E503=\"\",\"\",IF(lookup!O495<0,0,lookup!O495))","v":""}]
[null,null,null,null,{"$f":"IF(I503=\"\",\"\",IF(B$13<E503+1,\"\",IF(I503=B$14,\"\",lookup!M496)))","v":""},{"$f":"IF(E504=\"\",\"\",lookup!N496)","v":""},{"$f":"IF(E504=\"\",\"\",lookup!O496-lookup!N496)","v":""},"",{"$f":"IF(E504=\"\",\"\",IF(lookup!O496<0,0,lookup!O496))","v":""}]
[null,null,null,null,{"$f":"IF(I504=\"\",\"\",IF(B$13<E504+1,\"\",IF(I504=B$14,\"\",lookup!M497)))","v":""},{"$f":"IF(E505=\"\",\"\",lookup!N497)","v":""},{"$f":"IF(E505=\"\",\"\",lookup!O497-lookup!N497)","v":""},"",{"$f":"IF(E505=\"\",\"\",IF(lookup!O497<0,0,lookup!O497))","v":""}]
[null,null,null,null,{"$f":"IF(I505=\"\",\"\",IF(B$13<E505+1,\"\",IF(I505=B$14,\"\",lookup!M498)))","v":""},{"$f":"IF(E506=\"\",\"\",lookup!N498)","v":""},{"$f":"IF(E506=\"\",\"\",lookup!O498-lookup!N498)","v":""},"",{"$f":"IF(E506=\"\",\"\",IF(lookup!O498<0,0,lookup!O498))","v":""}]
[null,null,null,null,{"$f":"IF(I506=\"\",\"\",IF(B$13<E506+1,\"\",IF(I506=B$14,\"\",lookup!M499)))","v":""},{"$f":"IF(E507=\"\",\"\",lookup!N499)","v":""},{"$f":"IF(E507=\"\",\"\",lookup!O499-lookup!N499)","v":""},"",{"$f":"IF(E507=\"\",\"\",IF(lookup!O499<0,0,lookup!O499))","v":""}]
[null,null,null,null,{"$f":"IF(I507=\"\",\"\",IF(B$13<E507+1,\"\",IF(I507=B$14,\"\",lookup!M500)))","v":""},{"$f":"IF(E508=\"\",\"\",lookup!N500)","v":""},{"$f":"IF(E508=\"\",\"\",lookup!O500-lookup!N500)","v":""},"",{"$f":"IF(E508=\"\",\"\",IF(lookup!O500<0,0,lookup!O500))","v":""}]
[null,null,null,null,{"$f":"IF(I508=\"\",\"\",IF(B$13<E508+1,\"\",IF(I508=B$14,\"\",lookup!M501)))","v":""},{"$f":"IF(E509=\"\",\"\",lookup!N501)","v":""},{"$f":"IF(E509=\"\",\"\",lookup!O501-lookup!N501)","v":""},"",{"$f":"IF(E509=\"\",\"\",IF(lookup!O501<0,0,lookup!O501))","v":""}]
[null,null,null,null,{"$f":"IF(I509=\"\",\"\",IF(B$13<E509+1,\"\",IF(I509=B$14,\"\",lookup!M502)))","v":""},{"$f":"IF(E510=\"\",\"\",lookup!N502)","v":""},{"$f":"IF(E510=\"\",\"\",lookup!O502-lookup!N502)","v":""},"",{"$f":"IF(E510=\"\",\"\",IF(lookup!O502<0,0,lookup!O502))","v":""}]
[null,null,null,null,{"$f":"IF(I510=\"\",\"\",IF(B$13<E510+1,\"\",IF(I510=B$14,\"\",lookup!M503)))","v":""},{"$f":"IF(E511=\"\",\"\",lookup!N503)","v":""},{"$f":"IF(E511=\"\",\"\",lookup!O503-lookup!N503)","v":""},"",{"$f":"IF(E511=\"\",\"\",IF(lookup!O503<0,0,lookup!O503))","v":""}]
[null,null,null,null,{"$f":"IF(I511=\"\",\"\",IF(B$13<E511+1,\"\",IF(I511=B$14,\"\",lookup!M504)))","v":""},{"$f":"IF(E512=\"\",\"\",lookup!N504)","v":""},{"$f":"IF(E512=\"\",\"\",lookup!O504-lookup!N504)","v":""},"",{"$f":"IF(E512=\"\",\"\",IF(lookup!O504<0,0,lookup!O504))","v":""}]
[null,null,null,null,{"$f":"IF(I512=\"\",\"\",IF(B$13<E512+1,\"\",IF(I512=B$14,\"\",lookup!M505)))","v":""},{"$f":"IF(E513=\"\",\"\",lookup!N505)","v":""},{"$f":"IF(E513=\"\",\"\",lookup!O505-lookup!N505)","v":""},"",{"$f":"IF(E513=\"\",\"\",IF(lookup!O505<0,0,lookup!O505))","v":""}]
[null,null,null,null,{"$f":"IF(I513=\"\",\"\",IF(B$13<E513+1,\"\",IF(I513=B$14,\"\",lookup!M506)))","v":""},{"$f":"IF(E514=\"\",\"\",lookup!N506)","v":""},{"$f":"IF(E514=\"\",\"\",lookup!O506-lookup!N506)","v":""},"",{"$f":"IF(E514=\"\",\"\",IF(lookup!O506<0,0,lookup!O506))","v":""}]
[null,null,null,null,{"$f":"IF(I514=\"\",\"\",IF(B$13<E514+1,\"\",IF(I514=B$14,\"\",lookup!M507)))","v":""},{"$f":"IF(E515=\"\",\"\",lookup!N507)","v":""},{"$f":"IF(E515=\"\",\"\",lookup!O507-lookup!N507)","v":""},"",{"$f":"IF(E515=\"\",\"\",IF(lookup!O507<0,0,lookup!O507))","v":""}]
[null,null,null,null,{"$f":"IF(I515=\"\",\"\",IF(B$13<E515+1,\"\",IF(I515=B$14,\"\",lookup!M508)))","v":""},{"$f":"IF(E516=\"\",\"\",lookup!N508)","v":""},{"$f":"IF(E516=\"\",\"\",lookup!O508-lookup!N508)","v":""},"",{"$f":"IF(E516=\"\",\"\",IF(lookup!O508<0,0,lookup!O508))","v":""}]
[null,null,null,null,{"$f":"IF(I516=\"\",\"\",IF(B$13<E516+1,\"\",IF(I516=B$14,\"\",lookup!M509)))","v":""},{"$f":"IF(E517=\"\",\"\",lookup!N509)","v":""},{"$f":"IF(E517=\"\",\"\",lookup!O509-lookup!N509)","v":""},"",{"$f":"IF(E517=\"\",\"\",IF(lookup!O509<0,0,lookup!O509))","v":""}]
[null,null,null,null,{"$f":"IF(I517=\"\",\"\",IF(B$13<E517+1,\"\",IF(I517=B$14,\"\",lookup!M510)))","v":""},{"$f":"IF(E518=\"\",\"\",lookup!N510)","v":""},{"$f":"IF(E518=\"\",\"\",lookup!O510-lookup!N510)","v":""},"",{"$f":"IF(E518=\"\",\"\",IF(lookup!O510<0,0,lookup!O510))","v":""}]
[null,null,null,null,{"$f":"IF(I518=\"\",\"\",IF(B$13<E518+1,\"\",IF(I518=B$14,\"\",lookup!M511)))","v":""},{"$f":"IF(E519=\"\",\"\",lookup!N511)","v":""},{"$f":"IF(E519=\"\",\"\",lookup!O511-lookup!N511)","v":""},"",{"$f":"IF(E519=\"\",\"\",IF(lookup!O511<0,0,lookup!O511))","v":""}]
[null,null,null,null,{"$f":"IF(I519=\"\",\"\",IF(B$13<E519+1,\"\",IF(I519=B$14,\"\",lookup!M512)))","v":""},{"$f":"IF(E520=\"\",\"\",lookup!N512)","v":""},{"$f":"IF(E520=\"\",\"\",lookup!O512-lookup!N512)","v":""},"",{"$f":"IF(E520=\"\",\"\",IF(lookup!O512<0,0,lookup!O512))","v":""}]
[null,null,null,null,{"$f":"IF(I520=\"\",\"\",IF(B$13<E520+1,\"\",IF(I520=B$14,\"\",lookup!M513)))","v":""},{"$f":"IF(E521=\"\",\"\",lookup!N513)","v":""},{"$f":"IF(E521=\"\",\"\",lookup!O513-lookup!N513)","v":""},"",{"$f":"IF(E521=\"\",\"\",IF(lookup!O513<0,0,lookup!O513))","v":""}]
[null,null,null,null,{"$f":"IF(I521=\"\",\"\",IF(B$13<E521+1,\"\",IF(I521=B$14,\"\",lookup!M514)))","v":""},{"$f":"IF(E522=\"\",\"\",lookup!N514)","v":""},{"$f":"IF(E522=\"\",\"\",lookup!O514-lookup!N514)","v":""},"",{"$f":"IF(E522=\"\",\"\",IF(lookup!O514<0,0,lookup!O514))","v":""}]
[null,null,null,null,{"$f":"IF(I522=\"\",\"\",IF(B$13<E522+1,\"\",IF(I522=B$14,\"\",lookup!M515)))","v":""},{"$f":"IF(E523=\"\",\"\",lookup!N515)","v":""},{"$f":"IF(E523=\"\",\"\",lookup!O515-lookup!N515)","v":""},"",{"$f":"IF(E523=\"\",\"\",IF(lookup!O515<0,0,lookup!O515))","v":""}]
[null,null,null,null,{"$f":"IF(I523=\"\",\"\",IF(B$13<E523+1,\"\",IF(I523=B$14,\"\",lookup!M516)))","v":""},{"$f":"IF(E524=\"\",\"\",lookup!N516)","v":""},{"$f":"IF(E524=\"\",\"\",lookup!O516-lookup!N516)","v":""},"",{"$f":"IF(E524=\"\",\"\",IF(lookup!O516<0,0,lookup!O516))","v":""}]
[null,null,null,null,{"$f":"IF(I524=\"\",\"\",IF(B$13<E524+1,\"\",IF(I524=B$14,\"\",lookup!M517)))","v":""},{"$f":"IF(E525=\"\",\"\",lookup!N517)","v":""},{"$f":"IF(E525=\"\",\"\",lookup!O517-lookup!N517)","v":""},{"$f":"IF(E525=\"\",\"\",H524+G525)","v":""},{"$f":"IF(E525=\"\",\"\",IF(lookup!O517<0,0,lookup!O517))","v":""}]
[null,null,null,null,{"$f":"IF(I525=\"\",\"\",IF(B$13<E525+1,\"\",IF(I525=B$14,\"\",lookup!M518)))","v":""},{"$f":"IF(E526=\"\",\"\",lookup!N518)","v":""},{"$f":"IF(E526=\"\",\"\",lookup!O518-lookup!N518)","v":""},"",{"$f":"IF(E526=\"\",\"\",IF(lookup!O518<0,0,lookup!O518))","v":""}]
[null,null,null,null,{"$f":"IF(I526=\"\",\"\",IF(B$13<E526+1,\"\",IF(I526=B$14,\"\",lookup!M519)))","v":""},{"$f":"IF(E527=\"\",\"\",lookup!N519)","v":""},{"$f":"IF(E527=\"\",\"\",lookup!O519-lookup!N519)","v":""},"",{"$f":"IF(E527=\"\",\"\",IF(lookup!O519<0,0,lookup!O519))","v":""}]
[null,null,null,null,{"$f":"IF(I527=\"\",\"\",IF(B$13<E527+1,\"\",IF(I527=B$14,\"\",lookup!M520)))","v":""},{"$f":"IF(E528=\"\",\"\",lookup!N520)","v":""},{"$f":"IF(E528=\"\",\"\",lookup!O520-lookup!N520)","v":""},"",{"$f":"IF(E528=\"\",\"\",IF(lookup!O520<0,0,lookup!O520))","v":""}]
[null,null,null,null,{"$f":"IF(I528=\"\",\"\",IF(B$13<E528+1,\"\",IF(I528=B$14,\"\",lookup!M521)))","v":""},{"$f":"IF(E529=\"\",\"\",lookup!N521)","v":""},{"$f":"IF(E529=\"\",\"\",lookup!O521-lookup!N521)","v":""},"",{"$f":"IF(E529=\"\",\"\",IF(lookup!O521<0,0,lookup!O521))","v":""}]
[null,null,null,null,{"$f":"IF(I529=\"\",\"\",IF(B$13<E529+1,\"\",IF(I529=B$14,\"\",lookup!M522)))","v":""},{"$f":"IF(E530=\"\",\"\",lookup!N522)","v":""},{"$f":"IF(E530=\"\",\"\",lookup!O522-lookup!N522)","v":""},"",{"$f":"IF(E530=\"\",\"\",IF(lookup!O522<0,0,lookup!O522))","v":""}]
[null,null,null,null,{"$f":"IF(I530=\"\",\"\",IF(B$13<E530+1,\"\",IF(I530=B$14,\"\",lookup!M523)))","v":""},{"$f":"IF(E531=\"\",\"\",lookup!N523)","v":""},{"$f":"IF(E531=\"\",\"\",lookup!O523-lookup!N523)","v":""},"",{"$f":"IF(E531=\"\",\"\",IF(lookup!O523<0,0,lookup!O523))","v":""}]
[null,null,null,null,{"$f":"IF(I531=\"\",\"\",IF(B$13<E531+1,\"\",IF(I531=B$14,\"\",lookup!M524)))","v":""},{"$f":"IF(E532=\"\",\"\",lookup!N524)","v":""},{"$f":"IF(E532=\"\",\"\",lookup!O524-lookup!N524)","v":""},"",{"$f":"IF(E532=\"\",\"\",IF(lookup!O524<0,0,lookup!O524))","v":""}]
[null,null,null,null,{"$f":"IF(I532=\"\",\"\",IF(B$13<E532+1,\"\",IF(I532=B$14,\"\",lookup!M525)))","v":""},{"$f":"IF(E533=\"\",\"\",lookup!N525)","v":""},{"$f":"IF(E533=\"\",\"\",lookup!O525-lookup!N525)","v":""},"",{"$f":"IF(E533=\"\",\"\",IF(lookup!O525<0,0,lookup!O525))","v":""}]
[null,null,null,null,{"$f":"IF(I533=\"\",\"\",IF(B$13<E533+1,\"\",IF(I533=B$14,\"\",lookup!M526)))","v":""},{"$f":"IF(E534=\"\",\"\",lookup!N526)","v":""},{"$f":"IF(E534=\"\",\"\",lookup!O526-lookup!N526)","v":""},"",{"$f":"IF(E534=\"\",\"\",IF(lookup!O526<0,0,lookup!O526))","v":""}]
[null,null,null,null,{"$f":"IF(I534=\"\",\"\",IF(B$13<E534+1,\"\",IF(I534=B$14,\"\",lookup!M527)))","v":""},{"$f":"IF(E535=\"\",\"\",lookup!N527)","v":""},{"$f":"IF(E535=\"\",\"\",lookup!O527-lookup!N527)","v":""},"",{"$f":"IF(E535=\"\",\"\",IF(lookup!O527<0,0,lookup!O527))","v":""}]
[null,null,null,null,{"$f":"IF(I535=\"\",\"\",IF(B$13<E535+1,\"\",IF(I535=B$14,\"\",lookup!M528)))","v":""},{"$f":"IF(E536=\"\",\"\",lookup!N528)","v":""},{"$f":"IF(E536=\"\",\"\",lookup!O528-lookup!N528)","v":""},"",{"$f":"IF(E536=\"\",\"\",IF(lookup!O528<0,0,lookup!O528))","v":""}]
[null,null,null,null,{"$f":"IF(I536=\"\",\"\",IF(B$13<E536+1,\"\",IF(I536=B$14,\"\",lookup!M529)))","v":""},{"$f":"IF(E537=\"\",\"\",lookup!N529)","v":""},{"$f":"IF(E537=\"\",\"\",lookup!O529-lookup!N529)","v":""},"",{"$f":"IF(E537=\"\",\"\",IF(lookup!O529<0,0,lookup!O529))","v":""}]
[null,null,null,null,{"$f":"IF(I537=\"\",\"\",IF(B$13<E537+1,\"\",IF(I537=B$14,\"\",lookup!M530)))","v":""},{"$f":"IF(E538=\"\",\"\",lookup!N530)","v":""},{"$f":"IF(E538=\"\",\"\",lookup!O530-lookup!N530)","v":""},"",{"$f":"IF(E538=\"\",\"\",IF(lookup!O530<0,0,lookup!O530))","v":""}]
[null,null,null,null,{"$f":"IF(I538=\"\",\"\",IF(B$13<E538+1,\"\",IF(I538=B$14,\"\",lookup!M531)))","v":""},{"$f":"IF(E539=\"\",\"\",lookup!N531)","v":""},{"$f":"IF(E539=\"\",\"\",lookup!O531-lookup!N531)","v":""},"",{"$f":"IF(E539=\"\",\"\",IF(lookup!O531<0,0,lookup!O531))","v":""}]
[null,null,null,null,{"$f":"IF(I539=\"\",\"\",IF(B$13<E539+1,\"\",IF(I539=B$14,\"\",lookup!M532)))","v":""},{"$f":"IF(E540=\"\",\"\",lookup!N532)","v":""},{"$f":"IF(E540=\"\",\"\",lookup!O532-lookup!N532)","v":""},"",{"$f":"IF(E540=\"\",\"\",IF(lookup!O532<0,0,lookup!O532))","v":""}]
[null,null,null,null,{"$f":"IF(I540=\"\",\"\",IF(B$13<E540+1,\"\",IF(I540=B$14,\"\",lookup!M533)))","v":""},{"$f":"IF(E541=\"\",\"\",lookup!N533)","v":""},{"$f":"IF(E541=\"\",\"\",lookup!O533-lookup!N533)","v":""},"",{"$f":"IF(E541=\"\",\"\",IF(lookup!O533<0,0,lookup!O533))","v":""}]
[null,null,null,null,{"$f":"IF(I541=\"\",\"\",IF(B$13<E541+1,\"\",IF(I541=B$14,\"\",lookup!M534)))","v":""},{"$f":"IF(E542=\"\",\"\",lookup!N534)","v":""},{"$f":"IF(E542=\"\",\"\",lookup!O534-lookup!N534)","v":""},"",{"$f":"IF(E542=\"\",\"\",IF(lookup!O534<0,0,lookup!O534))","v":""}]
[null,null,null,null,{"$f":"IF(I542=\"\",\"\",IF(B$13<E542+1,\"\",IF(I542=B$14,\"\",lookup!M535)))","v":""},{"$f":"IF(E543=\"\",\"\",lookup!N535)","v":""},{"$f":"IF(E543=\"\",\"\",lookup!O535-lookup!N535)","v":""},"",{"$f":"IF(E543=\"\",\"\",IF(lookup!O535<0,0,lookup!O535))","v":""}]
[null,null,null,null,{"$f":"IF(I543=\"\",\"\",IF(B$13<E543+1,\"\",IF(I543=B$14,\"\",lookup!M536)))","v":""},{"$f":"IF(E544=\"\",\"\",lookup!N536)","v":""},{"$f":"IF(E544=\"\",\"\",lookup!O536-lookup!N536)","v":""},"",{"$f":"IF(E544=\"\",\"\",IF(lookup!O536<0,0,lookup!O536))","v":""}]
[null,null,null,null,{"$f":"IF(I544=\"\",\"\",IF(B$13<E544+1,\"\",IF(I544=B$14,\"\",lookup!M537)))","v":""},{"$f":"IF(E545=\"\",\"\",lookup!N537)","v":""},{"$f":"IF(E545=\"\",\"\",lookup!O537-lookup!N537)","v":""},"",{"$f":"IF(E545=\"\",\"\",IF(lookup!O537<0,0,lookup!O537))","v":""}]
[null,null,null,null,{"$f":"IF(I545=\"\",\"\",IF(B$13<E545+1,\"\",IF(I545=B$14,\"\",lookup!M538)))","v":""},{"$f":"IF(E546=\"\",\"\",lookup!N538)","v":""},{"$f":"IF(E546=\"\",\"\",lookup!O538-lookup!N538)","v":""},"",{"$f":"IF(E546=\"\",\"\",IF(lookup!O538<0,0,lookup!O538))","v":""}]
[null,null,null,null,{"$f":"IF(I546=\"\",\"\",IF(B$13<E546+1,\"\",IF(I546=B$14,\"\",lookup!M539)))","v":""},{"$f":"IF(E547=\"\",\"\",lookup!N539)","v":""},{"$f":"IF(E547=\"\",\"\",lookup!O539-lookup!N539)","v":""},"",{"$f":"IF(E547=\"\",\"\",IF(lookup!O539<0,0,lookup!O539))","v":""}]
[null,null,null,null,{"$f":"IF(I547=\"\",\"\",IF(B$13<E547+1,\"\",IF(I547=B$14,\"\",lookup!M540)))","v":""},{"$f":"IF(E548=\"\",\"\",lookup!N540)","v":""},{"$f":"IF(E548=\"\",\"\",lookup!O540-lookup!N540)","v":""},"",{"$f":"IF(E548=\"\",\"\",IF(lookup!O540<0,0,lookup!O540))","v":""}]
[null,null,null,null,{"$f":"IF(I548=\"\",\"\",IF(B$13<E548+1,\"\",IF(I548=B$14,\"\",lookup!M541)))","v":""},{"$f":"IF(E549=\"\",\"\",lookup!N541)","v":""},{"$f":"IF(E549=\"\",\"\",lookup!O541-lookup!N541)","v":""},"",{"$f":"IF(E549=\"\",\"\",IF(lookup!O541<0,0,lookup!O541))","v":""}]
[null,null,null,null,{"$f":"IF(I549=\"\",\"\",IF(B$13<E549+1,\"\",IF(I549=B$14,\"\",lookup!M542)))","v":""},{"$f":"IF(E550=\"\",\"\",lookup!N542)","v":""},{"$f":"IF(E550=\"\",\"\",lookup!O542-lookup!N542)","v":""},"",{"$f":"IF(E550=\"\",\"\",IF(lookup!O542<0,0,lookup!O542))","v":""}]
[null,null,null,null,{"$f":"IF(I550=\"\",\"\",IF(B$13<E550+1,\"\",IF(I550=B$14,\"\",lookup!M543)))","v":""},{"$f":"IF(E551=\"\",\"\",lookup!N543)","v":""},{"$f":"IF(E551=\"\",\"\",lookup!O543-lookup!N543)","v":""},"",{"$f":"IF(E551=\"\",\"\",IF(lookup!O543<0,0,lookup!O543))","v":""}]
[null,null,null,null,{"$f":"IF(I551=\"\",\"\",IF(B$13<E551+1,\"\",IF(I551=B$14,\"\",lookup!M544)))","v":""},{"$f":"IF(E552=\"\",\"\",lookup!N544)","v":""},{"$f":"IF(E552=\"\",\"\",lookup!O544-lookup!N544)","v":""},"",{"$f":"IF(E552=\"\",\"\",IF(lookup!O544<0,0,lookup!O544))","v":""}]
[null,null,null,null,{"$f":"IF(I552=\"\",\"\",IF(B$13<E552+1,\"\",IF(I552=B$14,\"\",lookup!M545)))","v":""},{"$f":"IF(E553=\"\",\"\",lookup!N545)","v":""},{"$f":"IF(E553=\"\",\"\",lookup!O545-lookup!N545)","v":""},"",{"$f":"IF(E553=\"\",\"\",IF(lookup!O545<0,0,lookup!O545))","v":""}]
[null,null,null,null,{"$f":"IF(I553=\"\",\"\",IF(B$13<E553+1,\"\",IF(I553=B$14,\"\",lookup!M546)))","v":""},{"$f":"IF(E554=\"\",\"\",lookup!N546)","v":""},{"$f":"IF(E554=\"\",\"\",lookup!O546-lookup!N546)","v":""},"",{"$f":"IF(E554=\"\",\"\",IF(lookup!O546<0,0,lookup!O546))","v":""}]
[null,null,null,null,{"$f":"IF(I554=\"\",\"\",IF(B$13<E554+1,\"\",IF(I554=B$14,\"\",lookup!M547)))","v":""},{"$f":"IF(E555=\"\",\"\",lookup!N547)","v":""},{"$f":"IF(E555=\"\",\"\",lookup!O547-lookup!N547)","v":""},"",{"$f":"IF(E555=\"\",\"\",IF(lookup!O547<0,0,lookup!O547))","v":""}]
[null,null,null,null,{"$f":"IF(I555=\"\",\"\",IF(B$13<E555+1,\"\",IF(I555=B$14,\"\",lookup!M548)))","v":""},{"$f":"IF(E556=\"\",\"\",lookup!N548)","v":""},{"$f":"IF(E556=\"\",\"\",lookup!O548-lookup!N548)","v":""},"",{"$f":"IF(E556=\"\",\"\",IF(lookup!O548<0,0,lookup!O548))","v":""}]
[null,null,null,null,{"$f":"IF(I556=\"\",\"\",IF(B$13<E556+1,\"\",IF(I556=B$14,\"\",lookup!M549)))","v":""},{"$f":"IF(E557=\"\",\"\",lookup!N549)","v":""},{"$f":"IF(E557=\"\",\"\",lookup!O549-lookup!N549)","v":""},"",{"$f":"IF(E557=\"\",\"\",IF(lookup!O549<0,0,lookup!O549))","v":""}]
[null,null,null,null,{"$f":"IF(I557=\"\",\"\",IF(B$13<E557+1,\"\",IF(I557=B$14,\"\",lookup!M550)))","v":""},{"$f":"IF(E558=\"\",\"\",lookup!N550)","v":""},{"$f":"IF(E558=\"\",\"\",lookup!O550-lookup!N550)","v":""},"",{"$f":"IF(E558=\"\",\"\",IF(lookup!O550<0,0,lookup!O550))","v":""}]
[null,null,null,null,{"$f":"IF(I558=\"\",\"\",IF(B$13<E558+1,\"\",IF(I558=B$14,\"\",lookup!M551)))","v":""},{"$f":"IF(E559=\"\",\"\",lookup!N551)","v":""},{"$f":"IF(E559=\"\",\"\",lookup!O551-lookup!N551)","v":""},"",{"$f":"IF(E559=\"\",\"\",IF(lookup!O551<0,0,lookup!O551))","v":""}]
[null,null,null,null,{"$f":"IF(I559=\"\",\"\",IF(B$13<E559+1,\"\",IF(I559=B$14,\"\",lookup!M552)))","v":""},{"$f":"IF(E560=\"\",\"\",lookup!N552)","v":""},{"$f":"IF(E560=\"\",\"\",lookup!O552-lookup!N552)","v":""},"",{"$f":"IF(E560=\"\",\"\",IF(lookup!O552<0,0,lookup!O552))","v":""}]
[null,null,null,null,{"$f":"IF(I560=\"\",\"\",IF(B$13<E560+1,\"\",IF(I560=B$14,\"\",lookup!M553)))","v":""},{"$f":"IF(E561=\"\",\"\",lookup!N553)","v":""},{"$f":"IF(E561=\"\",\"\",lookup!O553-lookup!N553)","v":""},"",{"$f":"IF(E561=\"\",\"\",IF(lookup!O553<0,0,lookup!O553))","v":""}]
[null,null,null,null,{"$f":"IF(I561=\"\",\"\",IF(B$13<E561+1,\"\",IF(I561=B$14,\"\",lookup!M554)))","v":""},{"$f":"IF(E562=\"\",\"\",lookup!N554)","v":""},{"$f":"IF(E562=\"\",\"\",lookup!O554-lookup!N554)","v":""},"",{"$f":"IF(E562=\"\",\"\",IF(lookup!O554<0,0,lookup!O554))","v":""}]
[null,null,null,null,{"$f":"IF(I562=\"\",\"\",IF(B$13<E562+1,\"\",IF(I562=B$14,\"\",lookup!M555)))","v":""},{"$f":"IF(E563=\"\",\"\",lookup!N555)","v":""},{"$f":"IF(E563=\"\",\"\",lookup!O555-lookup!N555)","v":""},"",{"$f":"IF(E563=\"\",\"\",IF(lookup!O555<0,0,lookup!O555))","v":""}]
[null,null,null,null,{"$f":"IF(I563=\"\",\"\",IF(B$13<E563+1,\"\",IF(I563=B$14,\"\",lookup!M556)))","v":""},{"$f":"IF(E564=\"\",\"\",lookup!N556)","v":""},{"$f":"IF(E564=\"\",\"\",lookup!O556-lookup!N556)","v":""},"",{"$f":"IF(E564=\"\",\"\",IF(lookup!O556<0,0,lookup!O556))","v":""}]
[null,null,null,null,{"$f":"IF(I564=\"\",\"\",IF(B$13<E564+1,\"\",IF(I564=B$14,\"\",lookup!M557)))","v":""},{"$f":"IF(E565=\"\",\"\",lookup!N557)","v":""},{"$f":"IF(E565=\"\",\"\",lookup!O557-lookup!N557)","v":""},"",{"$f":"IF(E565=\"\",\"\",IF(lookup!O557<0,0,lookup!O557))","v":""}]
[null,null,null,null,{"$f":"IF(I565=\"\",\"\",IF(B$13<E565+1,\"\",IF(I565=B$14,\"\",lookup!M558)))","v":""},{"$f":"IF(E566=\"\",\"\",lookup!N558)","v":""},{"$f":"IF(E566=\"\",\"\",lookup!O558-lookup!N558)","v":""},"",{"$f":"IF(E566=\"\",\"\",IF(lookup!O558<0,0,lookup!O558))","v":""}]
[null,null,null,null,{"$f":"IF(I566=\"\",\"\",IF(B$13<E566+1,\"\",IF(I566=B$14,\"\",lookup!M559)))","v":""},{"$f":"IF(E567=\"\",\"\",lookup!N559)","v":""},{"$f":"IF(E567=\"\",\"\",lookup!O559-lookup!N559)","v":""},"",{"$f":"IF(E567=\"\",\"\",IF(lookup!O559<0,0,lookup!O559))","v":""}]
[null,null,null,null,{"$f":"IF(I567=\"\",\"\",IF(B$13<E567+1,\"\",IF(I567=B$14,\"\",lookup!M560)))","v":""},{"$f":"IF(E568=\"\",\"\",lookup!N560)","v":""},{"$f":"IF(E568=\"\",\"\",lookup!O560-lookup!N560)","v":""},"",{"$f":"IF(E568=\"\",\"\",IF(lookup!O560<0,0,lookup!O560))","v":""}]
[null,null,null,null,{"$f":"IF(I568=\"\",\"\",IF(B$13<E568+1,\"\",IF(I568=B$14,\"\",lookup!M561)))","v":""},{"$f":"IF(E569=\"\",\"\",lookup!N561)","v":""},{"$f":"IF(E569=\"\",\"\",lookup!O561-lookup!N561)","v":""},"",{"$f":"IF(E569=\"\",\"\",IF(lookup!O561<0,0,lookup!O561))","v":""}]
[null,null,null,null,{"$f":"IF(I569=\"\",\"\",IF(B$13<E569+1,\"\",IF(I569=B$14,\"\",lookup!M562)))","v":""},{"$f":"IF(E570=\"\",\"\",lookup!N562)","v":""},{"$f":"IF(E570=\"\",\"\",lookup!O562-lookup!N562)","v":""},"",{"$f":"IF(E570=\"\",\"\",IF(lookup!O562<0,0,lookup!O562))","v":""}]
[null,null,null,null,{"$f":"IF(I570=\"\",\"\",IF(B$13<E570+1,\"\",IF(I570=B$14,\"\",lookup!M563)))","v":""},{"$f":"IF(E571=\"\",\"\",lookup!N563)","v":""},{"$f":"IF(E571=\"\",\"\",lookup!O563-lookup!N563)","v":""},"",{"$f":"IF(E571=\"\",\"\",IF(lookup!O563<0,0,lookup!O563))","v":""}]
[null,null,null,null,{"$f":"IF(I571=\"\",\"\",IF(B$13<E571+1,\"\",IF(I571=B$14,\"\",lookup!M564)))","v":""},{"$f":"IF(E572=\"\",\"\",lookup!N564)","v":""},{"$f":"IF(E572=\"\",\"\",lookup!O564-lookup!N564)","v":""},"",{"$f":"IF(E572=\"\",\"\",IF(lookup!O564<0,0,lookup!O564))","v":""}]
[null,null,null,null,{"$f":"IF(I572=\"\",\"\",IF(B$13<E572+1,\"\",IF(I572=B$14,\"\",lookup!M565)))","v":""},{"$f":"IF(E573=\"\",\"\",lookup!N565)","v":""},{"$f":"IF(E573=\"\",\"\",lookup!O565-lookup!N565)","v":""},"",{"$f":"IF(E573=\"\",\"\",IF(lookup!O565<0,0,lookup!O565))","v":""}]
[null,null,null,null,{"$f":"IF(I573=\"\",\"\",IF(B$13<E573+1,\"\",IF(I573=B$14,\"\",lookup!M566)))","v":""},{"$f":"IF(E574=\"\",\"\",lookup!N566)","v":""},{"$f":"IF(E574=\"\",\"\",lookup!O566-lookup!N566)","v":""},"",{"$f":"IF(E574=\"\",\"\",IF(lookup!O566<0,0,lookup!O566))","v":""}]
[null,null,null,null,{"$f":"IF(I574=\"\",\"\",IF(B$13<E574+1,\"\",IF(I574=B$14,\"\",lookup!M567)))","v":""},{"$f":"IF(E575=\"\",\"\",lookup!N567)","v":""},{"$f":"IF(E575=\"\",\"\",lookup!O567-lookup!N567)","v":""},"",{"$f":"IF(E575=\"\",\"\",IF(lookup!O567<0,0,lookup!O567))","v":""}]
[null,null,null,null,{"$f":"IF(I575=\"\",\"\",IF(B$13<E575+1,\"\",IF(I575=B$14,\"\",lookup!M568)))","v":""},{"$f":"IF(E576=\"\",\"\",lookup!N568)","v":""},{"$f":"IF(E576=\"\",\"\",lookup!O568-lookup!N568)","v":""},"",{"$f":"IF(E576=\"\",\"\",IF(lookup!O568<0,0,lookup!O568))","v":""}]
[null,null,null,null,{"$f":"IF(I576=\"\",\"\",IF(B$13<E576+1,\"\",IF(I576=B$14,\"\",lookup!M569)))","v":""},{"$f":"IF(E577=\"\",\"\",lookup!N569)","v":""},{"$f":"IF(E577=\"\",\"\",lookup!O569-lookup!N569)","v":""},"",{"$f":"IF(E577=\"\",\"\",IF(lookup!O569<0,0,lookup!O569))","v":""}]
[null,null,null,null,{"$f":"IF(I577=\"\",\"\",IF(B$13<E577+1,\"\",IF(I577=B$14,\"\",lookup!M570)))","v":""},{"$f":"IF(E578=\"\",\"\",lookup!N570)","v":""},{"$f":"IF(E578=\"\",\"\",lookup!O570-lookup!N570)","v":""},"",{"$f":"IF(E578=\"\",\"\",IF(lookup!O570<0,0,lookup!O570))","v":""}]
[null,null,null,null,{"$f":"IF(I578=\"\",\"\",IF(B$13<E578+1,\"\",IF(I578=B$14,\"\",lookup!M571)))","v":""},{"$f":"IF(E579=\"\",\"\",lookup!N571)","v":""},{"$f":"IF(E579=\"\",\"\",lookup!O571-lookup!N571)","v":""},"",{"$f":"IF(E579=\"\",\"\",IF(lookup!O571<0,0,lookup!O571))","v":""}]
[null,null,null,null,{"$f":"IF(I579=\"\",\"\",IF(B$13<E579+1,\"\",IF(I579=B$14,\"\",lookup!M572)))","v":""},{"$f":"IF(E580=\"\",\"\",lookup!N572)","v":""},{"$f":"IF(E580=\"\",\"\",lookup!O572-lookup!N572)","v":""},"",{"$f":"IF(E580=\"\",\"\",IF(lookup!O572<0,0,lookup!O572))","v":""}]
[null,null,null,null,{"$f":"IF(I580=\"\",\"\",IF(B$13<E580+1,\"\",IF(I580=B$14,\"\",lookup!M573)))","v":""},{"$f":"IF(E581=\"\",\"\",lookup!N573)","v":""},{"$f":"IF(E581=\"\",\"\",lookup!O573-lookup!N573)","v":""},"",{"$f":"IF(E581=\"\",\"\",IF(lookup!O573<0,0,lookup!O573))","v":""}]
[null,null,null,null,{"$f":"IF(I581=\"\",\"\",IF(B$13<E581+1,\"\",IF(I581=B$14,\"\",lookup!M574)))","v":""},{"$f":"IF(E582=\"\",\"\",lookup!N574)","v":""},{"$f":"IF(E582=\"\",\"\",lookup!O574-lookup!N574)","v":""},"",{"$f":"IF(E582=\"\",\"\",IF(lookup!O574<0,0,lookup!O574))","v":""}]
[null,null,null,null,{"$f":"IF(I582=\"\",\"\",IF(B$13<E582+1,\"\",IF(I582=B$14,\"\",lookup!M575)))","v":""},{"$f":"IF(E583=\"\",\"\",lookup!N575)","v":""},{"$f":"IF(E583=\"\",\"\",lookup!O575-lookup!N575)","v":""},"",{"$f":"IF(E583=\"\",\"\",IF(lookup!O575<0,0,lookup!O575))","v":""}]
[null,null,null,null,{"$f":"IF(I583=\"\",\"\",IF(B$13<E583+1,\"\",IF(I583=B$14,\"\",lookup!M576)))","v":""},{"$f":"IF(E584=\"\",\"\",lookup!N576)","v":""},{"$f":"IF(E584=\"\",\"\",lookup!O576-lookup!N576)","v":""},"",{"$f":"IF(E584=\"\",\"\",IF(lookup!O576<0,0,lookup!O576))","v":""}]
[null,null,null,null,{"$f":"IF(I584=\"\",\"\",IF(B$13<E584+1,\"\",IF(I584=B$14,\"\",lookup!M577)))","v":""},{"$f":"IF(E585=\"\",\"\",lookup!N577)","v":""},{"$f":"IF(E585=\"\",\"\",lookup!O577-lookup!N577)","v":""},"",{"$f":"IF(E585=\"\",\"\",IF(lookup!O577<0,0,lookup!O577))","v":""}]
[null,null,null,null,{"$f":"IF(I585=\"\",\"\",IF(B$13<E585+1,\"\",IF(I585=B$14,\"\",lookup!M578)))","v":""},{"$f":"IF(E586=\"\",\"\",lookup!N578)","v":""},{"$f":"IF(E586=\"\",\"\",lookup!O578-lookup!N578)","v":""},"",{"$f":"IF(E586=\"\",\"\",IF(lookup!O578<0,0,lookup!O578))","v":""}]
[null,null,null,null,{"$f":"IF(I586=\"\",\"\",IF(B$13<E586+1,\"\",IF(I586=B$14,\"\",lookup!M579)))","v":""},{"$f":"IF(E587=\"\",\"\",lookup!N579)","v":""},{"$f":"IF(E587=\"\",\"\",lookup!O579-lookup!N579)","v":""},"",{"$f":"IF(E587=\"\",\"\",IF(lookup!O579<0,0,lookup!O579))","v":""}]
[null,null,null,null,{"$f":"IF(I587=\"\",\"\",IF(B$13<E587+1,\"\",IF(I587=B$14,\"\",lookup!M580)))","v":""},{"$f":"IF(E588=\"\",\"\",lookup!N580)","v":""},{"$f":"IF(E588=\"\",\"\",lookup!O580-lookup!N580)","v":""},"",{"$f":"IF(E588=\"\",\"\",IF(lookup!O580<0,0,lookup!O580))","v":""}]
[null,null,null,null,{"$f":"IF(I588=\"\",\"\",IF(B$13<E588+1,\"\",IF(I588=B$14,\"\",lookup!M581)))","v":""},{"$f":"IF(E589=\"\",\"\",lookup!N581)","v":""},{"$f":"IF(E589=\"\",\"\",lookup!O581-lookup!N581)","v":""},{"$f":"IF(E589=\"\",\"\",H588+G589)","v":""},{"$f":"IF(E589=\"\",\"\",IF(lookup!O581<0,0,lookup!O581))","v":""}]
[null,null,null,null,{"$f":"IF(I589=\"\",\"\",IF(B$13<E589+1,\"\",IF(I589=B$14,\"\",lookup!M582)))","v":""},{"$f":"IF(E590=\"\",\"\",lookup!N582)","v":""},{"$f":"IF(E590=\"\",\"\",lookup!O582-lookup!N582)","v":""},"",{"$f":"IF(E590=\"\",\"\",IF(lookup!O582<0,0,lookup!O582))","v":""}]
[null,null,null,null,{"$f":"IF(I590=\"\",\"\",IF(B$13<E590+1,\"\",IF(I590=B$14,\"\",lookup!M583)))","v":""},{"$f":"IF(E591=\"\",\"\",lookup!N583)","v":""},{"$f":"IF(E591=\"\",\"\",lookup!O583-lookup!N583)","v":""},"",{"$f":"IF(E591=\"\",\"\",IF(lookup!O583<0,0,lookup!O583))","v":""}]
[null,null,null,null,{"$f":"IF(I591=\"\",\"\",IF(B$13<E591+1,\"\",IF(I591=B$14,\"\",lookup!M584)))","v":""},{"$f":"IF(E592=\"\",\"\",lookup!N584)","v":""},{"$f":"IF(E592=\"\",\"\",lookup!O584-lookup!N584)","v":""},"",{"$f":"IF(E592=\"\",\"\",IF(lookup!O584<0,0,lookup!O584))","v":""}]
[null,null,null,null,{"$f":"IF(I592=\"\",\"\",IF(B$13<E592+1,\"\",IF(I592=B$14,\"\",lookup!M585)))","v":""},{"$f":"IF(E593=\"\",\"\",lookup!N585)","v":""},{"$f":"IF(E593=\"\",\"\",lookup!O585-lookup!N585)","v":""},"",{"$f":"IF(E593=\"\",\"\",IF(lookup!O585<0,0,lookup!O585))","v":""}]
[null,null,null,null,{"$f":"IF(I593=\"\",\"\",IF(B$13<E593+1,\"\",IF(I593=B$14,\"\",lookup!M586)))","v":""},{"$f":"IF(E594=\"\",\"\",lookup!N586)","v":""},{"$f":"IF(E594=\"\",\"\",lookup!O586-lookup!N586)","v":""},"",{"$f":"IF(E594=\"\",\"\",IF(lookup!O586<0,0,lookup!O586))","v":""}]
[null,null,null,null,{"$f":"IF(I594=\"\",\"\",IF(B$13<E594+1,\"\",IF(I594=B$14,\"\",lookup!M587)))","v":""},{"$f":"IF(E595=\"\",\"\",lookup!N587)","v":""},{"$f":"IF(E595=\"\",\"\",lookup!O587-lookup!N587)","v":""},"",{"$f":"IF(E595=\"\",\"\",IF(lookup!O587<0,0,lookup!O587))","v":""}]
[null,null,null,null,{"$f":"IF(I595=\"\",\"\",IF(B$13<E595+1,\"\",IF(I595=B$14,\"\",lookup!M588)))","v":""},{"$f":"IF(E596=\"\",\"\",lookup!N588)","v":""},{"$f":"IF(E596=\"\",\"\",lookup!O588-lookup!N588)","v":""},"",{"$f":"IF(E596=\"\",\"\",IF(lookup!O588<0,0,lookup!O588))","v":""}]
[null,null,null,null,{"$f":"IF(I596=\"\",\"\",IF(B$13<E596+1,\"\",IF(I596=B$14,\"\",lookup!M589)))","v":""},{"$f":"IF(E597=\"\",\"\",lookup!N589)","v":""},{"$f":"IF(E597=\"\",\"\",lookup!O589-lookup!N589)","v":""},"",{"$f":"IF(E597=\"\",\"\",IF(lookup!O589<0,0,lookup!O589))","v":""}]
[null,null,null,null,{"$f":"IF(I597=\"\",\"\",IF(B$13<E597+1,\"\",IF(I597=B$14,\"\",lookup!M590)))","v":""},{"$f":"IF(E598=\"\",\"\",lookup!N590)","v":""},{"$f":"IF(E598=\"\",\"\",lookup!O590-lookup!N590)","v":""},"",{"$f":"IF(E598=\"\",\"\",IF(lookup!O590<0,0,lookup!O590))","v":""}]
[null,null,null,null,{"$f":"IF(I598=\"\",\"\",IF(B$13<E598+1,\"\",IF(I598=B$14,\"\",lookup!M591)))","v":""},{"$f":"IF(E599=\"\",\"\",lookup!N591)","v":""},{"$f":"IF(E599=\"\",\"\",lookup!O591-lookup!N591)","v":""},"",{"$f":"IF(E599=\"\",\"\",IF(lookup!O591<0,0,lookup!O591))","v":""}]
[null,null,null,null,{"$f":"IF(I599=\"\",\"\",IF(B$13<E599+1,\"\",IF(I599=B$14,\"\",lookup!M592)))","v":""},{"$f":"IF(E600=\"\",\"\",lookup!N592)","v":""},{"$f":"IF(E600=\"\",\"\",lookup!O592-lookup!N592)","v":""},"",{"$f":"IF(E600=\"\",\"\",IF(lookup!O592<0,0,lookup!O592))","v":""}]
[null,null,null,null,{"$f":"IF(I600=\"\",\"\",IF(B$13<E600+1,\"\",IF(I600=B$14,\"\",lookup!M593)))","v":""},{"$f":"IF(E601=\"\",\"\",lookup!N593)","v":""},{"$f":"IF(E601=\"\",\"\",lookup!O593-lookup!N593)","v":""},"",{"$f":"IF(E601=\"\",\"\",IF(lookup!O593<0,0,lookup!O593))","v":""}]
[null,null,null,null,{"$f":"IF(I601=\"\",\"\",IF(B$13<E601+1,\"\",IF(I601=B$14,\"\",lookup!M594)))","v":""},{"$f":"IF(E602=\"\",\"\",lookup!N594)","v":""},{"$f":"IF(E602=\"\",\"\",lookup!O594-lookup!N594)","v":""},"",{"$f":"IF(E602=\"\",\"\",IF(lookup!O594<0,0,lookup!O594))","v":""}]
[null,null,null,null,{"$f":"IF(I602=\"\",\"\",IF(B$13<E602+1,\"\",IF(I602=B$14,\"\",lookup!M595)))","v":""},{"$f":"IF(E603=\"\",\"\",lookup!N595)","v":""},{"$f":"IF(E603=\"\",\"\",lookup!O595-lookup!N595)","v":""},"",{"$f":"IF(E603=\"\",\"\",IF(lookup!O595<0,0,lookup!O595))","v":""}]
[null,null,null,null,{"$f":"IF(I603=\"\",\"\",IF(B$13<E603+1,\"\",IF(I603=B$14,\"\",lookup!M596)))","v":""},{"$f":"IF(E604=\"\",\"\",lookup!N596)","v":""},{"$f":"IF(E604=\"\",\"\",lookup!O596-lookup!N596)","v":""},"",{"$f":"IF(E604=\"\",\"\",IF(lookup!O596<0,0,lookup!O596))","v":""}]
[null,null,null,null,{"$f":"IF(I604=\"\",\"\",IF(B$13<E604+1,\"\",IF(I604=B$14,\"\",lookup!M597)))","v":""},{"$f":"IF(E605=\"\",\"\",lookup!N597)","v":""},{"$f":"IF(E605=\"\",\"\",lookup!O597-lookup!N597)","v":""},"",{"$f":"IF(E605=\"\",\"\",IF(lookup!O597<0,0,lookup!O597))","v":""}]
[null,null,null,null,{"$f":"IF(I605=\"\",\"\",IF(B$13<E605+1,\"\",IF(I605=B$14,\"\",lookup!M598)))","v":""},{"$f":"IF(E606=\"\",\"\",lookup!N598)","v":""},{"$f":"IF(E606=\"\",\"\",lookup!O598-lookup!N598)","v":""},"",{"$f":"IF(E606=\"\",\"\",IF(lookup!O598<0,0,lookup!O598))","v":""}]
[null,null,null,null,{"$f":"IF(I606=\"\",\"\",IF(B$13<E606+1,\"\",IF(I606=B$14,\"\",lookup!M599)))","v":""},{"$f":"IF(E607=\"\",\"\",lookup!N599)","v":""},{"$f":"IF(E607=\"\",\"\",lookup!O599-lookup!N599)","v":""},"",{"$f":"IF(E607=\"\",\"\",IF(lookup!O599<0,0,lookup!O599))","v":""}]
[null,null,null,null,{"$f":"IF(I607=\"\",\"\",IF(B$13<E607+1,\"\",IF(I607=B$14,\"\",lookup!M600)))","v":""},{"$f":"IF(E608=\"\",\"\",lookup!N600)","v":""},{"$f":"IF(E608=\"\",\"\",lookup!O600-lookup!N600)","v":""},"",{"$f":"IF(E608=\"\",\"\",IF(lookup!O600<0,0,lookup!O600))","v":""}]
[null,null,null,null,{"$f":"IF(I608=\"\",\"\",IF(B$13<E608+1,\"\",IF(I608=B$14,\"\",lookup!M601)))","v":""},{"$f":"IF(E609=\"\",\"\",lookup!N601)","v":""},{"$f":"IF(E609=\"\",\"\",lookup!O601-lookup!N601)","v":""},"",{"$f":"IF(E609=\"\",\"\",IF(lookup!O601<0,0,lookup!O601))","v":""}]
[null,null,null,null,{"$f":"IF(I609=\"\",\"\",IF(B$13<E609+1,\"\",IF(I609=B$14,\"\",lookup!M602)))","v":""},{"$f":"IF(E610=\"\",\"\",lookup!N602)","v":""},{"$f":"IF(E610=\"\",\"\",lookup!O602-lookup!N602)","v":""},"",{"$f":"IF(E610=\"\",\"\",IF(lookup!O602<0,0,lookup!O602))","v":""}]

{"sheet":"Annuity Value","index":4,"n_rows":610,"n_cols":9,"rows_kept":610,"cut":false,"hidden":true,"merged":[]}
[]
[]
[]
[]
[]
[]
[]
[]
["Annuity Value",null,null,null,"Period","Present Value","Added Value","Payout","Future Value"]
[null,null,null,null,0,null,null,null,{"$f":"B13","v":1000000}]
["Annuties","Ordinary",null,null,{"$f":"IF(B14=0,\"\",1)","v":1},{"$f":"IF(E11=\"\",\"\",IF(B$11=\"Ordinary\",lookup!D3-G11,lookup!F3))","v":1000000},{"$f":"IF(E11=\"\",\"\",IF(B$11=\"Ordinary\",lookup!D3-lookup!E$1,lookup!F4-lookup!G3))","v":4999.9999999998836},{"$f":"IF(E11=\"\",\"\",lookup!E$2)","v":5264.0479388639606},{"$f":"IF(E11=\"\",\"\",lookup!E3)","v":999735.9520611359}]
["Interest Rate per Period",0.5,null,null,{"$f":"IF(I11=\"\",\"\",IF(B$14<E11+1,\"\",IF(I11=B$15,\"\",lookup!C4)))","v":2},{"$f":"IF(E12=\"\",\"\",IF(B$11=\"Ordinary\",lookup!D4-G12,lookup!F4))","v":999735.9520611359},{"$f":"IF(E12=\"\",\"\",IF(B$11=\"Ordinary\",lookup!D4-lookup!E3,lookup!F5-lookup!G4))","v":4998.6797603055602},{"$f":"IF(E12=\"\",\"\",lookup!E$2)","v":5264.0479388639606},{"$f":"IF(E12=\"\",\"\",lookup!E4)","v":999470.58388257748}]
["Present Value (Principal)",1000000,null,null,{"$f":"IF(I12=\"\",\"\",IF(B$14<E12+1,\"\",IF(I12=B$15,\"\",lookup!C5)))","v":3},{"$f":"IF(E13=\"\",\"\",IF(B$11=\"Ordinary\",lookup!D5-G13,lookup!F5))","v":999470.58388257748},{"$f":"IF(E13=\"\",\"\",IF(B$11=\"Ordinary\",lookup!D5-lookup!E4,lookup!F6-lookup!G5))","v":4997.3529194127768},{"$f":"IF(E13=\"\",\"\",lookup!E$2)","v":5264.0479388639606},{"$f":"IF(E13=\"\",\"\",lookup!E5)","v":999203.88886312628}]
["No of Periods",600,null,null,{"$f":"IF(I13=\"\",\"\",IF(B$14<E13+1,\"\",IF(I13=B$15,\"\",lookup!C6)))","v":4},{"$f":"IF(E14=\"\",\"\",IF(B$11=\"Ordinary\",lookup!D6-G14,lookup!F6))","v":999203.88886312628},{"$f":"IF(E14=\"\",\"\",IF(B$11=\"Ordinary\",lookup!D6-lookup!E5,lookup!F7-lookup!G6))","v":4996.0194443155779},{"$f":"IF(E14=\"\",\"\",lookup!E$2)","v":5264.0479388639606},{"$f":"IF(E14=\"\",\"\",lookup!E6)","v":998935.86036857788}]
["Payment",{"$f":"IF('Annuity Value'!B11=\"Ordinary\",B13*(B12/100)*(1+B12/100)^(B14)/((1+B12/100)^B14-1),B13*(B12/100)*(1+B12/100)^(B14-1)/((1+B12/100)^B14-1))","v":5264.0479388639606},null,null,{"$f":"IF(I14=\"\",\"\",IF(B$14<E14+1,\"\",IF(I14=B$15,\"\",lookup!C7)))","v":5},{"$f":"IF(E15=\"\",\"\",IF(B$11=\"Ordinary\",lookup!D7-G15,lookup!F7))","v":998935.86036857788},{"$f":"IF(E15=\"\",\"\",IF(B$11=\"Ordinary\",lookup!D7-lookup!E6,lookup!F8-lookup!G7))","v":4994.6793018428143},{"$f":"IF(E15=\"\",\"\",lookup!E$2)","v":5264.0479388639606},{"$f":"IF(E15=\"\",\"\",lookup!E7)","v":998666.49173155671}]
[null,null,null,null,{"$f":"IF(I15=\"\",\"\",IF(B$14<E15+1,\"\",IF(I15=B$15,\"\",lookup!C8)))","v":6},{"$f":"IF(E16=\"\",\"\",IF(B$11=\"Ordinary\",lookup!D8-G16,lookup!F8))","v":998666.49173155671},{"$f":"IF(E16=\"\",\"\",IF(B$11=\"Ordinary\",lookup!D8-lookup!E7,lookup!F9-lookup!G8))","v":4993.3324586576782},{"$f":"IF(E16=\"\",\"\",lookup!E$2)","v":5264.0479388639606},{"$f":"IF(E16=\"\",\"\",lookup!E8)","v":998395.77625135041}]
[null,null,null,null,{"$f":"IF(I16=\"\",\"\",IF(B$14<E16+1,\"\",IF(I16=B$15,\"\",lookup!C9)))","v":7},{"$f":"IF(E17=\"\",\"\",IF(B$11=\"Ordinary\",lookup!D9-G17,lookup!F9))","v":998395.77625135041},{"$f":"IF(E17=\"\",\"\",IF(B$11=\"Ordinary\",lookup!D9-lookup!E8,lookup!F10-lookup!G9))","v":4991.9788812566549},{"$f":"IF(E17=\"\",\"\",lookup!E$2)","v":5264.0479388639606},{"$f":"IF(E17=\"\",\"\",lookup!E9)","v":998123.70719374309}]
[null,null,null,null,{"$f":"IF(I17=\"\",\"\",IF(B$14<E17+1,\"\",IF(I17=B$15,\"\",lookup!C10)))","v":8},{"$f":"IF(E18=\"\",\"\",IF(B$11=\"Ordinary\",lookup!D10-G18,lookup!F10))","v":998123.70719374309},{"$f":"IF(E18=\"\",\"\",IF(B$11=\"Ordinary\",lookup!D10-lookup!E9,lookup!F11-lookup!G10))","v":4990.6185359685915},{"$f":"IF(E18=\"\",\"\",lookup!E$2)","v":5264.0479388639606},{"$f":"IF(E18=\"\",\"\",lookup!E10)","v":997850.2777908477}]
[null,null,null,null,{"$f":"IF(I18=\"\",\"\",IF(B$14<E18+1,\"\",IF(I18=B$15,\"\",lookup!C11)))","v":9},{"$f":"IF(E19=\"\",\"\",IF(B$11=\"Ordinary\",lookup!D11-G19,lookup!F11))","v":997850.2777908477},{"$f":"IF(E19=\"\",\"\",IF(B$11=\"Ordinary\",lookup!D11-lookup!E10,lookup!F12-lookup!G11))","v":4989.2513889541151},{"$f":"IF(E19=\"\",\"\",lookup!E$2)","v":5264.0479388639606},{"$f":"IF(E19=\"\",\"\",lookup!E11)","v":997575.48124093784}]
[null,null,null,null,{"$f":"IF(I19=\"\",\"\",IF(B$14<E19+1,\"\",IF(I19=B$15,\"\",lookup!C12)))","v":10},{"$f":"IF(E20=\"\",\"\",IF(B$11=\"Ordinary\",lookup!D12-G20,lookup!F12))","v":997575.48124093784},{"$f":"IF(E20=\"\",\"\",IF(B$11=\"Ordinary\",lookup!D12-lookup!E11,lookup!F13-lookup!G12))","v":4987.877406204585},{"$f":"IF(E20=\"\",\"\",lookup!E$2)","v":5264.0479388639606},{"$f":"IF(E20=\"\",\"\",lookup!E12)","v":997299.31070827844}]
[null,null,null,null,{"$f":"IF(I20=\"\",\"\",IF(B$14<E20+1,\"\",IF(I20=B$15,\"\",lookup!C13)))","v":11},{"$f":"IF(E21=\"\",\"\",IF(B$11=\"Ordinary\",lookup!D13-G21,lookup!F13))","v":997299.31070827844},{"$f":"IF(E21=\"\",\"\",IF(B$11=\"Ordinary\",lookup!D13-lookup!E12,lookup!F14-lookup!G13))","v":4986.4965535412775},{"$f":"IF(E21=\"\",\"\",lookup!E$2)","v":5264.0479388639606},{"$f":"IF(E21=\"\",\"\",lookup!E13)","v":997021.75932295574}]
[null,null,null,null,{"$f":"IF(I21=\"\",\"\",IF(B$14<E21+1,\"\",IF(I21=B$15,\"\",lookup!C14)))","v":12},{"$f":"IF(E22=\"\",\"\",IF(B$11=\"Ordinary\",lookup!D14-G22,lookup!F14))","v":997021.75932295574},{"$f":"IF(E22=\"\",\"\",IF(B$11=\"Ordinary\",lookup!D14-lookup!E13,lookup!F15-lookup!G14))","v":4985.1087966146879},{"$f":"IF(E22=\"\",\"\",lookup!E$2)","v":5264.0479388639606},{"$f":"IF(E22=\"\",\"\",lookup!E14)","v":996742.82018070645}]
[null,null,null,null,{"$f":"IF(I22=\"\",\"\",IF(B$14<E22+1,\"\",IF(I22=B$15,\"\",lookup!C15)))","v":13},{"$f":"IF(E23=\"\",\"\",IF(B$11=\"Ordinary\",lookup!D15-G23,lookup!F15))","v":996742.82018070645},{"$f":"IF(E23=\"\",\"\",IF(B$11=\"Ordinary\",lookup!D15-lookup!E14,lookup!F16-lookup!G15))","v":4983.7141009034822},{"$f":"IF(E23=\"\",\"\",lookup!E$2)","v":5264.0479388639606},{"$f":"IF(E23=\"\",\"\",lookup!E15)","v":996462.48634274595}]
[null,null,null,null,{"$f":"IF(I23=\"\",\"\",IF(B$14<E23+1,\"\",IF(I23=B$15,\"\",lookup!C16)))","v":14},{"$f":"IF(E24=\"\",\"\",IF(B$11=\"Ordinary\",lookup!D16-G24,lookup!F16))","v":996462.48634274595},{"$f":"IF(E24=\"\",\"\",IF(B$11=\"Ordinary\",lookup!D16-lookup!E15,lookup!F17-lookup!G16))","v":4982.3124317135662},{"$f":"IF(E24=\"\",\"\",lookup!E$2)","v":5264.0479388639606},{"$f":"IF(E24=\"\",\"\",lookup!E16)","v":996180.75083559554}]
[null,null,null,null,{"$f":"IF(I24=\"\",\"\",IF(B$14<E24+1,\"\",IF(I24=B$15,\"\",lookup!C17)))","v":15},{"$f":"IF(E25=\"\",\"\",IF(B$11=\"Ordinary\",lookup!D17-G25,lookup!F17))","v":996180.75083559554},{"$f":"IF(E25=\"\",\"\",IF(B$11=\"Ordinary\",lookup!D17-lookup!E16,lookup!F18-lookup!G17))","v":4980.9037541778525},{"$f":"IF(E25=\"\",\"\",lookup!E$2)","v":5264.0479388639606},{"$f":"IF(E25=\"\",\"\",lookup!E17)","v":995897.60665090941}]
[null,null,null,null,{"$f":"IF(I25=\"\",\"\",IF(B$14<E25+1,\"\",IF(I25=B$15,\"\",lookup!C18)))","v":16},{"$f":"IF(E26=\"\",\"\",IF(B$11=\"Ordinary\",lookup!D18-G26,lookup!F18))","v":995897.60665090941},{"$f":"IF(E26=\"\",\"\",IF(B$11=\"Ordinary\",lookup!D18-lookup!E17,lookup!F19-lookup!G18))","v":4979.488033254398},{"$f":"IF(E26=\"\",\"\",lookup!E$2)","v":5264.0479388639606},{"$f":"IF(E26=\"\",\"\",lookup!E18)","v":995613.04674529983}]
[null,null,null,null,{"$f":"IF(I26=\"\",\"\",IF(B$14<E26+1,\"\",IF(I26=B$15,\"\",lookup!C19)))","v":17},{"$f":"IF(E27=\"\",\"\",IF(B$11=\"Ordinary\",lookup!D19-G27,lookup!F19))","v":995613.04674529983},{"$f":"IF(E27=\"\",\"\",IF(B$11=\"Ordinary\",lookup!D19-lookup!E18,lookup!F20-lookup!G19))","v":4978.0652337264037},{"$f":"IF(E27=\"\",\"\",lookup!E$2)","v":5264.0479388639606},{"$f":"IF(E27=\"\",\"\",lookup!E19)","v":995327.06404016225}]
[null,null,null,null,{"$f":"IF(I27=\"\",\"\",IF(B$14<E27+1,\"\",IF(I27=B$15,\"\",lookup!C20)))","v":18},{"$f":"IF(E28=\"\",\"\",IF(B$11=\"Ordinary\",lookup!D20-G28,lookup!F20))","v":995327.06404016225},{"$f":"IF(E28=\"\",\"\",IF(B$11=\"Ordinary\",lookup!D20-lookup!E19,lookup!F21-lookup!G20))","v":4976.6353202007012},{"$f":"IF(E28=\"\",\"\",lookup!E$2)","v":5264.0479388639606},{"$f":"IF(E28=\"\",\"\",lookup!E20)","v":995039.65142149897}]
[null,null,null,null,{"$f":"IF(I28=\"\",\"\",IF(B$14<E28+1,\"\",IF(I28=B$15,\"\",lookup!C21)))","v":19},{"$f":"IF(E29=\"\",\"\",IF(B$11=\"Ordinary\",lookup!D21-G29,lookup!F21))","v":995039.65142149897},{"$f":"IF(E29=\"\",\"\",IF(B$11=\"Ordinary\",lookup!D21-lookup!E20,lookup!F22-lookup!G21))","v":4975.1982571074041},{"$f":"IF(E29=\"\",\"\",lookup!E$2)","v":5264.0479388639606},{"$f":"IF(E29=\"\",\"\",lookup!E21)","v":994750.8017397424}]
[null,null,null,null,{"$f":"IF(I29=\"\",\"\",IF(B$14<E29+1,\"\",IF(I29=B$15,\"\",lookup!C22)))","v":20},{"$f":"IF(E30=\"\",\"\",IF(B$11=\"Ordinary\",lookup!D22-G30,lookup!F22))","v":994750.8017397424},{"$f":"IF(E30=\"\",\"\",IF(B$11=\"Ordinary\",lookup!D22-lookup!E21,lookup!F23-lookup!G22))","v":4973.7540086986264},{"$f":"IF(E30=\"\",\"\",lookup!E$2)","v":5264.0479388639606},{"$f":"IF(E30=\"\",\"\",lookup!E22)","v":994460.50780957704}]
[null,null,null,null,{"$f":"IF(I30=\"\",\"\",IF(B$14<E30+1,\"\",IF(I30=B$15,\"\",lookup!C23)))","v":21},{"$f":"IF(E31=\"\",\"\",IF(B$11=\"Ordinary\",lookup!D23-G31,lookup!F23))","v":994460.50780957704},{"$f":"IF(E31=\"\",\"\",IF(B$11=\"Ordinary\",lookup!D23-lookup!E22,lookup!F24-lookup!G23))","v":4972.3025390477851},{"$f":"IF(E31=\"\",\"\",lookup!E$2)","v":5264.0479388639606},{"$f":"IF(E31=\"\",\"\",lookup!E23)","v":994168.76240976085}]
[null,null,null,null,{"$f":"IF(I31=\"\",\"\",IF(B$14<E31+1,\"\",IF(I31=B$15,\"\",lookup!C24)))","v":22},{"$f":"IF(E32=\"\",\"\",IF(B$11=\"Ordinary\",lookup!D24-G32,lookup!F24))","v":994168.76240976085},{"$f":"IF(E32=\"\",\"\",IF(B$11=\"Ordinary\",lookup!D24-lookup!E23,lookup!F25-lookup!G24))","v":4970.843812048668},{"$f":"IF(E32=\"\",\"\",lookup!E$2)","v":5264.0479388639606},{"$f":"IF(E32=\"\",\"\",lookup!E24)","v":993875.55828294554}]
[null,null,null,null,{"$f":"IF(I32=\"\",\"\",IF(B$14<E32+1,\"\",IF(I32=B$15,\"\",lookup!C25)))","v":23},{"$f":"IF(E33=\"\",\"\",IF(B$11=\"Ordinary\",lookup!D25-G33,lookup!F25))","v":993875.55828294554},{"$f":"IF(E33=\"\",\"\",IF(B$11=\"Ordinary\",lookup!D25-lookup!E24,lookup!F26-lookup!G25))","v":4969.3777914146194},{"$f":"IF(E33=\"\",\"\",lookup!E$2)","v":5264.0479388639606},{"$f":"IF(E33=\"\",\"\",lookup!E25)","v":993580.88813549618}]
[null,null,null,null,{"$f":"IF(I33=\"\",\"\",IF(B$14<E33+1,\"\",IF(I33=B$15,\"\",lookup!C26)))","v":24},{"$f":"IF(E34=\"\",\"\",IF(B$11=\"Ordinary\",lookup!D26-G34,lookup!F26))","v":993580.88813549618},{"$f":"IF(E34=\"\",\"\",IF(B$11=\"Ordinary\",lookup!D26-lookup!E25,lookup!F27-lookup!G26))","v":4967.9044406773755},{"$f":"IF(E34=\"\",\"\",lookup!E$2)","v":5264.0479388639606},{"$f":"IF(E34=\"\",\"\",lookup!E26)","v":993284.74463730957}]
[null,null,null,null,{"$f":"IF(I34=\"\",\"\",IF(B$14<E34+1,\"\",IF(I34=B$15,\"\",lookup!C27)))","v":25},{"$f":"IF(E35=\"\",\"\",IF(B$11=\"Ordinary\",lookup!D27-G35,lookup!F27))","v":993284.74463730957},{"$f":"IF(E35=\"\",\"\",IF(B$11=\"Ordinary\",lookup!D27-lookup!E26,lookup!F28-lookup!G27))","v":4966.4237231864827},{"$f":"IF(E35=\"\",\"\",lookup!E$2)","v":5264.0479388639606},{"$f":"IF(E35=\"\",\"\",lookup!E27)","v":992987.12042163208}]
[null,null,null,null,{"$f":"IF(I35=\"\",\"\",IF(B$14<E35+1,\"\",IF(I35=B$15,\"\",lookup!C28)))","v":26},{"$f":"IF(E36=\"\",\"\",IF(B$11=\"Ordinary\",lookup!D28-G36,lookup!F28))","v":992987.12042163208},{"$f":"IF(E36=\"\",\"\",IF(B$11=\"Ordinary\",lookup!D28-lookup!E27,lookup!F29-lookup!G28))","v":4964.9356021080166},{"$f":"IF(E36=\"\",\"\",lookup!E$2)","v":5264.0479388639606},{"$f":"IF(E36=\"\",\"\",lookup!E28)","v":992688.00808487611}]
[null,null,null,null,{"$f":"IF(I36=\"\",\"\",IF(B$14<E36+1,\"\",IF(I36=B$15,\"\",lookup!C29)))","v":27},{"$f":"IF(E37=\"\",\"\",IF(B$11=\"Ordinary\",lookup!D29-G37,lookup!F29))","v":992688.00808487611},{"$f":"IF(E37=\"\",\"\",IF(B$11=\"Ordinary\",lookup!D29-lookup!E28,lookup!F30-lookup!G29))","v":4963.4400404242333},{"$f":"IF(E37=\"\",\"\",lookup!E$2)","v":5264.0479388639606},{"$f":"IF(E37=\"\",\"\",lookup!E29)","v":992387.40018643637}]
[null,null,null,null,{"$f":"IF(I37=\"\",\"\",IF(B$14<E37+1,\"\",IF(I37=B$15,\"\",lookup!C30)))","v":28},{"$f":"IF(E38=\"\",\"\",IF(B$11=\"Ordinary\",lookup!D30-G38,lookup!F30))","v":992387.40018643637},{"$f":"IF(E38=\"\",\"\",IF(B$11=\"Ordinary\",lookup!D30-lookup!E29,lookup!F31-lookup!G30))","v":4961.9370009320555},{"$f":"IF(E38=\"\",\"\",lookup!E$2)","v":5264.0479388639606},{"$f":"IF(E38=\"\",\"\",lookup!E30)","v":992085.28924850444}]
[null,null,null,null,{"$f":"IF(I38=\"\",\"\",IF(B$14<E38+1,\"\",IF(I38=B$15,\"\",lookup!C31)))","v":29},{"$f":"IF(E39=\"\",\"\",IF(B$11=\"Ordinary\",lookup!D31-G39,lookup!F31))","v":992085.28924850444},{"$f":"IF(E39=\"\",\"\",IF(B$11=\"Ordinary\",lookup!D31-lookup!E30,lookup!F32-lookup!G31))","v":4960.4264462423744},{"$f":"IF(E39=\"\",\"\",lookup!E$2)","v":5264.0479388639606},{"$f":"IF(E39=\"\",\"\",lookup!E31)","v":991781.66775588284}]
[null,null,null,null,{"$f":"IF(I39=\"\",\"\",IF(B$14<E39+1,\"\",IF(I39=B$15,\"\",lookup!C32)))","v":30},{"$f":"IF(E40=\"\",\"\",IF(B$11=\"Ordinary\",lookup!D32-G40,lookup!F32))","v":991781.66775588284},{"$f":"IF(E40=\"\",\"\",IF(B$11=\"Ordinary\",lookup!D32-lookup!E31,lookup!F33-lookup!G32))","v":4958.9083387793507},{"$f":"IF(E40=\"\",\"\",lookup!E$2)","v":5264.0479388639606},{"$f":"IF(E40=\"\",\"\",lookup!E32)","v":991476.52815579821}]
[null,null,null,null,{"$f":"IF(I40=\"\",\"\",IF(B$14<E40+1,\"\",IF(I40=B$15,\"\",lookup!C33)))","v":31},{"$f":"IF(E41=\"\",\"\",IF(B$11=\"Ordinary\",lookup!D33-G41,lookup!F33))","v":991476.52815579821},{"$f":"IF(E41=\"\",\"\",IF(B$11=\"Ordinary\",lookup!D33-lookup!E32,lookup!F34-lookup!G33))","v":4957.382640778902},{"$f":"IF(E41=\"\",\"\",lookup!E$2)","v":5264.0479388639606},{"$f":"IF(E41=\"\",\"\",lookup!E33)","v":991169.86285771313}]
[null,null,null,null,{"$f":"IF(I41=\"\",\"\",IF(B$14<E41+1,\"\",IF(I41=B$15,\"\",lookup!C34)))","v":32},{"$f":"IF(E42=\"\",\"\",IF(B$11=\"Ordinary\",lookup!D34-G42,lookup!F34))","v":991169.86285771313},{"$f":"IF(E42=\"\",\"\",IF(B$11=\"Ordinary\",lookup!D34-lookup!E33,lookup!F35-lookup!G34))","v":4955.849314288469},{"$f":"IF(E42=\"\",\"\",lookup!E$2)","v":5264.0479388639606},{"$f":"IF(E42=\"\",\"\",lookup!E34)","v":990861.66423313762}]
[null,null,null,null,{"$f":"IF(I42=\"\",\"\",IF(B$14<E42+1,\"\",IF(I42=B$15,\"\",lookup!C35)))","v":33},{"$f":"IF(E43=\"\",\"\",IF(B$11=\"Ordinary\",lookup!D35-G43,lookup!F35))","v":990861.66423313762},{"$f":"IF(E43=\"\",\"\",IF(B$11=\"Ordinary\",lookup!D35-lookup!E34,lookup!F36-lookup!G35))","v":4954.3083211656194},{"$f":"IF(E43=\"\",\"\",lookup!E$2)","v":5264.0479388639606},{"$f":"IF(E43=\"\",\"\",lookup!E35)","v":990551.92461543926}]
[null,null,null,null,{"$f":"IF(I43=\"\",\"\",IF(B$14<E43+1,\"\",IF(I43=B$15,\"\",lookup!C36)))","v":34},{"$f":"IF(E44=\"\",\"\",IF(B$11=\"Ordinary\",lookup!D36-G44,lookup!F36))","v":990551.92461543926},{"$f":"IF(E44=\"\",\"\",IF(B$11=\"Ordinary\",lookup!D36-lookup!E35,lookup!F37-lookup!G36))","v":4952.759623077116},{"$f":"IF(E44=\"\",\"\",lookup!E$2)","v":5264.0479388639606},{"$f":"IF(E44=\"\",\"\",lookup!E36)","v":990240.6362996524}]
[null,null,null,null,{"$f":"IF(I44=\"\",\"\",IF(B$14<E44+1,\"\",IF(I44=B$15,\"\",lookup!C37)))","v":35},{"$f":"IF(E45=\"\",\"\",IF(B$11=\"Ordinary\",lookup!D37-G45,lookup!F37))","v":990240.6362996524},{"$f":"IF(E45=\"\",\"\",IF(B$11=\"Ordinary\",lookup!D37-lookup!E36,lookup!F38-lookup!G37))","v":4951.2031814981019},{"$f":"IF(E45=\"\",\"\",lookup!E$2)","v":5264.0479388639606},{"$f":"IF(E45=\"\",\"\",lookup!E37)","v":989927.79154228652}]
[null,null,null,null,{"$f":"IF(I45=\"\",\"\",IF(B$14<E45+1,\"\",IF(I45=B$15,\"\",lookup!C38)))","v":36},{"$f":"IF(E46=\"\",\"\",IF(B$11=\"Ordinary\",lookup!D38-G46,lookup!F38))","v":989927.79154228652},{"$f":"IF(E46=\"\",\"\",IF(B$11=\"Ordinary\",lookup!D38-lookup!E37,lookup!F39-lookup!G38))","v":4949.6389577112859},{"$f":"IF(E46=\"\",\"\",lookup!E$2)","v":5264.0479388639606},{"$f":"IF(E46=\"\",\"\",lookup!E38)","v":989613.38256113383}]
[null,null,null,null,{"$f":"IF(I46=\"\",\"\",IF(B$14<E46+1,\"\",IF(I46=B$15,\"\",lookup!C39)))","v":37},{"$f":"IF(E47=\"\",\"\",IF(B$11=\"Ordinary\",lookup!D39-G47,lookup!F39))","v":989613.38256113383},{"$f":"IF(E47=\"\",\"\",IF(B$11=\"Ordinary\",lookup!D39-lookup!E38,lookup!F40-lookup!G39))","v":4948.0669128055451},{"$f":"IF(E47=\"\",\"\",lookup!E$2)","v":5264.0479388639606},{"$f":"IF(E47=\"\",\"\",lookup!E39)","v":989297.40153507539}]
[null,null,null,null,{"$f":"IF(I47=\"\",\"\",IF(B$14<E47+1,\"\",IF(I47=B$15,\"\",lookup!C40)))","v":38},{"$f":"IF(E48=\"\",\"\",IF(B$11=\"Ordinary\",lookup!D40-G48,lookup!F40))","v":989297.40153507539},{"$f":"IF(E48=\"\",\"\",IF(B$11=\"Ordinary\",lookup!D40-lookup!E39,lookup!F41-lookup!G40))","v":4946.4870076752268},{"$f":"IF(E48=\"\",\"\",lookup!E$2)","v":5264.0479388639606},{"$f":"IF(E48=\"\",\"\",lookup!E40)","v":988979.84060388664}]
[null,null,null,null,{"$f":"IF(I48=\"\",\"\",IF(B$14<E48+1,\"\",IF(I48=B$15,\"\",lookup!C41)))","v":39},{"$f":"IF(E49=\"\",\"\",IF(B$11=\"Ordinary\",lookup!D41-G49,lookup!F41))","v":988979.84060388664},{"$f":"IF(E49=\"\",\"\",IF(B$11=\"Ordinary\",lookup!D41-lookup!E40,lookup!F42-lookup!G41))","v":4944.8992030193331},{"$f":"IF(E49=\"\",\"\",lookup!E$2)","v":5264.0479388639606},{"$f":"IF(E49=\"\",\"\",lookup!E41)","v":988660.69186804199}]
[null,null,null,null,{"$f":"IF(I49=\"\",\"\",IF(B$14<E49+1,\"\",IF(I49=B$15,\"\",lookup!C42)))","v":40},{"$f":"IF(E50=\"\",\"\",IF(B$11=\"Ordinary\",lookup!D42-G50,lookup!F42))","v":988660.69186804199},{"$f":"IF(E50=\"\",\"\",IF(B$11=\"Ordinary\",lookup!D42-lookup!E41,lookup!F43-lookup!G42))","v":4943.3034593401244},{"$f":"IF(E50=\"\",\"\",lookup!E$2)","v":5264.0479388639606},{"$f":"IF(E50=\"\",\"\",lookup!E42)","v":988339.94738851814}]
[null,null,null,null,{"$f":"IF(I50=\"\",\"\",IF(B$14<E50+1,\"\",IF(I50=B$15,\"\",lookup!C43)))","v":41},{"$f":"IF(E51=\"\",\"\",IF(B$11=\"Ordinary\",lookup!D43-G51,lookup!F43))","v":988339.94738851814},{"$f":"IF(E51=\"\",\"\",IF(B$11=\"Ordinary\",lookup!D43-lookup!E42,lookup!F44-lookup!G43))","v":4941.6997369425371},{"$f":"IF(E51=\"\",\"\",lookup!E$2)","v":5264.0479388639606},{"$f":"IF(E51=\"\",\"\",lookup!E43)","v":988017.59918659669}]
[null,null,null,null,{"$f":"IF(I51=\"\",\"\",IF(B$14<E51+1,\"\",IF(I51=B$15,\"\",lookup!C44)))","v":42},{"$f":"IF(E52=\"\",\"\",IF(B$11=\"Ordinary\",lookup!D44-G52,lookup!F44))","v":988017.59918659669},{"$f":"IF(E52=\"\",\"\",IF(B$11=\"Ordinary\",lookup!D44-lookup!E43,lookup!F45-lookup!G44))","v":4940.0879959329031},{"$f":"IF(E52=\"\",\"\",lookup!E$2)","v":5264.0479388639606},{"$f":"IF(E52=\"\",\"\",lookup!E44)","v":987693.63924366562}]
[null,null,null,null,{"$f":"IF(I52=\"\",\"\",IF(B$14<E52+1,\"\",IF(I52=B$15,\"\",lookup!C45)))","v":43},{"$f":"IF(E53=\"\",\"\",IF(B$11=\"Ordinary\",lookup!D45-G53,lookup!F45))","v":987693.63924366562},{"$f":"IF(E53=\"\",\"\",IF(B$11=\"Ordinary\",lookup!D45-lookup!E44,lookup!F46-lookup!G45))","v":4938.4681962182513},{"$f":"IF(E53=\"\",\"\",lookup!E$2)","v":5264.0479388639606},{"$f":"IF(E53=\"\",\"\",lookup!E45)","v":987368.05950101989}]
[null,null,null,null,{"$f":"IF(I53=\"\",\"\",IF(B$14<E53+1,\"\",IF(I53=B$15,\"\",lookup!C46)))","v":44},{"$f":"IF(E54=\"\",\"\",IF(B$11=\"Ordinary\",lookup!D46-G54,lookup!F46))","v":987368.05950101989},{"$f":"IF(E54=\"\",\"\",IF(B$11=\"Ordinary\",lookup!D46-lookup!E45,lookup!F47-lookup!G46))","v":4936.8402975050267},{"$f":"IF(E54=\"\",\"\",lookup!E$2)","v":5264.0479388639606},{"$f":"IF(E54=\"\",\"\",lookup!E46)","v":987040.85185966094}]
[null,null,null,null,{"$f":"IF(I54=\"\",\"\",IF(B$14<E54+1,\"\",IF(I54=B$15,\"\",lookup!C47)))","v":45},{"$f":"IF(E55=\"\",\"\",IF(B$11=\"Ordinary\",lookup!D47-G55,lookup!F47))","v":987040.85185966094},{"$f":"IF(E55=\"\",\"\",IF(B$11=\"Ordinary\",lookup!D47-lookup!E46,lookup!F48-lookup!G47))","v":4935.2042592981597},{"$f":"IF(E55=\"\",\"\",lookup!E$2)","v":5264.0479388639606},{"$f":"IF(E55=\"\",\"\",lookup!E47)","v":986712.00818009512}]
[null,null,null,null,{"$f":"IF(I55=\"\",\"\",IF(B$14<E55+1,\"\",IF(I55=B$15,\"\",lookup!C48)))","v":46},{"$f":"IF(E56=\"\",\"\",IF(B$11=\"Ordinary\",lookup!D48-G56,lookup!F48))","v":986712.00818009512},{"$f":"IF(E56=\"\",\"\",IF(B$11=\"Ordinary\",lookup!D48-lookup!E47,lookup!F49-lookup!G48))","v":4933.5600409003673},{"$f":"IF(E56=\"\",\"\",lookup!E$2)","v":5264.0479388639606},{"$f":"IF(E56=\"\",\"\",lookup!E48)","v":986381.5202821315}]
[null,null,null,null,{"$f":"IF(I56=\"\",\"\",IF(B$14<E56+1,\"\",IF(I56=B$15,\"\",lookup!C49)))","v":47},{"$f":"IF(E57=\"\",\"\",IF(B$11=\"Ordinary\",lookup!D49-G57,lookup!F49))","v":986381.5202821315},{"$f":"IF(E57=\"\",\"\",IF(B$11=\"Ordinary\",lookup!D49-lookup!E48,lookup!F50-lookup!G49))","v":4931.9076014105231},{"$f":"IF(E57=\"\",\"\",lookup!E$2)","v":5264.0479388639606},{"$f":"IF(E57=\"\",\"\",lookup!E49)","v":986049.37994467805}]
[null,null,null,null,{"$f":"IF(I57=\"\",\"\",IF(B$14<E57+1,\"\",IF(I57=B$15,\"\",lookup!C50)))","v":48},{"$f":"IF(E58=\"\",\"\",IF(B$11=\"Ordinary\",lookup!D50-G58,lookup!F50))","v":986049.37994467805},{"$f":"IF(E58=\"\",\"\",IF(B$11=\"Ordinary\",lookup!D50-lookup!E49,lookup!F51-lookup!G50))","v":4930.2468997233082},{"$f":"IF(E58=\"\",\"\",lookup!E$2)","v":5264.0479388639606},{"$f":"IF(E58=\"\",\"\",lookup!E50)","v":985715.57890553738}]
[null,null,null,null,{"$f":"IF(I58=\"\",\"\",IF(B$14<E58+1,\"\",IF(I58=B$15,\"\",lookup!C51)))","v":49},{"$f":"IF(E59=\"\",\"\",IF(B$11=\"Ordinary\",lookup!D51-G59,lookup!F51))","v":985715.57890553738},{"$f":"IF(E59=\"\",\"\",IF(B$11=\"Ordinary\",lookup!D51-lookup!E50,lookup!F52-lookup!G51))","v":4928.5778945275815},{"$f":"IF(E59=\"\",\"\",lookup!E$2)","v":5264.0479388639606},{"$f":"IF(E59=\"\",\"\",lookup!E51)","v":985380.10886120098}]
[null,null,null,null,{"$f":"IF(I59=\"\",\"\",IF(B$14<E59+1,\"\",IF(I59=B$15,\"\",lookup!C52)))","v":50},{"$f":"IF(E60=\"\",\"\",IF(B$11=\"Ordinary\",lookup!D52-G60,lookup!F52))","v":985380.10886120098},{"$f":"IF(E60=\"\",\"\",IF(B$11=\"Ordinary\",lookup!D52-lookup!E51,lookup!F53-lookup!G52))","v":4926.9005443059141},{"$f":"IF(E60=\"\",\"\",lookup!E$2)","v":5264.0479388639606},{"$f":"IF(E60=\"\",\"\",lookup!E52)","v":985042.96146664291}]
[null,null,null,null,{"$f":"IF(I60=\"\",\"\",IF(B$14<E60+1,\"\",IF(I60=B$15,\"\",lookup!C53)))","v":51},{"$f":"IF(E61=\"\",\"\",IF(B$11=\"Ordinary\",lookup!D53-G61,lookup!F53))","v":985042.96146664291},{"$f":"IF(E61=\"\",\"\",IF(B$11=\"Ordinary\",lookup!D53-lookup!E52,lookup!F54-lookup!G53))","v":4925.2148073330754},{"$f":"IF(E61=\"\",\"\",lookup!E$2)","v":5264.0479388639606},{"$f":"IF(E61=\"\",\"\",lookup!E53)","v":984704.12833511201}]
[null,null,null,null,{"$f":"IF(I61=\"\",\"\",IF(B$14<E61+1,\"\",IF(I61=B$15,\"\",lookup!C54)))","v":52},{"$f":"IF(E62=\"\",\"\",IF(B$11=\"Ordinary\",lookup!D54-G62,lookup!F54))","v":984704.12833511201},{"$f":"IF(E62=\"\",\"\",IF(B$11=\"Ordinary\",lookup!D54-lookup!E53,lookup!F55-lookup!G54))","v":4923.5206416754518},{"$f":"IF(E62=\"\",\"\",lookup!E$2)","v":5264.0479388639606},{"$f":"IF(E62=\"\",\"\",lookup!E54)","v":984363.60103792348}]
[null,null,null,null,{"$f":"IF(I62=\"\",\"\",IF(B$14<E62+1,\"\",IF(I62=B$15,\"\",lookup!C55)))","v":53},{"$f":"IF(E63=\"\",\"\",IF(B$11=\"Ordinary\",lookup!D55-G63,lookup!F55))","v":984363.60103792348},{"$f":"IF(E63=\"\",\"\",IF(B$11=\"Ordinary\",lookup!D55-lookup!E54,lookup!F56-lookup!G55))","v":4921.8180051895324},{"$f":"IF(E63=\"\",\"\",lookup!E$2)","v":5264.0479388639606},{"$f":"IF(E63=\"\",\"\",lookup!E55)","v":984021.37110424903}]
[null,null,null,null,{"$f":"IF(I63=\"\",\"\",IF(B$14<E63+1,\"\",IF(I63=B$15,\"\",lookup!C56)))","v":54},{"$f":"IF(E64=\"\",\"\",IF(B$11=\"Ordinary\",lookup!D56-G64,lookup!F56))","v":984021.37110424903},{"$f":"IF(E64=\"\",\"\",IF(B$11=\"Ordinary\",lookup!D56-lookup!E55,lookup!F57-lookup!G56))","v":4920.106855521095},{"$f":"IF(E64=\"\",\"\",lookup!E$2)","v":5264.0479388639606},{"$f":"IF(E64=\"\",\"\",lookup!E56)","v":983677.43002090615}]
[null,null,null,null,{"$f":"IF(I64=\"\",\"\",IF(B$14<E64+1,\"\",IF(I64=B$15,\"\",lookup!C57)))","v":55},{"$f":"IF(E65=\"\",\"\",IF(B$11=\"Ordinary\",lookup!D57-G65,lookup!F57))","v":983677.43002090615},{"$f":"IF(E65=\"\",\"\",IF(B$11=\"Ordinary\",lookup!D57-lookup!E56,lookup!F58-lookup!G57))","v":4918.3871501043905},{"$f":"IF(E65=\"\",\"\",lookup!E$2)","v":5264.0479388639606},{"$f":"IF(E65=\"\",\"\",lookup!E57)","v":983331.76923214656}]
[null,null,null,null,{"$f":"IF(I65=\"\",\"\",IF(B$14<E65+1,\"\",IF(I65=B$15,\"\",lookup!C58)))","v":56},{"$f":"IF(E66=\"\",\"\",IF(B$11=\"Ordinary\",lookup!D58-G66,lookup!F58))","v":983331.76923214656},{"$f":"IF(E66=\"\",\"\",IF(B$11=\"Ordinary\",lookup!D58-lookup!E57,lookup!F59-lookup!G58))","v":4916.6588461606298},{"$f":"IF(E66=\"\",\"\",lookup!E$2)","v":5264.0479388639606},{"$f":"IF(E66=\"\",\"\",lookup!E58)","v":982984.38013944321}]
[null,null,null,null,{"$f":"IF(I66=\"\",\"\",IF(B$14<E66+1,\"\",IF(I66=B$15,\"\",lookup!C59)))","v":57},{"$f":"IF(E67=\"\",\"\",IF(B$11=\"Ordinary\",lookup!D59-G67,lookup!F59))","v":982984.38013944321},{"$f":"IF(E67=\"\",\"\",IF(B$11=\"Ordinary\",lookup!D59-lookup!E58,lookup!F60-lookup!G59))","v":4914.9219006971689},{"$f":"IF(E67=\"\",\"\",lookup!E$2)","v":5264.0479388639606},{"$f":"IF(E67=\"\",\"\",lookup!E59)","v":982635.2541012764}]
[null,null,null,null,{"$f":"IF(I67=\"\",\"\",IF(B$14<E67+1,\"\",IF(I67=B$15,\"\",lookup!C60)))","v":58},{"$f":"IF(E68=\"\",\"\",IF(B$11=\"Ordinary\",lookup!D60-G68,lookup!F60))","v":982635.2541012764},{"$f":"IF(E68=\"\",\"\",IF(B$11=\"Ordinary\",lookup!D60-lookup!E59,lookup!F61-lookup!G60))","v":4913.1762705062283},{"$f":"IF(E68=\"\",\"\",lookup!E$2)","v":5264.0479388639606},{"$f":"IF(E68=\"\",\"\",lookup!E60)","v":982284.38243291865}]
[null,null,null,null,{"$f":"IF(I68=\"\",\"\",IF(B$14<E68+1,\"\",IF(I68=B$15,\"\",lookup!C61)))","v":59},{"$f":"IF(E69=\"\",\"\",IF(B$11=\"Ordinary\",lookup!D61-G69,lookup!F61))","v":982284.38243291865},{"$f":"IF(E69=\"\",\"\",IF(B$11=\"Ordinary\",lookup!D61-lookup!E60,lookup!F62-lookup!G61))","v":4911.4219121645438},{"$f":"IF(E69=\"\",\"\",lookup!E$2)","v":5264.0479388639606},{"$f":"IF(E69=\"\",\"\",lookup!E61)","v":981931.75640621921}]
[null,null,null,null,{"$f":"IF(I69=\"\",\"\",IF(B$14<E69+1,\"\",IF(I69=B$15,\"\",lookup!C62)))","v":60},{"$f":"IF(E70=\"\",\"\",IF(B$11=\"Ordinary\",lookup!D62-G70,lookup!F62))","v":981931.75640621921},{"$f":"IF(E70=\"\",\"\",IF(B$11=\"Ordinary\",lookup!D62-lookup!E61,lookup!F63-lookup!G62))","v":4909.6587820310378},{"$f":"IF(E70=\"\",\"\",lookup!E$2)","v":5264.0479388639606},{"$f":"IF(E70=\"\",\"\",lookup!E62)","v":981577.36724938627}]
[null,null,null,null,{"$f":"IF(I70=\"\",\"\",IF(B$14<E70+1,\"\",IF(I70=B$15,\"\",lookup!C63)))","v":61},{"$f":"IF(E71=\"\",\"\",IF(B$11=\"Ordinary\",lookup!D63-G71,lookup!F63))","v":981577.36724938627},{"$f":"IF(E71=\"\",\"\",IF(B$11=\"Ordinary\",lookup!D63-lookup!E62,lookup!F64-lookup!G63))","v":4907.8868362468202},{"$f":"IF(E71=\"\",\"\",lookup!E$2)","v":5264.0479388639606},{"$f":"IF(E71=\"\",\"\",lookup!E63)","v":981221.20614676911}]
[null,null,null,null,{"$f":"IF(I71=\"\",\"\",IF(B$14<E71+1,\"\",IF(I71=B$15,\"\",lookup!C64)))","v":62},{"$f":"IF(E72=\"\",\"\",IF(B$11=\"Ordinary\",lookup!D64-G72,lookup!F64))","v":981221.20614676911},{"$f":"IF(E72=\"\",\"\",IF(B$11=\"Ordinary\",lookup!D64-lookup!E63,lookup!F65-lookup!G64))","v":4906.1060307337902},{"$f":"IF(E72=\"\",\"\",lookup!E$2)","v":5264.0479388639606},{"$f":"IF(E72=\"\",\"\",lookup!E64)","v":980863.26423863892}]
[null,null,null,null,{"$f":"IF(I72=\"\",\"\",IF(B$14<E72+1,\"\",IF(I72=B$15,\"\",lookup!C65)))","v":63},{"$f":"IF(E73=\"\",\"\",IF(B$11=\"Ordinary\",lookup!D65-G73,lookup!F65))","v":980863.26423863892},{"$f":"IF(E73=\"\",\"\",IF(B$11=\"Ordinary\",lookup!D65-lookup!E64,lookup!F66-lookup!G65))","v":4904.3163211931242},{"$f":"IF(E73=\"\",\"\",lookup!E$2)","v":5264.0479388639606},{"$f":"IF(E73=\"\",\"\",lookup!E65)","v":980503.53262096806}]
[null,null,null,null,{"$f":"IF(I73=\"\",\"\",IF(B$14<E73+1,\"\",IF(I73=B$15,\"\",lookup!C66)))","v":64},{"$f":"IF(E74=\"\",\"\",IF(B$11=\"Ordinary\",lookup!D66-G74,lookup!F66))","v":980503.53262096806},{"$f":"IF(E74=\"\",\"\",IF(B$11=\"Ordinary\",lookup!D66-lookup!E65,lookup!F67-lookup!G66))","v":4902.5176631046925},{"$f":"IF(E74=\"\",\"\",lookup!E$2)","v":5264.0479388639606},{"$f":"IF(E74=\"\",\"\",lookup!E66)","v":980142.00234520878}]
[null,null,null,null,{"$f":"IF(I74=\"\",\"\",IF(B$14<E74+1,\"\",IF(I74=B$15,\"\",lookup!C67)))","v":65},{"$f":"IF(E75=\"\",\"\",IF(B$11=\"Ordinary\",lookup!D67-G75,lookup!F67))","v":980142.00234520878},{"$f":"IF(E75=\"\",\"\",IF(B$11=\"Ordinary\",lookup!D67-lookup!E66,lookup!F68-lookup!G67))","v":4900.710011725896},{"$f":"IF(E75=\"\",\"\",lookup!E$2)","v":5264.0479388639606},{"$f":"IF(E75=\"\",\"\",lookup!E67)","v":979778.66441807069}]
[null,null,null,null,{"$f":"IF(I75=\"\",\"\",IF(B$14<E75+1,\"\",IF(I75=B$15,\"\",lookup!C68)))","v":66},{"$f":"IF(E76=\"\",\"\",IF(B$11=\"Ordinary\",lookup!D68-G76,lookup!F68))","v":979778.66441807069},{"$f":"IF(E76=\"\",\"\",IF(B$11=\"Ordinary\",lookup!D68-lookup!E67,lookup!F69-lookup!G68))","v":4898.8933220902691},{"$f":"IF(E76=\"\",\"\",lookup!E$2)","v":5264.0479388639606},{"$f":"IF(E76=\"\",\"\",lookup!E68)","v":979413.50980129698}]
[null,null,null,null,{"$f":"IF(I76=\"\",\"\",IF(B$14<E76+1,\"\",IF(I76=B$15,\"\",lookup!C69)))","v":67},{"$f":"IF(E77=\"\",\"\",IF(B$11=\"Ordinary\",lookup!D69-G77,lookup!F69))","v":979413.50980129698},{"$f":"IF(E77=\"\",\"\",IF(B$11=\"Ordinary\",lookup!D69-lookup!E68,lookup!F70-lookup!G69))","v":4897.0675490064314},{"$f":"IF(E77=\"\",\"\",lookup!E$2)","v":5264.0479388639606},{"$f":"IF(E77=\"\",\"\",lookup!E69)","v":979046.52941143943}]
[null,null,null,null,{"$f":"IF(I77=\"\",\"\",IF(B$14<E77+1,\"\",IF(I77=B$15,\"\",lookup!C70)))","v":68},{"$f":"IF(E78=\"\",\"\",IF(B$11=\"Ordinary\",lookup!D70-G78,lookup!F70))","v":979046.52941143943},{"$f":"IF(E78=\"\",\"\",IF(B$11=\"Ordinary\",lookup!D70-lookup!E69,lookup!F71-lookup!G70))","v":4895.2326470570406},{"$f":"IF(E78=\"\",\"\",lookup!E$2)","v":5264.0479388639606},{"$f":"IF(E78=\"\",\"\",lookup!E70)","v":978677.7141196325}]
[null,null,null,null,{"$f":"IF(I78=\"\",\"\",IF(B$14<E78+1,\"\",IF(I78=B$15,\"\",lookup!C71)))","v":69},{"$f":"IF(E79=\"\",\"\",IF(B$11=\"Ordinary\",lookup!D71-G79,lookup!F71))","v":978677.7141196325},{"$f":"IF(E79=\"\",\"\",IF(B$11=\"Ordinary\",lookup!D71-lookup!E70,lookup!F72-lookup!G71))","v":4893.3885705980938},{"$f":"IF(E79=\"\",\"\",lookup!E$2)","v":5264.0479388639606},{"$f":"IF(E79=\"\",\"\",lookup!E71)","v":978307.05475136661}]
[null,null,null,null,{"$f":"IF(I79=\"\",\"\",IF(B$14<E79+1,\"\",IF(I79=B$15,\"\",lookup!C72)))","v":70},{"$f":"IF(E80=\"\",\"\",IF(B$11=\"Ordinary\",lookup!D72-G80,lookup!F72))","v":978307.05475136661},{"$f":"IF(E80=\"\",\"\",IF(B$11=\"Ordinary\",lookup!D72-lookup!E71,lookup!F73-lookup!G72))","v":4891.5352737567155},{"$f":"IF(E80=\"\",\"\",lookup!E$2)","v":5264.0479388639606},{"$f":"IF(E80=\"\",\"\",lookup!E72)","v":977934.54208625935}]
[null,null,null,null,{"$f":"IF(I80=\"\",\"\",IF(B$14<E80+1,\"\",IF(I80=B$15,\"\",lookup!C73)))","v":71},{"$f":"IF(E81=\"\",\"\",IF(B$11=\"Ordinary\",lookup!D73-G81,lookup!F73))","v":977934.54208625935},{"$f":"IF(E81=\"\",\"\",IF(B$11=\"Ordinary\",lookup!D73-lookup!E72,lookup!F74-lookup!G73))","v":4889.6727104311576},{"$f":"IF(E81=\"\",\"\",lookup!E$2)","v":5264.0479388639606},{"$f":"IF(E81=\"\",\"\",lookup!E73)","v":977560.16685782652}]
[null,null,null,null,{"$f":"IF(I81=\"\",\"\",IF(B$14<E81+1,\"\",IF(I81=B$15,\"\",lookup!C74)))","v":72},{"$f":"IF(E82=\"\",\"\",IF(B$11=\"Ordinary\",lookup!D74-G82,lookup!F74))","v":977560.16685782652},{"$f":"IF(E82=\"\",\"\",IF(B$11=\"Ordinary\",lookup!D74-lookup!E73,lookup!F75-lookup!G74))","v":4887.8008342890535},{"$f":"IF(E82=\"\",\"\",lookup!E$2)","v":5264.0479388639606},{"$f":"IF(E82=\"\",\"\",lookup!E74)","v":977183.9197532516}]
[null,null,null,null,{"$f":"IF(I82=\"\",\"\",IF(B$14<E82+1,\"\",IF(I82=B$15,\"\",lookup!C75)))","v":73},{"$f":"IF(E83=\"\",\"\",IF(B$11=\"Ordinary\",lookup!D75-G83,lookup!F75))","v":977183.9197532516},{"$f":"IF(E83=\"\",\"\",IF(B$11=\"Ordinary\",lookup!D75-lookup!E74,lookup!F76-lookup!G75))","v":4885.9195987661369},{"$f":"IF(E83=\"\",\"\",lookup!E$2)","v":5264.0479388639606},{"$f":"IF(E83=\"\",\"\",lookup!E75)","v":976805.79141315375}]
[null,null,null,null,{"$f":"IF(I83=\"\",\"\",IF(B$14<E83+1,\"\",IF(I83=B$15,\"\",lookup!C76)))","v":74},{"$f":"IF(E84=\"\",\"\",IF(B$11=\"Ordinary\",lookup!D76-G84,lookup!F76))","v":976805.79141315375},{"$f":"IF(E84=\"\",\"\",IF(B$11=\"Ordinary\",lookup!D76-lookup!E75,lookup!F77-lookup!G76))","v":4884.0289570656605},{"$f":"IF(E84=\"\",\"\",lookup!E$2)","v":5264.0479388639606},{"$f":"IF(E84=\"\",\"\",lookup!E76)","v":976425.77243135544}]
[null,null,null,null,{"$f":"IF(I84=\"\",\"\",IF(B$14<E84+1,\"\",IF(I84=B$15,\"\",lookup!C77)))","v":75},{"$f":"IF(E85=\"\",\"\",IF(B$11=\"Ordinary\",lookup!D77-G85,lookup!F77))","v":976425.77243135544},{"$f":"IF(E85=\"\",\"\",IF(B$11=\"Ordinary\",lookup!D77-lookup!E76,lookup!F78-lookup!G77))","v":4882.1288621566491},{"$f":"IF(E85=\"\",\"\",lookup!E$2)","v":5264.0479388639606},{"$f":"IF(E85=\"\",\"\",lookup!E77)","v":976043.8533546481}]
[null,null,null,null,{"$f":"IF(I85=\"\",\"\",IF(B$14<E85+1,\"\",IF(I85=B$15,\"\",lookup!C78)))","v":76},{"$f":"IF(E86=\"\",\"\",IF(B$11=\"Ordinary\",lookup!D78-G86,lookup!F78))","v":976043.8533546481},{"$f":"IF(E86=\"\",\"\",IF(B$11=\"Ordinary\",lookup!D78-lookup!E77,lookup!F79-lookup!G78))","v":4880.2192667730851},{"$f":"IF(E86=\"\",\"\",lookup!E$2)","v":5264.0479388639606},{"$f":"IF(E86=\"\",\"\",lookup!E78)","v":975660.02468255721}]
[null,null,null,null,{"$f":"IF(I86=\"\",\"\",IF(B$14<E86+1,\"\",IF(I86=B$15,\"\",lookup!C79)))","v":77},{"$f":"IF(E87=\"\",\"\",IF(B$11=\"Ordinary\",lookup!D79-G87,lookup!F79))","v":975660.02468255721},{"$f":"IF(E87=\"\",\"\",IF(B$11=\"Ordinary\",lookup!D79-lookup!E78,lookup!F80-lookup!G79))","v":4878.3001234126277},{"$f":"IF(E87=\"\",\"\",lookup!E$2)","v":5264.0479388639606},{"$f":"IF(E87=\"\",\"\",lookup!E79)","v":975274.27686710586}]
[null,null,null,null,{"$f":"IF(I87=\"\",\"\",IF(B$14<E87+1,\"\",IF(I87=B$15,\"\",lookup!C80)))","v":78},{"$f":"IF(E88=\"\",\"\",IF(B$11=\"Ordinary\",lookup!D80-G88,lookup!F80))","v":975274.27686710586},{"$f":"IF(E88=\"\",\"\",IF(B$11=\"Ordinary\",lookup!D80-lookup!E79,lookup!F81-lookup!G80))","v":4876.371384335449},{"$f":"IF(E88=\"\",\"\",lookup!E$2)","v":5264.0479388639606},{"$f":"IF(E88=\"\",\"\",lookup!E80)","v":974886.60031257733}]
[null,null,null,null,{"$f":"IF(I88=\"\",\"\",IF(B$14<E88+1,\"\",IF(I88=B$15,\"\",lookup!C81)))","v":79},{"$f":"IF(E89=\"\",\"\",IF(B$11=\"Ordinary\",lookup!D81-G89,lookup!F81))","v":974886.60031257733},{"$f":"IF(E89=\"\",\"\",IF(B$11=\"Ordinary\",lookup!D81-lookup!E80,lookup!F82-lookup!G81))","v":4874.4330015628366},{"$f":"IF(E89=\"\",\"\",lookup!E$2)","v":5264.0479388639606},{"$f":"IF(E89=\"\",\"\",lookup!E81)","v":974496.98537527618}]
[null,null,null,null,{"$f":"IF(I89=\"\",\"\",IF(B$14<E89+1,\"\",IF(I89=B$15,\"\",lookup!C82)))","v":80},{"$f":"IF(E90=\"\",\"\",IF(B$11=\"Ordinary\",lookup!D82-G90,lookup!F82))","v":974496.98537527618},{"$f":"IF(E90=\"\",\"\",IF(B$11=\"Ordinary\",lookup!D82-lookup!E81,lookup!F83-lookup!G82))","v":4872.4849268762628},{"$f":"IF(E90=\"\",\"\",lookup!E$2)","v":5264.0479388639606},{"$f":"IF(E90=\"\",\"\",lookup!E82)","v":974105.42236328847}]
[null,null,null,null,{"$f":"IF(I90=\"\",\"\",IF(B$14<E90+1,\"\",IF(I90=B$15,\"\",lookup!C83)))","v":81},{"$f":"IF(E91=\"\",\"\",IF(B$11=\"Ordinary\",lookup!D83-G91,lookup!F83))","v":974105.42236328847},{"$f":"IF(E91=\"\",\"\",IF(B$11=\"Ordinary\",lookup!D83-lookup!E82,lookup!F84-lookup!G83))","v":4870.5271118163364},{"$f":"IF(E91=\"\",\"\",lookup!E$2)","v":5264.0479388639606},{"$f":"IF(E91=\"\",\"\",lookup!E83)","v":973711.90153624082}]
[null,null,null,null,{"$f":"IF(I91=\"\",\"\",IF(B$14<E91+1,\"\",IF(I91=B$15,\"\",lookup!C84)))","v":82},{"$f":"IF(E92=\"\",\"\",IF(B$11=\"Ordinary\",lookup!D84-G92,lookup!F84))","v":973711.90153624082},{"$f":"IF(E92=\"\",\"\",IF(B$11=\"Ordinary\",lookup!D84-lookup!E83,lookup!F85-lookup!G84))","v":4868.5595076810569},{"$f":"IF(E92=\"\",\"\",lookup!E$2)","v":5264.0479388639606},{"$f":"IF(E92=\"\",\"\",lookup!E84)","v":973316.4131050579}]
[null,null,null,null,{"$f":"IF(I92=\"\",\"\",IF(B$14<E92+1,\"\",IF(I92=B$15,\"\",lookup!C85)))","v":83},{"$f":"IF(E93=\"\",\"\",IF(B$11=\"Ordinary\",lookup!D85-G93,lookup!F85))","v":973316.4131050579},{"$f":"IF(E93=\"\",\"\",IF(B$11=\"Ordinary\",lookup!D85-lookup!E84,lookup!F86-lookup!G85))","v":4866.5820655252319},{"$f":"IF(E93=\"\",\"\",lookup!E$2)","v":5264.0479388639606},{"$f":"IF(E93=\"\",\"\",lookup!E85)","v":972918.94723171915}]
[null,null,null,null,{"$f":"IF(I93=\"\",\"\",IF(B$14<E93+1,\"\",IF(I93=B$15,\"\",lookup!C86)))","v":84},{"$f":"IF(E94=\"\",\"\",IF(B$11=\"Ordinary\",lookup!D86-G94,lookup!F86))","v":972918.94723171915},{"$f":"IF(E94=\"\",\"\",IF(B$11=\"Ordinary\",lookup!D86-lookup!E85,lookup!F87-lookup!G86))","v":4864.5947361584986},{"$f":"IF(E94=\"\",\"\",lookup!E$2)","v":5264.0479388639606},{"$f":"IF(E94=\"\",\"\",lookup!E86)","v":972519.49402901367}]
[null,null,null,null,{"$f":"IF(I94=\"\",\"\",IF(B$14<E94+1,\"\",IF(I94=B$15,\"\",lookup!C87)))","v":85},{"$f":"IF(E95=\"\",\"\",IF(B$11=\"Ordinary\",lookup!D87-G95,lookup!F87))","v":972519.49402901367},{"$f":"IF(E95=\"\",\"\",IF(B$11=\"Ordinary\",lookup!D87-lookup!E86,lookup!F88-lookup!G87))","v":4862.5974701449741},{"$f":"IF(E95=\"\",\"\",lookup!E$2)","v":5264.0479388639606},{"$f":"IF(E95=\"\",\"\",lookup!E87)","v":972118.04356029467}]
[null,null,null,null,{"$f":"IF(I95=\"\",\"\",IF(B$14<E95+1,\"\",IF(I95=B$15,\"\",lookup!C88)))","v":86},{"$f":"IF(E96=\"\",\"\",IF(B$11=\"Ordinary\",lookup!D88-G96,lookup!F88))","v":972118.04356029467},{"$f":"IF(E96=\"\",\"\",IF(B$11=\"Ordinary\",lookup!D88-lookup!E87,lookup!F89-lookup!G88))","v":4860.590217801393},{"$f":"IF(E96=\"\",\"\",lookup!E$2)","v":5264.0479388639606},{"$f":"IF(E96=\"\",\"\",lookup!E88)","v":971714.58583923208}]
[null,null,null,null,{"$f":"IF(I96=\"\",\"\",IF(B$14<E96+1,\"\",IF(I96=B$15,\"\",lookup!C89)))","v":87},{"$f":"IF(E97=\"\",\"\",IF(B$11=\"Ordinary\",lookup!D89-G97,lookup!F89))","v":971714.58583923208},{"$f":"IF(E97=\"\",\"\",IF(B$11=\"Ordinary\",lookup!D89-lookup!E88,lookup!F90-lookup!G89))","v":4858.5729291960597},{"$f":"IF(E97=\"\",\"\",lookup!E$2)","v":5264.0479388639606},{"$f":"IF(E97=\"\",\"\",lookup!E89)","v":971309.11082956416}]
[null,null,null,null,{"$f":"IF(I97=\"\",\"\",IF(B$14<E97+1,\"\",IF(I97=B$15,\"\",lookup!C90)))","v":88},{"$f":"IF(E98=\"\",\"\",IF(B$11=\"Ordinary\",lookup!D90-G98,lookup!F90))","v":971309.11082956416},{"$f":"IF(E98=\"\",\"\",IF(B$11=\"Ordinary\",lookup!D90-lookup!E89,lookup!F91-lookup!G90))","v":4856.545554147684},{"$f":"IF(E98=\"\",\"\",lookup!E$2)","v":5264.0479388639606},{"$f":"IF(E98=\"\",\"\",lookup!E90)","v":970901.60844484787}]
[null,null,null,null,{"$f":"IF(I98=\"\",\"\",IF(B$14<E98+1,\"\",IF(I98=B$15,\"\",lookup!C91)))","v":89},{"$f":"IF(E99=\"\",\"\",IF(B$11=\"Ordinary\",lookup!D91-G99,lookup!F91))","v":970901.60844484787},{"$f":"IF(E99=\"\",\"\",IF(B$11=\"Ordinary\",lookup!D91-lookup!E90,lookup!F92-lookup!G91))","v":4854.5080422241008},{"$f":"IF(E99=\"\",\"\",lookup!E$2)","v":5264.0479388639606},{"$f":"IF(E99=\"\",\"\",lookup!E91)","v":970492.06854820799}]
[null,null,null,null,{"$f":"IF(I99=\"\",\"\",IF(B$14<E99+1,\"\",IF(I99=B$15,\"\",lookup!C92)))","v":90},{"$f":"IF(E100=\"\",\"\",IF(B$11=\"Ordinary\",lookup!D92-G100,lookup!F92))","v":970492.06854820799},{"$f":"IF(E100=\"\",\"\",IF(B$11=\"Ordinary\",lookup!D92-lookup!E91,lookup!F93-lookup!G92))","v":4852.4603427409893},{"$f":"IF(E100=\"\",\"\",lookup!E$2)","v":5264.0479388639606},{"$f":"IF(E100=\"\",\"\",lookup!E92)","v":970080.480952085}]
[null,null,null,null,{"$f":"IF(I100=\"\",\"\",IF(B$14<E100+1,\"\",IF(I100=B$15,\"\",lookup!C93)))","v":91},{"$f":"IF(E101=\"\",\"\",IF(B$11=\"Ordinary\",lookup!D93-G101,lookup!F93))","v":970080.480952085},{"$f":"IF(E101=\"\",\"\",IF(B$11=\"Ordinary\",lookup!D93-lookup!E92,lookup!F94-lookup!G93))","v":4850.4024047603598},{"$f":"IF(E101=\"\",\"\",lookup!E$2)","v":5264.0479388639606},{"$f":"IF(E101=\"\",\"\",lookup!E93)","v":969666.83541798138}]
[null,null,null,null,{"$f":"IF(I101=\"\",\"\",IF(B$14<E101+1,\"\",IF(I101=B$15,\"\",lookup!C94)))","v":92},{"$f":"IF(E102=\"\",\"\",IF(B$11=\"Ordinary\",lookup!D94-G102,lookup!F94))","v":969666.83541798138},{"$f":"IF(E102=\"\",\"\",IF(B$11=\"Ordinary\",lookup!D94-lookup!E93,lookup!F95-lookup!G94))","v":4848.3341770898551},{"$f":"IF(E102=\"\",\"\",lookup!E$2)","v":5264.0479388639606},{"$f":"IF(E102=\"\",\"\",lookup!E94)","v":969251.12165620725}]
[null,null,null,null,{"$f":"IF(I102=\"\",\"\",IF(B$14<E102+1,\"\",IF(I102=B$15,\"\",lookup!C95)))","v":93},{"$f":"IF(E103=\"\",\"\",IF(B$11=\"Ordinary\",lookup!D95-G103,lookup!F95))","v":969251.12165620725},{"$f":"IF(E103=\"\",\"\",IF(B$11=\"Ordinary\",lookup!D95-lookup!E94,lookup!F96-lookup!G95))","v":4846.2556082808878},{"$f":"IF(E103=\"\",\"\",lookup!E$2)","v":5264.0479388639606},{"$f":"IF(E103=\"\",\"\",lookup!E95)","v":968833.32932562416}]
[null,null,null,null,{"$f":"IF(I103=\"\",\"\",IF(B$14<E103+1,\"\",IF(I103=B$15,\"\",lookup!C96)))","v":94},{"$f":"IF(E104=\"\",\"\",IF(B$11=\"Ordinary\",lookup!D96-G104,lookup!F96))","v":968833.32932562416},{"$f":"IF(E104=\"\",\"\",IF(B$11=\"Ordinary\",lookup!D96-lookup!E95,lookup!F97-lookup!G96))","v":4844.1666466280585},{"$f":"IF(E104=\"\",\"\",lookup!E$2)","v":5264.0479388639606},{"$f":"IF(E104=\"\",\"\",lookup!E96)","v":968413.44803338824}]
[null,null,null,null,{"$f":"IF(I104=\"\",\"\",IF(B$14<E104+1,\"\",IF(I104=B$15,\"\",lookup!C97)))","v":95},{"$f":"IF(E105=\"\",\"\",IF(B$11=\"Ordinary\",lookup!D97-G105,lookup!F97))","v":968413.44803338824},{"$f":"IF(E105=\"\",\"\",IF(B$11=\"Ordinary\",lookup!D97-lookup!E96,lookup!F98-lookup!G97))","v":4842.0672401668271},{"$f":"IF(E105=\"\",\"\",lookup!E$2)","v":5264.0479388639606},{"$f":"IF(E105=\"\",\"\",lookup!E97)","v":967991.46733469109}]
[null,null,null,null,{"$f":"IF(I105=\"\",\"\",IF(B$14<E105+1,\"\",IF(I105=B$15,\"\",lookup!C98)))","v":96},{"$f":"IF(E106=\"\",\"\",IF(B$11=\"Ordinary\",lookup!D98-G106,lookup!F98))","v":967991.46733469109},{"$f":"IF(E106=\"\",\"\",IF(B$11=\"Ordinary\",lookup!D98-lookup!E97,lookup!F99-lookup!G98))","v":4839.9573366733966},{"$f":"IF(E106=\"\",\"\",lookup!E$2)","v":5264.0479388639606},{"$f":"IF(E106=\"\",\"\",lookup!E98)","v":967567.3767325005}]
[null,null,null,null,{"$f":"IF(I106=\"\",\"\",IF(B$14<E106+1,\"\",IF(I106=B$15,\"\",lookup!C99)))","v":97},{"$f":"IF(E107=\"\",\"\",IF(B$11=\"Ordinary\",lookup!D99-G107,lookup!F99))","v":967567.3767325005},{"$f":"IF(E107=\"\",\"\",IF(B$11=\"Ordinary\",lookup!D99-lookup!E98,lookup!F100-lookup!G99))","v":4837.8368836623849},{"$f":"IF(E107=\"\",\"\",lookup!E$2)","v":5264.0479388639606},{"$f":"IF(E107=\"\",\"\",lookup!E99)","v":967141.16567729891}]
[null,null,null,null,{"$f":"IF(I107=\"\",\"\",IF(B$14<E107+1,\"\",IF(I107=B$15,\"\",lookup!C100)))","v":98},{"$f":"IF(E108=\"\",\"\",IF(B$11=\"Ordinary\",lookup!D100-G108,lookup!F100))","v":967141.16567729891},{"$f":"IF(E108=\"\",\"\",IF(B$11=\"Ordinary\",lookup!D100-lookup!E99,lookup!F101-lookup!G100))","v":4835.7058283863589},{"$f":"IF(E108=\"\",\"\",lookup!E$2)","v":5264.0479388639606},{"$f":"IF(E108=\"\",\"\",lookup!E100)","v":966712.82356682129}]
[null,null,null,null,{"$f":"IF(I108=\"\",\"\",IF(B$14<E108+1,\"\",IF(I108=B$15,\"\",lookup!C101)))","v":99},{"$f":"IF(E109=\"\",\"\",IF(B$11=\"Ordinary\",lookup!D101-G109,lookup!F101))","v":966712.82356682129},{"$f":"IF(E109=\"\",\"\",IF(B$11=\"Ordinary\",lookup!D101-lookup!E100,lookup!F102-lookup!G101))","v":4833.564117833972},{"$f":"IF(E109=\"\",\"\",lookup!E$2)","v":5264.0479388639606},{"$f":"IF(E109=\"\",\"\",lookup!E101)","v":966282.33974579128}]
[null,null,null,null,{"$f":"IF(I109=\"\",\"\",IF(B$14<E109+1,\"\",IF(I109=B$15,\"\",lookup!C102)))","v":100},{"$f":"IF(E110=\"\",\"\",IF(B$11=\"Ordinary\",lookup!D102-G110,lookup!F102))","v":966282.33974579128},{"$f":"IF(E110=\"\",\"\",IF(B$11=\"Ordinary\",lookup!D102-lookup!E101,lookup!F103-lookup!G102))","v":4831.4116987287998},{"$f":"IF(E110=\"\",\"\",lookup!E$2)","v":5264.0479388639606},{"$f":"IF(E110=\"\",\"\",lookup!E102)","v":965849.7035056561}]
[null,null,null,null,{"$f":"IF(I110=\"\",\"\",IF(B$14<E110+1,\"\",IF(I110=B$15,\"\",lookup!C103)))","v":101},{"$f":"IF(E111=\"\",\"\",IF(B$11=\"Ordinary\",lookup!D103-G111,lookup!F103))","v":965849.7035056561},{"$f":"IF(E111=\"\",\"\",IF(B$11=\"Ordinary\",lookup!D103-lookup!E102,lookup!F104-lookup!G103))","v":4829.2485175281763},{"$f":"IF(E111=\"\",\"\",lookup!E$2)","v":5264.0479388639606},{"$f":"IF(E111=\"\",\"\",lookup!E103)","v":965414.9040843203}]
[null,null,null,null,{"$f":"IF(I111=\"\",\"\",IF(B$14<E111+1,\"\",IF(I111=B$15,\"\",lookup!C104)))","v":102},{"$f":"IF(E112=\"\",\"\",IF(B$11=\"Ordinary\",lookup!D104-G112,lookup!F104))","v":965414.9040843203},{"$f":"IF(E112=\"\",\"\",IF(B$11=\"Ordinary\",lookup!D104-lookup!E103,lookup!F105-lookup!G104))","v":4827.0745204214472},{"$f":"IF(E112=\"\",\"\",lookup!E$2)","v":5264.0479388639606},{"$f":"IF(E112=\"\",\"\",lookup!E104)","v":964977.93066587776}]
[null,null,null,null,{"$f":"IF(I112=\"\",\"\",IF(B$14<E112+1,\"\",IF(I112=B$15,\"\",lookup!C105)))","v":103},{"$f":"IF(E113=\"\",\"\",IF(B$11=\"Ordinary\",lookup!D105-G113,lookup!F105))","v":964977.93066587776},{"$f":"IF(E113=\"\",\"\",IF(B$11=\"Ordinary\",lookup!D105-lookup!E104,lookup!F106-lookup!G105))","v":4824.8896533292718},{"$f":"IF(E113=\"\",\"\",lookup!E$2)","v":5264.0479388639606},{"$f":"IF(E113=\"\",\"\",lookup!E105)","v":964538.77238034306}]
[null,null,null,null,{"$f":"IF(I113=\"\",\"\",IF(B$14<E113+1,\"\",IF(I113=B$15,\"\",lookup!C106)))","v":104},{"$f":"IF(E114=\"\",\"\",IF(B$11=\"Ordinary\",lookup!D106-G114,lookup!F106))","v":964538.77238034306},{"$f":"IF(E114=\"\",\"\",IF(B$11=\"Ordinary\",lookup!D106-lookup!E105,lookup!F107-lookup!G106))","v":4822.6938619016437},{"$f":"IF(E114=\"\",\"\",lookup!E$2)","v":5264.0479388639606},{"$f":"IF(E114=\"\",\"\",lookup!E106)","v":964097.41830338072}]
[null,null,null,null,{"$f":"IF(I114=\"\",\"\",IF(B$14<E114+1,\"\",IF(I114=B$15,\"\",lookup!C107)))","v":105},{"$f":"IF(E115=\"\",\"\",IF(B$11=\"Ordinary\",lookup!D107-G115,lookup!F107))","v":964097.41830338072},{"$f":"IF(E115=\"\",\"\",IF(B$11=\"Ordinary\",lookup!D107-lookup!E106,lookup!F108-lookup!G107))","v":4820.4870915168431},{"$f":"IF(E115=\"\",\"\",lookup!E$2)","v":5264.0479388639606},{"$f":"IF(E115=\"\",\"\",lookup!E107)","v":963653.85745603358}]
[null,null,null,null,{"$f":"IF(I115=\"\",\"\",IF(B$14<E115+1,\"\",IF(I115=B$15,\"\",lookup!C108)))","v":106},{"$f":"IF(E116=\"\",\"\",IF(B$11=\"Ordinary\",lookup!D108-G116,lookup!F108))","v":963653.85745603358},{"$f":"IF(E116=\"\",\"\",IF(B$11=\"Ordinary\",lookup!D108-lookup!E107,lookup!F109-lookup!G108))","v":4818.2692872800399},{"$f":"IF(E116=\"\",\"\",lookup!E$2)","v":5264.0479388639606},{"$f":"IF(E116=\"\",\"\",lookup!E108)","v":963208.07880444964}]
[null,null,null,null,{"$f":"IF(I116=\"\",\"\",IF(B$14<E116+1,\"\",IF(I116=B$15,\"\",lookup!C109)))","v":107},{"$f":"IF(E117=\"\",\"\",IF(B$11=\"Ordinary\",lookup!D109-G117,lookup!F109))","v":963208.07880444964},{"$f":"IF(E117=\"\",\"\",IF(B$11=\"Ordinary\",lookup!D109-lookup!E108,lookup!F110-lookup!G109))","v":4816.0403940221295},{"$f":"IF(E117=\"\",\"\",lookup!E$2)","v":5264.0479388639606},{"$f":"IF(E117=\"\",\"\",lookup!E109)","v":962760.07125960779}]
[null,null,null,null,{"$f":"IF(I117=\"\",\"\",IF(B$14<E117+1,\"\",IF(I117=B$15,\"\",lookup!C110)))","v":108},{"$f":"IF(E118=\"\",\"\",IF(B$11=\"Ordinary\",lookup!D110-G118,lookup!F110))","v":962760.07125960779},{"$f":"IF(E118=\"\",\"\",IF(B$11=\"Ordinary\",lookup!D110-lookup!E109,lookup!F111-lookup!G110))","v":4813.8003562979866},{"$f":"IF(E118=\"\",\"\",lookup!E$2)","v":5264.0479388639606},{"$f":"IF(E118=\"\",\"\",lookup!E110)","v":962309.8236770418}]
[null,null,null,null,{"$f":"IF(I118=\"\",\"\",IF(B$14<E118+1,\"\",IF(I118=B$15,\"\",lookup!C111)))","v":109},{"$f":"IF(E119=\"\",\"\",IF(B$11=\"Ordinary\",lookup!D111-G119,lookup!F111))","v":962309.8236770418},{"$f":"IF(E119=\"\",\"\",IF(B$11=\"Ordinary\",lookup!D111-lookup!E110,lookup!F112-lookup!G111))","v":4811.5491183850681},{"$f":"IF(E119=\"\",\"\",lookup!E$2)","v":5264.0479388639606},{"$f":"IF(E119=\"\",\"\",lookup!E111)","v":961857.32485656289}]
[null,null,null,null,{"$f":"IF(I119=\"\",\"\",IF(B$14<E119+1,\"\",IF(I119=B$15,\"\",lookup!C112)))","v":110},{"$f":"IF(E120=\"\",\"\",IF(B$11=\"Ordinary\",lookup!D112-G120,lookup!F112))","v":961857.32485656289},{"$f":"IF(E120=\"\",\"\",IF(B$11=\"Ordinary\",lookup!D112-lookup!E111,lookup!F113-lookup!G112))","v":4809.2866242827149},{"$f":"IF(E120=\"\",\"\",lookup!E$2)","v":5264.0479388639606},{"$f":"IF(E120=\"\",\"\",lookup!E112)","v":961402.56354198162}]
[null,null,null,null,{"$f":"IF(I120=\"\",\"\",IF(B$14<E120+1,\"\",IF(I120=B$15,\"\",lookup!C113)))","v":111},{"$f":"IF(E121=\"\",\"\",IF(B$11=\"Ordinary\",lookup!D113-G121,lookup!F113))","v":961402.56354198162},{"$f":"IF(E121=\"\",\"\",IF(B$11=\"Ordinary\",lookup!D113-lookup!E112,lookup!F114-lookup!G113))","v":4807.0128177098231},{"$f":"IF(E121=\"\",\"\",lookup!E$2)","v":5264.0479388639606},{"$f":"IF(E121=\"\",\"\",lookup!E113)","v":960945.52842082747}]
[null,null,null,null,{"$f":"IF(I121=\"\",\"\",IF(B$14<E121+1,\"\",IF(I121=B$15,\"\",lookup!C114)))","v":112},{"$f":"IF(E122=\"\",\"\",IF(B$11=\"Ordinary\",lookup!D114-G122,lookup!F114))","v":960945.52842082747},{"$f":"IF(E122=\"\",\"\",IF(B$11=\"Ordinary\",lookup!D114-lookup!E113,lookup!F115-lookup!G114))","v":4804.7276421040297},{"$f":"IF(E122=\"\",\"\",lookup!E$2)","v":5264.0479388639606},{"$f":"IF(E122=\"\",\"\",lookup!E114)","v":960486.20812406752}]
[null,null,null,null,{"$f":"IF(I122=\"\",\"\",IF(B$14<E122+1,\"\",IF(I122=B$15,\"\",lookup!C115)))","v":113},{"$f":"IF(E123=\"\",\"\",IF(B$11=\"Ordinary\",lookup!D115-G123,lookup!F115))","v":960486.20812406752},{"$f":"IF(E123=\"\",\"\",IF(B$11=\"Ordinary\",lookup!D115-lookup!E114,lookup!F116-lookup!G115))","v":4802.4310406201985},{"$f":"IF(E123=\"\",\"\",lookup!E$2)","v":5264.0479388639606},{"$f":"IF(E123=\"\",\"\",lookup!E115)","v":960024.59122582374}]
[null,null,null,null,{"$f":"IF(I123=\"\",\"\",IF(B$14<E123+1,\"\",IF(I123=B$15,\"\",lookup!C116)))","v":114},{"$f":"IF(E124=\"\",\"\",IF(B$11=\"Ordinary\",lookup!D116-G124,lookup!F116))","v":960024.59122582374},{"$f":"IF(E124=\"\",\"\",IF(B$11=\"Ordinary\",lookup!D116-lookup!E115,lookup!F117-lookup!G116))","v":4800.1229561290238},{"$f":"IF(E124=\"\",\"\",lookup!E$2)","v":5264.0479388639606},{"$f":"IF(E124=\"\",\"\",lookup!E116)","v":959560.66624308878}]
[null,null,null,null,{"$f":"IF(I124=\"\",\"\",IF(B$14<E124+1,\"\",IF(I124=B$15,\"\",lookup!C117)))","v":115},{"$f":"IF(E125=\"\",\"\",IF(B$11=\"Ordinary\",lookup!D117-G125,lookup!F117))","v":959560.66624308878},{"$f":"IF(E125=\"\",\"\",IF(B$11=\"Ordinary\",lookup!D117-lookup!E116,lookup!F118-lookup!G117))","v":4797.8033312152838},{"$f":"IF(E125=\"\",\"\",lookup!E$2)","v":5264.0479388639606},{"$f":"IF(E125=\"\",\"\",lookup!E117)","v":959094.42163544009}]
[null,null,null,null,{"$f":"IF(I125=\"\",\"\",IF(B$14<E125+1,\"\",IF(I125=B$15,\"\",lookup!C118)))","v":116},{"$f":"IF(E126=\"\",\"\",IF(B$11=\"Ordinary\",lookup!D118-G126,lookup!F118))","v":959094.42163544009},{"$f":"IF(E126=\"\",\"\",IF(B$11=\"Ordinary\",lookup!D118-lookup!E117,lookup!F119-lookup!G118))","v":4795.4721081771422},{"$f":"IF(E126=\"\",\"\",lookup!E$2)","v":5264.0479388639606},{"$f":"IF(E126=\"\",\"\",lookup!E118)","v":958625.84580475325}]
[null,null,null,null,{"$f":"IF(I126=\"\",\"\",IF(B$14<E126+1,\"\",IF(I126=B$15,\"\",lookup!C119)))","v":117},{"$f":"IF(E127=\"\",\"\",IF(B$11=\"Ordinary\",lookup!D119-G127,lookup!F119))","v":958625.84580475325},{"$f":"IF(E127=\"\",\"\",IF(B$11=\"Ordinary\",lookup!D119-lookup!E118,lookup!F120-lookup!G119))","v":4793.1292290237034},{"$f":"IF(E127=\"\",\"\",lookup!E$2)","v":5264.0479388639606},{"$f":"IF(E127=\"\",\"\",lookup!E119)","v":958154.92709491297}]
[null,null,null,null,{"$f":"IF(I127=\"\",\"\",IF(B$14<E127+1,\"\",IF(I127=B$15,\"\",lookup!C120)))","v":118},{"$f":"IF(E128=\"\",\"\",IF(B$11=\"Ordinary\",lookup!D120-G128,lookup!F120))","v":958154.92709491297},{"$f":"IF(E128=\"\",\"\",IF(B$11=\"Ordinary\",lookup!D120-lookup!E119,lookup!F121-lookup!G120))","v":4790.7746354744304},{"$f":"IF(E128=\"\",\"\",lookup!E$2)","v":5264.0479388639606},{"$f":"IF(E128=\"\",\"\",lookup!E120)","v":957681.65379152342}]
[null,null,null,null,{"$f":"IF(I128=\"\",\"\",IF(B$14<E128+1,\"\",IF(I128=B$15,\"\",lookup!C121)))","v":119},{"$f":"IF(E129=\"\",\"\",IF(B$11=\"Ordinary\",lookup!D121-G129,lookup!F121))","v":957681.65379152342},{"$f":"IF(E129=\"\",\"\",IF(B$11=\"Ordinary\",lookup!D121-lookup!E120,lookup!F122-lookup!G121))","v":4788.4082689575152},{"$f":"IF(E129=\"\",\"\",lookup!E$2)","v":5264.0479388639606},{"$f":"IF(E129=\"\",\"\",lookup!E121)","v":957206.01412161696}]
[null,null,null,null,{"$f":"IF(I129=\"\",\"\",IF(B$14<E129+1,\"\",IF(I129=B$15,\"\",lookup!C122)))","v":120},{"$f":"IF(E130=\"\",\"\",IF(B$11=\"Ordinary\",lookup!D122-G130,lookup!F122))","v":957206.01412161696},{"$f":"IF(E130=\"\",\"\",IF(B$11=\"Ordinary\",lookup!D122-lookup!E121,lookup!F123-lookup!G122))","v":4786.0300706080161},{"$f":"IF(E130=\"\",\"\",lookup!E$2)","v":5264.0479388639606},{"$f":"IF(E130=\"\",\"\",lookup!E122)","v":956727.99625336099}]
[null,null,null,null,{"$f":"IF(I130=\"\",\"\",IF(B$14<E130+1,\"\",IF(I130=B$15,\"\",lookup!C123)))","v":121},{"$f":"IF(E131=\"\",\"\",IF(B$11=\"Ordinary\",lookup!D123-G131,lookup!F123))","v":956727.99625336099},{"$f":"IF(E131=\"\",\"\",IF(B$11=\"Ordinary\",lookup!D123-lookup!E122,lookup!F124-lookup!G123))","v":4783.6399812666932},{"$f":"IF(E131=\"\",\"\",lookup!E$2)","v":5264.0479388639606},{"$f":"IF(E131=\"\",\"\",lookup!E123)","v":956247.58829576371}]
[null,null,null,null,{"$f":"IF(I131=\"\",\"\",IF(B$14<E131+1,\"\",IF(I131=B$15,\"\",lookup!C124)))","v":122},{"$f":"IF(E132=\"\",\"\",IF(B$11=\"Ordinary\",lookup!D124-G132,lookup!F124))","v":956247.58829576371},{"$f":"IF(E132=\"\",\"\",IF(B$11=\"Ordinary\",lookup!D124-lookup!E123,lookup!F125-lookup!G124))","v":4781.2379414787283},{"$f":"IF(E132=\"\",\"\",lookup!E$2)","v":5264.0479388639606},{"$f":"IF(E132=\"\",\"\",lookup!E124)","v":955764.77829837846}]
[null,null,null,null,{"$f":"IF(I132=\"\",\"\",IF(B$14<E132+1,\"\",IF(I132=B$15,\"\",lookup!C125)))","v":123},{"$f":"IF(E133=\"\",\"\",IF(B$11=\"Ordinary\",lookup!D125-G133,lookup!F125))","v":955764.77829837846},{"$f":"IF(E133=\"\",\"\",IF(B$11=\"Ordinary\",lookup!D125-lookup!E124,lookup!F126-lookup!G125))","v":4778.8238914917456},{"$f":"IF(E133=\"\",\"\",lookup!E$2)","v":5264.0479388639606},{"$f":"IF(E133=\"\",\"\",lookup!E125)","v":955279.55425100622}]
[null,null,null,null,{"$f":"IF(I133=\"\",\"\",IF(B$14<E133+1,\"\",IF(I133=B$15,\"\",lookup!C126)))","v":124},{"$f":"IF(E134=\"\",\"\",IF(B$11=\"Ordinary\",lookup!D126-G134,lookup!F126))","v":955279.55425100622},{"$f":"IF(E134=\"\",\"\",IF(B$11=\"Ordinary\",lookup!D126-lookup!E125,lookup!F127-lookup!G126))","v":4776.3977712548804},{"$f":"IF(E134=\"\",\"\",lookup!E$2)","v":5264.0479388639606},{"$f":"IF(E134=\"\",\"\",lookup!E126)","v":954791.90408339712}]
[null,null,null,null,{"$f":"IF(I134=\"\",\"\",IF(B$14<E134+1,\"\",IF(I134=B$15,\"\",lookup!C127)))","v":125},{"$f":"IF(E135=\"\",\"\",IF(B$11=\"Ordinary\",lookup!D127-G135,lookup!F127))","v":954791.90408339712},{"$f":"IF(E135=\"\",\"\",IF(B$11=\"Ordinary\",lookup!D127-lookup!E126,lookup!F128-lookup!G127))","v":4773.9595204169163},{"$f":"IF(E135=\"\",\"\",lookup!E$2)","v":5264.0479388639606},{"$f":"IF(E135=\"\",\"\",lookup!E127)","v":954301.81566495006}]
[null,null,null,null,{"$f":"IF(I135=\"\",\"\",IF(B$14<E135+1,\"\",IF(I135=B$15,\"\",lookup!C128)))","v":126},{"$f":"IF(E136=\"\",\"\",IF(B$11=\"Ordinary\",lookup!D128-G136,lookup!F128))","v":954301.81566495006},{"$f":"IF(E136=\"\",\"\",IF(B$11=\"Ordinary\",lookup!D128-lookup!E127,lookup!F129-lookup!G128))","v":4771.509078324656},{"$f":"IF(E136=\"\",\"\",lookup!E$2)","v":5264.0479388639606},{"$f":"IF(E136=\"\",\"\",lookup!E128)","v":953809.27680441074}]
[null,null,null,null,{"$f":"IF(I136=\"\",\"\",IF(B$14<E136+1,\"\",IF(I136=B$15,\"\",lookup!C129)))","v":127},{"$f":"IF(E137=\"\",\"\",IF(B$11=\"Ordinary\",lookup!D129-G137,lookup!F129))","v":953809.27680441074},{"$f":"IF(E137=\"\",\"\",IF(B$11=\"Ordinary\",lookup!D129-lookup!E128,lookup!F130-lookup!G129))","v":4769.0463840219891},{"$f":"IF(E137=\"\",\"\",lookup!E$2)","v":5264.0479388639606},{"$f":"IF(E137=\"\",\"\",lookup!E129)","v":953314.27524956875}]
[null,null,null,null,{"$f":"IF(I137=\"\",\"\",IF(B$14<E137+1,\"\",IF(I137=B$15,\"\",lookup!C130)))","v":128},{"$f":"IF(E138=\"\",\"\",IF(B$11=\"Ordinary\",lookup!D130-G138,lookup!F130))","v":953314.27524956875},{"$f":"IF(E138=\"\",\"\",IF(B$11=\"Ordinary\",lookup!D130-lookup!E129,lookup!F131-lookup!G130))","v":4766.5713762477972},{"$f":"IF(E138=\"\",\"\",lookup!E$2)","v":5264.0479388639606},{"$f":"IF(E138=\"\",\"\",lookup!E130)","v":952816.79868695256}]
[null,null,null,null,{"$f":"IF(I138=\"\",\"\",IF(B$14<E138+1,\"\",IF(I138=B$15,\"\",lookup!C131)))","v":129},{"$f":"IF(E139=\"\",\"\",IF(B$11=\"Ordinary\",lookup!D131-G139,lookup!F131))","v":952816.79868695256},{"$f":"IF(E139=\"\",\"\",IF(B$11=\"Ordinary\",lookup!D131-lookup!E130,lookup!F132-lookup!G131))","v":4764.0839934346732},{"$f":"IF(E139=\"\",\"\",lookup!E$2)","v":5264.0479388639606},{"$f":"IF(E139=\"\",\"\",lookup!E131)","v":952316.83474152326}]
[null,null,null,null,{"$f":"IF(I139=\"\",\"\",IF(B$14<E139+1,\"\",IF(I139=B$15,\"\",lookup!C132)))","v":130},{"$f":"IF(E140=\"\",\"\",IF(B$11=\"Ordinary\",lookup!D132-G140,lookup!F132))","v":952316.83474152326},{"$f":"IF(E140=\"\",\"\",IF(B$11=\"Ordinary\",lookup!D132-lookup!E131,lookup!F133-lookup!G132))","v":4761.5841737075243},{"$f":"IF(E140=\"\",\"\",lookup!E$2)","v":5264.0479388639606},{"$f":"IF(E140=\"\",\"\",lookup!E132)","v":951814.3709763668}]
[null,null,null,null,{"$f":"IF(I140=\"\",\"\",IF(B$14<E140+1,\"\",IF(I140=B$15,\"\",lookup!C133)))","v":131},{"$f":"IF(E141=\"\",\"\",IF(B$11=\"Ordinary\",lookup!D133-G141,lookup!F133))","v":951814.3709763668},{"$f":"IF(E141=\"\",\"\",IF(B$11=\"Ordinary\",lookup!D133-lookup!E132,lookup!F134-lookup!G133))","v":4759.0718548817094},{"$f":"IF(E141=\"\",\"\",lookup!E$2)","v":5264.0479388639606},{"$f":"IF(E141=\"\",\"\",lookup!E133)","v":951309.39489238453}]
[null,null,null,null,{"$f":"IF(I141=\"\",\"\",IF(B$14<E141+1,\"\",IF(I141=B$15,\"\",lookup!C134)))","v":132},{"$f":"IF(E142=\"\",\"\",IF(B$11=\"Ordinary\",lookup!D134-G142,lookup!F134))","v":951309.39489238453},{"$f":"IF(E142=\"\",\"\",IF(B$11=\"Ordinary\",lookup!D134-lookup!E133,lookup!F135-lookup!G134))","v":4756.5469744618749},{"$f":"IF(E142=\"\",\"\",lookup!E$2)","v":5264.0479388639606},{"$f":"IF(E142=\"\",\"\",lookup!E134)","v":950801.89392798243}]
[null,null,null,null,{"$f":"IF(I142=\"\",\"\",IF(B$14<E142+1,\"\",IF(I142=B$15,\"\",lookup!C135)))","v":133},{"$f":"IF(E143=\"\",\"\",IF(B$11=\"Ordinary\",lookup!D135-G143,lookup!F135))","v":950801.89392798243},{"$f":"IF(E143=\"\",\"\",IF(B$11=\"Ordinary\",lookup!D135-lookup!E134,lookup!F136-lookup!G135))","v":4754.0094696398592},{"$f":"IF(E143=\"\",\"\",lookup!E$2)","v":5264.0479388639606},{"$f":"IF(E143=\"\",\"\",lookup!E135)","v":950291.85545875831}]
[null,null,null,null,{"$f":"IF(I143=\"\",\"\",IF(B$14<E143+1,\"\",IF(I143=B$15,\"\",lookup!C136)))","v":134},{"$f":"IF(E144=\"\",\"\",IF(B$11=\"Ordinary\",lookup!D136-G144,lookup!F136))","v":950291.85545875831},{"$f":"IF(E144=\"\",\"\",IF(B$11=\"Ordinary\",lookup!D136-lookup!E135,lookup!F137-lookup!G136))","v":4751.4592772936448},{"$f":"IF(E144=\"\",\"\",lookup!E$2)","v":5264.0479388639606},{"$f":"IF(E144=\"\",\"\",lookup!E136)","v":949779.26679718797}]
[null,null,null,null,{"$f":"IF(I144=\"\",\"\",IF(B$14<E144+1,\"\",IF(I144=B$15,\"\",lookup!C137)))","v":135},{"$f":"IF(E145=\"\",\"\",IF(B$11=\"Ordinary\",lookup!D137-G145,lookup!F137))","v":949779.26679718797},{"$f":"IF(E145=\"\",\"\",IF(B$11=\"Ordinary\",lookup!D137-lookup!E136,lookup!F138-lookup!G137))","v":4748.8963339858456},{"$f":"IF(E145=\"\",\"\",lookup!E$2)","v":5264.0479388639606},{"$f":"IF(E145=\"\",\"\",lookup!E137)","v":949264.11519230984}]
[null,null,null,null,{"$f":"IF(I145=\"\",\"\",IF(B$14<E145+1,\"\",IF(I145=B$15,\"\",lookup!C138)))","v":136},{"$f":"IF(E146=\"\",\"\",IF(B$11=\"Ordinary\",lookup!D138-G146,lookup!F138))","v":949264.11519230984},{"$f":"IF(E146=\"\",\"\",IF(B$11=\"Ordinary\",lookup!D138-lookup!E137,lookup!F139-lookup!G138))","v":4746.3205759614939},{"$f":"IF(E146=\"\",\"\",lookup!E$2)","v":5264.0479388639606},{"$f":"IF(E146=\"\",\"\",lookup!E138)","v":948746.38782940735}]
[null,null,null,null,{"$f":"IF(I146=\"\",\"\",IF(B$14<E146+1,\"\",IF(I146=B$15,\"\",lookup!C139)))","v":137},{"$f":"IF(E147=\"\",\"\",IF(B$11=\"Ordinary\",lookup!D139-G147,lookup!F139))","v":948746.38782940735},{"$f":"IF(E147=\"\",\"\",IF(B$11=\"Ordinary\",lookup!D139-lookup!E138,lookup!F140-lookup!G139))","v":4743.7319391469937},{"$f":"IF(E147=\"\",\"\",lookup!E$2)","v":5264.0479388639606},{"$f":"IF(E147=\"\",\"\",lookup!E139)","v":948226.07182969037}]
[null,null,null,null,{"$f":"IF(I147=\"\",\"\",IF(B$14<E147+1,\"\",IF(I147=B$15,\"\",lookup!C140)))","v":138},{"$f":"IF(E148=\"\",\"\",IF(B$11=\"Ordinary\",lookup!D140-G148,lookup!F140))","v":948226.07182969037},{"$f":"IF(E148=\"\",\"\",IF(B$11=\"Ordinary\",lookup!D140-lookup!E139,lookup!F141-lookup!G140))","v":4741.1303591483738},{"$f":"IF(E148=\"\",\"\",lookup!E$2)","v":5264.0479388639606},{"$f":"IF(E148=\"\",\"\",lookup!E140)","v":947703.15424997476}]
[null,null,null,null,{"$f":"IF(I148=\"\",\"\",IF(B$14<E148+1,\"\",IF(I148=B$15,\"\",lookup!C141)))","v":139},{"$f":"IF(E149=\"\",\"\",IF(B$11=\"Ordinary\",lookup!D141-G149,lookup!F141))","v":947703.15424997476},{"$f":"IF(E149=\"\",\"\",IF(B$11=\"Ordinary\",lookup!D141-lookup!E140,lookup!F142-lookup!G141))","v":4738.5157712497748},{"$f":"IF(E149=\"\",\"\",lookup!E$2)","v":5264.0479388639606},{"$f":"IF(E149=\"\",\"\",lookup!E141)","v":947177.62208236055}]
[null,null,null,null,{"$f":"IF(I149=\"\",\"\",IF(B$14<E149+1,\"\",IF(I149=B$15,\"\",lookup!C142)))","v":140},{"$f":"IF(E150=\"\",\"\",IF(B$11=\"Ordinary\",lookup!D142-G150,lookup!F142))","v":947177.62208236055},{"$f":"IF(E150=\"\",\"\",IF(B$11=\"Ordinary\",lookup!D142-lookup!E141,lookup!F143-lookup!G142))","v":4735.8881104117027},{"$f":"IF(E150=\"\",\"\",lookup!E$2)","v":5264.0479388639606},{"$f":"IF(E150=\"\",\"\",lookup!E142)","v":946649.46225390828}]
[null,null,null,null,{"$f":"IF(I150=\"\",\"\",IF(B$14<E150+1,\"\",IF(I150=B$15,\"\",lookup!C143)))","v":141},{"$f":"IF(E151=\"\",\"\",IF(B$11=\"Ordinary\",lookup!D143-G151,lookup!F143))","v":946649.46225390828},{"$f":"IF(E151=\"\",\"\",IF(B$11=\"Ordinary\",lookup!D143-lookup!E142,lookup!F144-lookup!G143))","v":4733.2473112693988},{"$f":"IF(E151=\"\",\"\",lookup!E$2)","v":5264.0479388639606},{"$f":"IF(E151=\"\",\"\",lookup!E143)","v":946118.6616263137}]
[null,null,null,null,{"$f":"IF(I151=\"\",\"\",IF(B$14<E151+1,\"\",IF(I151=B$15,\"\",lookup!C144)))","v":142},{"$f":"IF(E152=\"\",\"\",IF(B$11=\"Ordinary\",lookup!D144-G152,lookup!F144))","v":946118.6616263137},{"$f":"IF(E152=\"\",\"\",IF(B$11=\"Ordinary\",lookup!D144-lookup!E143,lookup!F145-lookup!G144))","v":4730.5933081314433},{"$f":"IF(E152=\"\",\"\",lookup!E$2)","v":5264.0479388639606},{"$f":"IF(E152=\"\",\"\",lookup!E144)","v":945585.20699558116}]
[null,null,null,null,{"$f":"IF(I152=\"\",\"\",IF(B$14<E152+1,\"\",IF(I152=B$15,\"\",lookup!C145)))","v":143},{"$f":"IF(E153=\"\",\"\",IF(B$11=\"Ordinary\",lookup!D145-G153,lookup!F145))","v":945585.20699558116},{"$f":"IF(E153=\"\",\"\",IF(B$11=\"Ordinary\",lookup!D145-lookup!E144,lookup!F146-lookup!G145))","v":4727.926034977776},{"$f":"IF(E153=\"\",\"\",lookup!E$2)","v":5264.0479388639606},{"$f":"IF(E153=\"\",\"\",lookup!E145)","v":945049.08509169496}]
[null,null,null,null,{"$f":"IF(I153=\"\",\"\",IF(B$14<E153+1,\"\",IF(I153=B$15,\"\",lookup!C146)))","v":144},{"$f":"IF(E154=\"\",\"\",IF(B$11=\"Ordinary\",lookup!D146-G154,lookup!F146))","v":945049.08509169496},{"$f":"IF(E154=\"\",\"\",IF(B$11=\"Ordinary\",lookup!D146-lookup!E145,lookup!F147-lookup!G146))","v":4725.2454254584154},{"$f":"IF(E154=\"\",\"\",lookup!E$2)","v":5264.0479388639606},{"$f":"IF(E154=\"\",\"\",lookup!E146)","v":944510.28257828939}]
[null,null,null,null,{"$f":"IF(I154=\"\",\"\",IF(B$14<E154+1,\"\",IF(I154=B$15,\"\",lookup!C147)))","v":145},{"$f":"IF(E155=\"\",\"\",IF(B$11=\"Ordinary\",lookup!D147-G155,lookup!F147))","v":944510.28257828939},{"$f":"IF(E155=\"\",\"\",IF(B$11=\"Ordinary\",lookup!D147-lookup!E146,lookup!F148-lookup!G147))","v":4722.5514128913637},{"$f":"IF(E155=\"\",\"\",lookup!E$2)","v":5264.0479388639606},{"$f":"IF(E155=\"\",\"\",lookup!E147)","v":943968.78605231678}]
[null,null,null,null,{"$f":"IF(I155=\"\",\"\",IF(B$14<E155+1,\"\",IF(I155=B$15,\"\",lookup!C148)))","v":146},{"$f":"IF(E156=\"\",\"\",IF(B$11=\"Ordinary\",lookup!D148-G156,lookup!F148))","v":943968.78605231678},{"$f":"IF(E156=\"\",\"\",IF(B$11=\"Ordinary\",lookup!D148-lookup!E147,lookup!F149-lookup!G148))","v":4719.8439302614424},{"$f":"IF(E156=\"\",\"\",lookup!E$2)","v":5264.0479388639606},{"$f":"IF(E156=\"\",\"\",lookup!E148)","v":943424.58204371424}]
[null,null,null,null,{"$f":"IF(I156=\"\",\"\",IF(B$14<E156+1,\"\",IF(I156=B$15,\"\",lookup!C149)))","v":147},{"$f":"IF(E157=\"\",\"\",IF(B$11=\"Ordinary\",lookup!D149-G157,lookup!F149))","v":943424.58204371424},{"$f":"IF(E157=\"\",\"\",IF(B$11=\"Ordinary\",lookup!D149-lookup!E148,lookup!F150-lookup!G149))","v":4717.1229102184298},{"$f":"IF(E157=\"\",\"\",lookup!E$2)","v":5264.0479388639606},{"$f":"IF(E157=\"\",\"\",lookup!E149)","v":942877.65701506869}]
[null,null,null,null,{"$f":"IF(I157=\"\",\"\",IF(B$14<E157+1,\"\",IF(I157=B$15,\"\",lookup!C150)))","v":148},{"$f":"IF(E158=\"\",\"\",IF(B$11=\"Ordinary\",lookup!D150-G158,lookup!F150))","v":942877.65701506869},{"$f":"IF(E158=\"\",\"\",IF(B$11=\"Ordinary\",lookup!D150-lookup!E149,lookup!F151-lookup!G150))","v":4714.3882850751979},{"$f":"IF(E158=\"\",\"\",lookup!E$2)","v":5264.0479388639606},{"$f":"IF(E158=\"\",\"\",lookup!E150)","v":942327.99736127991}]
[null,null,null,null,{"$f":"IF(I158=\"\",\"\",IF(B$14<E158+1,\"\",IF(I158=B$15,\"\",lookup!C151)))","v":149},{"$f":"IF(E159=\"\",\"\",IF(B$11=\"Ordinary\",lookup!D151-G159,lookup!F151))","v":942327.99736127991},{"$f":"IF(E159=\"\",\"\",IF(B$11=\"Ordinary\",lookup!D151-lookup!E150,lookup!F152-lookup!G151))","v":4711.6399868063163},{"$f":"IF(E159=\"\",\"\",lookup!E$2)","v":5264.0479388639606},{"$f":"IF(E159=\"\",\"\",lookup!E151)","v":941775.58940922224}]
[null,null,null,null,{"$f":"IF(I159=\"\",\"\",IF(B$14<E159+1,\"\",IF(I159=B$15,\"\",lookup!C152)))","v":150},{"$f":"IF(E160=\"\",\"\",IF(B$11=\"Ordinary\",lookup!D152-G160,lookup!F152))","v":941775.58940922224},{"$f":"IF(E160=\"\",\"\",IF(B$11=\"Ordinary\",lookup!D152-lookup!E151,lookup!F153-lookup!G152))","v":4708.8779470459558},{"$f":"IF(E160=\"\",\"\",lookup!E$2)","v":5264.0479388639606},{"$f":"IF(E160=\"\",\"\",lookup!E152)","v":941220.41941740422}]
[null,null,null,null,{"$f":"IF(I160=\"\",\"\",IF(B$14<E160+1,\"\",IF(I160=B$15,\"\",lookup!C153)))","v":151},{"$f":"IF(E161=\"\",\"\",IF(B$11=\"Ordinary\",lookup!D153-G161,lookup!F153))","v":941220.41941740422},{"$f":"IF(E161=\"\",\"\",IF(B$11=\"Ordinary\",lookup!D153-lookup!E152,lookup!F154-lookup!G153))","v":4706.1020970869577},{"$f":"IF(E161=\"\",\"\",lookup!E$2)","v":5264.0479388639606},{"$f":"IF(E161=\"\",\"\",lookup!E153)","v":940662.4735756272}]
[null,null,null,null,{"$f":"IF(I161=\"\",\"\",IF(B$14<E161+1,\"\",IF(I161=B$15,\"\",lookup!C154)))","v":152},{"$f":"IF(E162=\"\",\"\",IF(B$11=\"Ordinary\",lookup!D154-G162,lookup!F154))","v":940662.4735756272},{"$f":"IF(E162=\"\",\"\",IF(B$11=\"Ordinary\",lookup!D154-lookup!E153,lookup!F155-lookup!G154))","v":4703.3123678780394},{"$f":"IF(E162=\"\",\"\",lookup!E$2)","v":5264.0479388639606},{"$f":"IF(E162=\"\",\"\",lookup!E154)","v":940101.73800464126}]
[null,null,null,null,{"$f":"IF(I162=\"\",\"\",IF(B$14<E162+1,\"\",IF(I162=B$15,\"\",lookup!C155)))","v":153},{"$f":"IF(E163=\"\",\"\",IF(B$11=\"Ordinary\",lookup!D155-G163,lookup!F155))","v":940101.73800464126},{"$f":"IF(E163=\"\",\"\",IF(B$11=\"Ordinary\",lookup!D155-lookup!E154,lookup!F156-lookup!G155))","v":4700.5086900230963},{"$f":"IF(E163=\"\",\"\",lookup!E$2)","v":5264.0479388639606},{"$f":"IF(E163=\"\",\"\",lookup!E155)","v":939538.19875580037}]
[null,null,null,null,{"$f":"IF(I163=\"\",\"\",IF(B$14<E163+1,\"\",IF(I163=B$15,\"\",lookup!C156)))","v":154},{"$f":"IF(E164=\"\",\"\",IF(B$11=\"Ordinary\",lookup!D156-G164,lookup!F156))","v":939538.19875580037},{"$f":"IF(E164=\"\",\"\",IF(B$11=\"Ordinary\",lookup!D156-lookup!E155,lookup!F157-lookup!G156))","v":4697.6909937788732},{"$f":"IF(E164=\"\",\"\",lookup!E$2)","v":5264.0479388639606},{"$f":"IF(E164=\"\",\"\",lookup!E156)","v":938971.84181071527}]
[null,null,null,null,{"$f":"IF(I164=\"\",\"\",IF(B$14<E164+1,\"\",IF(I164=B$15,\"\",lookup!C157)))","v":155},{"$f":"IF(E165=\"\",\"\",IF(B$11=\"Ordinary\",lookup!D157-G165,lookup!F157))","v":938971.84181071527},{"$f":"IF(E165=\"\",\"\",IF(B$11=\"Ordinary\",lookup!D157-lookup!E156,lookup!F158-lookup!G157))","v":4694.8592090534512},{"$f":"IF(E165=\"\",\"\",lookup!E$2)","v":5264.0479388639606},{"$f":"IF(E165=\"\",\"\",lookup!E157)","v":938402.65308090474}]
[null,null,null,null,{"$f":"IF(I165=\"\",\"\",IF(B$14<E165+1,\"\",IF(I165=B$15,\"\",lookup!C158)))","v":156},{"$f":"IF(E166=\"\",\"\",IF(B$11=\"Ordinary\",lookup!D158-G166,lookup!F158))","v":938402.65308090474},{"$f":"IF(E166=\"\",\"\",IF(B$11=\"Ordinary\",lookup!D158-lookup!E157,lookup!F159-lookup!G158))","v":4692.0132654043846},{"$f":"IF(E166=\"\",\"\",lookup!E$2)","v":5264.0479388639606},{"$f":"IF(E166=\"\",\"\",lookup!E158)","v":937830.61840744514}]
[null,null,null,null,{"$f":"IF(I166=\"\",\"\",IF(B$14<E166+1,\"\",IF(I166=B$15,\"\",lookup!C159)))","v":157},{"$f":"IF(E167=\"\",\"\",IF(B$11=\"Ordinary\",lookup!D159-G167,lookup!F159))","v":937830.61840744514},{"$f":"IF(E167=\"\",\"\",IF(B$11=\"Ordinary\",lookup!D159-lookup!E158,lookup!F160-lookup!G159))","v":4689.1530920370715},{"$f":"IF(E167=\"\",\"\",lookup!E$2)","v":5264.0479388639606},{"$f":"IF(E167=\"\",\"\",lookup!E159)","v":937255.72356061824}]
[null,null,null,null,{"$f":"IF(I167=\"\",\"\",IF(B$14<E167+1,\"\",IF(I167=B$15,\"\",lookup!C160)))","v":158},{"$f":"IF(E168=\"\",\"\",IF(B$11=\"Ordinary\",lookup!D160-G168,lookup!F160))","v":937255.72356061824},{"$f":"IF(E168=\"\",\"\",IF(B$11=\"Ordinary\",lookup!D160-lookup!E159,lookup!F161-lookup!G160))","v":4686.2786178030074},{"$f":"IF(E168=\"\",\"\",lookup!E$2)","v":5264.0479388639606},{"$f":"IF(E168=\"\",\"\",lookup!E160)","v":936677.95423955726}]
[null,null,null,null,{"$f":"IF(I168=\"\",\"\",IF(B$14<E168+1,\"\",IF(I168=B$15,\"\",lookup!C161)))","v":159},{"$f":"IF(E169=\"\",\"\",IF(B$11=\"Ordinary\",lookup!D161-G169,lookup!F161))","v":936677.95423955726},{"$f":"IF(E169=\"\",\"\",IF(B$11=\"Ordinary\",lookup!D161-lookup!E160,lookup!F162-lookup!G161))","v":4683.3897711976897},{"$f":"IF(E169=\"\",\"\",lookup!E$2)","v":5264.0479388639606},{"$f":"IF(E169=\"\",\"\",lookup!E161)","v":936097.29607189097}]
[null,null,null,null,{"$f":"IF(I169=\"\",\"\",IF(B$14<E169+1,\"\",IF(I169=B$15,\"\",lookup!C162)))","v":160},{"$f":"IF(E170=\"\",\"\",IF(B$11=\"Ordinary\",lookup!D162-G170,lookup!F162))","v":936097.29607189097},{"$f":"IF(E170=\"\",\"\",IF(B$11=\"Ordinary\",lookup!D162-lookup!E161,lookup!F163-lookup!G162))","v":4680.4864803593373},{"$f":"IF(E170=\"\",\"\",lookup!E$2)","v":5264.0479388639606},{"$f":"IF(E170=\"\",\"\",lookup!E162)","v":935513.73461338633}]
[null,null,null,null,{"$f":"IF(I170=\"\",\"\",IF(B$14<E170+1,\"\",IF(I170=B$15,\"\",lookup!C163)))","v":161},{"$f":"IF(E171=\"\",\"\",IF(B$11=\"Ordinary\",lookup!D163-G171,lookup!F163))","v":935513.73461338633},{"$f":"IF(E171=\"\",\"\",IF(B$11=\"Ordinary\",lookup!D163-lookup!E162,lookup!F164-lookup!G163))","v":4677.5686730667949},{"$f":"IF(E171=\"\",\"\",lookup!E$2)","v":5264.0479388639606},{"$f":"IF(E171=\"\",\"\",lookup!E163)","v":934927.25534758915}]
[null,null,null,null,{"$f":"IF(I171=\"\",\"\",IF(B$14<E171+1,\"\",IF(I171=B$15,\"\",lookup!C164)))","v":162},{"$f":"IF(E172=\"\",\"\",IF(B$11=\"Ordinary\",lookup!D164-G172,lookup!F164))","v":934927.25534758915},{"$f":"IF(E172=\"\",\"\",IF(B$11=\"Ordinary\",lookup!D164-lookup!E163,lookup!F165-lookup!G164))","v":4674.6362767379032},{"$f":"IF(E172=\"\",\"\",lookup!E$2)","v":5264.0479388639606},{"$f":"IF(E172=\"\",\"\",lookup!E164)","v":934337.84368546307}]
[null,null,null,null,{"$f":"IF(I172=\"\",\"\",IF(B$14<E172+1,\"\",IF(I172=B$15,\"\",lookup!C165)))","v":163},{"$f":"IF(E173=\"\",\"\",IF(B$11=\"Ordinary\",lookup!D165-G173,lookup!F165))","v":934337.84368546307},{"$f":"IF(E173=\"\",\"\",IF(B$11=\"Ordinary\",lookup!D165-lookup!E164,lookup!F166-lookup!G165))","v":4671.689218427171},{"$f":"IF(E173=\"\",\"\",lookup!E$2)","v":5264.0479388639606},{"$f":"IF(E173=\"\",\"\",lookup!E165)","v":933745.48496502626}]
[null,null,null,null,{"$f":"IF(I173=\"\",\"\",IF(B$14<E173+1,\"\",IF(I173=B$15,\"\",lookup!C166)))","v":164},{"$f":"IF(E174=\"\",\"\",IF(B$11=\"Ordinary\",lookup!D166-G174,lookup!F166))","v":933745.48496502626},{"$f":"IF(E174=\"\",\"\",IF(B$11=\"Ordinary\",lookup!D166-lookup!E165,lookup!F167-lookup!G166))","v":4668.727424825076},{"$f":"IF(E174=\"\",\"\",lookup!E$2)","v":5264.0479388639606},{"$f":"IF(E174=\"\",\"\",lookup!E166)","v":933150.16445098736}]
[null,null,null,null,{"$f":"IF(I174=\"\",\"\",IF(B$14<E174+1,\"\",IF(I174=B$15,\"\",lookup!C167)))","v":165},{"$f":"IF(E175=\"\",\"\",IF(B$11=\"Ordinary\",lookup!D167-G175,lookup!F167))","v":933150.16445098736},{"$f":"IF(E175=\"\",\"\",IF(B$11=\"Ordinary\",lookup!D167-lookup!E166,lookup!F168-lookup!G167))","v":4665.7508222548058},{"$f":"IF(E175=\"\",\"\",lookup!E$2)","v":5264.0479388639606},{"$f":"IF(E175=\"\",\"\",lookup!E167)","v":932551.86733437818}]
[null,null,null,null,{"$f":"IF(I175=\"\",\"\",IF(B$14<E175+1,\"\",IF(I175=B$15,\"\",lookup!C168)))","v":166},{"$f":"IF(E176=\"\",\"\",IF(B$11=\"Ordinary\",lookup!D168-G176,lookup!F168))","v":932551.86733437818},{"$f":"IF(E176=\"\",\"\",IF(B$11=\"Ordinary\",lookup!D168-lookup!E167,lookup!F169-lookup!G168))","v":4662.759336671792},{"$f":"IF(E176=\"\",\"\",lookup!E$2)","v":5264.0479388639606},{"$f":"IF(E176=\"\",\"\",lookup!E168)","v":931950.578732186}]
[null,null,null,null,{"$f":"IF(I176=\"\",\"\",IF(B$14<E176+1,\"\",IF(I176=B$15,\"\",lookup!C169)))","v":167},{"$f":"IF(E177=\"\",\"\",IF(B$11=\"Ordinary\",lookup!D169-G177,lookup!F169))","v":931950.578732186},{"$f":"IF(E177=\"\",\"\",IF(B$11=\"Ordinary\",lookup!D169-lookup!E168,lookup!F170-lookup!G169))","v":4659.7528936607996},{"$f":"IF(E177=\"\",\"\",lookup!E$2)","v":5264.0479388639606},{"$f":"IF(E177=\"\",\"\",lookup!E169)","v":931346.28368698282}]
[null,null,null,null,{"$f":"IF(I177=\"\",\"\",IF(B$14<E177+1,\"\",IF(I177=B$15,\"\",lookup!C170)))","v":168},{"$f":"IF(E178=\"\",\"\",IF(B$11=\"Ordinary\",lookup!D170-G178,lookup!F170))","v":931346.28368698282},{"$f":"IF(E178=\"\",\"\",IF(B$11=\"Ordinary\",lookup!D170-lookup!E169,lookup!F171-lookup!G170))","v":4656.7314184347633},{"$f":"IF(E178=\"\",\"\",lookup!E$2)","v":5264.0479388639606},{"$f":"IF(E178=\"\",\"\",lookup!E170)","v":930738.9671665536}]
[null,null,null,null,{"$f":"IF(I178=\"\",\"\",IF(B$14<E178+1,\"\",IF(I178=B$15,\"\",lookup!C171)))","v":169},{"$f":"IF(E179=\"\",\"\",IF(B$11=\"Ordinary\",lookup!D171-G179,lookup!F171))","v":930738.9671665536},{"$f":"IF(E179=\"\",\"\",IF(B$11=\"Ordinary\",lookup!D171-lookup!E170,lookup!F172-lookup!G171))","v":4653.6948358326918},{"$f":"IF(E179=\"\",\"\",lookup!E$2)","v":5264.0479388639606},{"$f":"IF(E179=\"\",\"\",lookup!E171)","v":930128.61406352231}]
[null,null,null,null,{"$f":"IF(I179=\"\",\"\",IF(B$14<E179+1,\"\",IF(I179=B$15,\"\",lookup!C172)))","v":170},{"$f":"IF(E180=\"\",\"\",IF(B$11=\"Ordinary\",lookup!D172-G180,lookup!F172))","v":930128.61406352231},{"$f":"IF(E180=\"\",\"\",IF(B$11=\"Ordinary\",lookup!D172-lookup!E171,lookup!F173-lookup!G172))","v":4650.6430703174556},{"$f":"IF(E180=\"\",\"\",lookup!E$2)","v":5264.0479388639606},{"$f":"IF(E180=\"\",\"\",lookup!E172)","v":929515.20919497579}]
[null,null,null,null,{"$f":"IF(I180=\"\",\"\",IF(B$14<E180+1,\"\",IF(I180=B$15,\"\",lookup!C173)))","v":171},{"$f":"IF(E181=\"\",\"\",IF(B$11=\"Ordinary\",lookup!D173-G181,lookup!F173))","v":929515.20919497579},{"$f":"IF(E181=\"\",\"\",IF(B$11=\"Ordinary\",lookup!D173-lookup!E172,lookup!F174-lookup!G173))","v":4647.5760459747398},{"$f":"IF(E181=\"\",\"\",lookup!E$2)","v":5264.0479388639606},{"$f":"IF(E181=\"\",\"\",lookup!E173)","v":928898.73730208655}]
[null,null,null,null,{"$f":"IF(I181=\"\",\"\",IF(B$14<E181+1,\"\",IF(I181=B$15,\"\",lookup!C174)))","v":172},{"$f":"IF(E182=\"\",\"\",IF(B$11=\"Ordinary\",lookup!D174-G182,lookup!F174))","v":928898.73730208655},{"$f":"IF(E182=\"\",\"\",IF(B$11=\"Ordinary\",lookup!D174-lookup!E173,lookup!F175-lookup!G174))","v":4644.4936865103664},{"$f":"IF(E182=\"\",\"\",lookup!E$2)","v":5264.0479388639606},{"$f":"IF(E182=\"\",\"\",lookup!E174)","v":928279.18304973294}]
[null,null,null,null,{"$f":"IF(I182=\"\",\"\",IF(B$14<E182+1,\"\",IF(I182=B$15,\"\",lookup!C175)))","v":173},{"$f":"IF(E183=\"\",\"\",IF(B$11=\"Ordinary\",lookup!D175-G183,lookup!F175))","v":928279.18304973294},{"$f":"IF(E183=\"\",\"\",IF(B$11=\"Ordinary\",lookup!D175-lookup!E174,lookup!F176-lookup!G175))","v":4641.3959152485477},{"$f":"IF(E183=\"\",\"\",lookup!E$2)","v":5264.0479388639606},{"$f":"IF(E183=\"\",\"\",lookup!E175)","v":927656.5310261175}]
[null,null,null,null,{"$f":"IF(I183=\"\",\"\",IF(B$14<E183+1,\"\",IF(I183=B$15,\"\",lookup!C176)))","v":174},{"$f":"IF(E184=\"\",\"\",IF(B$11=\"Ordinary\",lookup!D176-G184,lookup!F176))","v":927656.5310261175},{"$f":"IF(E184=\"\",\"\",IF(B$11=\"Ordinary\",lookup!D176-lookup!E175,lookup!F177-lookup!G176))","v":4638.2826551304897},{"$f":"IF(E184=\"\",\"\",lookup!E$2)","v":5264.0479388639606},{"$f":"IF(E184=\"\",\"\",lookup!E176)","v":927030.76574238401}]
[null,null,null,null,{"$f":"IF(I184=\"\",\"\",IF(B$14<E184+1,\"\",IF(I184=B$15,\"\",lookup!C177)))","v":175},{"$f":"IF(E185=\"\",\"\",IF(B$11=\"Ordinary\",lookup!D177-G185,lookup!F177))","v":927030.76574238401},{"$f":"IF(E185=\"\",\"\",IF(B$11=\"Ordinary\",lookup!D177-lookup!E176,lookup!F178-lookup!G177))","v":4635.153828711831},{"$f":"IF(E185=\"\",\"\",lookup!E$2)","v":5264.0479388639606},{"$f":"IF(E185=\"\",\"\",lookup!E177)","v":926401.87163223187}]
[null,null,null,null,{"$f":"IF(I185=\"\",\"\",IF(B$14<E185+1,\"\",IF(I185=B$15,\"\",lookup!C178)))","v":176},{"$f":"IF(E186=\"\",\"\",IF(B$11=\"Ordinary\",lookup!D178-G186,lookup!F178))","v":926401.87163223187},{"$f":"IF(E186=\"\",\"\",IF(B$11=\"Ordinary\",lookup!D178-lookup!E177,lookup!F179-lookup!G178))","v":4632.0093581610126},{"$f":"IF(E186=\"\",\"\",lookup!E$2)","v":5264.0479388639606},{"$f":"IF(E186=\"\",\"\",lookup!E178)","v":925769.8330515289}]
[null,null,null,null,{"$f":"IF(I186=\"\",\"\",IF(B$14<E186+1,\"\",IF(I186=B$15,\"\",lookup!C179)))","v":177},{"$f":"IF(E187=\"\",\"\",IF(B$11=\"Ordinary\",lookup!D179-G187,lookup!F179))","v":925769.8330515289},{"$f":"IF(E187=\"\",\"\",IF(B$11=\"Ordinary\",lookup!D179-lookup!E178,lookup!F180-lookup!G179))","v":4628.8491652575321},{"$f":"IF(E187=\"\",\"\",lookup!E$2)","v":5264.0479388639606},{"$f":"IF(E187=\"\",\"\",lookup!E179)","v":925134.63427792245}]
[null,null,null,null,{"$f":"IF(I187=\"\",\"\",IF(B$14<E187+1,\"\",IF(I187=B$15,\"\",lookup!C180)))","v":178},{"$f":"IF(E188=\"\",\"\",IF(B$11=\"Ordinary\",lookup!D180-G188,lookup!F180))","v":925134.63427792245},{"$f":"IF(E188=\"\",\"\",IF(B$11=\"Ordinary\",lookup!D180-lookup!E179,lookup!F181-lookup!G180))","v":4625.6731713894987},{"$f":"IF(E188=\"\",\"\",lookup!E$2)","v":5264.0479388639606},{"$f":"IF(E188=\"\",\"\",lookup!E180)","v":924496.25951044797}]
[null,null,null,null,{"$f":"IF(I188=\"\",\"\",IF(B$14<E188+1,\"\",IF(I188=B$15,\"\",lookup!C181)))","v":179},{"$f":"IF(E189=\"\",\"\",IF(B$11=\"Ordinary\",lookup!D181-G189,lookup!F181))","v":924496.25951044797},{"$f":"IF(E189=\"\",\"\",IF(B$11=\"Ordinary\",lookup!D181-lookup!E180,lookup!F182-lookup!G181))","v":4622.4812975521199},{"$f":"IF(E189=\"\",\"\",lookup!E$2)","v":5264.0479388639606},{"$f":"IF(E189=\"\",\"\",lookup!E181)","v":923854.69286913611}]
[null,null,null,null,{"$f":"IF(I189=\"\",\"\",IF(B$14<E189+1,\"\",IF(I189=B$15,\"\",lookup!C182)))","v":180},{"$f":"IF(E190=\"\",\"\",IF(B$11=\"Ordinary\",lookup!D182-G190,lookup!F182))","v":923854.69286913611},{"$f":"IF(E190=\"\",\"\",IF(B$11=\"Ordinary\",lookup!D182-lookup!E181,lookup!F183-lookup!G182))","v":4619.273464345606},{"$f":"IF(E190=\"\",\"\",lookup!E$2)","v":5264.0479388639606},{"$f":"IF(E190=\"\",\"\",lookup!E182)","v":923209.91839461774}]
[null,null,null,null,{"$f":"IF(I190=\"\",\"\",IF(B$14<E190+1,\"\",IF(I190=B$15,\"\",lookup!C183)))","v":181},{"$f":"IF(E191=\"\",\"\",IF(B$11=\"Ordinary\",lookup!D183-G191,lookup!F183))","v":923209.91839461774},{"$f":"IF(E191=\"\",\"\",IF(B$11=\"Ordinary\",lookup!D183-lookup!E182,lookup!F184-lookup!G183))","v":4616.0495919729583},{"$f":"IF(E191=\"\",\"\",lookup!E$2)","v":5264.0479388639606},{"$f":"IF(E191=\"\",\"\",lookup!E183)","v":922561.92004772671}]
[null,null,null,null,{"$f":"IF(I191=\"\",\"\",IF(B$14<E191+1,\"\",IF(I191=B$15,\"\",lookup!C184)))","v":182},{"$f":"IF(E192=\"\",\"\",IF(B$11=\"Ordinary\",lookup!D184-G192,lookup!F184))","v":922561.92004772671},{"$f":"IF(E192=\"\",\"\",IF(B$11=\"Ordinary\",lookup!D184-lookup!E183,lookup!F185-lookup!G184))","v":4612.8096002385719},{"$f":"IF(E192=\"\",\"\",lookup!E$2)","v":5264.0479388639606},{"$f":"IF(E192=\"\",\"\",lookup!E184)","v":921910.68170910131}]
[null,null,null,null,{"$f":"IF(I192=\"\",\"\",IF(B$14<E192+1,\"\",IF(I192=B$15,\"\",lookup!C185)))","v":183},{"$f":"IF(E193=\"\",\"\",IF(B$11=\"Ordinary\",lookup!D185-G193,lookup!F185))","v":921910.68170910131},{"$f":"IF(E193=\"\",\"\",IF(B$11=\"Ordinary\",lookup!D185-lookup!E184,lookup!F186-lookup!G185))","v":4609.5534085454419},{"$f":"IF(E193=\"\",\"\",lookup!E$2)","v":5264.0479388639606},{"$f":"IF(E193=\"\",\"\",lookup!E185)","v":921256.18717878277}]
[null,null,null,null,{"$f":"IF(I193=\"\",\"\",IF(B$14<E193+1,\"\",IF(I193=B$15,\"\",lookup!C186)))","v":184},{"$f":"IF(E194=\"\",\"\",IF(B$11=\"Ordinary\",lookup!D186-G194,lookup!F186))","v":921256.18717878277},{"$f":"IF(E194=\"\",\"\",IF(B$11=\"Ordinary\",lookup!D186-lookup!E185,lookup!F187-lookup!G186))","v":4606.2809358937666},{"$f":"IF(E194=\"\",\"\",lookup!E$2)","v":5264.0479388639606},{"$f":"IF(E194=\"\",\"\",lookup!E186)","v":920598.42017581256}]
[null,null,null,null,{"$f":"IF(I194=\"\",\"\",IF(B$14<E194+1,\"\",IF(I194=B$15,\"\",lookup!C187)))","v":185},{"$f":"IF(E195=\"\",\"\",IF(B$11=\"Ordinary\",lookup!D187-G195,lookup!F187))","v":920598.42017581256},{"$f":"IF(E195=\"\",\"\",IF(B$11=\"Ordinary\",lookup!D187-lookup!E186,lookup!F188-lookup!G187))","v":4602.9921008789679},{"$f":"IF(E195=\"\",\"\",lookup!E$2)","v":5264.0479388639606},{"$f":"IF(E195=\"\",\"\",lookup!E187)","v":919937.36433782754}]
[null,null,null,null,{"$f":"IF(I195=\"\",\"\",IF(B$14<E195+1,\"\",IF(I195=B$15,\"\",lookup!C188)))","v":186},{"$f":"IF(E196=\"\",\"\",IF(B$11=\"Ordinary\",lookup!D188-G196,lookup!F188))","v":919937.36433782754},{"$f":"IF(E196=\"\",\"\",IF(B$11=\"Ordinary\",lookup!D188-lookup!E187,lookup!F189-lookup!G188))","v":4599.6868216890143},{"$f":"IF(E196=\"\",\"\",lookup!E$2)","v":5264.0479388639606},{"$f":"IF(E196=\"\",\"\",lookup!E188)","v":919273.00322065258}]
[null,null,null,null,{"$f":"IF(I196=\"\",\"\",IF(B$14<E196+1,\"\",IF(I196=B$15,\"\",lookup!C189)))","v":187},{"$f":"IF(E197=\"\",\"\",IF(B$11=\"Ordinary\",lookup!D189-G197,lookup!F189))","v":919273.00322065258},{"$f":"IF(E197=\"\",\"\",IF(B$11=\"Ordinary\",lookup!D189-lookup!E188,lookup!F190-lookup!G189))","v":4596.3650161031401},{"$f":"IF(E197=\"\",\"\",lookup!E$2)","v":5264.0479388639606},{"$f":"IF(E197=\"\",\"\",lookup!E189)","v":918605.32029789174}]
[null,null,null,null,{"$f":"IF(I197=\"\",\"\",IF(B$14<E197+1,\"\",IF(I197=B$15,\"\",lookup!C190)))","v":188},{"$f":"IF(E198=\"\",\"\",IF(B$11=\"Ordinary\",lookup!D190-G198,lookup!F190))","v":918605.32029789174},{"$f":"IF(E198=\"\",\"\",IF(B$11=\"Ordinary\",lookup!D190-lookup!E189,lookup!F191-lookup!G190))","v":4593.0266014894005},{"$f":"IF(E198=\"\",\"\",lookup!E$2)","v":5264.0479388639606},{"$f":"IF(E198=\"\",\"\",lookup!E190)","v":917934.29896051716}]
[null,null,null,null,{"$f":"IF(I198=\"\",\"\",IF(B$14<E198+1,\"\",IF(I198=B$15,\"\",lookup!C191)))","v":189},{"$f":"IF(E199=\"\",\"\",IF(B$11=\"Ordinary\",lookup!D191-G199,lookup!F191))","v":917934.29896051716},{"$f":"IF(E199=\"\",\"\",IF(B$11=\"Ordinary\",lookup!D191-lookup!E190,lookup!F192-lookup!G191))","v":4589.6714948024601},{"$f":"IF(E199=\"\",\"\",lookup!E$2)","v":5264.0479388639606},{"$f":"IF(E199=\"\",\"\",lookup!E191)","v":917259.92251645564}]
[null,null,null,null,{"$f":"IF(I199=\"\",\"\",IF(B$14<E199+1,\"\",IF(I199=B$15,\"\",lookup!C192)))","v":190},{"$f":"IF(E200=\"\",\"\",IF(B$11=\"Ordinary\",lookup!D192-G200,lookup!F192))","v":917259.92251645564},{"$f":"IF(E200=\"\",\"\",IF(B$11=\"Ordinary\",lookup!D192-lookup!E191,lookup!F193-lookup!G192))","v":4586.2996125821956},{"$f":"IF(E200=\"\",\"\",lookup!E$2)","v":5264.0479388639606},{"$f":"IF(E200=\"\",\"\",lookup!E192)","v":916582.17419017386}]
[null,null,null,null,{"$f":"IF(I200=\"\",\"\",IF(B$14<E200+1,\"\",IF(I200=B$15,\"\",lookup!C193)))","v":191},{"$f":"IF(E201=\"\",\"\",IF(B$11=\"Ordinary\",lookup!D193-G201,lookup!F193))","v":916582.17419017386},{"$f":"IF(E201=\"\",\"\",IF(B$11=\"Ordinary\",lookup!D193-lookup!E192,lookup!F194-lookup!G193))","v":4582.9108709507855},{"$f":"IF(E201=\"\",\"\",lookup!E$2)","v":5264.0479388639606},{"$f":"IF(E201=\"\",\"\",lookup!E193)","v":915901.03712226066}]
[null,null,null,null,{"$f":"IF(I201=\"\",\"\",IF(B$14<E201+1,\"\",IF(I201=B$15,\"\",lookup!C194)))","v":192},{"$f":"IF(E202=\"\",\"\",IF(B$11=\"Ordinary\",lookup!D194-G202,lookup!F194))","v":915901.03712226066},{"$f":"IF(E202=\"\",\"\",IF(B$11=\"Ordinary\",lookup!D194-lookup!E193,lookup!F195-lookup!G194))","v":4579.5051856111968},{"$f":"IF(E202=\"\",\"\",lookup!E$2)","v":5264.0479388639606},{"$f":"IF(E202=\"\",\"\",lookup!E194)","v":915216.49436900788}]
[null,null,null,null,{"$f":"IF(I202=\"\",\"\",IF(B$14<E202+1,\"\",IF(I202=B$15,\"\",lookup!C195)))","v":193},{"$f":"IF(E203=\"\",\"\",IF(B$11=\"Ordinary\",lookup!D195-G203,lookup!F195))","v":915216.49436900788},{"$f":"IF(E203=\"\",\"\",IF(B$11=\"Ordinary\",lookup!D195-lookup!E194,lookup!F196-lookup!G195))","v":4576.082471844973},{"$f":"IF(E203=\"\",\"\",lookup!E$2)","v":5264.0479388639606},{"$f":"IF(E203=\"\",\"\",lookup!E195)","v":914528.52890198887}]
[null,null,null,null,{"$f":"IF(I203=\"\",\"\",IF(B$14<E203+1,\"\",IF(I203=B$15,\"\",lookup!C196)))","v":194},{"$f":"IF(E204=\"\",\"\",IF(B$11=\"Ordinary\",lookup!D196-G204,lookup!F196))","v":914528.52890198887},{"$f":"IF(E204=\"\",\"\",IF(B$11=\"Ordinary\",lookup!D196-lookup!E195,lookup!F197-lookup!G196))","v":4572.6426445097895},{"$f":"IF(E204=\"\",\"\",lookup!E$2)","v":5264.0479388639606},{"$f":"IF(E204=\"\",\"\",lookup!E196)","v":913837.12360763468}]
[null,null,null,null,{"$f":"IF(I204=\"\",\"\",IF(B$14<E204+1,\"\",IF(I204=B$15,\"\",lookup!C197)))","v":195},{"$f":"IF(E205=\"\",\"\",IF(B$11=\"Ordinary\",lookup!D197-G205,lookup!F197))","v":913837.12360763468},{"$f":"IF(E205=\"\",\"\",IF(B$11=\"Ordinary\",lookup!D197-lookup!E196,lookup!F198-lookup!G197))","v":4569.1856180380564},{"$f":"IF(E205=\"\",\"\",lookup!E$2)","v":5264.0479388639606},{"$f":"IF(E205=\"\",\"\",lookup!E197)","v":913142.26128680876}]
[null,null,null,null,{"$f":"IF(I205=\"\",\"\",IF(B$14<E205+1,\"\",IF(I205=B$15,\"\",lookup!C198)))","v":196},{"$f":"IF(E206=\"\",\"\",IF(B$11=\"Ordinary\",lookup!D198-G206,lookup!F198))","v":913142.26128680876},{"$f":"IF(E206=\"\",\"\",IF(B$11=\"Ordinary\",lookup!D198-lookup!E197,lookup!F199-lookup!G198))","v":4565.7113064338919},{"$f":"IF(E206=\"\",\"\",lookup!E$2)","v":5264.0479388639606},{"$f":"IF(E206=\"\",\"\",lookup!E198)","v":912443.92465437867}]
[null,null,null,null,{"$f":"IF(I206=\"\",\"\",IF(B$14<E206+1,\"\",IF(I206=B$15,\"\",lookup!C199)))","v":197},{"$f":"IF(E207=\"\",\"\",IF(B$11=\"Ordinary\",lookup!D199-G207,lookup!F199))","v":912443.92465437867},{"$f":"IF(E207=\"\",\"\",IF(B$11=\"Ordinary\",lookup!D199-lookup!E198,lookup!F200-lookup!G199))","v":4562.2196232718416},{"$f":"IF(E207=\"\",\"\",lookup!E$2)","v":5264.0479388639606},{"$f":"IF(E207=\"\",\"\",lookup!E199)","v":911742.09633878653}]
[null,null,null,null,{"$f":"IF(I207=\"\",\"\",IF(B$14<E207+1,\"\",IF(I207=B$15,\"\",lookup!C200)))","v":198},{"$f":"IF(E208=\"\",\"\",IF(B$11=\"Ordinary\",lookup!D200-G208,lookup!F200))","v":911742.09633878653},{"$f":"IF(E208=\"\",\"\",IF(B$11=\"Ordinary\",lookup!D200-lookup!E199,lookup!F201-lookup!G200))","v":4558.7104816938518},{"$f":"IF(E208=\"\",\"\",lookup!E$2)","v":5264.0479388639606},{"$f":"IF(E208=\"\",\"\",lookup!E200)","v":911036.75888161641}]
[null,null,null,null,{"$f":"IF(I208=\"\",\"\",IF(B$14<E208+1,\"\",IF(I208=B$15,\"\",lookup!C201)))","v":199},{"$f":"IF(E209=\"\",\"\",IF(B$11=\"Ordinary\",lookup!D201-G209,lookup!F201))","v":911036.75888161641},{"$f":"IF(E209=\"\",\"\",IF(B$11=\"Ordinary\",lookup!D201-lookup!E200,lookup!F202-lookup!G201))","v":4555.1837944079889},{"$f":"IF(E209=\"\",\"\",lookup!E$2)","v":5264.0479388639606},{"$f":"IF(E209=\"\",\"\",lookup!E201)","v":910327.89473716042}]
[null,null,null,null,{"$f":"IF(I209=\"\",\"\",IF(B$14<E209+1,\"\",IF(I209=B$15,\"\",lookup!C202)))","v":200},{"$f":"IF(E210=\"\",\"\",IF(B$11=\"Ordinary\",lookup!D202-G210,lookup!F202))","v":910327.89473716042},{"$f":"IF(E210=\"\",\"\",IF(B$11=\"Ordinary\",lookup!D202-lookup!E201,lookup!F203-lookup!G202))","v":4551.6394736857619},{"$f":"IF(E210=\"\",\"\",lookup!E$2)","v":5264.0479388639606},{"$f":"IF(E210=\"\",\"\",lookup!E202)","v":909615.4862719822}]
[null,null,null,null,{"$f":"IF(I210=\"\",\"\",IF(B$14<E210+1,\"\",IF(I210=B$15,\"\",lookup!C203)))","v":201},{"$f":"IF(E211=\"\",\"\",IF(B$11=\"Ordinary\",lookup!D203-G211,lookup!F203))","v":909615.4862719822},{"$f":"IF(E211=\"\",\"\",IF(B$11=\"Ordinary\",lookup!D203-lookup!E202,lookup!F204-lookup!G203))","v":4548.077431359794},{"$f":"IF(E211=\"\",\"\",lookup!E$2)","v":5264.0479388639606},{"$f":"IF(E211=\"\",\"\",lookup!E203)","v":908899.51576447801}]
[null,null,null,null,{"$f":"IF(I211=\"\",\"\",IF(B$14<E211+1,\"\",IF(I211=B$15,\"\",lookup!C204)))","v":202},{"$f":"IF(E212=\"\",\"\",IF(B$11=\"Ordinary\",lookup!D204-G212,lookup!F204))","v":908899.51576447801},{"$f":"IF(E212=\"\",\"\",IF(B$11=\"Ordinary\",lookup!D204-lookup!E203,lookup!F205-lookup!G204))","v":4544.4975788223092},{"$f":"IF(E212=\"\",\"\",lookup!E$2)","v":5264.0479388639606},{"$f":"IF(E212=\"\",\"\",lookup!E204)","v":908179.96540443634}]
[null,null,null,null,{"$f":"IF(I212=\"\",\"\",IF(B$14<E212+1,\"\",IF(I212=B$15,\"\",lookup!C205)))","v":203},{"$f":"IF(E213=\"\",\"\",IF(B$11=\"Ordinary\",lookup!D205-G213,lookup!F205))","v":908179.96540443634},{"$f":"IF(E213=\"\",\"\",IF(B$11=\"Ordinary\",lookup!D205-lookup!E204,lookup!F206-lookup!G205))","v":4540.8998270221055},{"$f":"IF(E213=\"\",\"\",lookup!E$2)","v":5264.0479388639606},{"$f":"IF(E213=\"\",\"\",lookup!E205)","v":907456.81729259447}]
[null,null,null,null,{"$f":"IF(I213=\"\",\"\",IF(B$14<E213+1,\"\",IF(I213=B$15,\"\",lookup!C206)))","v":204},{"$f":"IF(E214=\"\",\"\",IF(B$11=\"Ordinary\",lookup!D206-G214,lookup!F206))","v":907456.81729259447},{"$f":"IF(E214=\"\",\"\",IF(B$11=\"Ordinary\",lookup!D206-lookup!E205,lookup!F207-lookup!G206))","v":4537.2840864629252},{"$f":"IF(E214=\"\",\"\",lookup!E$2)","v":5264.0479388639606},{"$f":"IF(E214=\"\",\"\",lookup!E206)","v":906730.05344019341}]
[null,null,null,null,{"$f":"IF(I214=\"\",\"\",IF(B$14<E214+1,\"\",IF(I214=B$15,\"\",lookup!C207)))","v":205},{"$f":"IF(E215=\"\",\"\",IF(B$11=\"Ordinary\",lookup!D207-G215,lookup!F207))","v":906730.05344019341},{"$f":"IF(E215=\"\",\"\",IF(B$11=\"Ordinary\",lookup!D207-lookup!E206,lookup!F208-lookup!G207))","v":4533.6502672008937},{"$f":"IF(E215=\"\",\"\",lookup!E$2)","v":5264.0479388639606},{"$f":"IF(E215=\"\",\"\",lookup!E207)","v":905999.65576853033}]
[null,null,null,null,{"$f":"IF(I215=\"\",\"\",IF(B$14<E215+1,\"\",IF(I215=B$15,\"\",lookup!C208)))","v":206},{"$f":"IF(E216=\"\",\"\",IF(B$11=\"Ordinary\",lookup!D208-G216,lookup!F208))","v":905999.65576853033},{"$f":"IF(E216=\"\",\"\",IF(B$11=\"Ordinary\",lookup!D208-lookup!E207,lookup!F209-lookup!G208))","v":4529.9982788425405},{"$f":"IF(E216=\"\",\"\",lookup!E$2)","v":5264.0479388639606},{"$f":"IF(E216=\"\",\"\",lookup!E208)","v":905265.60610850889}]
[null,null,null,null,{"$f":"IF(I216=\"\",\"\",IF(B$14<E216+1,\"\",IF(I216=B$15,\"\",lookup!C209)))","v":207},{"$f":"IF(E217=\"\",\"\",IF(B$11=\"Ordinary\",lookup!D209-G217,lookup!F209))","v":905265.60610850889},{"$f":"IF(E217=\"\",\"\",IF(B$11=\"Ordinary\",lookup!D209-lookup!E208,lookup!F210-lookup!G209))","v":4526.3280305424705},{"$f":"IF(E217=\"\",\"\",lookup!E$2)","v":5264.0479388639606},{"$f":"IF(E217=\"\",\"\",lookup!E209)","v":904527.88620018738}]
[null,null,null,null,{"$f":"IF(I217=\"\",\"\",IF(B$14<E217+1,\"\",IF(I217=B$15,\"\",lookup!C210)))","v":208},{"$f":"IF(E218=\"\",\"\",IF(B$11=\"Ordinary\",lookup!D210-G218,lookup!F210))","v":904527.88620018738},{"$f":"IF(E218=\"\",\"\",IF(B$11=\"Ordinary\",lookup!D210-lookup!E209,lookup!F211-lookup!G210))","v":4522.6394310008036},{"$f":"IF(E218=\"\",\"\",lookup!E$2)","v":5264.0479388639606},{"$f":"IF(E218=\"\",\"\",lookup!E210)","v":903786.4776923242}]
[null,null,null,null,{"$f":"IF(I218=\"\",\"\",IF(B$14<E218+1,\"\",IF(I218=B$15,\"\",lookup!C211)))","v":209},{"$f":"IF(E219=\"\",\"\",IF(B$11=\"Ordinary\",lookup!D211-G219,lookup!F211))","v":903786.4776923242},{"$f":"IF(E219=\"\",\"\",IF(B$11=\"Ordinary\",lookup!D211-lookup!E210,lookup!F212-lookup!G211))","v":4518.9323884615442},{"$f":"IF(E219=\"\",\"\",lookup!E$2)","v":5264.0479388639606},{"$f":"IF(E219=\"\",\"\",lookup!E211)","v":903041.36214192177}]
[null,null,null,null,{"$f":"IF(I219=\"\",\"\",IF(B$14<E219+1,\"\",IF(I219=B$15,\"\",lookup!C212)))","v":210},{"$f":"IF(E220=\"\",\"\",IF(B$11=\"Ordinary\",lookup!D212-G220,lookup!F212))","v":903041.36214192177},{"$f":"IF(E220=\"\",\"\",IF(B$11=\"Ordinary\",lookup!D212-lookup!E211,lookup!F213-lookup!G212))","v":4515.2068107095547},{"$f":"IF(E220=\"\",\"\",lookup!E$2)","v":5264.0479388639606},{"$f":"IF(E220=\"\",\"\",lookup!E212)","v":902292.52101376734}]
[null,null,null,null,{"$f":"IF(I220=\"\",\"\",IF(B$14<E220+1,\"\",IF(I220=B$15,\"\",lookup!C213)))","v":211},{"$f":"IF(E221=\"\",\"\",IF(B$11=\"Ordinary\",lookup!D213-G221,lookup!F213))","v":902292.52101376734},{"$f":"IF(E221=\"\",\"\",IF(B$11=\"Ordinary\",lookup!D213-lookup!E212,lookup!F214-lookup!G213))","v":4511.4626050686929},{"$f":"IF(E221=\"\",\"\",lookup!E$2)","v":5264.0479388639606},{"$f":"IF(E221=\"\",\"\",lookup!E213)","v":901539.93567997206}]
[null,null,null,null,{"$f":"IF(I221=\"\",\"\",IF(B$14<E221+1,\"\",IF(I221=B$15,\"\",lookup!C214)))","v":212},{"$f":"IF(E222=\"\",\"\",IF(B$11=\"Ordinary\",lookup!D214-G222,lookup!F214))","v":901539.93567997206},{"$f":"IF(E222=\"\",\"\",IF(B$11=\"Ordinary\",lookup!D214-lookup!E213,lookup!F215-lookup!G214))","v":4507.6996783997165},{"$f":"IF(E222=\"\",\"\",lookup!E$2)","v":5264.0479388639606},{"$f":"IF(E222=\"\",\"\",lookup!E214)","v":900783.58741950779}]
[null,null,null,null,{"$f":"IF(I222=\"\",\"\",IF(B$14<E222+1,\"\",IF(I222=B$15,\"\",lookup!C215)))","v":213},{"$f":"IF(E223=\"\",\"\",IF(B$11=\"Ordinary\",lookup!D215-G223,lookup!F215))","v":900783.58741950779},{"$f":"IF(E223=\"\",\"\",IF(B$11=\"Ordinary\",lookup!D215-lookup!E214,lookup!F216-lookup!G215))","v":4503.9179370974889},{"$f":"IF(E223=\"\",\"\",lookup!E$2)","v":5264.0479388639606},{"$f":"IF(E223=\"\",\"\",lookup!E215)","v":900023.4574177413}]
[null,null,null,null,{"$f":"IF(I223=\"\",\"\",IF(B$14<E223+1,\"\",IF(I223=B$15,\"\",lookup!C216)))","v":214},{"$f":"IF(E224=\"\",\"\",IF(B$11=\"Ordinary\",lookup!D216-G224,lookup!F216))","v":900023.4574177413},{"$f":"IF(E224=\"\",\"\",IF(B$11=\"Ordinary\",lookup!D216-lookup!E215,lookup!F217-lookup!G216))","v":4500.1172870886512},{"$f":"IF(E224=\"\",\"\",lookup!E$2)","v":5264.0479388639606},{"$f":"IF(E224=\"\",\"\",lookup!E216)","v":899259.52676596597}]
[null,null,null,null,{"$f":"IF(I224=\"\",\"\",IF(B$14<E224+1,\"\",IF(I224=B$15,\"\",lookup!C217)))","v":215},{"$f":"IF(E225=\"\",\"\",IF(B$11=\"Ordinary\",lookup!D217-G225,lookup!F217))","v":899259.52676596597},{"$f":"IF(E225=\"\",\"\",IF(B$11=\"Ordinary\",lookup!D217-lookup!E216,lookup!F218-lookup!G217))","v":4496.2976338297594},{"$f":"IF(E225=\"\",\"\",lookup!E$2)","v":5264.0479388639606},{"$f":"IF(E225=\"\",\"\",lookup!E217)","v":898491.77646093175}]
[null,null,null,null,{"$f":"IF(I225=\"\",\"\",IF(B$14<E225+1,\"\",IF(I225=B$15,\"\",lookup!C218)))","v":216},{"$f":"IF(E226=\"\",\"\",IF(B$11=\"Ordinary\",lookup!D218-G226,lookup!F218))","v":898491.77646093175},{"$f":"IF(E226=\"\",\"\",IF(B$11=\"Ordinary\",lookup!D218-lookup!E217,lookup!F219-lookup!G218))","v":4492.458882304607},{"$f":"IF(E226=\"\",\"\",lookup!E$2)","v":5264.0479388639606},{"$f":"IF(E226=\"\",\"\",lookup!E218)","v":897720.18740437238}]
[null,null,null,null,{"$f":"IF(I226=\"\",\"\",IF(B$14<E226+1,\"\",IF(I226=B$15,\"\",lookup!C219)))","v":217},{"$f":"IF(E227=\"\",\"\",IF(B$11=\"Ordinary\",lookup!D219-G227,lookup!F219))","v":897720.18740437238},{"$f":"IF(E227=\"\",\"\",IF(B$11=\"Ordinary\",lookup!D219-lookup!E218,lookup!F220-lookup!G219))","v":4488.6009370217798},{"$f":"IF(E227=\"\",\"\",lookup!E$2)","v":5264.0479388639606},{"$f":"IF(E227=\"\",\"\",lookup!E219)","v":896944.74040253018}]
[null,null,null,null,{"$f":"IF(I227=\"\",\"\",IF(B$14<E227+1,\"\",IF(I227=B$15,\"\",lookup!C220)))","v":218},{"$f":"IF(E228=\"\",\"\",IF(B$11=\"Ordinary\",lookup!D220-G228,lookup!F220))","v":896944.74040253018},{"$f":"IF(E228=\"\",\"\",IF(B$11=\"Ordinary\",lookup!D220-lookup!E219,lookup!F221-lookup!G220))","v":4484.7237020125613},{"$f":"IF(E228=\"\",\"\",lookup!E$2)","v":5264.0479388639606},{"$f":"IF(E228=\"\",\"\",lookup!E220)","v":896165.41616567876}]
[null,null,null,null,{"$f":"IF(I228=\"\",\"\",IF(B$14<E228+1,\"\",IF(I228=B$15,\"\",lookup!C221)))","v":219},{"$f":"IF(E229=\"\",\"\",IF(B$11=\"Ordinary\",lookup!D221-G229,lookup!F221))","v":896165.41616567876},{"$f":"IF(E229=\"\",\"\",IF(B$11=\"Ordinary\",lookup!D221-lookup!E220,lookup!F222-lookup!G221))","v":4480.8270808282541},{"$f":"IF(E229=\"\",\"\",lookup!E$2)","v":5264.0479388639606},{"$f":"IF(E229=\"\",\"\",lookup!E221)","v":895382.19530764304}]
[null,null,null,null,{"$f":"IF(I229=\"\",\"\",IF(B$14<E229+1,\"\",IF(I229=B$15,\"\",lookup!C222)))","v":220},{"$f":"IF(E230=\"\",\"\",IF(B$11=\"Ordinary\",lookup!D222-G230,lookup!F222))","v":895382.19530764304},{"$f":"IF(E230=\"\",\"\",IF(B$11=\"Ordinary\",lookup!D222-lookup!E221,lookup!F223-lookup!G222))","v":4476.9109765380854},{"$f":"IF(E230=\"\",\"\",lookup!E$2)","v":5264.0479388639606},{"$f":"IF(E230=\"\",\"\",lookup!E222)","v":894595.05834531714}]
[null,null,null,null,{"$f":"IF(I230=\"\",\"\",IF(B$14<E230+1,\"\",IF(I230=B$15,\"\",lookup!C223)))","v":221},{"$f":"IF(E231=\"\",\"\",IF(B$11=\"Ordinary\",lookup!D223-G231,lookup!F223))","v":894595.05834531714},{"$f":"IF(E231=\"\",\"\",IF(B$11=\"Ordinary\",lookup!D223-lookup!E222,lookup!F224-lookup!G223))","v":4472.9752917265287},{"$f":"IF(E231=\"\",\"\",lookup!E$2)","v":5264.0479388639606},{"$f":"IF(E231=\"\",\"\",lookup!E223)","v":893803.98569817969}]
[null,null,null,null,{"$f":"IF(I231=\"\",\"\",IF(B$14<E231+1,\"\",IF(I231=B$15,\"\",lookup!C224)))","v":222},{"$f":"IF(E232=\"\",\"\",IF(B$11=\"Ordinary\",lookup!D224-G232,lookup!F224))","v":893803.98569817969},{"$f":"IF(E232=\"\",\"\",IF(B$11=\"Ordinary\",lookup!D224-lookup!E223,lookup!F225-lookup!G224))","v":4469.0199284908595},{"$f":"IF(E232=\"\",\"\",lookup!E$2)","v":5264.0479388639606},{"$f":"IF(E232=\"\",\"\",lookup!E224)","v":893008.95768780657}]
[null,null,null,null,{"$f":"IF(I232=\"\",\"\",IF(B$14<E232+1,\"\",IF(I232=B$15,\"\",lookup!C225)))","v":223},{"$f":"IF(E233=\"\",\"\",IF(B$11=\"Ordinary\",lookup!D225-G233,lookup!F225))","v":893008.95768780657},{"$f":"IF(E233=\"\",\"\",IF(B$11=\"Ordinary\",lookup!D225-lookup!E224,lookup!F226-lookup!G225))","v":4465.0447884389432},{"$f":"IF(E233=\"\",\"\",lookup!E$2)","v":5264.0479388639606},{"$f":"IF(E233=\"\",\"\",lookup!E225)","v":892209.95453738153}]
[null,null,null,null,{"$f":"IF(I233=\"\",\"\",IF(B$14<E233+1,\"\",IF(I233=B$15,\"\",lookup!C226)))","v":224},{"$f":"IF(E234=\"\",\"\",IF(B$11=\"Ordinary\",lookup!D226-G234,lookup!F226))","v":892209.95453738153},{"$f":"IF(E234=\"\",\"\",IF(B$11=\"Ordinary\",lookup!D226-lookup!E225,lookup!F227-lookup!G226))","v":4461.0497726867907},{"$f":"IF(E234=\"\",\"\",lookup!E$2)","v":5264.0479388639606},{"$f":"IF(E234=\"\",\"\",lookup!E226)","v":891406.95637120435}]
[null,null,null,null,{"$f":"IF(I234=\"\",\"\",IF(B$14<E234+1,\"\",IF(I234=B$15,\"\",lookup!C227)))","v":225},{"$f":"IF(E235=\"\",\"\",IF(B$11=\"Ordinary\",lookup!D227-G235,lookup!F227))","v":891406.95637120435},{"$f":"IF(E235=\"\",\"\",IF(B$11=\"Ordinary\",lookup!D227-lookup!E226,lookup!F228-lookup!G227))","v":4457.0347818558803},{"$f":"IF(E235=\"\",\"\",lookup!E$2)","v":5264.0479388639606},{"$f":"IF(E235=\"\",\"\",lookup!E227)","v":890599.94321419625}]
[null,null,null,null,{"$f":"IF(I235=\"\",\"\",IF(B$14<E235+1,\"\",IF(I235=B$15,\"\",lookup!C228)))","v":226},{"$f":"IF(E236=\"\",\"\",IF(B$11=\"Ordinary\",lookup!D228-G236,lookup!F228))","v":890599.94321419625},{"$f":"IF(E236=\"\",\"\",IF(B$11=\"Ordinary\",lookup!D228-lookup!E227,lookup!F229-lookup!G228))","v":4452.9997160708299},{"$f":"IF(E236=\"\",\"\",lookup!E$2)","v":5264.0479388639606},{"$f":"IF(E236=\"\",\"\",lookup!E228)","v":889788.8949914031}]
[null,null,null,null,{"$f":"IF(I236=\"\",\"\",IF(B$14<E236+1,\"\",IF(I236=B$15,\"\",lookup!C229)))","v":227},{"$f":"IF(E237=\"\",\"\",IF(B$11=\"Ordinary\",lookup!D229-G237,lookup!F229))","v":889788.8949914031},{"$f":"IF(E237=\"\",\"\",IF(B$11=\"Ordinary\",lookup!D229-lookup!E228,lookup!F230-lookup!G229))","v":4448.944474956952},{"$f":"IF(E237=\"\",\"\",lookup!E$2)","v":5264.0479388639606},{"$f":"IF(E237=\"\",\"\",lookup!E229)","v":888973.79152749607}]
[null,null,null,null,{"$f":"IF(I237=\"\",\"\",IF(B$14<E237+1,\"\",IF(I237=B$15,\"\",lookup!C230)))","v":228},{"$f":"IF(E238=\"\",\"\",IF(B$11=\"Ordinary\",lookup!D230-G238,lookup!F230))","v":888973.79152749607},{"$f":"IF(E238=\"\",\"\",IF(B$11=\"Ordinary\",lookup!D230-lookup!E229,lookup!F231-lookup!G230))","v":4444.8689576373436},{"$f":"IF(E238=\"\",\"\",lookup!E$2)","v":5264.0479388639606},{"$f":"IF(E238=\"\",\"\",lookup!E230)","v":888154.61254626943}]
[null,null,null,null,{"$f":"IF(I238=\"\",\"\",IF(B$14<E238+1,\"\",IF(I238=B$15,\"\",lookup!C231)))","v":229},{"$f":"IF(E239=\"\",\"\",IF(B$11=\"Ordinary\",lookup!D231-G239,lookup!F231))","v":888154.61254626943},{"$f":"IF(E239=\"\",\"\",IF(B$11=\"Ordinary\",lookup!D231-lookup!E230,lookup!F232-lookup!G231))","v":4440.7730627312558},{"$f":"IF(E239=\"\",\"\",lookup!E$2)","v":5264.0479388639606},{"$f":"IF(E239=\"\",\"\",lookup!E231)","v":887331.33767013671}]
[null,null,null,null,{"$f":"IF(I239=\"\",\"\",IF(B$14<E239+1,\"\",IF(I239=B$15,\"\",lookup!C232)))","v":230},{"$f":"IF(E240=\"\",\"\",IF(B$11=\"Ordinary\",lookup!D232-G240,lookup!F232))","v":887331.33767013671},{"$f":"IF(E240=\"\",\"\",IF(B$11=\"Ordinary\",lookup!D232-lookup!E231,lookup!F233-lookup!G232))","v":4436.6566883506021},{"$f":"IF(E240=\"\",\"\",lookup!E$2)","v":5264.0479388639606},{"$f":"IF(E240=\"\",\"\",lookup!E232)","v":886503.94641962333}]
[null,null,null,null,{"$f":"IF(I240=\"\",\"\",IF(B$14<E240+1,\"\",IF(I240=B$15,\"\",lookup!C233)))","v":231},{"$f":"IF(E241=\"\",\"\",IF(B$11=\"Ordinary\",lookup!D233-G241,lookup!F233))","v":886503.94641962333},{"$f":"IF(E241=\"\",\"\",IF(B$11=\"Ordinary\",lookup!D233-lookup!E232,lookup!F234-lookup!G233))","v":4432.5197320979787},{"$f":"IF(E241=\"\",\"\",lookup!E$2)","v":5264.0479388639606},{"$f":"IF(E241=\"\",\"\",lookup!E233)","v":885672.41821285733}]
[null,null,null,null,{"$f":"IF(I241=\"\",\"\",IF(B$14<E241+1,\"\",IF(I241=B$15,\"\",lookup!C234)))","v":232},{"$f":"IF(E242=\"\",\"\",IF(B$11=\"Ordinary\",lookup!D234-G242,lookup!F234))","v":885672.41821285733},{"$f":"IF(E242=\"\",\"\",IF(B$11=\"Ordinary\",lookup!D234-lookup!E233,lookup!F235-lookup!G234))","v":4428.3620910642203},{"$f":"IF(E242=\"\",\"\",lookup!E$2)","v":5264.0479388639606},{"$f":"IF(E242=\"\",\"\",lookup!E234)","v":884836.73236505757}]
[null,null,null,null,{"$f":"IF(I242=\"\",\"\",IF(B$14<E242+1,\"\",IF(I242=B$15,\"\",lookup!C235)))","v":233},{"$f":"IF(E243=\"\",\"\",IF(B$11=\"Ordinary\",lookup!D235-G243,lookup!F235))","v":884836.73236505757},{"$f":"IF(E243=\"\",\"\",IF(B$11=\"Ordinary\",lookup!D235-lookup!E234,lookup!F236-lookup!G235))","v":4424.18366182514},{"$f":"IF(E243=\"\",\"\",lookup!E$2)","v":5264.0479388639606},{"$f":"IF(E243=\"\",\"\",lookup!E235)","v":883996.86808801873}]
[null,null,null,null,{"$f":"IF(I243=\"\",\"\",IF(B$14<E243+1,\"\",IF(I243=B$15,\"\",lookup!C236)))","v":234},{"$f":"IF(E244=\"\",\"\",IF(B$11=\"Ordinary\",lookup!D236-G244,lookup!F236))","v":883996.86808801873},{"$f":"IF(E244=\"\",\"\",IF(B$11=\"Ordinary\",lookup!D236-lookup!E235,lookup!F237-lookup!G236))","v":4419.9843404400162},{"$f":"IF(E244=\"\",\"\",lookup!E$2)","v":5264.0479388639606},{"$f":"IF(E244=\"\",\"\",lookup!E236)","v":883152.80448959477}]
[null,null,null,null,{"$f":"IF(I244=\"\",\"\",IF(B$14<E244+1,\"\",IF(I244=B$15,\"\",lookup!C237)))","v":235},{"$f":"IF(E245=\"\",\"\",IF(B$11=\"Ordinary\",lookup!D237-G245,lookup!F237))","v":883152.80448959477},{"$f":"IF(E245=\"\",\"\",IF(B$11=\"Ordinary\",lookup!D237-lookup!E236,lookup!F238-lookup!G237))","v":4415.7640224478673},{"$f":"IF(E245=\"\",\"\",lookup!E$2)","v":5264.0479388639606},{"$f":"IF(E245=\"\",\"\",lookup!E237)","v":882304.52057317866}]
[null,null,null,null,{"$f":"IF(I245=\"\",\"\",IF(B$14<E245+1,\"\",IF(I245=B$15,\"\",lookup!C238)))","v":236},{"$f":"IF(E246=\"\",\"\",IF(B$11=\"Ordinary\",lookup!D238-G246,lookup!F238))","v":882304.52057317866},{"$f":"IF(E246=\"\",\"\",IF(B$11=\"Ordinary\",lookup!D238-lookup!E237,lookup!F239-lookup!G238))","v":4411.5226028658217},{"$f":"IF(E246=\"\",\"\",lookup!E$2)","v":5264.0479388639606},{"$f":"IF(E246=\"\",\"\",lookup!E238)","v":881451.9952371805}]
[null,null,null,null,{"$f":"IF(I246=\"\",\"\",IF(B$14<E246+1,\"\",IF(I246=B$15,\"\",lookup!C239)))","v":237},{"$f":"IF(E247=\"\",\"\",IF(B$11=\"Ordinary\",lookup!D239-G247,lookup!F239))","v":881451.9952371805},{"$f":"IF(E247=\"\",\"\",IF(B$11=\"Ordinary\",lookup!D239-lookup!E238,lookup!F240-lookup!G239))","v":4407.2599761858582},{"$f":"IF(E247=\"\",\"\",lookup!E$2)","v":5264.0479388639606},{"$f":"IF(E247=\"\",\"\",lookup!E239)","v":880595.20727450238}]
[null,null,null,null,{"$f":"IF(I247=\"\",\"\",IF(B$14<E247+1,\"\",IF(I247=B$15,\"\",lookup!C240)))","v":238},{"$f":"IF(E248=\"\",\"\",IF(B$11=\"Ordinary\",lookup!D240-G248,lookup!F240))","v":880595.20727450238},{"$f":"IF(E248=\"\",\"\",IF(B$11=\"Ordinary\",lookup!D240-lookup!E239,lookup!F241-lookup!G240))","v":4402.9760363723617},{"$f":"IF(E248=\"\",\"\",lookup!E$2)","v":5264.0479388639606},{"$f":"IF(E248=\"\",\"\",lookup!E240)","v":879734.13537201076}]
[null,null,null,null,{"$f":"IF(I248=\"\",\"\",IF(B$14<E248+1,\"\",IF(I248=B$15,\"\",lookup!C241)))","v":239},{"$f":"IF(E249=\"\",\"\",IF(B$11=\"Ordinary\",lookup!D241-G249,lookup!F241))","v":879734.13537201076},{"$f":"IF(E249=\"\",\"\",IF(B$11=\"Ordinary\",lookup!D241-lookup!E240,lookup!F242-lookup!G241))","v":4398.6706768599106},{"$f":"IF(E249=\"\",\"\",lookup!E$2)","v":5264.0479388639606},{"$f":"IF(E249=\"\",\"\",lookup!E241)","v":878868.75811000669}]
[null,null,null,null,{"$f":"IF(I249=\"\",\"\",IF(B$14<E249+1,\"\",IF(I249=B$15,\"\",lookup!C242)))","v":240},{"$f":"IF(E250=\"\",\"\",IF(B$11=\"Ordinary\",lookup!D242-G250,lookup!F242))","v":878868.75811000669},{"$f":"IF(E250=\"\",\"\",IF(B$11=\"Ordinary\",lookup!D242-lookup!E241,lookup!F243-lookup!G242))","v":4394.3437905499013},{"$f":"IF(E250=\"\",\"\",lookup!E$2)","v":5264.0479388639606},{"$f":"IF(E250=\"\",\"\",lookup!E242)","v":877999.05396169261}]
[null,null,null,null,{"$f":"IF(I250=\"\",\"\",IF(B$14<E250+1,\"\",IF(I250=B$15,\"\",lookup!C243)))","v":241},{"$f":"IF(E251=\"\",\"\",IF(B$11=\"Ordinary\",lookup!D243-G251,lookup!F243))","v":877999.05396169261},{"$f":"IF(E251=\"\",\"\",IF(B$11=\"Ordinary\",lookup!D243-lookup!E242,lookup!F244-lookup!G243))","v":4389.9952698083362},{"$f":"IF(E251=\"\",\"\",lookup!E$2)","v":5264.0479388639606},{"$f":"IF(E251=\"\",\"\",lookup!E243)","v":877125.00129263697}]
[null,null,null,null,{"$f":"IF(I251=\"\",\"\",IF(B$14<E251+1,\"\",IF(I251=B$15,\"\",lookup!C244)))","v":242},{"$f":"IF(E252=\"\",\"\",IF(B$11=\"Ordinary\",lookup!D244-G252,lookup!F244))","v":877125.00129263697},{"$f":"IF(E252=\"\",\"\",IF(B$11=\"Ordinary\",lookup!D244-lookup!E243,lookup!F245-lookup!G244))","v":4385.6250064631458},{"$f":"IF(E252=\"\",\"\",lookup!E$2)","v":5264.0479388639606},{"$f":"IF(E252=\"\",\"\",lookup!E244)","v":876246.57836023613}]
[null,null,null,null,{"$f":"IF(I252=\"\",\"\",IF(B$14<E252+1,\"\",IF(I252=B$15,\"\",lookup!C245)))","v":243},{"$f":"IF(E253=\"\",\"\",IF(B$11=\"Ordinary\",lookup!D245-G253,lookup!F245))","v":876246.57836023613},{"$f":"IF(E253=\"\",\"\",IF(B$11=\"Ordinary\",lookup!D245-lookup!E244,lookup!F246-lookup!G245))","v":4381.2328918010462},{"$f":"IF(E253=\"\",\"\",lookup!E$2)","v":5264.0479388639606},{"$f":"IF(E253=\"\",\"\",lookup!E245)","v":875363.7633131732}]
[null,null,null,null,{"$f":"IF(I253=\"\",\"\",IF(B$14<E253+1,\"\",IF(I253=B$15,\"\",lookup!C246)))","v":244},{"$f":"IF(E254=\"\",\"\",IF(B$11=\"Ordinary\",lookup!D246-G254,lookup!F246))","v":875363.7633131732},{"$f":"IF(E254=\"\",\"\",IF(B$11=\"Ordinary\",lookup!D246-lookup!E245,lookup!F247-lookup!G246))","v":4376.8188165657921},{"$f":"IF(E254=\"\",\"\",lookup!E$2)","v":5264.0479388639606},{"$f":"IF(E254=\"\",\"\",lookup!E246)","v":874476.53419087501}]
[null,null,null,null,{"$f":"IF(I254=\"\",\"\",IF(B$14<E254+1,\"\",IF(I254=B$15,\"\",lookup!C247)))","v":245},{"$f":"IF(E255=\"\",\"\",IF(B$11=\"Ordinary\",lookup!D247-G255,lookup!F247))","v":874476.53419087501},{"$f":"IF(E255=\"\",\"\",IF(B$11=\"Ordinary\",lookup!D247-lookup!E246,lookup!F248-lookup!G247))","v":4372.3826709543355},{"$f":"IF(E255=\"\",\"\",lookup!E$2)","v":5264.0479388639606},{"$f":"IF(E255=\"\",\"\",lookup!E247)","v":873584.86892296537}]
[null,null,null,null,{"$f":"IF(I255=\"\",\"\",IF(B$14<E255+1,\"\",IF(I255=B$15,\"\",lookup!C248)))","v":246},{"$f":"IF(E256=\"\",\"\",IF(B$11=\"Ordinary\",lookup!D248-G256,lookup!F248))","v":873584.86892296537},{"$f":"IF(E256=\"\",\"\",IF(B$11=\"Ordinary\",lookup!D248-lookup!E247,lookup!F249-lookup!G248))","v":4367.9243446147302},{"$f":"IF(E256=\"\",\"\",lookup!E$2)","v":5264.0479388639606},{"$f":"IF(E256=\"\",\"\",lookup!E248)","v":872688.74532871612}]
[null,null,null,null,{"$f":"IF(I256=\"\",\"\",IF(B$14<E256+1,\"\",IF(I256=B$15,\"\",lookup!C249)))","v":247},{"$f":"IF(E257=\"\",\"\",IF(B$11=\"Ordinary\",lookup!D249-G257,lookup!F249))","v":872688.74532871612},{"$f":"IF(E257=\"\",\"\",IF(B$11=\"Ordinary\",lookup!D249-lookup!E248,lookup!F250-lookup!G249))","v":4363.4437266434543},{"$f":"IF(E257=\"\",\"\",lookup!E$2)","v":5264.0479388639606},{"$f":"IF(E257=\"\",\"\",lookup!E249)","v":871788.14111649559}]
[null,null,null,null,{"$f":"IF(I257=\"\",\"\",IF(B$14<E257+1,\"\",IF(I257=B$15,\"\",lookup!C250)))","v":248},{"$f":"IF(E258=\"\",\"\",IF(B$11=\"Ordinary\",lookup!D250-G258,lookup!F250))","v":871788.14111649559},{"$f":"IF(E258=\"\",\"\",IF(B$11=\"Ordinary\",lookup!D250-lookup!E249,lookup!F251-lookup!G250))","v":4358.9407055823831},{"$f":"IF(E258=\"\",\"\",lookup!E$2)","v":5264.0479388639606},{"$f":"IF(E258=\"\",\"\",lookup!E250)","v":870883.033883214}]
[null,null,null,null,{"$f":"IF(I258=\"\",\"\",IF(B$14<E258+1,\"\",IF(I258=B$15,\"\",lookup!C251)))","v":249},{"$f":"IF(E259=\"\",\"\",IF(B$11=\"Ordinary\",lookup!D251-G259,lookup!F251))","v":870883.033883214},{"$f":"IF(E259=\"\",\"\",IF(B$11=\"Ordinary\",lookup!D251-lookup!E250,lookup!F252-lookup!G251))","v":4354.4151694159955},{"$f":"IF(E259=\"\",\"\",lookup!E$2)","v":5264.0479388639606},{"$f":"IF(E259=\"\",\"\",lookup!E251)","v":869973.40111376601}]
[null,null,null,null,{"$f":"IF(I259=\"\",\"\",IF(B$14<E259+1,\"\",IF(I259=B$15,\"\",lookup!C252)))","v":250},{"$f":"IF(E260=\"\",\"\",IF(B$11=\"Ordinary\",lookup!D252-G260,lookup!F252))","v":869973.40111376601},{"$f":"IF(E260=\"\",\"\",IF(B$11=\"Ordinary\",lookup!D252-lookup!E251,lookup!F253-lookup!G252))","v":4349.8670055686962},{"$f":"IF(E260=\"\",\"\",lookup!E$2)","v":5264.0479388639606},{"$f":"IF(E260=\"\",\"\",lookup!E252)","v":869059.22018047073}]
[null,null,null,null,{"$f":"IF(I260=\"\",\"\",IF(B$14<E260+1,\"\",IF(I260=B$15,\"\",lookup!C253)))","v":251},{"$f":"IF(E261=\"\",\"\",IF(B$11=\"Ordinary\",lookup!D253-G261,lookup!F253))","v":869059.22018047073},{"$f":"IF(E261=\"\",\"\",IF(B$11=\"Ordinary\",lookup!D253-lookup!E252,lookup!F254-lookup!G253))","v":4345.2961009022547},{"$f":"IF(E261=\"\",\"\",lookup!E$2)","v":5264.0479388639606},{"$f":"IF(E261=\"\",\"\",lookup!E253)","v":868140.468342509}]
[null,null,null,null,{"$f":"IF(I261=\"\",\"\",IF(B$14<E261+1,\"\",IF(I261=B$15,\"\",lookup!C254)))","v":252},{"$f":"IF(E262=\"\",\"\",IF(B$11=\"Ordinary\",lookup!D254-G262,lookup!F254))","v":868140.468342509},{"$f":"IF(E262=\"\",\"\",IF(B$11=\"Ordinary\",lookup!D254-lookup!E253,lookup!F255-lookup!G254))","v":4340.7023417124292},{"$f":"IF(E262=\"\",\"\",lookup!E$2)","v":5264.0479388639606},{"$f":"IF(E262=\"\",\"\",lookup!E254)","v":867217.12274535745}]
[null,null,null,null,{"$f":"IF(I262=\"\",\"\",IF(B$14<E262+1,\"\",IF(I262=B$15,\"\",lookup!C255)))","v":253},{"$f":"IF(E263=\"\",\"\",IF(B$11=\"Ordinary\",lookup!D255-G263,lookup!F255))","v":867217.12274535745},{"$f":"IF(E263=\"\",\"\",IF(B$11=\"Ordinary\",lookup!D255-lookup!E254,lookup!F256-lookup!G255))","v":4336.0856137266383},{"$f":"IF(E263=\"\",\"\",lookup!E$2)","v":5264.0479388639606},{"$f":"IF(E263=\"\",\"\",lookup!E255)","v":866289.16042022011}]
[null,null,null,null,{"$f":"IF(I263=\"\",\"\",IF(B$14<E263+1,\"\",IF(I263=B$15,\"\",lookup!C256)))","v":254},{"$f":"IF(E264=\"\",\"\",IF(B$11=\"Ordinary\",lookup!D256-G264,lookup!F256))","v":866289.16042022011},{"$f":"IF(E264=\"\",\"\",IF(B$11=\"Ordinary\",lookup!D256-lookup!E255,lookup!F257-lookup!G256))","v":4331.4458021010505},{"$f":"IF(E264=\"\",\"\",lookup!E$2)","v":5264.0479388639606},{"$f":"IF(E264=\"\",\"\",lookup!E256)","v":865356.55828345718}]
[null,null,null,null,{"$f":"IF(I264=\"\",\"\",IF(B$14<E264+1,\"\",IF(I264=B$15,\"\",lookup!C257)))","v":255},{"$f":"IF(E265=\"\",\"\",IF(B$11=\"Ordinary\",lookup!D257-G265,lookup!F257))","v":865356.55828345718},{"$f":"IF(E265=\"\",\"\",IF(B$11=\"Ordinary\",lookup!D257-lookup!E256,lookup!F258-lookup!G257))","v":4326.7827914172085},{"$f":"IF(E265=\"\",\"\",lookup!E$2)","v":5264.0479388639606},{"$f":"IF(E265=\"\",\"\",lookup!E257)","v":864419.29313601041}]
[null,null,null,null,{"$f":"IF(I265=\"\",\"\",IF(B$14<E265+1,\"\",IF(I265=B$15,\"\",lookup!C258)))","v":256},{"$f":"IF(E266=\"\",\"\",IF(B$11=\"Ordinary\",lookup!D258-G266,lookup!F258))","v":864419.29313601041},{"$f":"IF(E266=\"\",\"\",IF(B$11=\"Ordinary\",lookup!D258-lookup!E257,lookup!F259-lookup!G258))","v":4322.0964656799333},{"$f":"IF(E266=\"\",\"\",lookup!E$2)","v":5264.0479388639606},{"$f":"IF(E266=\"\",\"\",lookup!E258)","v":863477.34166282637}]
[null,null,null,null,{"$f":"IF(I266=\"\",\"\",IF(B$14<E266+1,\"\",IF(I266=B$15,\"\",lookup!C259)))","v":257},{"$f":"IF(E267=\"\",\"\",IF(B$11=\"Ordinary\",lookup!D259-G267,lookup!F259))","v":863477.34166282637},{"$f":"IF(E267=\"\",\"\",IF(B$11=\"Ordinary\",lookup!D259-lookup!E258,lookup!F260-lookup!G259))","v":4317.3867083140649},{"$f":"IF(E267=\"\",\"\",lookup!E$2)","v":5264.0479388639606},{"$f":"IF(E267=\"\",\"\",lookup!E259)","v":862530.68043227645}]
[null,null,null,null,{"$f":"IF(I267=\"\",\"\",IF(B$14<E267+1,\"\",IF(I267=B$15,\"\",lookup!C260)))","v":258},{"$f":"IF(E268=\"\",\"\",IF(B$11=\"Ordinary\",lookup!D260-G268,lookup!F260))","v":862530.68043227645},{"$f":"IF(E268=\"\",\"\",IF(B$11=\"Ordinary\",lookup!D260-lookup!E259,lookup!F261-lookup!G260))","v":4312.6534021613188},{"$f":"IF(E268=\"\",\"\",lookup!E$2)","v":5264.0479388639606},{"$f":"IF(E268=\"\",\"\",lookup!E260)","v":861579.28589557379}]
[null,null,null,null,{"$f":"IF(I268=\"\",\"\",IF(B$14<E268+1,\"\",IF(I268=B$15,\"\",lookup!C261)))","v":259},{"$f":"IF(E269=\"\",\"\",IF(B$11=\"Ordinary\",lookup!D261-G269,lookup!F261))","v":861579.28589557379},{"$f":"IF(E269=\"\",\"\",IF(B$11=\"Ordinary\",lookup!D261-lookup!E260,lookup!F262-lookup!G261))","v":4307.8964294777252},{"$f":"IF(E269=\"\",\"\",lookup!E$2)","v":5264.0479388639606},{"$f":"IF(E269=\"\",\"\",lookup!E261)","v":860623.13438618754}]
[null,null,null,null,{"$f":"IF(I269=\"\",\"\",IF(B$14<E269+1,\"\",IF(I269=B$15,\"\",lookup!C262)))","v":260},{"$f":"IF(E270=\"\",\"\",IF(B$11=\"Ordinary\",lookup!D262-G270,lookup!F262))","v":860623.13438618754},{"$f":"IF(E270=\"\",\"\",IF(B$11=\"Ordinary\",lookup!D262-lookup!E261,lookup!F263-lookup!G262))","v":4303.1156719308347},{"$f":"IF(E270=\"\",\"\",lookup!E$2)","v":5264.0479388639606},{"$f":"IF(E270=\"\",\"\",lookup!E262)","v":859662.20211925439}]
[null,null,null,null,{"$f":"IF(I270=\"\",\"\",IF(B$14<E270+1,\"\",IF(I270=B$15,\"\",lookup!C263)))","v":261},{"$f":"IF(E271=\"\",\"\",IF(B$11=\"Ordinary\",lookup!D263-G271,lookup!F263))","v":859662.20211925439},{"$f":"IF(E271=\"\",\"\",IF(B$11=\"Ordinary\",lookup!D263-lookup!E262,lookup!F264-lookup!G263))","v":4298.311010596226},{"$f":"IF(E271=\"\",\"\",lookup!E$2)","v":5264.0479388639606},{"$f":"IF(E271=\"\",\"\",lookup!E263)","v":858696.46519098664}]
[null,null,null,null,{"$f":"IF(I271=\"\",\"\",IF(B$14<E271+1,\"\",IF(I271=B$15,\"\",lookup!C264)))","v":262},{"$f":"IF(E272=\"\",\"\",IF(B$11=\"Ordinary\",lookup!D264-G272,lookup!F264))","v":858696.46519098664},{"$f":"IF(E272=\"\",\"\",IF(B$11=\"Ordinary\",lookup!D264-lookup!E263,lookup!F265-lookup!G264))","v":4293.4823259548284},{"$f":"IF(E272=\"\",\"\",lookup!E$2)","v":5264.0479388639606},{"$f":"IF(E272=\"\",\"\",lookup!E264)","v":857725.89957807749}]
[null,null,null,null,{"$f":"IF(I272=\"\",\"\",IF(B$14<E272+1,\"\",IF(I272=B$15,\"\",lookup!C265)))","v":263},{"$f":"IF(E273=\"\",\"\",IF(B$11=\"Ordinary\",lookup!D265-G273,lookup!F265))","v":857725.89957807749},{"$f":"IF(E273=\"\",\"\",IF(B$11=\"Ordinary\",lookup!D265-lookup!E264,lookup!F266-lookup!G265))","v":4288.6294978902442},{"$f":"IF(E273=\"\",\"\",lookup!E$2)","v":5264.0479388639606},{"$f":"IF(E273=\"\",\"\",lookup!E265)","v":856750.48113710375}]
[null,null,null,null,{"$f":"IF(I273=\"\",\"\",IF(B$14<E273+1,\"\",IF(I273=B$15,\"\",lookup!C266)))","v":264},{"$f":"IF(E274=\"\",\"\",IF(B$11=\"Ordinary\",lookup!D266-G274,lookup!F266))","v":856750.48113710375},{"$f":"IF(E274=\"\",\"\",IF(B$11=\"Ordinary\",lookup!D266-lookup!E265,lookup!F267-lookup!G266))","v":4283.7524056853727},{"$f":"IF(E274=\"\",\"\",lookup!E$2)","v":5264.0479388639606},{"$f":"IF(E274=\"\",\"\",lookup!E266)","v":855770.18560392514}]
[null,null,null,null,{"$f":"IF(I274=\"\",\"\",IF(B$14<E274+1,\"\",IF(I274=B$15,\"\",lookup!C267)))","v":265},{"$f":"IF(E275=\"\",\"\",IF(B$11=\"Ordinary\",lookup!D267-G275,lookup!F267))","v":855770.18560392514},{"$f":"IF(E275=\"\",\"\",IF(B$11=\"Ordinary\",lookup!D267-lookup!E266,lookup!F268-lookup!G267))","v":4278.8509280194994},{"$f":"IF(E275=\"\",\"\",lookup!E$2)","v":5264.0479388639606},{"$f":"IF(E275=\"\",\"\",lookup!E267)","v":854784.98859308066}]
[null,null,null,null,{"$f":"IF(I275=\"\",\"\",IF(B$14<E275+1,\"\",IF(I275=B$15,\"\",lookup!C268)))","v":266},{"$f":"IF(E276=\"\",\"\",IF(B$11=\"Ordinary\",lookup!D268-G276,lookup!F268))","v":854784.98859308066},{"$f":"IF(E276=\"\",\"\",IF(B$11=\"Ordinary\",lookup!D268-lookup!E267,lookup!F269-lookup!G268))","v":4273.92494296527},{"$f":"IF(E276=\"\",\"\",lookup!E$2)","v":5264.0479388639606},{"$f":"IF(E276=\"\",\"\",lookup!E268)","v":853794.86559718195}]
[null,null,null,null,{"$f":"IF(I276=\"\",\"\",IF(B$14<E276+1,\"\",IF(I276=B$15,\"\",lookup!C269)))","v":267},{"$f":"IF(E277=\"\",\"\",IF(B$11=\"Ordinary\",lookup!D269-G277,lookup!F269))","v":853794.86559718195},{"$f":"IF(E277=\"\",\"\",IF(B$11=\"Ordinary\",lookup!D269-lookup!E268,lookup!F270-lookup!G269))","v":4268.9743279857794},{"$f":"IF(E277=\"\",\"\",lookup!E$2)","v":5264.0479388639606},{"$f":"IF(E277=\"\",\"\",lookup!E269)","v":852799.79198630375}]
[null,null,null,null,{"$f":"IF(I277=\"\",\"\",IF(B$14<E277+1,\"\",IF(I277=B$15,\"\",lookup!C270)))","v":268},{"$f":"IF(E278=\"\",\"\",IF(B$11=\"Ordinary\",lookup!D270-G278,lookup!F270))","v":852799.79198630375},{"$f":"IF(E278=\"\",\"\",IF(B$11=\"Ordinary\",lookup!D270-lookup!E269,lookup!F271-lookup!G270))","v":4263.9989599314285},{"$f":"IF(E278=\"\",\"\",lookup!E$2)","v":5264.0479388639606},{"$f":"IF(E278=\"\",\"\",lookup!E270)","v":851799.7430073712}]
[null,null,null,null,{"$f":"IF(I278=\"\",\"\",IF(B$14<E278+1,\"\",IF(I278=B$15,\"\",lookup!C271)))","v":269},{"$f":"IF(E279=\"\",\"\",IF(B$11=\"Ordinary\",lookup!D271-G279,lookup!F271))","v":851799.7430073712},{"$f":"IF(E279=\"\",\"\",IF(B$11=\"Ordinary\",lookup!D271-lookup!E270,lookup!F272-lookup!G271))","v":4258.9987150367815},{"$f":"IF(E279=\"\",\"\",lookup!E$2)","v":5264.0479388639606},{"$f":"IF(E279=\"\",\"\",lookup!E271)","v":850794.693783544}]
[null,null,null,null,{"$f":"IF(I279=\"\",\"\",IF(B$14<E279+1,\"\",IF(I279=B$15,\"\",lookup!C272)))","v":270},{"$f":"IF(E280=\"\",\"\",IF(B$11=\"Ordinary\",lookup!D272-G280,lookup!F272))","v":850794.693783544},{"$f":"IF(E280=\"\",\"\",IF(B$11=\"Ordinary\",lookup!D272-lookup!E271,lookup!F273-lookup!G272))","v":4253.9734689176548},{"$f":"IF(E280=\"\",\"\",lookup!E$2)","v":5264.0479388639606},{"$f":"IF(E280=\"\",\"\",lookup!E272)","v":849784.61931359768}]
[null,null,null,null,{"$f":"IF(I280=\"\",\"\",IF(B$14<E280+1,\"\",IF(I280=B$15,\"\",lookup!C273)))","v":271},{"$f":"IF(E281=\"\",\"\",IF(B$11=\"Ordinary\",lookup!D273-G281,lookup!F273))","v":849784.61931359768},{"$f":"IF(E281=\"\",\"\",IF(B$11=\"Ordinary\",lookup!D273-lookup!E272,lookup!F274-lookup!G273))","v":4248.923096567858},{"$f":"IF(E281=\"\",\"\",lookup!E$2)","v":5264.0479388639606},{"$f":"IF(E281=\"\",\"\",lookup!E273)","v":848769.49447130156}]
[null,null,null,null,{"$f":"IF(I281=\"\",\"\",IF(B$14<E281+1,\"\",IF(I281=B$15,\"\",lookup!C274)))","v":272},{"$f":"IF(E282=\"\",\"\",IF(B$11=\"Ordinary\",lookup!D274-G282,lookup!F274))","v":848769.49447130156},{"$f":"IF(E282=\"\",\"\",IF(B$11=\"Ordinary\",lookup!D274-lookup!E273,lookup!F275-lookup!G274))","v":4243.8474723563995},{"$f":"IF(E282=\"\",\"\",lookup!E$2)","v":5264.0479388639606},{"$f":"IF(E282=\"\",\"\",lookup!E274)","v":847749.29400479398}]
[null,null,null,null,{"$f":"IF(I282=\"\",\"\",IF(B$14<E282+1,\"\",IF(I282=B$15,\"\",lookup!C275)))","v":273},{"$f":"IF(E283=\"\",\"\",IF(B$11=\"Ordinary\",lookup!D275-G283,lookup!F275))","v":847749.29400479398},{"$f":"IF(E283=\"\",\"\",IF(B$11=\"Ordinary\",lookup!D275-lookup!E274,lookup!F276-lookup!G275))","v":4238.7464700238779},{"$f":"IF(E283=\"\",\"\",lookup!E$2)","v":5264.0479388639606},{"$f":"IF(E283=\"\",\"\",lookup!E275)","v":846723.99253595388}]
[null,null,null,null,{"$f":"IF(I283=\"\",\"\",IF(B$14<E283+1,\"\",IF(I283=B$15,\"\",lookup!C276)))","v":274},{"$f":"IF(E284=\"\",\"\",IF(B$11=\"Ordinary\",lookup!D276-G284,lookup!F276))","v":846723.99253595388},{"$f":"IF(E284=\"\",\"\",IF(B$11=\"Ordinary\",lookup!D276-lookup!E275,lookup!F277-lookup!G276))","v":4233.6199626796879},{"$f":"IF(E284=\"\",\"\",lookup!E$2)","v":5264.0479388639606},{"$f":"IF(E284=\"\",\"\",lookup!E276)","v":845693.56455976958}]
[null,null,null,null,{"$f":"IF(I284=\"\",\"\",IF(B$14<E284+1,\"\",IF(I284=B$15,\"\",lookup!C277)))","v":275},{"$f":"IF(E285=\"\",\"\",IF(B$11=\"Ordinary\",lookup!D277-G285,lookup!F277))","v":845693.56455976958},{"$f":"IF(E285=\"\",\"\",IF(B$11=\"Ordinary\",lookup!D277-lookup!E276,lookup!F278-lookup!G277))","v":4228.4678227987606},{"$f":"IF(E285=\"\",\"\",lookup!E$2)","v":5264.0479388639606},{"$f":"IF(E285=\"\",\"\",lookup!E277)","v":844657.98444370436}]
[null,null,null,null,{"$f":"IF(I285=\"\",\"\",IF(B$14<E285+1,\"\",IF(I285=B$15,\"\",lookup!C278)))","v":276},{"$f":"IF(E286=\"\",\"\",IF(B$11=\"Ordinary\",lookup!D278-G286,lookup!F278))","v":844657.98444370436},{"$f":"IF(E286=\"\",\"\",IF(B$11=\"Ordinary\",lookup!D278-lookup!E277,lookup!F279-lookup!G278))","v":4223.2899222184205},{"$f":"IF(E286=\"\",\"\",lookup!E$2)","v":5264.0479388639606},{"$f":"IF(E286=\"\",\"\",lookup!E278)","v":843617.22642705881}]
[null,null,null,null,{"$f":"IF(I286=\"\",\"\",IF(B$14<E286+1,\"\",IF(I286=B$15,\"\",lookup!C279)))","v":277},{"$f":"IF(E287=\"\",\"\",IF(B$11=\"Ordinary\",lookup!D279-G287,lookup!F279))","v":843617.22642705881},{"$f":"IF(E287=\"\",\"\",IF(B$11=\"Ordinary\",lookup!D279-lookup!E278,lookup!F280-lookup!G279))","v":4218.0861321352422},{"$f":"IF(E287=\"\",\"\",lookup!E$2)","v":5264.0479388639606},{"$f":"IF(E287=\"\",\"\",lookup!E279)","v":842571.26462033007}]
[null,null,null,null,{"$f":"IF(I287=\"\",\"\",IF(B$14<E287+1,\"\",IF(I287=B$15,\"\",lookup!C280)))","v":278},{"$f":"IF(E288=\"\",\"\",IF(B$11=\"Ordinary\",lookup!D280-G288,lookup!F280))","v":842571.26462033007},{"$f":"IF(E288=\"\",\"\",IF(B$11=\"Ordinary\",lookup!D280-lookup!E279,lookup!F281-lookup!G280))","v":4212.8563231015578},{"$f":"IF(E288=\"\",\"\",lookup!E$2)","v":5264.0479388639606},{"$f":"IF(E288=\"\",\"\",lookup!E280)","v":841520.07300456765}]
[null,null,null,null,{"$f":"IF(I288=\"\",\"\",IF(B$14<E288+1,\"\",IF(I288=B$15,\"\",lookup!C281)))","v":279},{"$f":"IF(E289=\"\",\"\",IF(B$11=\"Ordinary\",lookup!D281-G289,lookup!F281))","v":841520.07300456765},{"$f":"IF(E289=\"\",\"\",IF(B$11=\"Ordinary\",lookup!D281-lookup!E280,lookup!F282-lookup!G281))","v":4207.6003650227794},{"$f":"IF(E289=\"\",\"\",lookup!E$2)","v":5264.0479388639606},{"$f":"IF(E289=\"\",\"\",lookup!E281)","v":840463.62543072645}]
[null,null,null,null,{"$f":"IF(I289=\"\",\"\",IF(B$14<E289+1,\"\",IF(I289=B$15,\"\",lookup!C282)))","v":280},{"$f":"IF(E290=\"\",\"\",IF(B$11=\"Ordinary\",lookup!D282-G290,lookup!F282))","v":840463.62543072645},{"$f":"IF(E290=\"\",\"\",IF(B$11=\"Ordinary\",lookup!D282-lookup!E281,lookup!F283-lookup!G282))","v":4202.3181271535577},{"$f":"IF(E290=\"\",\"\",lookup!E$2)","v":5264.0479388639606},{"$f":"IF(E290=\"\",\"\",lookup!E282)","v":839401.89561901602}]
[null,null,null,null,{"$f":"IF(I290=\"\",\"\",IF(B$14<E290+1,\"\",IF(I290=B$15,\"\",lookup!C283)))","v":281},{"$f":"IF(E291=\"\",\"\",IF(B$11=\"Ordinary\",lookup!D283-G291,lookup!F283))","v":839401.89561901602},{"$f":"IF(E291=\"\",\"\",IF(B$11=\"Ordinary\",lookup!D283-lookup!E282,lookup!F284-lookup!G283))","v":4197.0094780949876},{"$f":"IF(E291=\"\",\"\",lookup!E$2)","v":5264.0479388639606},{"$f":"IF(E291=\"\",\"\",lookup!E283)","v":838334.85715824703}]
[null,null,null,null,{"$f":"IF(I291=\"\",\"\",IF(B$14<E291+1,\"\",IF(I291=B$15,\"\",lookup!C284)))","v":282},{"$f":"IF(E292=\"\",\"\",IF(B$11=\"Ordinary\",lookup!D284-G292,lookup!F284))","v":838334.85715824703},{"$f":"IF(E292=\"\",\"\",IF(B$11=\"Ordinary\",lookup!D284-lookup!E283,lookup!F285-lookup!G284))","v":4191.6742857911158},{"$f":"IF(E292=\"\",\"\",lookup!E$2)","v":5264.0479388639606},{"$f":"IF(E292=\"\",\"\",lookup!E284)","v":837262.48350517417}]
[null,null,null,null,{"$f":"IF(I292=\"\",\"\",IF(B$14<E292+1,\"\",IF(I292=B$15,\"\",lookup!C285)))","v":283},{"$f":"IF(E293=\"\",\"\",IF(B$11=\"Ordinary\",lookup!D285-G293,lookup!F285))","v":837262.48350517417},{"$f":"IF(E293=\"\",\"\",IF(B$11=\"Ordinary\",lookup!D285-lookup!E284,lookup!F286-lookup!G285))","v":4186.3124175257981},{"$f":"IF(E293=\"\",\"\",lookup!E$2)","v":5264.0479388639606},{"$f":"IF(E293=\"\",\"\",lookup!E285)","v":836184.74798383599}]
[null,null,null,null,{"$f":"IF(I293=\"\",\"\",IF(B$14<E293+1,\"\",IF(I293=B$15,\"\",lookup!C286)))","v":284},{"$f":"IF(E294=\"\",\"\",IF(B$11=\"Ordinary\",lookup!D286-G294,lookup!F286))","v":836184.74798383599},{"$f":"IF(E294=\"\",\"\",IF(B$11=\"Ordinary\",lookup!D286-lookup!E285,lookup!F287-lookup!G286))","v":4180.9237399190897},{"$f":"IF(E294=\"\",\"\",lookup!E$2)","v":5264.0479388639606},{"$f":"IF(E294=\"\",\"\",lookup!E286)","v":835101.6237848911}]
[null,null,null,null,{"$f":"IF(I294=\"\",\"\",IF(B$14<E294+1,\"\",IF(I294=B$15,\"\",lookup!C287)))","v":285},{"$f":"IF(E295=\"\",\"\",IF(B$11=\"Ordinary\",lookup!D287-G295,lookup!F287))","v":835101.6237848911},{"$f":"IF(E295=\"\",\"\",IF(B$11=\"Ordinary\",lookup!D287-lookup!E286,lookup!F288-lookup!G287))","v":4175.5081189243356},{"$f":"IF(E295=\"\",\"\",lookup!E$2)","v":5264.0479388639606},{"$f":"IF(E295=\"\",\"\",lookup!E287)","v":834013.08396495145}]
[null,null,null,null,{"$f":"IF(I295=\"\",\"\",IF(B$14<E295+1,\"\",IF(I295=B$15,\"\",lookup!C288)))","v":286},{"$f":"IF(E296=\"\",\"\",IF(B$11=\"Ordinary\",lookup!D288-G296,lookup!F288))","v":834013.08396495145},{"$f":"IF(E296=\"\",\"\",IF(B$11=\"Ordinary\",lookup!D288-lookup!E287,lookup!F289-lookup!G288))","v":4170.0654198246775},{"$f":"IF(E296=\"\",\"\",lookup!E$2)","v":5264.0479388639606},{"$f":"IF(E296=\"\",\"\",lookup!E288)","v":832919.10144591215}]
[null,null,null,null,{"$f":"IF(I296=\"\",\"\",IF(B$14<E296+1,\"\",IF(I296=B$15,\"\",lookup!C289)))","v":287},{"$f":"IF(E297=\"\",\"\",IF(B$11=\"Ordinary\",lookup!D289-G297,lookup!F289))","v":832919.10144591215},{"$f":"IF(E297=\"\",\"\",IF(B$11=\"Ordinary\",lookup!D289-lookup!E288,lookup!F290-lookup!G289))","v":4164.5955072294455},{"$f":"IF(E297=\"\",\"\",lookup!E$2)","v":5264.0479388639606},{"$f":"IF(E297=\"\",\"\",lookup!E289)","v":831819.64901427762}]
[null,null,null,null,{"$f":"IF(I297=\"\",\"\",IF(B$14<E297+1,\"\",IF(I297=B$15,\"\",lookup!C290)))","v":288},{"$f":"IF(E298=\"\",\"\",IF(B$11=\"Ordinary\",lookup!D290-G298,lookup!F290))","v":831819.64901427762},{"$f":"IF(E298=\"\",\"\",IF(B$11=\"Ordinary\",lookup!D290-lookup!E289,lookup!F291-lookup!G290))","v":4159.0982450712472},{"$f":"IF(E298=\"\",\"\",lookup!E$2)","v":5264.0479388639606},{"$f":"IF(E298=\"\",\"\",lookup!E290)","v":830714.69932048488}]
[null,null,null,null,{"$f":"IF(I298=\"\",\"\",IF(B$14<E298+1,\"\",IF(I298=B$15,\"\",lookup!C291)))","v":289},{"$f":"IF(E299=\"\",\"\",IF(B$11=\"Ordinary\",lookup!D291-G299,lookup!F291))","v":830714.69932048488},{"$f":"IF(E299=\"\",\"\",IF(B$11=\"Ordinary\",lookup!D291-lookup!E290,lookup!F292-lookup!G291))","v":4153.5734966023592},{"$f":"IF(E299=\"\",\"\",lookup!E$2)","v":5264.0479388639606},{"$f":"IF(E299=\"\",\"\",lookup!E291)","v":829604.22487822326}]
[null,null,null,null,{"$f":"IF(I299=\"\",\"\",IF(B$14<E299+1,\"\",IF(I299=B$15,\"\",lookup!C292)))","v":290},{"$f":"IF(E300=\"\",\"\",IF(B$11=\"Ordinary\",lookup!D292-G300,lookup!F292))","v":829604.22487822326},{"$f":"IF(E300=\"\",\"\",IF(B$11=\"Ordinary\",lookup!D292-lookup!E291,lookup!F293-lookup!G292))","v":4148.0211243910016},{"$f":"IF(E300=\"\",\"\",lookup!E$2)","v":5264.0479388639606},{"$f":"IF(E300=\"\",\"\",lookup!E292)","v":828488.19806375029}]
[null,null,null,null,{"$f":"IF(I300=\"\",\"\",IF(B$14<E300+1,\"\",IF(I300=B$15,\"\",lookup!C293)))","v":291},{"$f":"IF(E301=\"\",\"\",IF(B$11=\"Ordinary\",lookup!D293-G301,lookup!F293))","v":828488.19806375029},{"$f":"IF(E301=\"\",\"\",IF(B$11=\"Ordinary\",lookup!D293-lookup!E292,lookup!F294-lookup!G293))","v":4142.4409903186606},{"$f":"IF(E301=\"\",\"\",lookup!E$2)","v":5264.0479388639606},{"$f":"IF(E301=\"\",\"\",lookup!E293)","v":827366.59111520497}]
[null,null,null,null,{"$f":"IF(I301=\"\",\"\",IF(B$14<E301+1,\"\",IF(I301=B$15,\"\",lookup!C294)))","v":292},{"$f":"IF(E302=\"\",\"\",IF(B$11=\"Ordinary\",lookup!D294-G302,lookup!F294))","v":827366.59111520497},{"$f":"IF(E302=\"\",\"\",IF(B$11=\"Ordinary\",lookup!D294-lookup!E293,lookup!F295-lookup!G294))","v":4136.8329555758974},{"$f":"IF(E302=\"\",\"\",lookup!E$2)","v":5264.0479388639606},{"$f":"IF(E302=\"\",\"\",lookup!E294)","v":826239.37613191688}]
[null,null,null,null,{"$f":"IF(I302=\"\",\"\",IF(B$14<E302+1,\"\",IF(I302=B$15,\"\",lookup!C295)))","v":293},{"$f":"IF(E303=\"\",\"\",IF(B$11=\"Ordinary\",lookup!D295-G303,lookup!F295))","v":826239.37613191688},{"$f":"IF(E303=\"\",\"\",IF(B$11=\"Ordinary\",lookup!D295-lookup!E294,lookup!F296-lookup!G295))","v":4131.1968806595542},{"$f":"IF(E303=\"\",\"\",lookup!E$2)","v":5264.0479388639606},{"$f":"IF(E303=\"\",\"\",lookup!E295)","v":825106.52507371246}]
[null,null,null,null,{"$f":"IF(I303=\"\",\"\",IF(B$14<E303+1,\"\",IF(I303=B$15,\"\",lookup!C296)))","v":294},{"$f":"IF(E304=\"\",\"\",IF(B$11=\"Ordinary\",lookup!D296-G304,lookup!F296))","v":825106.52507371246},{"$f":"IF(E304=\"\",\"\",IF(B$11=\"Ordinary\",lookup!D296-lookup!E295,lookup!F297-lookup!G296))","v":4125.532625368447},{"$f":"IF(E304=\"\",\"\",lookup!E$2)","v":5264.0479388639606},{"$f":"IF(E304=\"\",\"\",lookup!E296)","v":823968.00976021693}]
[null,null,null,null,{"$f":"IF(I304=\"\",\"\",IF(B$14<E304+1,\"\",IF(I304=B$15,\"\",lookup!C297)))","v":295},{"$f":"IF(E305=\"\",\"\",IF(B$11=\"Ordinary\",lookup!D297-G305,lookup!F297))","v":823968.00976021693},{"$f":"IF(E305=\"\",\"\",IF(B$11=\"Ordinary\",lookup!D297-lookup!E296,lookup!F298-lookup!G297))","v":4119.8400488010375},{"$f":"IF(E305=\"\",\"\",lookup!E$2)","v":5264.0479388639606},{"$f":"IF(E305=\"\",\"\",lookup!E297)","v":822823.80187015398}]
[null,null,null,null,{"$f":"IF(I305=\"\",\"\",IF(B$14<E305+1,\"\",IF(I305=B$15,\"\",lookup!C298)))","v":296},{"$f":"IF(E306=\"\",\"\",IF(B$11=\"Ordinary\",lookup!D298-G306,lookup!F298))","v":822823.80187015398},{"$f":"IF(E306=\"\",\"\",IF(B$11=\"Ordinary\",lookup!D298-lookup!E297,lookup!F299-lookup!G298))","v":4114.1190093506593},{"$f":"IF(E306=\"\",\"\",lookup!E$2)","v":5264.0479388639606},{"$f":"IF(E306=\"\",\"\",lookup!E298)","v":821673.87294064066}]
[null,null,null,null,{"$f":"IF(I306=\"\",\"\",IF(B$14<E306+1,\"\",IF(I306=B$15,\"\",lookup!C299)))","v":297},{"$f":"IF(E307=\"\",\"\",IF(B$11=\"Ordinary\",lookup!D299-G307,lookup!F299))","v":821673.87294064066},{"$f":"IF(E307=\"\",\"\",IF(B$11=\"Ordinary\",lookup!D299-lookup!E298,lookup!F300-lookup!G299))","v":4108.3693647030741},{"$f":"IF(E307=\"\",\"\",lookup!E$2)","v":5264.0479388639606},{"$f":"IF(E307=\"\",\"\",lookup!E299)","v":820518.19436647976}]
[null,null,null,null,{"$f":"IF(I307=\"\",\"\",IF(B$14<E307+1,\"\",IF(I307=B$15,\"\",lookup!C300)))","v":298},{"$f":"IF(E308=\"\",\"\",IF(B$11=\"Ordinary\",lookup!D300-G308,lookup!F300))","v":820518.19436647976},{"$f":"IF(E308=\"\",\"\",IF(B$11=\"Ordinary\",lookup!D300-lookup!E299,lookup!F301-lookup!G300))","v":4102.59097183228},{"$f":"IF(E308=\"\",\"\",lookup!E$2)","v":5264.0479388639606},{"$f":"IF(E308=\"\",\"\",lookup!E300)","v":819356.73739944806}]
[null,null,null,null,{"$f":"IF(I308=\"\",\"\",IF(B$14<E308+1,\"\",IF(I308=B$15,\"\",lookup!C301)))","v":299},{"$f":"IF(E309=\"\",\"\",IF(B$11=\"Ordinary\",lookup!D301-G309,lookup!F301))","v":819356.73739944806},{"$f":"IF(E309=\"\",\"\",IF(B$11=\"Ordinary\",lookup!D301-lookup!E300,lookup!F302-lookup!G301))","v":4096.7836869971361},{"$f":"IF(E309=\"\",\"\",lookup!E$2)","v":5264.0479388639606},{"$f":"IF(E309=\"\",\"\",lookup!E301)","v":818189.47314758122}]
[null,null,null,null,{"$f":"IF(I309=\"\",\"\",IF(B$14<E309+1,\"\",IF(I309=B$15,\"\",lookup!C302)))","v":300},{"$f":"IF(E310=\"\",\"\",IF(B$11=\"Ordinary\",lookup!D302-G310,lookup!F302))","v":818189.47314758122},{"$f":"IF(E310=\"\",\"\",IF(B$11=\"Ordinary\",lookup!D302-lookup!E301,lookup!F303-lookup!G302))","v":4090.9473657378694},{"$f":"IF(E310=\"\",\"\",lookup!E$2)","v":5264.0479388639606},{"$f":"IF(E310=\"\",\"\",lookup!E302)","v":817016.3725744551}]
[null,null,null,null,{"$f":"IF(I310=\"\",\"\",IF(B$14<E310+1,\"\",IF(I310=B$15,\"\",lookup!C303)))","v":301},{"$f":"IF(E311=\"\",\"\",IF(B$11=\"Ordinary\",lookup!D303-G311,lookup!F303))","v":817016.3725744551},{"$f":"IF(E311=\"\",\"\",IF(B$11=\"Ordinary\",lookup!D303-lookup!E302,lookup!F304-lookup!G303))","v":4085.0818628722336},{"$f":"IF(E311=\"\",\"\",lookup!E$2)","v":5264.0479388639606},{"$f":"IF(E311=\"\",\"\",lookup!E303)","v":815837.40649846336}]
[null,null,null,null,{"$f":"IF(I311=\"\",\"\",IF(B$14<E311+1,\"\",IF(I311=B$15,\"\",lookup!C304)))","v":302},{"$f":"IF(E312=\"\",\"\",IF(B$11=\"Ordinary\",lookup!D304-G312,lookup!F304))","v":815837.40649846336},{"$f":"IF(E312=\"\",\"\",IF(B$11=\"Ordinary\",lookup!D304-lookup!E303,lookup!F305-lookup!G304))","v":4079.1870324922493},{"$f":"IF(E312=\"\",\"\",lookup!E$2)","v":5264.0479388639606},{"$f":"IF(E312=\"\",\"\",lookup!E304)","v":814652.54559209163}]
[null,null,null,null,{"$f":"IF(I312=\"\",\"\",IF(B$14<E312+1,\"\",IF(I312=B$15,\"\",lookup!C305)))","v":303},{"$f":"IF(E313=\"\",\"\",IF(B$11=\"Ordinary\",lookup!D305-G313,lookup!F305))","v":814652.54559209163},{"$f":"IF(E313=\"\",\"\",IF(B$11=\"Ordinary\",lookup!D305-lookup!E304,lookup!F306-lookup!G305))","v":4073.2627279603621},{"$f":"IF(E313=\"\",\"\",lookup!E$2)","v":5264.0479388639606},{"$f":"IF(E313=\"\",\"\",lookup!E305)","v":813461.76038118801}]
[null,null,null,null,{"$f":"IF(I313=\"\",\"\",IF(B$14<E313+1,\"\",IF(I313=B$15,\"\",lookup!C306)))","v":304},{"$f":"IF(E314=\"\",\"\",IF(B$11=\"Ordinary\",lookup!D306-G314,lookup!F306))","v":813461.76038118801},{"$f":"IF(E314=\"\",\"\",IF(B$11=\"Ordinary\",lookup!D306-lookup!E305,lookup!F307-lookup!G306))","v":4067.3088019058341},{"$f":"IF(E314=\"\",\"\",lookup!E$2)","v":5264.0479388639606},{"$f":"IF(E314=\"\",\"\",lookup!E306)","v":812265.02124422987}]
[null,null,null,null,{"$f":"IF(I314=\"\",\"\",IF(B$14<E314+1,\"\",IF(I314=B$15,\"\",lookup!C307)))","v":305},{"$f":"IF(E315=\"\",\"\",IF(B$11=\"Ordinary\",lookup!D307-G315,lookup!F307))","v":812265.02124422987},{"$f":"IF(E315=\"\",\"\",IF(B$11=\"Ordinary\",lookup!D307-lookup!E306,lookup!F308-lookup!G307))","v":4061.3251062210184},{"$f":"IF(E315=\"\",\"\",lookup!E$2)","v":5264.0479388639606},{"$f":"IF(E315=\"\",\"\",lookup!E307)","v":811062.2984115869}]
[null,null,null,null,{"$f":"IF(I315=\"\",\"\",IF(B$14<E315+1,\"\",IF(I315=B$15,\"\",lookup!C308)))","v":306},{"$f":"IF(E316=\"\",\"\",IF(B$11=\"Ordinary\",lookup!D308-G316,lookup!F308))","v":811062.2984115869},{"$f":"IF(E316=\"\",\"\",IF(B$11=\"Ordinary\",lookup!D308-lookup!E307,lookup!F309-lookup!G308))","v":4055.3114920578664},{"$f":"IF(E316=\"\",\"\",lookup!E$2)","v":5264.0479388639606},{"$f":"IF(E316=\"\",\"\",lookup!E308)","v":809853.56196478079}]
[null,null,null,null,{"$f":"IF(I316=\"\",\"\",IF(B$14<E316+1,\"\",IF(I316=B$15,\"\",lookup!C309)))","v":307},{"$f":"IF(E317=\"\",\"\",IF(B$11=\"Ordinary\",lookup!D309-G317,lookup!F309))","v":809853.56196478079},{"$f":"IF(E317=\"\",\"\",IF(B$11=\"Ordinary\",lookup!D309-lookup!E308,lookup!F310-lookup!G309))","v":4049.2678098238539},{"$f":"IF(E317=\"\",\"\",lookup!E$2)","v":5264.0479388639606},{"$f":"IF(E317=\"\",\"\",lookup!E309)","v":808638.78183574066}]
[null,null,null,null,{"$f":"IF(I317=\"\",\"\",IF(B$14<E317+1,\"\",IF(I317=B$15,\"\",lookup!C310)))","v":308},{"$f":"IF(E318=\"\",\"\",IF(B$11=\"Ordinary\",lookup!D310-G318,lookup!F310))","v":808638.78183574066},{"$f":"IF(E318=\"\",\"\",IF(B$11=\"Ordinary\",lookup!D310-lookup!E309,lookup!F311-lookup!G310))","v":4043.1939091786044},{"$f":"IF(E318=\"\",\"\",lookup!E$2)","v":5264.0479388639606},{"$f":"IF(E318=\"\",\"\",lookup!E310)","v":807417.92780605529}]
[null,null,null,null,{"$f":"IF(I318=\"\",\"\",IF(B$14<E318+1,\"\",IF(I318=B$15,\"\",lookup!C311)))","v":309},{"$f":"IF(E319=\"\",\"\",IF(B$11=\"Ordinary\",lookup!D311-G319,lookup!F311))","v":807417.92780605529},{"$f":"IF(E319=\"\",\"\",IF(B$11=\"Ordinary\",lookup!D311-lookup!E310,lookup!F312-lookup!G311))","v":4037.0896390301641},{"$f":"IF(E319=\"\",\"\",lookup!E$2)","v":5264.0479388639606},{"$f":"IF(E319=\"\",\"\",lookup!E311)","v":806190.96950622147}]
[null,null,null,null,{"$f":"IF(I319=\"\",\"\",IF(B$14<E319+1,\"\",IF(I319=B$15,\"\",lookup!C312)))","v":310},{"$f":"IF(E320=\"\",\"\",IF(B$11=\"Ordinary\",lookup!D312-G320,lookup!F312))","v":806190.96950622147},{"$f":"IF(E320=\"\",\"\",IF(B$11=\"Ordinary\",lookup!D312-lookup!E311,lookup!F313-lookup!G312))","v":4030.9548475310439},{"$f":"IF(E320=\"\",\"\",lookup!E$2)","v":5264.0479388639606},{"$f":"IF(E320=\"\",\"\",lookup!E312)","v":804957.87641488854}]
[null,null,null,null,{"$f":"IF(I320=\"\",\"\",IF(B$14<E320+1,\"\",IF(I320=B$15,\"\",lookup!C313)))","v":311},{"$f":"IF(E321=\"\",\"\",IF(B$11=\"Ordinary\",lookup!D313-G321,lookup!F313))","v":804957.87641488854},{"$f":"IF(E321=\"\",\"\",IF(B$11=\"Ordinary\",lookup!D313-lookup!E312,lookup!F314-lookup!G313))","v":4024.7893820743775},{"$f":"IF(E321=\"\",\"\",lookup!E$2)","v":5264.0479388639606},{"$f":"IF(E321=\"\",\"\",lookup!E313)","v":803718.61785809894}]
[null,null,null,null,{"$f":"IF(I321=\"\",\"\",IF(B$14<E321+1,\"\",IF(I321=B$15,\"\",lookup!C314)))","v":312},{"$f":"IF(E322=\"\",\"\",IF(B$11=\"Ordinary\",lookup!D314-G322,lookup!F314))","v":803718.61785809894},{"$f":"IF(E322=\"\",\"\",IF(B$11=\"Ordinary\",lookup!D314-lookup!E313,lookup!F315-lookup!G314))","v":4018.5930892904289},{"$f":"IF(E322=\"\",\"\",lookup!E$2)","v":5264.0479388639606},{"$f":"IF(E322=\"\",\"\",lookup!E314)","v":802473.16300852539}]
[null,null,null,null,{"$f":"IF(I322=\"\",\"\",IF(B$14<E322+1,\"\",IF(I322=B$15,\"\",lookup!C315)))","v":313},{"$f":"IF(E323=\"\",\"\",IF(B$11=\"Ordinary\",lookup!D315-G323,lookup!F315))","v":802473.16300852539},{"$f":"IF(E323=\"\",\"\",IF(B$11=\"Ordinary\",lookup!D315-lookup!E314,lookup!F316-lookup!G315))","v":4012.3658150425181},{"$f":"IF(E323=\"\",\"\",lookup!E$2)","v":5264.0479388639606},{"$f":"IF(E323=\"\",\"\",lookup!E315)","v":801221.48088470392}]
[null,null,null,null,{"$f":"IF(I323=\"\",\"\",IF(B$14<E323+1,\"\",IF(I323=B$15,\"\",lookup!C316)))","v":314},{"$f":"IF(E324=\"\",\"\",IF(B$11=\"Ordinary\",lookup!D316-G324,lookup!F316))","v":801221.48088470392},{"$f":"IF(E324=\"\",\"\",IF(B$11=\"Ordinary\",lookup!D316-lookup!E315,lookup!F317-lookup!G316))","v":4006.1074044234119},{"$f":"IF(E324=\"\",\"\",lookup!E$2)","v":5264.0479388639606},{"$f":"IF(E324=\"\",\"\",lookup!E316)","v":799963.54035026336}]
[null,null,null,null,{"$f":"IF(I324=\"\",\"\",IF(B$14<E324+1,\"\",IF(I324=B$15,\"\",lookup!C317)))","v":315},{"$f":"IF(E325=\"\",\"\",IF(B$11=\"Ordinary\",lookup!D317-G325,lookup!F317))","v":799963.54035026336},{"$f":"IF(E325=\"\",\"\",IF(B$11=\"Ordinary\",lookup!D317-lookup!E316,lookup!F318-lookup!G317))","v":3999.8177017512498},{"$f":"IF(E325=\"\",\"\",lookup!E$2)","v":5264.0479388639606},{"$f":"IF(E325=\"\",\"\",lookup!E317)","v":798699.31011315063}]
[null,null,null,null,{"$f":"IF(I325=\"\",\"\",IF(B$14<E325+1,\"\",IF(I325=B$15,\"\",lookup!C318)))","v":316},{"$f":"IF(E326=\"\",\"\",IF(B$11=\"Ordinary\",lookup!D318-G326,lookup!F318))","v":798699.31011315063},{"$f":"IF(E326=\"\",\"\",IF(B$11=\"Ordinary\",lookup!D318-lookup!E317,lookup!F319-lookup!G318))","v":3993.4965505657019},{"$f":"IF(E326=\"\",\"\",lookup!E$2)","v":5264.0479388639606},{"$f":"IF(E326=\"\",\"\",lookup!E318)","v":797428.75872485235}]
[null,null,null,null,{"$f":"IF(I326=\"\",\"\",IF(B$14<E326+1,\"\",IF(I326=B$15,\"\",lookup!C319)))","v":317},{"$f":"IF(E327=\"\",\"\",IF(B$11=\"Ordinary\",lookup!D319-G327,lookup!F319))","v":797428.75872485235},{"$f":"IF(E327=\"\",\"\",IF(B$11=\"Ordinary\",lookup!D319-lookup!E318,lookup!F320-lookup!G319))","v":3987.1437936241273},{"$f":"IF(E327=\"\",\"\",lookup!E$2)","v":5264.0479388639606},{"$f":"IF(E327=\"\",\"\",lookup!E319)","v":796151.8545796125}]
[null,null,null,null,{"$f":"IF(I327=\"\",\"\",IF(B$14<E327+1,\"\",IF(I327=B$15,\"\",lookup!C320)))","v":318},{"$f":"IF(E328=\"\",\"\",IF(B$11=\"Ordinary\",lookup!D320-G328,lookup!F320))","v":796151.8545796125},{"$f":"IF(E328=\"\",\"\",IF(B$11=\"Ordinary\",lookup!D320-lookup!E319,lookup!F321-lookup!G320))","v":3980.7592728979653},{"$f":"IF(E328=\"\",\"\",lookup!E$2)","v":5264.0479388639606},{"$f":"IF(E328=\"\",\"\",lookup!E320)","v":794868.56591364648}]
[null,null,null,null,{"$f":"IF(I328=\"\",\"\",IF(B$14<E328+1,\"\",IF(I328=B$15,\"\",lookup!C321)))","v":319},{"$f":"IF(E329=\"\",\"\",IF(B$11=\"Ordinary\",lookup!D321-G329,lookup!F321))","v":794868.56591364648},{"$f":"IF(E329=\"\",\"\",IF(B$11=\"Ordinary\",lookup!D321-lookup!E320,lookup!F322-lookup!G321))","v":3974.3428295681952},{"$f":"IF(E329=\"\",\"\",lookup!E$2)","v":5264.0479388639606},{"$f":"IF(E329=\"\",\"\",lookup!E321)","v":793578.8608043507}]
[null,null,null,null,{"$f":"IF(I329=\"\",\"\",IF(B$14<E329+1,\"\",IF(I329=B$15,\"\",lookup!C322)))","v":320},{"$f":"IF(E330=\"\",\"\",IF(B$11=\"Ordinary\",lookup!D322-G330,lookup!F322))","v":793578.8608043507},{"$f":"IF(E330=\"\",\"\",IF(B$11=\"Ordinary\",lookup!D322-lookup!E321,lookup!F323-lookup!G322))","v":3967.8943040216109},{"$f":"IF(E330=\"\",\"\",lookup!E$2)","v":5264.0479388639606},{"$f":"IF(E330=\"\",\"\",lookup!E322)","v":792282.70716950833}]
[null,null,null,null,{"$f":"IF(I330=\"\",\"\",IF(B$14<E330+1,\"\",IF(I330=B$15,\"\",lookup!C323)))","v":321},{"$f":"IF(E331=\"\",\"\",IF(B$11=\"Ordinary\",lookup!D323-G331,lookup!F323))","v":792282.70716950833},{"$f":"IF(E331=\"\",\"\",IF(B$11=\"Ordinary\",lookup!D323-lookup!E322,lookup!F324-lookup!G323))","v":3961.413535847445},{"$f":"IF(E331=\"\",\"\",lookup!E$2)","v":5264.0479388639606},{"$f":"IF(E331=\"\",\"\",lookup!E323)","v":790980.07276649179}]
[null,null,null,null,{"$f":"IF(I331=\"\",\"\",IF(B$14<E331+1,\"\",IF(I331=B$15,\"\",lookup!C324)))","v":322},{"$f":"IF(E332=\"\",\"\",IF(B$11=\"Ordinary\",lookup!D324-G332,lookup!F324))","v":790980.07276649179},{"$f":"IF(E332=\"\",\"\",IF(B$11=\"Ordinary\",lookup!D324-lookup!E323,lookup!F325-lookup!G324))","v":3954.9003638323629},{"$f":"IF(E332=\"\",\"\",lookup!E$2)","v":5264.0479388639606},{"$f":"IF(E332=\"\",\"\",lookup!E324)","v":789670.92519146018}]
[null,null,null,null,{"$f":"IF(I332=\"\",\"\",IF(B$14<E332+1,\"\",IF(I332=B$15,\"\",lookup!C325)))","v":323},{"$f":"IF(E333=\"\",\"\",IF(B$11=\"Ordinary\",lookup!D325-G333,lookup!F325))","v":789670.92519146018},{"$f":"IF(E333=\"\",\"\",IF(B$11=\"Ordinary\",lookup!D325-lookup!E324,lookup!F326-lookup!G325))","v":3948.3546259572031},{"$f":"IF(E333=\"\",\"\",lookup!E$2)","v":5264.0479388639606},{"$f":"IF(E333=\"\",\"\",lookup!E325)","v":788355.2318785534}]
[null,null,null,null,{"$f":"IF(I333=\"\",\"\",IF(B$14<E333+1,\"\",IF(I333=B$15,\"\",lookup!C326)))","v":324},{"$f":"IF(E334=\"\",\"\",IF(B$11=\"Ordinary\",lookup!D326-G334,lookup!F326))","v":788355.2318785534},{"$f":"IF(E334=\"\",\"\",IF(B$11=\"Ordinary\",lookup!D326-lookup!E325,lookup!F327-lookup!G326))","v":3941.7761593926698},{"$f":"IF(E334=\"\",\"\",lookup!E$2)","v":5264.0479388639606},{"$f":"IF(E334=\"\",\"\",lookup!E326)","v":787032.96009908209}]
[null,null,null,null,{"$f":"IF(I334=\"\",\"\",IF(B$14<E334+1,\"\",IF(I334=B$15,\"\",lookup!C327)))","v":325},{"$f":"IF(E335=\"\",\"\",IF(B$11=\"Ordinary\",lookup!D327-G335,lookup!F327))","v":787032.96009908209},{"$f":"IF(E335=\"\",\"\",IF(B$11=\"Ordinary\",lookup!D327-lookup!E326,lookup!F328-lookup!G327))","v":3935.1648004953749},{"$f":"IF(E335=\"\",\"\",lookup!E$2)","v":5264.0479388639606},{"$f":"IF(E335=\"\",\"\",lookup!E327)","v":785704.07696071349}]
[null,null,null,null,{"$f":"IF(I335=\"\",\"\",IF(B$14<E335+1,\"\",IF(I335=B$15,\"\",lookup!C328)))","v":326},{"$f":"IF(E336=\"\",\"\",IF(B$11=\"Ordinary\",lookup!D328-G336,lookup!F328))","v":785704.07696071349},{"$f":"IF(E336=\"\",\"\",IF(B$11=\"Ordinary\",lookup!D328-lookup!E327,lookup!F329-lookup!G328))","v":3928.5203848035308},{"$f":"IF(E336=\"\",\"\",lookup!E$2)","v":5264.0479388639606},{"$f":"IF(E336=\"\",\"\",lookup!E328)","v":784368.54940665304}]
[null,null,null,null,{"$f":"IF(I336=\"\",\"\",IF(B$14<E336+1,\"\",IF(I336=B$15,\"\",lookup!C329)))","v":327},{"$f":"IF(E337=\"\",\"\",IF(B$11=\"Ordinary\",lookup!D329-G337,lookup!F329))","v":784368.54940665304},{"$f":"IF(E337=\"\",\"\",IF(B$11=\"Ordinary\",lookup!D329-lookup!E328,lookup!F330-lookup!G329))","v":3921.8427470332244},{"$f":"IF(E337=\"\",\"\",lookup!E$2)","v":5264.0479388639606},{"$f":"IF(E337=\"\",\"\",lookup!E329)","v":783026.34421482228}]
[null,null,null,null,{"$f":"IF(I337=\"\",\"\",IF(B$14<E337+1,\"\",IF(I337=B$15,\"\",lookup!C330)))","v":328},{"$f":"IF(E338=\"\",\"\",IF(B$11=\"Ordinary\",lookup!D330-G338,lookup!F330))","v":783026.34421482228},{"$f":"IF(E338=\"\",\"\",IF(B$11=\"Ordinary\",lookup!D330-lookup!E329,lookup!F331-lookup!G330))","v":3915.1317210739944},{"$f":"IF(E338=\"\",\"\",lookup!E$2)","v":5264.0479388639606},{"$f":"IF(E338=\"\",\"\",lookup!E330)","v":781677.4279970323}]
[null,null,null,null,{"$f":"IF(I338=\"\",\"\",IF(B$14<E338+1,\"\",IF(I338=B$15,\"\",lookup!C331)))","v":329},{"$f":"IF(E339=\"\",\"\",IF(B$11=\"Ordinary\",lookup!D331-G339,lookup!F331))","v":781677.4279970323},{"$f":"IF(E339=\"\",\"\",IF(B$11=\"Ordinary\",lookup!D331-lookup!E330,lookup!F332-lookup!G331))","v":3908.387139985105},{"$f":"IF(E339=\"\",\"\",lookup!E$2)","v":5264.0479388639606},{"$f":"IF(E339=\"\",\"\",lookup!E331)","v":780321.76719815342}]
[null,null,null,null,{"$f":"IF(I339=\"\",\"\",IF(B$14<E339+1,\"\",IF(I339=B$15,\"\",lookup!C332)))","v":330},{"$f":"IF(E340=\"\",\"\",IF(B$11=\"Ordinary\",lookup!D332-G340,lookup!F332))","v":780321.76719815342},{"$f":"IF(E340=\"\",\"\",IF(B$11=\"Ordinary\",lookup!D332-lookup!E331,lookup!F333-lookup!G332))","v":3901.6088359906571},{"$f":"IF(E340=\"\",\"\",lookup!E$2)","v":5264.0479388639606},{"$f":"IF(E340=\"\",\"\",lookup!E332)","v":778959.3280952801}]
[null,null,null,null,{"$f":"IF(I340=\"\",\"\",IF(B$14<E340+1,\"\",IF(I340=B$15,\"\",lookup!C333)))","v":331},{"$f":"IF(E341=\"\",\"\",IF(B$11=\"Ordinary\",lookup!D333-G341,lookup!F333))","v":778959.3280952801},{"$f":"IF(E341=\"\",\"\",IF(B$11=\"Ordinary\",lookup!D333-lookup!E332,lookup!F334-lookup!G333))","v":3894.7966404763283},{"$f":"IF(E341=\"\",\"\",lookup!E$2)","v":5264.0479388639606},{"$f":"IF(E341=\"\",\"\",lookup!E333)","v":777590.07679689245}]
[null,null,null,null,{"$f":"IF(I341=\"\",\"\",IF(B$14<E341+1,\"\",IF(I341=B$15,\"\",lookup!C334)))","v":332},{"$f":"IF(E342=\"\",\"\",IF(B$11=\"Ordinary\",lookup!D334-G342,lookup!F334))","v":777590.07679689245},{"$f":"IF(E342=\"\",\"\",IF(B$11=\"Ordinary\",lookup!D334-lookup!E333,lookup!F335-lookup!G334))","v":3887.9503839843674},{"$f":"IF(E342=\"\",\"\",lookup!E$2)","v":5264.0479388639606},{"$f":"IF(E342=\"\",\"\",lookup!E334)","v":776213.97924201284}]
[null,null,null,null,{"$f":"IF(I342=\"\",\"\",IF(B$14<E342+1,\"\",IF(I342=B$15,\"\",lookup!C335)))","v":333},{"$f":"IF(E343=\"\",\"\",IF(B$11=\"Ordinary\",lookup!D335-G343,lookup!F335))","v":776213.97924201284},{"$f":"IF(E343=\"\",\"\",IF(B$11=\"Ordinary\",lookup!D335-lookup!E334,lookup!F336-lookup!G335))","v":3881.069896209985},{"$f":"IF(E343=\"\",\"\",lookup!E$2)","v":5264.0479388639606},{"$f":"IF(E343=\"\",\"\",lookup!E335)","v":774831.00119935884}]
[null,null,null,null,{"$f":"IF(I343=\"\",\"\",IF(B$14<E343+1,\"\",IF(I343=B$15,\"\",lookup!C336)))","v":334},{"$f":"IF(E344=\"\",\"\",IF(B$11=\"Ordinary\",lookup!D336-G344,lookup!F336))","v":774831.00119935884},{"$f":"IF(E344=\"\",\"\",IF(B$11=\"Ordinary\",lookup!D336-lookup!E335,lookup!F337-lookup!G336))","v":3874.1550059966976},{"$f":"IF(E344=\"\",\"\",lookup!E$2)","v":5264.0479388639606},{"$f":"IF(E344=\"\",\"\",lookup!E336)","v":773441.10826649156}]
[null,null,null,null,{"$f":"IF(I344=\"\",\"\",IF(B$14<E344+1,\"\",IF(I344=B$15,\"\",lookup!C337)))","v":335},{"$f":"IF(E345=\"\",\"\",IF(B$11=\"Ordinary\",lookup!D337-G345,lookup!F337))","v":773441.10826649156},{"$f":"IF(E345=\"\",\"\",IF(B$11=\"Ordinary\",lookup!D337-lookup!E336,lookup!F338-lookup!G337))","v":3867.2055413323687},{"$f":"IF(E345=\"\",\"\",lookup!E$2)","v":5264.0479388639606},{"$f":"IF(E345=\"\",\"\",lookup!E337)","v":772044.26586895995}]
[null,null,null,null,{"$f":"IF(I345=\"\",\"\",IF(B$14<E345+1,\"\",IF(I345=B$15,\"\",lookup!C338)))","v":336},{"$f":"IF(E346=\"\",\"\",IF(B$11=\"Ordinary\",lookup!D338-G346,lookup!F338))","v":772044.26586895995},{"$f":"IF(E346=\"\",\"\",IF(B$11=\"Ordinary\",lookup!D338-lookup!E337,lookup!F339-lookup!G338))","v":3860.2213293446694},{"$f":"IF(E346=\"\",\"\",lookup!E$2)","v":5264.0479388639606},{"$f":"IF(E346=\"\",\"\",lookup!E338)","v":770640.43925944064}]
[null,null,null,null,{"$f":"IF(I346=\"\",\"\",IF(B$14<E346+1,\"\",IF(I346=B$15,\"\",lookup!C339)))","v":337},{"$f":"IF(E347=\"\",\"\",IF(B$11=\"Ordinary\",lookup!D339-G347,lookup!F339))","v":770640.43925944064},{"$f":"IF(E347=\"\",\"\",IF(B$11=\"Ordinary\",lookup!D339-lookup!E338,lookup!F340-lookup!G339))","v":3853.2021962971194},{"$f":"IF(E347=\"\",\"\",lookup!E$2)","v":5264.0479388639606},{"$f":"IF(E347=\"\",\"\",lookup!E339)","v":769229.59351687378}]
[null,null,null,null,{"$f":"IF(I347=\"\",\"\",IF(B$14<E347+1,\"\",IF(I347=B$15,\"\",lookup!C340)))","v":338},{"$f":"IF(E348=\"\",\"\",IF(B$11=\"Ordinary\",lookup!D340-G348,lookup!F340))","v":769229.59351687378},{"$f":"IF(E348=\"\",\"\",IF(B$11=\"Ordinary\",lookup!D340-lookup!E339,lookup!F341-lookup!G340))","v":3846.1479675843148},{"$f":"IF(E348=\"\",\"\",lookup!E$2)","v":5264.0479388639606},{"$f":"IF(E348=\"\",\"\",lookup!E340)","v":767811.69354559411}]
[null,null,null,null,{"$f":"IF(I348=\"\",\"\",IF(B$14<E348+1,\"\",IF(I348=B$15,\"\",lookup!C341)))","v":339},{"$f":"IF(E349=\"\",\"\",IF(B$11=\"Ordinary\",lookup!D341-G349,lookup!F341))","v":767811.69354559411},{"$f":"IF(E349=\"\",\"\",IF(B$11=\"Ordinary\",lookup!D341-lookup!E340,lookup!F342-lookup!G341))","v":3839.058467727853},{"$f":"IF(E349=\"\",\"\",lookup!E$2)","v":5264.0479388639606},{"$f":"IF(E349=\"\",\"\",lookup!E341)","v":766386.70407445799}]
[null,null,null,null,{"$f":"IF(I349=\"\",\"\",IF(B$14<E349+1,\"\",IF(I349=B$15,\"\",lookup!C342)))","v":340},{"$f":"IF(E350=\"\",\"\",IF(B$11=\"Ordinary\",lookup!D342-G350,lookup!F342))","v":766386.70407445799},{"$f":"IF(E350=\"\",\"\",IF(B$11=\"Ordinary\",lookup!D342-lookup!E341,lookup!F343-lookup!G342))","v":3831.9335203722585},{"$f":"IF(E350=\"\",\"\",lookup!E$2)","v":5264.0479388639606},{"$f":"IF(E350=\"\",\"\",lookup!E342)","v":764954.58965596627}]
[null,null,null,null,{"$f":"IF(I350=\"\",\"\",IF(B$14<E350+1,\"\",IF(I350=B$15,\"\",lookup!C343)))","v":341},{"$f":"IF(E351=\"\",\"\",IF(B$11=\"Ordinary\",lookup!D343-G351,lookup!F343))","v":764954.58965596627},{"$f":"IF(E351=\"\",\"\",IF(B$11=\"Ordinary\",lookup!D343-lookup!E342,lookup!F344-lookup!G343))","v":3824.772948279744},{"$f":"IF(E351=\"\",\"\",lookup!E$2)","v":5264.0479388639606},{"$f":"IF(E351=\"\",\"\",lookup!E343)","v":763515.31466538203}]
[null,null,null,null,{"$f":"IF(I351=\"\",\"\",IF(B$14<E351+1,\"\",IF(I351=B$15,\"\",lookup!C344)))","v":342},{"$f":"IF(E352=\"\",\"\",IF(B$11=\"Ordinary\",lookup!D344-G352,lookup!F344))","v":763515.31466538203},{"$f":"IF(E352=\"\",\"\",IF(B$11=\"Ordinary\",lookup!D344-lookup!E343,lookup!F345-lookup!G344))","v":3817.5765733268345},{"$f":"IF(E352=\"\",\"\",lookup!E$2)","v":5264.0479388639606},{"$f":"IF(E352=\"\",\"\",lookup!E344)","v":762068.84329984488}]
[null,null,null,null,{"$f":"IF(I352=\"\",\"\",IF(B$14<E352+1,\"\",IF(I352=B$15,\"\",lookup!C345)))","v":343},{"$f":"IF(E353=\"\",\"\",IF(B$11=\"Ordinary\",lookup!D345-G353,lookup!F345))","v":762068.84329984488},{"$f":"IF(E353=\"\",\"\",IF(B$11=\"Ordinary\",lookup!D345-lookup!E344,lookup!F346-lookup!G345))","v":3810.3442164991284},{"$f":"IF(E353=\"\",\"\",lookup!E$2)","v":5264.0479388639606},{"$f":"IF(E353=\"\",\"\",lookup!E345)","v":760615.13957748003}]
[null,null,null,null,{"$f":"IF(I353=\"\",\"\",IF(B$14<E353+1,\"\",IF(I353=B$15,\"\",lookup!C346)))","v":344},{"$f":"IF(E354=\"\",\"\",IF(B$11=\"Ordinary\",lookup!D346-G354,lookup!F346))","v":760615.13957748003},{"$f":"IF(E354=\"\",\"\",IF(B$11=\"Ordinary\",lookup!D346-lookup!E345,lookup!F347-lookup!G346))","v":3803.0756978873396},{"$f":"IF(E354=\"\",\"\",lookup!E$2)","v":5264.0479388639606},{"$f":"IF(E354=\"\",\"\",lookup!E346)","v":759154.16733650339}]
[null,null,null,null,{"$f":"IF(I354=\"\",\"\",IF(B$14<E354+1,\"\",IF(I354=B$15,\"\",lookup!C347)))","v":345},{"$f":"IF(E355=\"\",\"\",IF(B$11=\"Ordinary\",lookup!D347-G355,lookup!F347))","v":759154.16733650339},{"$f":"IF(E355=\"\",\"\",IF(B$11=\"Ordinary\",lookup!D347-lookup!E346,lookup!F348-lookup!G347))","v":3795.7708366824081},{"$f":"IF(E355=\"\",\"\",lookup!E$2)","v":5264.0479388639606},{"$f":"IF(E355=\"\",\"\",lookup!E347)","v":757685.89023432182}]
[null,null,null,null,{"$f":"IF(I355=\"\",\"\",IF(B$14<E355+1,\"\",IF(I355=B$15,\"\",lookup!C348)))","v":346},{"$f":"IF(E356=\"\",\"\",IF(B$11=\"Ordinary\",lookup!D348-G356,lookup!F348))","v":757685.89023432182},{"$f":"IF(E356=\"\",\"\",IF(B$11=\"Ordinary\",lookup!D348-lookup!E347,lookup!F349-lookup!G348))","v":3788.4294511715416},{"$f":"IF(E356=\"\",\"\",lookup!E$2)","v":5264.0479388639606},{"$f":"IF(E356=\"\",\"\",lookup!E348)","v":756210.27174662938}]
[null,null,null,null,{"$f":"IF(I356=\"\",\"\",IF(B$14<E356+1,\"\",IF(I356=B$15,\"\",lookup!C349)))","v":347},{"$f":"IF(E357=\"\",\"\",IF(B$11=\"Ordinary\",lookup!D349-G357,lookup!F349))","v":756210.27174662938},{"$f":"IF(E357=\"\",\"\",IF(B$11=\"Ordinary\",lookup!D349-lookup!E348,lookup!F350-lookup!G349))","v":3781.0513587330934},{"$f":"IF(E357=\"\",\"\",lookup!E$2)","v":5264.0479388639606},{"$f":"IF(E357=\"\",\"\",lookup!E349)","v":754727.2751664985}]
[null,null,null,null,{"$f":"IF(I357=\"\",\"\",IF(B$14<E357+1,\"\",IF(I357=B$15,\"\",lookup!C350)))","v":348},{"$f":"IF(E358=\"\",\"\",IF(B$11=\"Ordinary\",lookup!D350-G358,lookup!F350))","v":754727.2751664985},{"$f":"IF(E358=\"\",\"\",IF(B$11=\"Ordinary\",lookup!D350-lookup!E349,lookup!F351-lookup!G350))","v":3773.6363758323714},{"$f":"IF(E358=\"\",\"\",lookup!E$2)","v":5264.0479388639606},{"$f":"IF(E358=\"\",\"\",lookup!E350)","v":753236.86360346689}]
[null,null,null,null,{"$f":"IF(I358=\"\",\"\",IF(B$14<E358+1,\"\",IF(I358=B$15,\"\",lookup!C351)))","v":349},{"$f":"IF(E359=\"\",\"\",IF(B$11=\"Ordinary\",lookup!D351-G359,lookup!F351))","v":753236.86360346689},{"$f":"IF(E359=\"\",\"\",IF(B$11=\"Ordinary\",lookup!D351-lookup!E350,lookup!F352-lookup!G351))","v":3766.1843180172145},{"$f":"IF(E359=\"\",\"\",lookup!E$2)","v":5264.0479388639606},{"$f":"IF(E359=\"\",\"\",lookup!E351)","v":751738.99998262012}]
[null,null,null,null,{"$f":"IF(I359=\"\",\"\",IF(B$14<E359+1,\"\",IF(I359=B$15,\"\",lookup!C352)))","v":350},{"$f":"IF(E360=\"\",\"\",IF(B$11=\"Ordinary\",lookup!D352-G360,lookup!F352))","v":751738.99998262012},{"$f":"IF(E360=\"\",\"\",IF(B$11=\"Ordinary\",lookup!D352-lookup!E351,lookup!F353-lookup!G352))","v":3758.6949999129865},{"$f":"IF(E360=\"\",\"\",lookup!E$2)","v":5264.0479388639606},{"$f":"IF(E360=\"\",\"\",lookup!E352)","v":750233.64704366913}]
[null,null,null,null,{"$f":"IF(I360=\"\",\"\",IF(B$14<E360+1,\"\",IF(I360=B$15,\"\",lookup!C353)))","v":351},{"$f":"IF(E361=\"\",\"\",IF(B$11=\"Ordinary\",lookup!D353-G361,lookup!F353))","v":750233.64704366913},{"$f":"IF(E361=\"\",\"\",IF(B$11=\"Ordinary\",lookup!D353-lookup!E352,lookup!F354-lookup!G353))","v":3751.1682352182688},{"$f":"IF(E361=\"\",\"\",lookup!E$2)","v":5264.0479388639606},{"$f":"IF(E361=\"\",\"\",lookup!E353)","v":748720.76734002342}]
[null,null,null,null,{"$f":"IF(I361=\"\",\"\",IF(B$14<E361+1,\"\",IF(I361=B$15,\"\",lookup!C354)))","v":352},{"$f":"IF(E362=\"\",\"\",IF(B$11=\"Ordinary\",lookup!D354-G362,lookup!F354))","v":748720.76734002342},{"$f":"IF(E362=\"\",\"\",IF(B$11=\"Ordinary\",lookup!D354-lookup!E353,lookup!F355-lookup!G354))","v":3743.6038367000874},{"$f":"IF(E362=\"\",\"\",lookup!E$2)","v":5264.0479388639606},{"$f":"IF(E362=\"\",\"\",lookup!E354)","v":747200.32323785953}]
[null,null,null,null,{"$f":"IF(I362=\"\",\"\",IF(B$14<E362+1,\"\",IF(I362=B$15,\"\",lookup!C355)))","v":353},{"$f":"IF(E363=\"\",\"\",IF(B$11=\"Ordinary\",lookup!D355-G363,lookup!F355))","v":747200.32323785953},{"$f":"IF(E363=\"\",\"\",IF(B$11=\"Ordinary\",lookup!D355-lookup!E354,lookup!F356-lookup!G355))","v":3736.0016161892563},{"$f":"IF(E363=\"\",\"\",lookup!E$2)","v":5264.0479388639606},{"$f":"IF(E363=\"\",\"\",lookup!E355)","v":745672.2769151848}]
[null,null,null,null,{"$f":"IF(I363=\"\",\"\",IF(B$14<E363+1,\"\",IF(I363=B$15,\"\",lookup!C356)))","v":354},{"$f":"IF(E364=\"\",\"\",IF(B$11=\"Ordinary\",lookup!D356-G364,lookup!F356))","v":745672.2769151848},{"$f":"IF(E364=\"\",\"\",IF(B$11=\"Ordinary\",lookup!D356-lookup!E355,lookup!F357-lookup!G356))","v":3728.3613845758373},{"$f":"IF(E364=\"\",\"\",lookup!E$2)","v":5264.0479388639606},{"$f":"IF(E364=\"\",\"\",lookup!E356)","v":744136.59036089666}]
[null,null,null,null,{"$f":"IF(I364=\"\",\"\",IF(B$14<E364+1,\"\",IF(I364=B$15,\"\",lookup!C357)))","v":355},{"$f":"IF(E365=\"\",\"\",IF(B$11=\"Ordinary\",lookup!D357-G365,lookup!F357))","v":744136.59036089666},{"$f":"IF(E365=\"\",\"\",IF(B$11=\"Ordinary\",lookup!D357-lookup!E356,lookup!F358-lookup!G357))","v":3720.6829518043669},{"$f":"IF(E365=\"\",\"\",lookup!E$2)","v":5264.0479388639606},{"$f":"IF(E365=\"\",\"\",lookup!E357)","v":742593.22537383705}]
[null,null,null,null,{"$f":"IF(I365=\"\",\"\",IF(B$14<E365+1,\"\",IF(I365=B$15,\"\",lookup!C358)))","v":356},{"$f":"IF(E366=\"\",\"\",IF(B$11=\"Ordinary\",lookup!D358-G366,lookup!F358))","v":742593.22537383705},{"$f":"IF(E366=\"\",\"\",IF(B$11=\"Ordinary\",lookup!D358-lookup!E357,lookup!F359-lookup!G358))","v":3712.9661268690834},{"$f":"IF(E366=\"\",\"\",lookup!E$2)","v":5264.0479388639606},{"$f":"IF(E366=\"\",\"\",lookup!E358)","v":741042.14356184215}]
[null,null,null,null,{"$f":"IF(I366=\"\",\"\",IF(B$14<E366+1,\"\",IF(I366=B$15,\"\",lookup!C359)))","v":357},{"$f":"IF(E367=\"\",\"\",IF(B$11=\"Ordinary\",lookup!D359-G367,lookup!F359))","v":741042.14356184215},{"$f":"IF(E367=\"\",\"\",IF(B$11=\"Ordinary\",lookup!D359-lookup!E358,lookup!F360-lookup!G359))","v":3705.2107178091537},{"$f":"IF(E367=\"\",\"\",lookup!E$2)","v":5264.0479388639606},{"$f":"IF(E367=\"\",\"\",lookup!E359)","v":739483.30634078733}]
[null,null,null,null,{"$f":"IF(I367=\"\",\"\",IF(B$14<E367+1,\"\",IF(I367=B$15,\"\",lookup!C360)))","v":358},{"$f":"IF(E368=\"\",\"\",IF(B$11=\"Ordinary\",lookup!D360-G368,lookup!F360))","v":739483.30634078733},{"$f":"IF(E368=\"\",\"\",IF(B$11=\"Ordinary\",lookup!D360-lookup!E359,lookup!F361-lookup!G360))","v":3697.4165317039005},{"$f":"IF(E368=\"\",\"\",lookup!E$2)","v":5264.0479388639606},{"$f":"IF(E368=\"\",\"\",lookup!E360)","v":737916.67493362725}]
[null,null,null,null,{"$f":"IF(I368=\"\",\"\",IF(B$14<E368+1,\"\",IF(I368=B$15,\"\",lookup!C361)))","v":359},{"$f":"IF(E369=\"\",\"\",IF(B$11=\"Ordinary\",lookup!D361-G369,lookup!F361))","v":737916.67493362725},{"$f":"IF(E369=\"\",\"\",IF(B$11=\"Ordinary\",lookup!D361-lookup!E360,lookup!F362-lookup!G361))","v":3689.5833746680291},{"$f":"IF(E369=\"\",\"\",lookup!E$2)","v":5264.0479388639606},{"$f":"IF(E369=\"\",\"\",lookup!E361)","v":736342.2103694313}]
[null,null,null,null,{"$f":"IF(I369=\"\",\"\",IF(B$14<E369+1,\"\",IF(I369=B$15,\"\",lookup!C362)))","v":360},{"$f":"IF(E370=\"\",\"\",IF(B$11=\"Ordinary\",lookup!D362-G370,lookup!F362))","v":736342.2103694313},{"$f":"IF(E370=\"\",\"\",IF(B$11=\"Ordinary\",lookup!D362-lookup!E361,lookup!F363-lookup!G362))","v":3681.7110518470872},{"$f":"IF(E370=\"\",\"\",lookup!E$2)","v":5264.0479388639606},{"$f":"IF(E370=\"\",\"\",lookup!E362)","v":734759.8734824144}]
[null,null,null,null,{"$f":"IF(I370=\"\",\"\",IF(B$14<E370+1,\"\",IF(I370=B$15,\"\",lookup!C363)))","v":361},{"$f":"IF(E371=\"\",\"\",IF(B$11=\"Ordinary\",lookup!D363-G371,lookup!F363))","v":734759.8734824144},{"$f":"IF(E371=\"\",\"\",IF(B$11=\"Ordinary\",lookup!D363-lookup!E362,lookup!F364-lookup!G363))","v":3673.7993674119934},{"$f":"IF(E371=\"\",\"\",lookup!E$2)","v":5264.0479388639606},{"$f":"IF(E371=\"\",\"\",lookup!E363)","v":733169.62491096242}]
[null,null,null,null,{"$f":"IF(I371=\"\",\"\",IF(B$14<E371+1,\"\",IF(I371=B$15,\"\",lookup!C364)))","v":362},{"$f":"IF(E372=\"\",\"\",IF(B$11=\"Ordinary\",lookup!D364-G372,lookup!F364))","v":733169.62491096242},{"$f":"IF(E372=\"\",\"\",IF(B$11=\"Ordinary\",lookup!D364-lookup!E363,lookup!F365-lookup!G364))","v":3665.84812455473},{"$f":"IF(E372=\"\",\"\",lookup!E$2)","v":5264.0479388639606},{"$f":"IF(E372=\"\",\"\",lookup!E364)","v":731571.42509665317}]
[null,null,null,null,{"$f":"IF(I372=\"\",\"\",IF(B$14<E372+1,\"\",IF(I372=B$15,\"\",lookup!C365)))","v":363},{"$f":"IF(E373=\"\",\"\",IF(B$11=\"Ordinary\",lookup!D365-G373,lookup!F365))","v":731571.42509665317},{"$f":"IF(E373=\"\",\"\",IF(B$11=\"Ordinary\",lookup!D365-lookup!E364,lookup!F366-lookup!G365))","v":3657.8571254832204},{"$f":"IF(E373=\"\",\"\",lookup!E$2)","v":5264.0479388639606},{"$f":"IF(E373=\"\",\"\",lookup!E365)","v":729965.23428327241}]
[null,null,null,null,{"$f":"IF(I373=\"\",\"\",IF(B$14<E373+1,\"\",IF(I373=B$15,\"\",lookup!C366)))","v":364},{"$f":"IF(E374=\"\",\"\",IF(B$11=\"Ordinary\",lookup!D366-G374,lookup!F366))","v":729965.23428327241},{"$f":"IF(E374=\"\",\"\",IF(B$11=\"Ordinary\",lookup!D366-lookup!E365,lookup!F367-lookup!G366))","v":3649.8261714163236},{"$f":"IF(E374=\"\",\"\",lookup!E$2)","v":5264.0479388639606},{"$f":"IF(E374=\"\",\"\",lookup!E366)","v":728351.01251582475}]
[null,null,null,null,{"$f":"IF(I374=\"\",\"\",IF(B$14<E374+1,\"\",IF(I374=B$15,\"\",lookup!C367)))","v":365},{"$f":"IF(E375=\"\",\"\",IF(B$11=\"Ordinary\",lookup!D367-G375,lookup!F367))","v":728351.01251582475},{"$f":"IF(E375=\"\",\"\",IF(B$11=\"Ordinary\",lookup!D367-lookup!E366,lookup!F368-lookup!G367))","v":3641.7550625790609},{"$f":"IF(E375=\"\",\"\",lookup!E$2)","v":5264.0479388639606},{"$f":"IF(E375=\"\",\"\",lookup!E367)","v":726728.71963953984}]
[null,null,null,null,{"$f":"IF(I375=\"\",\"\",IF(B$14<E375+1,\"\",IF(I375=B$15,\"\",lookup!C368)))","v":366},{"$f":"IF(E376=\"\",\"\",IF(B$11=\"Ordinary\",lookup!D368-G376,lookup!F368))","v":726728.71963953984},{"$f":"IF(E376=\"\",\"\",IF(B$11=\"Ordinary\",lookup!D368-lookup!E367,lookup!F369-lookup!G368))","v":3633.6435981976101},{"$f":"IF(E376=\"\",\"\",lookup!E$2)","v":5264.0479388639606},{"$f":"IF(E376=\"\",\"\",lookup!E368)","v":725098.31529887347}]
[null,null,null,null,{"$f":"IF(I376=\"\",\"\",IF(B$14<E376+1,\"\",IF(I376=B$15,\"\",lookup!C369)))","v":367},{"$f":"IF(E377=\"\",\"\",IF(B$11=\"Ordinary\",lookup!D369-G377,lookup!F369))","v":725098.31529887347},{"$f":"IF(E377=\"\",\"\",IF(B$11=\"Ordinary\",lookup!D369-lookup!E368,lookup!F370-lookup!G369))","v":3625.4915764942998},{"$f":"IF(E377=\"\",\"\",lookup!E$2)","v":5264.0479388639606},{"$f":"IF(E377=\"\",\"\",lookup!E369)","v":723459.75893650379}]
[null,null,null,null,{"$f":"IF(I377=\"\",\"\",IF(B$14<E377+1,\"\",IF(I377=B$15,\"\",lookup!C370)))","v":368},{"$f":"IF(E378=\"\",\"\",IF(B$11=\"Ordinary\",lookup!D370-G378,lookup!F370))","v":723459.75893650379},{"$f":"IF(E378=\"\",\"\",IF(B$11=\"Ordinary\",lookup!D370-lookup!E369,lookup!F371-lookup!G370))","v":3617.2987946824869},{"$f":"IF(E378=\"\",\"\",lookup!E$2)","v":5264.0479388639606},{"$f":"IF(E378=\"\",\"\",lookup!E370)","v":721813.00979232229}]
[null,null,null,null,{"$f":"IF(I378=\"\",\"\",IF(B$14<E378+1,\"\",IF(I378=B$15,\"\",lookup!C371)))","v":369},{"$f":"IF(E379=\"\",\"\",IF(B$11=\"Ordinary\",lookup!D371-G379,lookup!F371))","v":721813.00979232229},{"$f":"IF(E379=\"\",\"\",IF(B$11=\"Ordinary\",lookup!D371-lookup!E370,lookup!F372-lookup!G371))","v":3609.0650489615509},{"$f":"IF(E379=\"\",\"\",lookup!E$2)","v":5264.0479388639606},{"$f":"IF(E379=\"\",\"\",lookup!E371)","v":720158.02690241986}]
[null,null,null,null,{"$f":"IF(I379=\"\",\"\",IF(B$14<E379+1,\"\",IF(I379=B$15,\"\",lookup!C372)))","v":370},{"$f":"IF(E380=\"\",\"\",IF(B$11=\"Ordinary\",lookup!D372-G380,lookup!F372))","v":720158.02690241986},{"$f":"IF(E380=\"\",\"\",IF(B$11=\"Ordinary\",lookup!D372-lookup!E371,lookup!F373-lookup!G372))","v":3600.7901345120044},{"$f":"IF(E380=\"\",\"\",lookup!E$2)","v":5264.0479388639606},{"$f":"IF(E380=\"\",\"\",lookup!E372)","v":718494.76909806789}]
[null,null,null,null,{"$f":"IF(I380=\"\",\"\",IF(B$14<E380+1,\"\",IF(I380=B$15,\"\",lookup!C373)))","v":371},{"$f":"IF(E381=\"\",\"\",IF(B$11=\"Ordinary\",lookup!D373-G381,lookup!F373))","v":718494.76909806789},{"$f":"IF(E381=\"\",\"\",IF(B$11=\"Ordinary\",lookup!D373-lookup!E372,lookup!F374-lookup!G373))","v":3592.4738454902545},{"$f":"IF(E381=\"\",\"\",lookup!E$2)","v":5264.0479388639606},{"$f":"IF(E381=\"\",\"\",lookup!E373)","v":716823.19500469416}]
[null,null,null,null,{"$f":"IF(I381=\"\",\"\",IF(B$14<E381+1,\"\",IF(I381=B$15,\"\",lookup!C374)))","v":372},{"$f":"IF(E382=\"\",\"\",IF(B$11=\"Ordinary\",lookup!D374-G382,lookup!F374))","v":716823.19500469416},{"$f":"IF(E382=\"\",\"\",IF(B$11=\"Ordinary\",lookup!D374-lookup!E373,lookup!F375-lookup!G374))","v":3584.1159750233637},{"$f":"IF(E382=\"\",\"\",lookup!E$2)","v":5264.0479388639606},{"$f":"IF(E382=\"\",\"\",lookup!E374)","v":715143.26304085355}]
[null,null,null,null,{"$f":"IF(I382=\"\",\"\",IF(B$14<E382+1,\"\",IF(I382=B$15,\"\",lookup!C375)))","v":373},{"$f":"IF(E383=\"\",\"\",IF(B$11=\"Ordinary\",lookup!D375-G383,lookup!F375))","v":715143.26304085355},{"$f":"IF(E383=\"\",\"\",IF(B$11=\"Ordinary\",lookup!D375-lookup!E374,lookup!F376-lookup!G375))","v":3575.7163152041612},{"$f":"IF(E383=\"\",\"\",lookup!E$2)","v":5264.0479388639606},{"$f":"IF(E383=\"\",\"\",lookup!E375)","v":713454.93141719373}]
[null,null,null,null,{"$f":"IF(I383=\"\",\"\",IF(B$14<E383+1,\"\",IF(I383=B$15,\"\",lookup!C376)))","v":374},{"$f":"IF(E384=\"\",\"\",IF(B$11=\"Ordinary\",lookup!D376-G384,lookup!F376))","v":713454.93141719373},{"$f":"IF(E384=\"\",\"\",IF(B$11=\"Ordinary\",lookup!D376-lookup!E375,lookup!F377-lookup!G376))","v":3567.2746570858872},{"$f":"IF(E384=\"\",\"\",lookup!E$2)","v":5264.0479388639606},{"$f":"IF(E384=\"\",\"\",lookup!E376)","v":711758.15813541564}]
[null,null,null,null,{"$f":"IF(I384=\"\",\"\",IF(B$14<E384+1,\"\",IF(I384=B$15,\"\",lookup!C377)))","v":375},{"$f":"IF(E385=\"\",\"\",IF(B$11=\"Ordinary\",lookup!D377-G385,lookup!F377))","v":711758.15813541564},{"$f":"IF(E385=\"\",\"\",IF(B$11=\"Ordinary\",lookup!D377-lookup!E376,lookup!F378-lookup!G377))","v":3558.7907906769542},{"$f":"IF(E385=\"\",\"\",lookup!E$2)","v":5264.0479388639606},{"$f":"IF(E385=\"\",\"\",lookup!E377)","v":710052.90098722861}]
[null,null,null,null,{"$f":"IF(I385=\"\",\"\",IF(B$14<E385+1,\"\",IF(I385=B$15,\"\",lookup!C378)))","v":376},{"$f":"IF(E386=\"\",\"\",IF(B$11=\"Ordinary\",lookup!D378-G386,lookup!F378))","v":710052.90098722861},{"$f":"IF(E386=\"\",\"\",IF(B$11=\"Ordinary\",lookup!D378-lookup!E377,lookup!F379-lookup!G378))","v":3550.2645049360581},{"$f":"IF(E386=\"\",\"\",lookup!E$2)","v":5264.0479388639606},{"$f":"IF(E386=\"\",\"\",lookup!E378)","v":708339.11755330069}]
[null,null,null,null,{"$f":"IF(I386=\"\",\"\",IF(B$14<E386+1,\"\",IF(I386=B$15,\"\",lookup!C379)))","v":377},{"$f":"IF(E387=\"\",\"\",IF(B$11=\"Ordinary\",lookup!D379-G387,lookup!F379))","v":708339.11755330069},{"$f":"IF(E387=\"\",\"\",IF(B$11=\"Ordinary\",lookup!D379-lookup!E378,lookup!F380-lookup!G379))","v":3541.6955877664732},{"$f":"IF(E387=\"\",\"\",lookup!E$2)","v":5264.0479388639606},{"$f":"IF(E387=\"\",\"\",lookup!E379)","v":706616.76520220318}]
[null,null,null,null,{"$f":"IF(I387=\"\",\"\",IF(B$14<E387+1,\"\",IF(I387=B$15,\"\",lookup!C380)))","v":378},{"$f":"IF(E388=\"\",\"\",IF(B$11=\"Ordinary\",lookup!D380-G388,lookup!F380))","v":706616.76520220318},{"$f":"IF(E388=\"\",\"\",IF(B$11=\"Ordinary\",lookup!D380-lookup!E379,lookup!F381-lookup!G380))","v":3533.0838260109304},{"$f":"IF(E388=\"\",\"\",lookup!E$2)","v":5264.0479388639606},{"$f":"IF(E388=\"\",\"\",lookup!E380)","v":704885.80108935013}]
[null,null,null,null,{"$f":"IF(I388=\"\",\"\",IF(B$14<E388+1,\"\",IF(I388=B$15,\"\",lookup!C381)))","v":379},{"$f":"IF(E389=\"\",\"\",IF(B$11=\"Ordinary\",lookup!D381-G389,lookup!F381))","v":704885.80108935013},{"$f":"IF(E389=\"\",\"\",IF(B$11=\"Ordinary\",lookup!D381-lookup!E380,lookup!F382-lookup!G381))","v":3524.4290054467274},{"$f":"IF(E389=\"\",\"\",lookup!E$2)","v":5264.0479388639606},{"$f":"IF(E389=\"\",\"\",lookup!E381)","v":703146.18215593288}]
[null,null,null,null,{"$f":"IF(I389=\"\",\"\",IF(B$14<E389+1,\"\",IF(I389=B$15,\"\",lookup!C382)))","v":380},{"$f":"IF(E390=\"\",\"\",IF(B$11=\"Ordinary\",lookup!D382-G390,lookup!F382))","v":703146.18215593288},{"$f":"IF(E390=\"\",\"\",IF(B$11=\"Ordinary\",lookup!D382-lookup!E381,lookup!F383-lookup!G382))","v":3515.7309107795591},{"$f":"IF(E390=\"\",\"\",lookup!E$2)","v":5264.0479388639606},{"$f":"IF(E390=\"\",\"\",lookup!E382)","v":701397.86512784846}]
[null,null,null,null,{"$f":"IF(I390=\"\",\"\",IF(B$14<E390+1,\"\",IF(I390=B$15,\"\",lookup!C383)))","v":381},{"$f":"IF(E391=\"\",\"\",IF(B$11=\"Ordinary\",lookup!D383-G391,lookup!F383))","v":701397.86512784846},{"$f":"IF(E391=\"\",\"\",IF(B$11=\"Ordinary\",lookup!D383-lookup!E382,lookup!F384-lookup!G383))","v":3506.9893256392097},{"$f":"IF(E391=\"\",\"\",lookup!E$2)","v":5264.0479388639606},{"$f":"IF(E391=\"\",\"\",lookup!E383)","v":699640.80651462369}]
[null,null,null,null,{"$f":"IF(I391=\"\",\"\",IF(B$14<E391+1,\"\",IF(I391=B$15,\"\",lookup!C384)))","v":382},{"$f":"IF(E392=\"\",\"\",IF(B$11=\"Ordinary\",lookup!D384-G392,lookup!F384))","v":699640.80651462369},{"$f":"IF(E392=\"\",\"\",IF(B$11=\"Ordinary\",lookup!D384-lookup!E383,lookup!F385-lookup!G384))","v":3498.2040325730341},{"$f":"IF(E392=\"\",\"\",lookup!E$2)","v":5264.0479388639606},{"$f":"IF(E392=\"\",\"\",lookup!E384)","v":697874.96260833275}]
[null,null,null,null,{"$f":"IF(I392=\"\",\"\",IF(B$14<E392+1,\"\",IF(I392=B$15,\"\",lookup!C385)))","v":383},{"$f":"IF(E393=\"\",\"\",IF(B$11=\"Ordinary\",lookup!D385-G393,lookup!F385))","v":697874.96260833275},{"$f":"IF(E393=\"\",\"\",IF(B$11=\"Ordinary\",lookup!D385-lookup!E384,lookup!F386-lookup!G385))","v":3489.3748130415333},{"$f":"IF(E393=\"\",\"\",lookup!E$2)","v":5264.0479388639606},{"$f":"IF(E393=\"\",\"\",lookup!E385)","v":696100.2894825103}]
[null,null,null,null,{"$f":"IF(I393=\"\",\"\",IF(B$14<E393+1,\"\",IF(I393=B$15,\"\",lookup!C386)))","v":384},{"$f":"IF(E394=\"\",\"\",IF(B$11=\"Ordinary\",lookup!D386-G394,lookup!F386))","v":696100.2894825103},{"$f":"IF(E394=\"\",\"\",IF(B$11=\"Ordinary\",lookup!D386-lookup!E385,lookup!F387-lookup!G386))","v":3480.5014474125346},{"$f":"IF(E394=\"\",\"\",lookup!E$2)","v":5264.0479388639606},{"$f":"IF(E394=\"\",\"\",lookup!E386)","v":694316.74299105885}]
[null,null,null,null,{"$f":"IF(I394=\"\",\"\",IF(B$14<E394+1,\"\",IF(I394=B$15,\"\",lookup!C387)))","v":385},{"$f":"IF(E395=\"\",\"\",IF(B$11=\"Ordinary\",lookup!D387-G395,lookup!F387))","v":694316.74299105885},{"$f":"IF(E395=\"\",\"\",IF(B$11=\"Ordinary\",lookup!D387-lookup!E386,lookup!F388-lookup!G387))","v":3471.5837149552535},{"$f":"IF(E395=\"\",\"\",lookup!E$2)","v":5264.0479388639606},{"$f":"IF(E395=\"\",\"\",lookup!E387)","v":692524.27876715013}]
[null,null,null,null,{"$f":"IF(I395=\"\",\"\",IF(B$14<E395+1,\"\",IF(I395=B$15,\"\",lookup!C388)))","v":386},{"$f":"IF(E396=\"\",\"\",IF(B$11=\"Ordinary\",lookup!D388-G396,lookup!F388))","v":692524.27876715013},{"$f":"IF(E396=\"\",\"\",IF(B$11=\"Ordinary\",lookup!D388-lookup!E387,lookup!F389-lookup!G388))","v":3462.6213938356377},{"$f":"IF(E396=\"\",\"\",lookup!E$2)","v":5264.0479388639606},{"$f":"IF(E396=\"\",\"\",lookup!E388)","v":690722.85222212179}]
[null,null,null,null,{"$f":"IF(I396=\"\",\"\",IF(B$14<E396+1,\"\",IF(I396=B$15,\"\",lookup!C389)))","v":387},{"$f":"IF(E397=\"\",\"\",IF(B$11=\"Ordinary\",lookup!D389-G397,lookup!F389))","v":690722.85222212179},{"$f":"IF(E397=\"\",\"\",IF(B$11=\"Ordinary\",lookup!D389-lookup!E388,lookup!F390-lookup!G389))","v":3453.6142611105461},{"$f":"IF(E397=\"\",\"\",lookup!E$2)","v":5264.0479388639606},{"$f":"IF(E397=\"\",\"\",lookup!E389)","v":688912.41854436835}]
[null,null,null,null,{"$f":"IF(I397=\"\",\"\",IF(B$14<E397+1,\"\",IF(I397=B$15,\"\",lookup!C390)))","v":388},{"$f":"IF(E398=\"\",\"\",IF(B$11=\"Ordinary\",lookup!D390-G398,lookup!F390))","v":688912.41854436835},{"$f":"IF(E398=\"\",\"\",IF(B$11=\"Ordinary\",lookup!D390-lookup!E389,lookup!F391-lookup!G390))","v":3444.5620927218115},{"$f":"IF(E398=\"\",\"\",lookup!E$2)","v":5264.0479388639606},{"$f":"IF(E398=\"\",\"\",lookup!E390)","v":687092.93269822618}]
[null,null,null,null,{"$f":"IF(I398=\"\",\"\",IF(B$14<E398+1,\"\",IF(I398=B$15,\"\",lookup!C391)))","v":389},{"$f":"IF(E399=\"\",\"\",IF(B$11=\"Ordinary\",lookup!D391-G399,lookup!F391))","v":687092.93269822618},{"$f":"IF(E399=\"\",\"\",IF(B$11=\"Ordinary\",lookup!D391-lookup!E390,lookup!F392-lookup!G391))","v":3435.4646634910023},{"$f":"IF(E399=\"\",\"\",lookup!E$2)","v":5264.0479388639606},{"$f":"IF(E399=\"\",\"\",lookup!E391)","v":685264.34942285321}]
[null,null,null,null,{"$f":"IF(I399=\"\",\"\",IF(B$14<E399+1,\"\",IF(I399=B$15,\"\",lookup!C392)))","v":390},{"$f":"IF(E400=\"\",\"\",IF(B$11=\"Ordinary\",lookup!D392-G400,lookup!F392))","v":685264.34942285321},{"$f":"IF(E400=\"\",\"\",IF(B$11=\"Ordinary\",lookup!D392-lookup!E391,lookup!F393-lookup!G392))","v":3426.3217471141834},{"$f":"IF(E400=\"\",\"\",lookup!E$2)","v":5264.0479388639606},{"$f":"IF(E400=\"\",\"\",lookup!E392)","v":683426.62323110341}]
[null,null,null,null,{"$f":"IF(I400=\"\",\"\",IF(B$14<E400+1,\"\",IF(I400=B$15,\"\",lookup!C393)))","v":391},{"$f":"IF(E401=\"\",\"\",IF(B$11=\"Ordinary\",lookup!D393-G401,lookup!F393))","v":683426.62323110341},{"$f":"IF(E401=\"\",\"\",IF(B$11=\"Ordinary\",lookup!D393-lookup!E392,lookup!F394-lookup!G393))","v":3417.1331161553971},{"$f":"IF(E401=\"\",\"\",lookup!E$2)","v":5264.0479388639606},{"$f":"IF(E401=\"\",\"\",lookup!E393)","v":681579.70840839483}]
[null,null,null,null,{"$f":"IF(I401=\"\",\"\",IF(B$14<E401+1,\"\",IF(I401=B$15,\"\",lookup!C394)))","v":392},{"$f":"IF(E402=\"\",\"\",IF(B$11=\"Ordinary\",lookup!D394-G402,lookup!F394))","v":681579.70840839483},{"$f":"IF(E402=\"\",\"\",IF(B$11=\"Ordinary\",lookup!D394-lookup!E393,lookup!F395-lookup!G394))","v":3407.8985420418903},{"$f":"IF(E402=\"\",\"\",lookup!E$2)","v":5264.0479388639606},{"$f":"IF(E402=\"\",\"\",lookup!E394)","v":679723.55901157274}]
[null,null,null,null,{"$f":"IF(I402=\"\",\"\",IF(B$14<E402+1,\"\",IF(I402=B$15,\"\",lookup!C395)))","v":393},{"$f":"IF(E403=\"\",\"\",IF(B$11=\"Ordinary\",lookup!D395-G403,lookup!F395))","v":679723.55901157274},{"$f":"IF(E403=\"\",\"\",IF(B$11=\"Ordinary\",lookup!D395-lookup!E394,lookup!F396-lookup!G395))","v":3398.6177950578276},{"$f":"IF(E403=\"\",\"\",lookup!E$2)","v":5264.0479388639606},{"$f":"IF(E403=\"\",\"\",lookup!E395)","v":677858.12886776659}]
[null,null,null,null,{"$f":"IF(I403=\"\",\"\",IF(B$14<E403+1,\"\",IF(I403=B$15,\"\",lookup!C396)))","v":394},{"$f":"IF(E404=\"\",\"\",IF(B$11=\"Ordinary\",lookup!D396-G404,lookup!F396))","v":677858.12886776659},{"$f":"IF(E404=\"\",\"\",IF(B$11=\"Ordinary\",lookup!D396-lookup!E395,lookup!F397-lookup!G396))","v":3389.2906443387037},{"$f":"IF(E404=\"\",\"\",lookup!E$2)","v":5264.0479388639606},{"$f":"IF(E404=\"\",\"\",lookup!E396)","v":675983.37157324131}]
[null,null,null,null,{"$f":"IF(I404=\"\",\"\",IF(B$14<E404+1,\"\",IF(I404=B$15,\"\",lookup!C397)))","v":395},{"$f":"IF(E405=\"\",\"\",IF(B$11=\"Ordinary\",lookup!D397-G405,lookup!F397))","v":675983.37157324131},{"$f":"IF(E405=\"\",\"\",IF(B$11=\"Ordinary\",lookup!D397-lookup!E396,lookup!F398-lookup!G397))","v":3379.9168578661047},{"$f":"IF(E405=\"\",\"\",lookup!E$2)","v":5264.0479388639606},{"$f":"IF(E405=\"\",\"\",lookup!E397)","v":674099.24049224344}]
[null,null,null,null,{"$f":"IF(I405=\"\",\"\",IF(B$14<E405+1,\"\",IF(I405=B$15,\"\",lookup!C398)))","v":396},{"$f":"IF(E406=\"\",\"\",IF(B$11=\"Ordinary\",lookup!D398-G406,lookup!F398))","v":674099.24049224344},{"$f":"IF(E406=\"\",\"\",IF(B$11=\"Ordinary\",lookup!D398-lookup!E397,lookup!F399-lookup!G398))","v":3370.4962024611887},{"$f":"IF(E406=\"\",\"\",lookup!E$2)","v":5264.0479388639606},{"$f":"IF(E406=\"\",\"\",lookup!E398)","v":672205.68875584065}]
[null,null,null,null,{"$f":"IF(I406=\"\",\"\",IF(B$14<E406+1,\"\",IF(I406=B$15,\"\",lookup!C399)))","v":397},{"$f":"IF(E407=\"\",\"\",IF(B$11=\"Ordinary\",lookup!D399-G407,lookup!F399))","v":672205.68875584065},{"$f":"IF(E407=\"\",\"\",IF(B$11=\"Ordinary\",lookup!D399-lookup!E398,lookup!F400-lookup!G399))","v":3361.0284437790979},{"$f":"IF(E407=\"\",\"\",lookup!E$2)","v":5264.0479388639606},{"$f":"IF(E407=\"\",\"\",lookup!E399)","v":670302.66926075576}]
[null,null,null,null,{"$f":"IF(I407=\"\",\"\",IF(B$14<E407+1,\"\",IF(I407=B$15,\"\",lookup!C400)))","v":398},{"$f":"IF(E408=\"\",\"\",IF(B$11=\"Ordinary\",lookup!D400-G408,lookup!F400))","v":670302.66926075576},{"$f":"IF(E408=\"\",\"\",IF(B$11=\"Ordinary\",lookup!D400-lookup!E399,lookup!F401-lookup!G400))","v":3351.51334630372},{"$f":"IF(E408=\"\",\"\",lookup!E$2)","v":5264.0479388639606},{"$f":"IF(E408=\"\",\"\",lookup!E400)","v":668390.1346681955}]
[null,null,null,null,{"$f":"IF(I408=\"\",\"\",IF(B$14<E408+1,\"\",IF(I408=B$15,\"\",lookup!C401)))","v":399},{"$f":"IF(E409=\"\",\"\",IF(B$11=\"Ordinary\",lookup!D401-G409,lookup!F401))","v":668390.1346681955},{"$f":"IF(E409=\"\",\"\",IF(B$11=\"Ordinary\",lookup!D401-lookup!E400,lookup!F402-lookup!G401))","v":3341.9506733409362},{"$f":"IF(E409=\"\",\"\",lookup!E$2)","v":5264.0479388639606},{"$f":"IF(E409=\"\",\"\",lookup!E401)","v":666468.03740267246}]
[null,null,null,null,{"$f":"IF(I409=\"\",\"\",IF(B$14<E409+1,\"\",IF(I409=B$15,\"\",lookup!C402)))","v":400},{"$f":"IF(E410=\"\",\"\",IF(B$11=\"Ordinary\",lookup!D402-G410,lookup!F402))","v":666468.03740267246},{"$f":"IF(E410=\"\",\"\",IF(B$11=\"Ordinary\",lookup!D402-lookup!E401,lookup!F403-lookup!G402))","v":3332.3401870132657},{"$f":"IF(E410=\"\",\"\",lookup!E$2)","v":5264.0479388639606},{"$f":"IF(E410=\"\",\"\",lookup!E402)","v":664536.32965082175}]
[null,null,null,null,{"$f":"IF(I410=\"\",\"\",IF(B$14<E410+1,\"\",IF(I410=B$15,\"\",lookup!C403)))","v":401},{"$f":"IF(E411=\"\",\"\",IF(B$11=\"Ordinary\",lookup!D403-G411,lookup!F403))","v":664536.32965082175},{"$f":"IF(E411=\"\",\"\",IF(B$11=\"Ordinary\",lookup!D403-lookup!E402,lookup!F404-lookup!G403))","v":3322.6816482540453},{"$f":"IF(E411=\"\",\"\",lookup!E$2)","v":5264.0479388639606},{"$f":"IF(E411=\"\",\"\",lookup!E403)","v":662594.96336021181}]
[null,null,null,null,{"$f":"IF(I411=\"\",\"\",IF(B$14<E411+1,\"\",IF(I411=B$15,\"\",lookup!C404)))","v":402},{"$f":"IF(E412=\"\",\"\",IF(B$11=\"Ordinary\",lookup!D404-G412,lookup!F404))","v":662594.96336021181},{"$f":"IF(E412=\"\",\"\",IF(B$11=\"Ordinary\",lookup!D404-lookup!E403,lookup!F405-lookup!G404))","v":3312.9748168010265},{"$f":"IF(E412=\"\",\"\",lookup!E$2)","v":5264.0479388639606},{"$f":"IF(E412=\"\",\"\",lookup!E404)","v":660643.89023814886}]
[null,null,null,null,{"$f":"IF(I412=\"\",\"\",IF(B$14<E412+1,\"\",IF(I412=B$15,\"\",lookup!C405)))","v":403},{"$f":"IF(E413=\"\",\"\",IF(B$11=\"Ordinary\",lookup!D405-G413,lookup!F405))","v":660643.89023814886},{"$f":"IF(E413=\"\",\"\",IF(B$11=\"Ordinary\",lookup!D405-lookup!E404,lookup!F406-lookup!G405))","v":3303.219451190671},{"$f":"IF(E413=\"\",\"\",lookup!E$2)","v":5264.0479388639606},{"$f":"IF(E413=\"\",\"\",lookup!E405)","v":658683.06175047555}]
[null,null,null,null,{"$f":"IF(I413=\"\",\"\",IF(B$14<E413+1,\"\",IF(I413=B$15,\"\",lookup!C406)))","v":404},{"$f":"IF(E414=\"\",\"\",IF(B$11=\"Ordinary\",lookup!D406-G414,lookup!F406))","v":658683.06175047555},{"$f":"IF(E414=\"\",\"\",IF(B$11=\"Ordinary\",lookup!D406-lookup!E405,lookup!F407-lookup!G406))","v":3293.41530875233},{"$f":"IF(E414=\"\",\"\",lookup!E$2)","v":5264.0479388639606},{"$f":"IF(E414=\"\",\"\",lookup!E406)","v":656712.4291203639}]
[null,null,null,null,{"$f":"IF(I414=\"\",\"\",IF(B$14<E414+1,\"\",IF(I414=B$15,\"\",lookup!C407)))","v":405},{"$f":"IF(E415=\"\",\"\",IF(B$11=\"Ordinary\",lookup!D407-G415,lookup!F407))","v":656712.4291203639},{"$f":"IF(E415=\"\",\"\",IF(B$11=\"Ordinary\",lookup!D407-lookup!E406,lookup!F408-lookup!G407))","v":3283.5621456017252},{"$f":"IF(E415=\"\",\"\",lookup!E$2)","v":5264.0479388639606},{"$f":"IF(E415=\"\",\"\",lookup!E407)","v":654731.94332710165}]
[null,null,null,null,{"$f":"IF(I415=\"\",\"\",IF(B$14<E415+1,\"\",IF(I415=B$15,\"\",lookup!C408)))","v":406},{"$f":"IF(E416=\"\",\"\",IF(B$11=\"Ordinary\",lookup!D408-G416,lookup!F408))","v":654731.94332710165},{"$f":"IF(E416=\"\",\"\",IF(B$11=\"Ordinary\",lookup!D408-lookup!E407,lookup!F409-lookup!G408))","v":3273.6597166354768},{"$f":"IF(E416=\"\",\"\",lookup!E$2)","v":5264.0479388639606},{"$f":"IF(E416=\"\",\"\",lookup!E408)","v":652741.55510487314}]
[null,null,null,null,{"$f":"IF(I416=\"\",\"\",IF(B$14<E416+1,\"\",IF(I416=B$15,\"\",lookup!C409)))","v":407},{"$f":"IF(E417=\"\",\"\",IF(B$11=\"Ordinary\",lookup!D409-G417,lookup!F409))","v":652741.55510487314},{"$f":"IF(E417=\"\",\"\",IF(B$11=\"Ordinary\",lookup!D409-lookup!E408,lookup!F410-lookup!G409))","v":3263.7077755243517},{"$f":"IF(E417=\"\",\"\",lookup!E$2)","v":5264.0479388639606},{"$f":"IF(E417=\"\",\"\",lookup!E409)","v":650741.21494153352}]
[null,null,null,null,{"$f":"IF(I417=\"\",\"\",IF(B$14<E417+1,\"\",IF(I417=B$15,\"\",lookup!C410)))","v":408},{"$f":"IF(E418=\"\",\"\",IF(B$11=\"Ordinary\",lookup!D410-G418,lookup!F410))","v":650741.21494153352},{"$f":"IF(E418=\"\",\"\",IF(B$11=\"Ordinary\",lookup!D410-lookup!E409,lookup!F411-lookup!G410))","v":3253.7060747075593},{"$f":"IF(E418=\"\",\"\",lookup!E$2)","v":5264.0479388639606},{"$f":"IF(E418=\"\",\"\",lookup!E410)","v":648730.87307737709}]
[null,null,null,null,{"$f":"IF(I418=\"\",\"\",IF(B$14<E418+1,\"\",IF(I418=B$15,\"\",lookup!C411)))","v":409},{"$f":"IF(E419=\"\",\"\",IF(B$11=\"Ordinary\",lookup!D411-G419,lookup!F411))","v":648730.87307737709},{"$f":"IF(E419=\"\",\"\",IF(B$11=\"Ordinary\",lookup!D411-lookup!E410,lookup!F412-lookup!G411))","v":3243.6543653868139},{"$f":"IF(E419=\"\",\"\",lookup!E$2)","v":5264.0479388639606},{"$f":"IF(E419=\"\",\"\",lookup!E411)","v":646710.47950389993}]
[null,null,null,null,{"$f":"IF(I419=\"\",\"\",IF(B$14<E419+1,\"\",IF(I419=B$15,\"\",lookup!C412)))","v":410},{"$f":"IF(E420=\"\",\"\",IF(B$11=\"Ordinary\",lookup!D412-G420,lookup!F412))","v":646710.47950389993},{"$f":"IF(E420=\"\",\"\",IF(B$11=\"Ordinary\",lookup!D412-lookup!E411,lookup!F413-lookup!G412))","v":3233.5523975194665},{"$f":"IF(E420=\"\",\"\",lookup!E$2)","v":5264.0479388639606},{"$f":"IF(E420=\"\",\"\",lookup!E412)","v":644679.98396255542}]
[null,null,null,null,{"$f":"IF(I420=\"\",\"\",IF(B$14<E420+1,\"\",IF(I420=B$15,\"\",lookup!C413)))","v":411},{"$f":"IF(E421=\"\",\"\",IF(B$11=\"Ordinary\",lookup!D413-G421,lookup!F413))","v":644679.98396255542},{"$f":"IF(E421=\"\",\"\",IF(B$11=\"Ordinary\",lookup!D413-lookup!E412,lookup!F414-lookup!G413))","v":3223.3999198126839},{"$f":"IF(E421=\"\",\"\",lookup!E$2)","v":5264.0479388639606},{"$f":"IF(E421=\"\",\"\",lookup!E413)","v":642639.33594350412}]
[null,null,null,null,{"$f":"IF(I421=\"\",\"\",IF(B$14<E421+1,\"\",IF(I421=B$15,\"\",lookup!C414)))","v":412},{"$f":"IF(E422=\"\",\"\",IF(B$11=\"Ordinary\",lookup!D414-G422,lookup!F414))","v":642639.33594350412},{"$f":"IF(E422=\"\",\"\",IF(B$11=\"Ordinary\",lookup!D414-lookup!E413,lookup!F415-lookup!G414))","v":3213.1966797173955},{"$f":"IF(E422=\"\",\"\",lookup!E$2)","v":5264.0479388639606},{"$f":"IF(E422=\"\",\"\",lookup!E414)","v":640588.48468435754}]
[null,null,null,null,{"$f":"IF(I422=\"\",\"\",IF(B$14<E422+1,\"\",IF(I422=B$15,\"\",lookup!C415)))","v":413},{"$f":"IF(E423=\"\",\"\",IF(B$11=\"Ordinary\",lookup!D415-G423,lookup!F415))","v":640588.48468435754},{"$f":"IF(E423=\"\",\"\",IF(B$11=\"Ordinary\",lookup!D415-lookup!E414,lookup!F416-lookup!G415))","v":3202.9424234217731},{"$f":"IF(E423=\"\",\"\",lookup!E$2)","v":5264.0479388639606},{"$f":"IF(E423=\"\",\"\",lookup!E415)","v":638527.37916891533}]
[null,null,null,null,{"$f":"IF(I423=\"\",\"\",IF(B$14<E423+1,\"\",IF(I423=B$15,\"\",lookup!C416)))","v":414},{"$f":"IF(E424=\"\",\"\",IF(B$11=\"Ordinary\",lookup!D416-G424,lookup!F416))","v":638527.37916891533},{"$f":"IF(E424=\"\",\"\",IF(B$11=\"Ordinary\",lookup!D416-lookup!E415,lookup!F417-lookup!G416))","v":3192.63689584448},{"$f":"IF(E424=\"\",\"\",lookup!E$2)","v":5264.0479388639606},{"$f":"IF(E424=\"\",\"\",lookup!E416)","v":636455.96812589583}]
[null,null,null,null,{"$f":"IF(I424=\"\",\"\",IF(B$14<E424+1,\"\",IF(I424=B$15,\"\",lookup!C417)))","v":415},{"$f":"IF(E425=\"\",\"\",IF(B$11=\"Ordinary\",lookup!D417-G425,lookup!F417))","v":636455.96812589583},{"$f":"IF(E425=\"\",\"\",IF(B$11=\"Ordinary\",lookup!D417-lookup!E416,lookup!F418-lookup!G417))","v":3182.2798406294314},{"$f":"IF(E425=\"\",\"\",lookup!E$2)","v":5264.0479388639606},{"$f":"IF(E425=\"\",\"\",lookup!E417)","v":634374.20002766128}]
[null,null,null,null,{"$f":"IF(I425=\"\",\"\",IF(B$14<E425+1,\"\",IF(I425=B$15,\"\",lookup!C418)))","v":416},{"$f":"IF(E426=\"\",\"\",IF(B$11=\"Ordinary\",lookup!D418-G426,lookup!F418))","v":634374.20002766128},{"$f":"IF(E426=\"\",\"\",IF(B$11=\"Ordinary\",lookup!D418-lookup!E417,lookup!F419-lookup!G418))","v":3171.8710001382278},{"$f":"IF(E426=\"\",\"\",lookup!E$2)","v":5264.0479388639606},{"$f":"IF(E426=\"\",\"\",lookup!E418)","v":632282.02308893553}]
[null,null,null,null,{"$f":"IF(I426=\"\",\"\",IF(B$14<E426+1,\"\",IF(I426=B$15,\"\",lookup!C419)))","v":417},{"$f":"IF(E427=\"\",\"\",IF(B$11=\"Ordinary\",lookup!D419-G427,lookup!F419))","v":632282.02308893553},{"$f":"IF(E427=\"\",\"\",IF(B$11=\"Ordinary\",lookup!D419-lookup!E418,lookup!F420-lookup!G419))","v":3161.4101154445671},{"$f":"IF(E427=\"\",\"\",lookup!E$2)","v":5264.0479388639606},{"$f":"IF(E427=\"\",\"\",lookup!E419)","v":630179.38526551612}]
[null,null,null,null,{"$f":"IF(I427=\"\",\"\",IF(B$14<E427+1,\"\",IF(I427=B$15,\"\",lookup!C420)))","v":418},{"$f":"IF(E428=\"\",\"\",IF(B$11=\"Ordinary\",lookup!D420-G428,lookup!F420))","v":630179.38526551612},{"$f":"IF(E428=\"\",\"\",IF(B$11=\"Ordinary\",lookup!D420-lookup!E419,lookup!F421-lookup!G420))","v":3150.8969263274921},{"$f":"IF(E428=\"\",\"\",lookup!E$2)","v":5264.0479388639606},{"$f":"IF(E428=\"\",\"\",lookup!E420)","v":628066.23425297963}]
[null,null,null,null,{"$f":"IF(I428=\"\",\"\",IF(B$14<E428+1,\"\",IF(I428=B$15,\"\",lookup!C421)))","v":419},{"$f":"IF(E429=\"\",\"\",IF(B$11=\"Ordinary\",lookup!D421-G429,lookup!F421))","v":628066.23425297963},{"$f":"IF(E429=\"\",\"\",IF(B$11=\"Ordinary\",lookup!D421-lookup!E420,lookup!F422-lookup!G421))","v":3140.331171264872},{"$f":"IF(E429=\"\",\"\",lookup!E$2)","v":5264.0479388639606},{"$f":"IF(E429=\"\",\"\",lookup!E421)","v":625942.51748538052}]
[null,null,null,null,{"$f":"IF(I429=\"\",\"\",IF(B$14<E429+1,\"\",IF(I429=B$15,\"\",lookup!C422)))","v":420},{"$f":"IF(E430=\"\",\"\",IF(B$11=\"Ordinary\",lookup!D422-G430,lookup!F422))","v":625942.51748538052},{"$f":"IF(E430=\"\",\"\",IF(B$11=\"Ordinary\",lookup!D422-lookup!E421,lookup!F423-lookup!G422))","v":3129.7125874268822},{"$f":"IF(E430=\"\",\"\",lookup!E$2)","v":5264.0479388639606},{"$f":"IF(E430=\"\",\"\",lookup!E422)","v":623808.18213394342}]
[null,null,null,null,{"$f":"IF(I430=\"\",\"\",IF(B$14<E430+1,\"\",IF(I430=B$15,\"\",lookup!C423)))","v":421},{"$f":"IF(E431=\"\",\"\",IF(B$11=\"Ordinary\",lookup!D423-G431,lookup!F423))","v":623808.18213394342},{"$f":"IF(E431=\"\",\"\",IF(B$11=\"Ordinary\",lookup!D423-lookup!E422,lookup!F424-lookup!G423))","v":3119.0409106696025},{"$f":"IF(E431=\"\",\"\",lookup!E$2)","v":5264.0479388639606},{"$f":"IF(E431=\"\",\"\",lookup!E423)","v":621663.17510574905}]
[null,null,null,null,{"$f":"IF(I431=\"\",\"\",IF(B$14<E431+1,\"\",IF(I431=B$15,\"\",lookup!C424)))","v":422},{"$f":"IF(E432=\"\",\"\",IF(B$11=\"Ordinary\",lookup!D424-G432,lookup!F424))","v":621663.17510574905},{"$f":"IF(E432=\"\",\"\",IF(B$11=\"Ordinary\",lookup!D424-lookup!E423,lookup!F425-lookup!G424))","v":3108.3158755287295},{"$f":"IF(E432=\"\",\"\",lookup!E$2)","v":5264.0479388639606},{"$f":"IF(E432=\"\",\"\",lookup!E424)","v":619507.4430424138}]
[null,null,null,null,{"$f":"IF(I432=\"\",\"\",IF(B$14<E432+1,\"\",IF(I432=B$15,\"\",lookup!C425)))","v":423},{"$f":"IF(E433=\"\",\"\",IF(B$11=\"Ordinary\",lookup!D425-G433,lookup!F425))","v":619507.4430424138},{"$f":"IF(E433=\"\",\"\",IF(B$11=\"Ordinary\",lookup!D425-lookup!E424,lookup!F426-lookup!G425))","v":3097.5372152120108},{"$f":"IF(E433=\"\",\"\",lookup!E$2)","v":5264.0479388639606},{"$f":"IF(E433=\"\",\"\",lookup!E425)","v":617340.93231876183}]
[null,null,null,null,{"$f":"IF(I433=\"\",\"\",IF(B$14<E433+1,\"\",IF(I433=B$15,\"\",lookup!C426)))","v":424},{"$f":"IF(E434=\"\",\"\",IF(B$11=\"Ordinary\",lookup!D426-G434,lookup!F426))","v":617340.93231876183},{"$f":"IF(E434=\"\",\"\",IF(B$11=\"Ordinary\",lookup!D426-lookup!E425,lookup!F427-lookup!G426))","v":3086.7046615937725},{"$f":"IF(E434=\"\",\"\",lookup!E$2)","v":5264.0479388639606},{"$f":"IF(E434=\"\",\"\",lookup!E426)","v":615163.58904149162}]
[null,null,null,null,{"$f":"IF(I434=\"\",\"\",IF(B$14<E434+1,\"\",IF(I434=B$15,\"\",lookup!C427)))","v":425},{"$f":"IF(E435=\"\",\"\",IF(B$11=\"Ordinary\",lookup!D427-G435,lookup!F427))","v":615163.58904149162},{"$f":"IF(E435=\"\",\"\",IF(B$11=\"Ordinary\",lookup!D427-lookup!E426,lookup!F428-lookup!G427))","v":3075.8179452073528},{"$f":"IF(E435=\"\",\"\",lookup!E$2)","v":5264.0479388639606},{"$f":"IF(E435=\"\",\"\",lookup!E427)","v":612975.35904783499}]
[null,null,null,null,{"$f":"IF(I435=\"\",\"\",IF(B$14<E435+1,\"\",IF(I435=B$15,\"\",lookup!C428)))","v":426},{"$f":"IF(E436=\"\",\"\",IF(B$11=\"Ordinary\",lookup!D428-G436,lookup!F428))","v":612975.35904783499},{"$f":"IF(E436=\"\",\"\",IF(B$11=\"Ordinary\",lookup!D428-lookup!E427,lookup!F429-lookup!G428))","v":3064.8767952391645},{"$f":"IF(E436=\"\",\"\",lookup!E$2)","v":5264.0479388639606},{"$f":"IF(E436=\"\",\"\",lookup!E428)","v":610776.18790421018}]
[null,null,null,null,{"$f":"IF(I436=\"\",\"\",IF(B$14<E436+1,\"\",IF(I436=B$15,\"\",lookup!C429)))","v":427},{"$f":"IF(E437=\"\",\"\",IF(B$11=\"Ordinary\",lookup!D429-G437,lookup!F429))","v":610776.18790421018},{"$f":"IF(E437=\"\",\"\",IF(B$11=\"Ordinary\",lookup!D429-lookup!E428,lookup!F430-lookup!G429))","v":3053.8809395210119},{"$f":"IF(E437=\"\",\"\",lookup!E$2)","v":5264.0479388639606},{"$f":"IF(E437=\"\",\"\",lookup!E429)","v":608566.02090486721}]
[null,null,null,null,{"$f":"IF(I437=\"\",\"\",IF(B$14<E437+1,\"\",IF(I437=B$15,\"\",lookup!C430)))","v":428},{"$f":"IF(E438=\"\",\"\",IF(B$11=\"Ordinary\",lookup!D430-G438,lookup!F430))","v":608566.02090486721},{"$f":"IF(E438=\"\",\"\",IF(B$11=\"Ordinary\",lookup!D430-lookup!E429,lookup!F431-lookup!G430))","v":3042.8301045242697},{"$f":"IF(E438=\"\",\"\",lookup!E$2)","v":5264.0479388639606},{"$f":"IF(E438=\"\",\"\",lookup!E430)","v":606344.8030705275}]
[null,null,null,null,{"$f":"IF(I438=\"\",\"\",IF(B$14<E438+1,\"\",IF(I438=B$15,\"\",lookup!C431)))","v":429},{"$f":"IF(E439=\"\",\"\",IF(B$11=\"Ordinary\",lookup!D431-G439,lookup!F431))","v":606344.8030705275},{"$f":"IF(E439=\"\",\"\",IF(B$11=\"Ordinary\",lookup!D431-lookup!E430,lookup!F432-lookup!G431))","v":3031.724015352549},{"$f":"IF(E439=\"\",\"\",lookup!E$2)","v":5264.0479388639606},{"$f":"IF(E439=\"\",\"\",lookup!E431)","v":604112.47914701607}]
[null,null,null,null,{"$f":"IF(I439=\"\",\"\",IF(B$14<E439+1,\"\",IF(I439=B$15,\"\",lookup!C432)))","v":430},{"$f":"IF(E440=\"\",\"\",IF(B$11=\"Ordinary\",lookup!D432-G440,lookup!F432))","v":604112.47914701607},{"$f":"IF(E440=\"\",\"\",IF(B$11=\"Ordinary\",lookup!D432-lookup!E431,lookup!F433-lookup!G432))","v":3020.5623957350617},{"$f":"IF(E440=\"\",\"\",lookup!E$2)","v":5264.0479388639606},{"$f":"IF(E440=\"\",\"\",lookup!E432)","v":601868.99360388715}]
[null,null,null,null,{"$f":"IF(I440=\"\",\"\",IF(B$14<E440+1,\"\",IF(I440=B$15,\"\",lookup!C433)))","v":431},{"$f":"IF(E441=\"\",\"\",IF(B$11=\"Ordinary\",lookup!D433-G441,lookup!F433))","v":601868.99360388715},{"$f":"IF(E441=\"\",\"\",IF(B$11=\"Ordinary\",lookup!D433-lookup!E432,lookup!F434-lookup!G433))","v":3009.3449680194026},{"$f":"IF(E441=\"\",\"\",lookup!E$2)","v":5264.0479388639606},{"$f":"IF(E441=\"\",\"\",lookup!E433)","v":599614.29063304258}]
[null,null,null,null,{"$f":"IF(I441=\"\",\"\",IF(B$14<E441+1,\"\",IF(I441=B$15,\"\",lookup!C434)))","v":432},{"$f":"IF(E442=\"\",\"\",IF(B$11=\"Ordinary\",lookup!D434-G442,lookup!F434))","v":599614.29063304258},{"$f":"IF(E442=\"\",\"\",IF(B$11=\"Ordinary\",lookup!D434-lookup!E433,lookup!F435-lookup!G434))","v":2998.0714531651465},{"$f":"IF(E442=\"\",\"\",lookup!E$2)","v":5264.0479388639606},{"$f":"IF(E442=\"\",\"\",lookup!E434)","v":597348.31414734374}]
[null,null,null,null,{"$f":"IF(I442=\"\",\"\",IF(B$14<E442+1,\"\",IF(I442=B$15,\"\",lookup!C435)))","v":433},{"$f":"IF(E443=\"\",\"\",IF(B$11=\"Ordinary\",lookup!D435-G443,lookup!F435))","v":597348.31414734374},{"$f":"IF(E443=\"\",\"\",IF(B$11=\"Ordinary\",lookup!D435-lookup!E434,lookup!F436-lookup!G435))","v":2986.7415707366308},{"$f":"IF(E443=\"\",\"\",lookup!E$2)","v":5264.0479388639606},{"$f":"IF(E443=\"\",\"\",lookup!E435)","v":595071.00777921639}]
[null,null,null,null,{"$f":"IF(I443=\"\",\"\",IF(B$14<E443+1,\"\",IF(I443=B$15,\"\",lookup!C436)))","v":434},{"$f":"IF(E444=\"\",\"\",IF(B$11=\"Ordinary\",lookup!D436-G444,lookup!F436))","v":595071.00777921639},{"$f":"IF(E444=\"\",\"\",IF(B$11=\"Ordinary\",lookup!D436-lookup!E435,lookup!F437-lookup!G436))","v":2975.3550388959702},{"$f":"IF(E444=\"\",\"\",lookup!E$2)","v":5264.0479388639606},{"$f":"IF(E444=\"\",\"\",lookup!E436)","v":592782.31487924838}]
[null,null,null,null,{"$f":"IF(I444=\"\",\"\",IF(B$14<E444+1,\"\",IF(I444=B$15,\"\",lookup!C437)))","v":435},{"$f":"IF(E445=\"\",\"\",IF(B$11=\"Ordinary\",lookup!D437-G445,lookup!F437))","v":592782.31487924838},{"$f":"IF(E445=\"\",\"\",IF(B$11=\"Ordinary\",lookup!D437-lookup!E436,lookup!F438-lookup!G437))","v":2963.9115743961884},{"$f":"IF(E445=\"\",\"\",lookup!E$2)","v":5264.0479388639606},{"$f":"IF(E445=\"\",\"\",lookup!E437)","v":590482.17851478059}]
[null,null,null,null,{"$f":"IF(I445=\"\",\"\",IF(B$14<E445+1,\"\",IF(I445=B$15,\"\",lookup!C438)))","v":436},{"$f":"IF(E446=\"\",\"\",IF(B$11=\"Ordinary\",lookup!D438-G446,lookup!F438))","v":590482.17851478059},{"$f":"IF(E446=\"\",\"\",IF(B$11=\"Ordinary\",lookup!D438-lookup!E437,lookup!F439-lookup!G438))","v":2952.4108925738838},{"$f":"IF(E446=\"\",\"\",lookup!E$2)","v":5264.0479388639606},{"$f":"IF(E446=\"\",\"\",lookup!E438)","v":588170.5414684905}]
[null,null,null,null,{"$f":"IF(I446=\"\",\"\",IF(B$14<E446+1,\"\",IF(I446=B$15,\"\",lookup!C439)))","v":437},{"$f":"IF(E447=\"\",\"\",IF(B$11=\"Ordinary\",lookup!D439-G447,lookup!F439))","v":588170.5414684905},{"$f":"IF(E447=\"\",\"\",IF(B$11=\"Ordinary\",lookup!D439-lookup!E438,lookup!F440-lookup!G439))","v":2940.8527073423611},{"$f":"IF(E447=\"\",\"\",lookup!E$2)","v":5264.0479388639606},{"$f":"IF(E447=\"\",\"\",lookup!E439)","v":585847.34623696888}]
[null,null,null,null,{"$f":"IF(I447=\"\",\"\",IF(B$14<E447+1,\"\",IF(I447=B$15,\"\",lookup!C440)))","v":438},{"$f":"IF(E448=\"\",\"\",IF(B$11=\"Ordinary\",lookup!D440-G448,lookup!F440))","v":585847.34623696888},{"$f":"IF(E448=\"\",\"\",IF(B$11=\"Ordinary\",lookup!D440-lookup!E439,lookup!F441-lookup!G440))","v":2929.2367311847629},{"$f":"IF(E448=\"\",\"\",lookup!E$2)","v":5264.0479388639606},{"$f":"IF(E448=\"\",\"\",lookup!E440)","v":583512.53502928966}]
[null,null,null,null,{"$f":"IF(I448=\"\",\"\",IF(B$14<E448+1,\"\",IF(I448=B$15,\"\",lookup!C441)))","v":439},{"$f":"IF(E449=\"\",\"\",IF(B$11=\"Ordinary\",lookup!D441-G449,lookup!F441))","v":583512.53502928966},{"$f":"IF(E449=\"\",\"\",IF(B$11=\"Ordinary\",lookup!D441-lookup!E440,lookup!F442-lookup!G441))","v":2917.562675146386},{"$f":"IF(E449=\"\",\"\",lookup!E$2)","v":5264.0479388639606},{"$f":"IF(E449=\"\",\"\",lookup!E441)","v":581166.04976557207}]
[null,null,null,null,{"$f":"IF(I449=\"\",\"\",IF(B$14<E449+1,\"\",IF(I449=B$15,\"\",lookup!C442)))","v":440},{"$f":"IF(E450=\"\",\"\",IF(B$11=\"Ordinary\",lookup!D442-G450,lookup!F442))","v":581166.04976557207},{"$f":"IF(E450=\"\",\"\",IF(B$11=\"Ordinary\",lookup!D442-lookup!E441,lookup!F443-lookup!G442))","v":2905.8302488278132},{"$f":"IF(E450=\"\",\"\",lookup!E$2)","v":5264.0479388639606},{"$f":"IF(E450=\"\",\"\",lookup!E442)","v":578807.8320755359}]
[null,null,null,null,{"$f":"IF(I450=\"\",\"\",IF(B$14<E450+1,\"\",IF(I450=B$15,\"\",lookup!C443)))","v":441},{"$f":"IF(E451=\"\",\"\",IF(B$11=\"Ordinary\",lookup!D443-G451,lookup!F443))","v":578807.8320755359},{"$f":"IF(E451=\"\",\"\",IF(B$11=\"Ordinary\",lookup!D443-lookup!E442,lookup!F444-lookup!G443))","v":2894.0391603775788},{"$f":"IF(E451=\"\",\"\",lookup!E$2)","v":5264.0479388639606},{"$f":"IF(E451=\"\",\"\",lookup!E443)","v":576437.8232970495}]
[null,null,null,null,{"$f":"IF(I451=\"\",\"\",IF(B$14<E451+1,\"\",IF(I451=B$15,\"\",lookup!C444)))","v":442},{"$f":"IF(E452=\"\",\"\",IF(B$11=\"Ordinary\",lookup!D444-G452,lookup!F444))","v":576437.8232970495},{"$f":"IF(E452=\"\",\"\",IF(B$11=\"Ordinary\",lookup!D444-lookup!E443,lookup!F445-lookup!G444))","v":2882.1891164851841},{"$f":"IF(E452=\"\",\"\",lookup!E$2)","v":5264.0479388639606},{"$f":"IF(E452=\"\",\"\",lookup!E444)","v":574055.96447467071}]
[null,null,null,null,{"$f":"IF(I452=\"\",\"\",IF(B$14<E452+1,\"\",IF(I452=B$15,\"\",lookup!C445)))","v":443},{"$f":"IF(E453=\"\",\"\",IF(B$11=\"Ordinary\",lookup!D445-G453,lookup!F445))","v":574055.96447467071},{"$f":"IF(E453=\"\",\"\",IF(B$11=\"Ordinary\",lookup!D445-lookup!E444,lookup!F446-lookup!G445))","v":2870.2798223732971},{"$f":"IF(E453=\"\",\"\",lookup!E$2)","v":5264.0479388639606},{"$f":"IF(E453=\"\",\"\",lookup!E445)","v":571662.19635818002}]
[null,null,null,null,{"$f":"IF(I453=\"\",\"\",IF(B$14<E453+1,\"\",IF(I453=B$15,\"\",lookup!C446)))","v":444},{"$f":"IF(E454=\"\",\"\",IF(B$11=\"Ordinary\",lookup!D446-G454,lookup!F446))","v":571662.19635818002},{"$f":"IF(E454=\"\",\"\",IF(B$11=\"Ordinary\",lookup!D446-lookup!E445,lookup!F447-lookup!G446))","v":2858.3109817908844},{"$f":"IF(E454=\"\",\"\",lookup!E$2)","v":5264.0479388639606},{"$f":"IF(E454=\"\",\"\",lookup!E446)","v":569256.45940110693}]
[null,null,null,null,{"$f":"IF(I454=\"\",\"\",IF(B$14<E454+1,\"\",IF(I454=B$15,\"\",lookup!C447)))","v":445},{"$f":"IF(E455=\"\",\"\",IF(B$11=\"Ordinary\",lookup!D447-G455,lookup!F447))","v":569256.45940110693},{"$f":"IF(E455=\"\",\"\",IF(B$11=\"Ordinary\",lookup!D447-lookup!E446,lookup!F448-lookup!G447))","v":2846.2822970055277},{"$f":"IF(E455=\"\",\"\",lookup!E$2)","v":5264.0479388639606},{"$f":"IF(E455=\"\",\"\",lookup!E447)","v":566838.69375924848}]
[null,null,null,null,{"$f":"IF(I455=\"\",\"\",IF(B$14<E455+1,\"\",IF(I455=B$15,\"\",lookup!C448)))","v":446},{"$f":"IF(E456=\"\",\"\",IF(B$11=\"Ordinary\",lookup!D448-G456,lookup!F448))","v":566838.69375924848},{"$f":"IF(E456=\"\",\"\",IF(B$11=\"Ordinary\",lookup!D448-lookup!E447,lookup!F449-lookup!G448))","v":2834.1934687962057},{"$f":"IF(E456=\"\",\"\",lookup!E$2)","v":5264.0479388639606},{"$f":"IF(E456=\"\",\"\",lookup!E448)","v":564408.8392891807}]
[null,null,null,null,{"$f":"IF(I456=\"\",\"\",IF(B$14<E456+1,\"\",IF(I456=B$15,\"\",lookup!C449)))","v":447},{"$f":"IF(E457=\"\",\"\",IF(B$11=\"Ordinary\",lookup!D449-G457,lookup!F449))","v":564408.8392891807},{"$f":"IF(E457=\"\",\"\",IF(B$11=\"Ordinary\",lookup!D449-lookup!E448,lookup!F450-lookup!G449))","v":2822.0441964458441},{"$f":"IF(E457=\"\",\"\",lookup!E$2)","v":5264.0479388639606},{"$f":"IF(E457=\"\",\"\",lookup!E449)","v":561966.83554676257}]
[null,null,null,null,{"$f":"IF(I457=\"\",\"\",IF(B$14<E457+1,\"\",IF(I457=B$15,\"\",lookup!C450)))","v":448},{"$f":"IF(E458=\"\",\"\",IF(B$11=\"Ordinary\",lookup!D450-G458,lookup!F450))","v":561966.83554676257},{"$f":"IF(E458=\"\",\"\",IF(B$11=\"Ordinary\",lookup!D450-lookup!E449,lookup!F451-lookup!G450))","v":2809.8341777337482},{"$f":"IF(E458=\"\",\"\",lookup!E$2)","v":5264.0479388639606},{"$f":"IF(E458=\"\",\"\",lookup!E450)","v":559512.62178563233}]
[null,null,null,null,{"$f":"IF(I458=\"\",\"\",IF(B$14<E458+1,\"\",IF(I458=B$15,\"\",lookup!C451)))","v":449},{"$f":"IF(E459=\"\",\"\",IF(B$11=\"Ordinary\",lookup!D451-G459,lookup!F451))","v":559512.62178563233},{"$f":"IF(E459=\"\",\"\",IF(B$11=\"Ordinary\",lookup!D451-lookup!E450,lookup!F452-lookup!G451))","v":2797.5631089281524},{"$f":"IF(E459=\"\",\"\",lookup!E$2)","v":5264.0479388639606},{"$f":"IF(E459=\"\",\"\",lookup!E451)","v":557046.13695569651}]
[null,null,null,null,{"$f":"IF(I459=\"\",\"\",IF(B$14<E459+1,\"\",IF(I459=B$15,\"\",lookup!C452)))","v":450},{"$f":"IF(E460=\"\",\"\",IF(B$11=\"Ordinary\",lookup!D452-G460,lookup!F452))","v":557046.13695569651},{"$f":"IF(E460=\"\",\"\",IF(B$11=\"Ordinary\",lookup!D452-lookup!E451,lookup!F453-lookup!G452))","v":2785.2306847784203},{"$f":"IF(E460=\"\",\"\",lookup!E$2)","v":5264.0479388639606},{"$f":"IF(E460=\"\",\"\",lookup!E452)","v":554567.31970161095}]
[null,null,null,null,{"$f":"IF(I460=\"\",\"\",IF(B$14<E460+1,\"\",IF(I460=B$15,\"\",lookup!C453)))","v":451},{"$f":"IF(E461=\"\",\"\",IF(B$11=\"Ordinary\",lookup!D453-G461,lookup!F453))","v":554567.31970161095},{"$f":"IF(E461=\"\",\"\",IF(B$11=\"Ordinary\",lookup!D453-lookup!E452,lookup!F454-lookup!G453))","v":2772.8365985079436},{"$f":"IF(E461=\"\",\"\",lookup!E$2)","v":5264.0479388639606},{"$f":"IF(E461=\"\",\"\",lookup!E453)","v":552076.10836125491}]
[null,null,null,null,{"$f":"IF(I461=\"\",\"\",IF(B$14<E461+1,\"\",IF(I461=B$15,\"\",lookup!C454)))","v":452},{"$f":"IF(E462=\"\",\"\",IF(B$11=\"Ordinary\",lookup!D454-G462,lookup!F454))","v":552076.10836125491},{"$f":"IF(E462=\"\",\"\",IF(B$11=\"Ordinary\",lookup!D454-lookup!E453,lookup!F455-lookup!G454))","v":2760.3805418062257},{"$f":"IF(E462=\"\",\"\",lookup!E$2)","v":5264.0479388639606},{"$f":"IF(E462=\"\",\"\",lookup!E454)","v":549572.44096419716}]
[null,null,null,null,{"$f":"IF(I462=\"\",\"\",IF(B$14<E462+1,\"\",IF(I462=B$15,\"\",lookup!C455)))","v":453},{"$f":"IF(E463=\"\",\"\",IF(B$11=\"Ordinary\",lookup!D455-G463,lookup!F455))","v":549572.44096419716},{"$f":"IF(E463=\"\",\"\",IF(B$11=\"Ordinary\",lookup!D455-lookup!E454,lookup!F456-lookup!G455))","v":2747.8622048209654},{"$f":"IF(E463=\"\",\"\",lookup!E$2)","v":5264.0479388639606},{"$f":"IF(E463=\"\",\"\",lookup!E455)","v":547056.25523015414}]
[null,null,null,null,{"$f":"IF(I463=\"\",\"\",IF(B$14<E463+1,\"\",IF(I463=B$15,\"\",lookup!C456)))","v":454},{"$f":"IF(E464=\"\",\"\",IF(B$11=\"Ordinary\",lookup!D456-G464,lookup!F456))","v":547056.25523015414},{"$f":"IF(E464=\"\",\"\",IF(B$11=\"Ordinary\",lookup!D456-lookup!E455,lookup!F457-lookup!G456))","v":2735.281276150723},{"$f":"IF(E464=\"\",\"\",lookup!E$2)","v":5264.0479388639606},{"$f":"IF(E464=\"\",\"\",lookup!E456)","v":544527.48856744089}]
[null,null,null,null,{"$f":"IF(I464=\"\",\"\",IF(B$14<E464+1,\"\",IF(I464=B$15,\"\",lookup!C457)))","v":455},{"$f":"IF(E465=\"\",\"\",IF(B$11=\"Ordinary\",lookup!D457-G465,lookup!F457))","v":544527.48856744089},{"$f":"IF(E465=\"\",\"\",IF(B$11=\"Ordinary\",lookup!D457-lookup!E456,lookup!F458-lookup!G457))","v":2722.63744283712},{"$f":"IF(E465=\"\",\"\",lookup!E$2)","v":5264.0479388639606},{"$f":"IF(E465=\"\",\"\",lookup!E457)","v":541986.07807141403}]
[null,null,null,null,{"$f":"IF(I465=\"\",\"\",IF(B$14<E465+1,\"\",IF(I465=B$15,\"\",lookup!C458)))","v":456},{"$f":"IF(E466=\"\",\"\",IF(B$11=\"Ordinary\",lookup!D458-G466,lookup!F458))","v":541986.07807141403},{"$f":"IF(E466=\"\",\"\",IF(B$11=\"Ordinary\",lookup!D458-lookup!E457,lookup!F459-lookup!G458))","v":2709.9303903570399},{"$f":"IF(E466=\"\",\"\",lookup!E$2)","v":5264.0479388639606},{"$f":"IF(E466=\"\",\"\",lookup!E458)","v":539431.96052290709}]
[null,null,null,null,{"$f":"IF(I466=\"\",\"\",IF(B$14<E466+1,\"\",IF(I466=B$15,\"\",lookup!C459)))","v":457},{"$f":"IF(E467=\"\",\"\",IF(B$11=\"Ordinary\",lookup!D459-G467,lookup!F459))","v":539431.96052290709},{"$f":"IF(E467=\"\",\"\",IF(B$11=\"Ordinary\",lookup!D459-lookup!E458,lookup!F460-lookup!G459))","v":2697.1598026144784},{"$f":"IF(E467=\"\",\"\",lookup!E$2)","v":5264.0479388639606},{"$f":"IF(E467=\"\",\"\",lookup!E459)","v":536865.07238665759}]
[null,null,null,null,{"$f":"IF(I467=\"\",\"\",IF(B$14<E467+1,\"\",IF(I467=B$15,\"\",lookup!C460)))","v":458},{"$f":"IF(E468=\"\",\"\",IF(B$11=\"Ordinary\",lookup!D460-G468,lookup!F460))","v":536865.07238665759},{"$f":"IF(E468=\"\",\"\",IF(B$11=\"Ordinary\",lookup!D460-lookup!E459,lookup!F461-lookup!G460))","v":2684.3253619332099},{"$f":"IF(E468=\"\",\"\",lookup!E$2)","v":5264.0479388639606},{"$f":"IF(E468=\"\",\"\",lookup!E460)","v":534285.34980972682}]
[null,null,null,null,{"$f":"IF(I468=\"\",\"\",IF(B$14<E468+1,\"\",IF(I468=B$15,\"\",lookup!C461)))","v":459},{"$f":"IF(E469=\"\",\"\",IF(B$11=\"Ordinary\",lookup!D461-G469,lookup!F461))","v":534285.34980972682},{"$f":"IF(E469=\"\",\"\",IF(B$11=\"Ordinary\",lookup!D461-lookup!E460,lookup!F462-lookup!G461))","v":2671.4267490485217},{"$f":"IF(E469=\"\",\"\",lookup!E$2)","v":5264.0479388639606},{"$f":"IF(E469=\"\",\"\",lookup!E461)","v":531692.72861991136}]
[null,null,null,null,{"$f":"IF(I469=\"\",\"\",IF(B$14<E469+1,\"\",IF(I469=B$15,\"\",lookup!C462)))","v":460},{"$f":"IF(E470=\"\",\"\",IF(B$11=\"Ordinary\",lookup!D462-G470,lookup!F462))","v":531692.72861991136},{"$f":"IF(E470=\"\",\"\",IF(B$11=\"Ordinary\",lookup!D462-lookup!E461,lookup!F463-lookup!G462))","v":2658.4636430995306},{"$f":"IF(E470=\"\",\"\",lookup!E$2)","v":5264.0479388639606},{"$f":"IF(E470=\"\",\"\",lookup!E462)","v":529087.14432414691}]
[null,null,null,null,{"$f":"IF(I470=\"\",\"\",IF(B$14<E470+1,\"\",IF(I470=B$15,\"\",lookup!C463)))","v":461},{"$f":"IF(E471=\"\",\"\",IF(B$11=\"Ordinary\",lookup!D463-G471,lookup!F463))","v":529087.14432414691},{"$f":"IF(E471=\"\",\"\",IF(B$11=\"Ordinary\",lookup!D463-lookup!E462,lookup!F464-lookup!G463))","v":2645.4357216206845},{"$f":"IF(E471=\"\",\"\",lookup!E$2)","v":5264.0479388639606},{"$f":"IF(E471=\"\",\"\",lookup!E463)","v":526468.53210690361}]
[null,null,null,null,{"$f":"IF(I471=\"\",\"\",IF(B$14<E471+1,\"\",IF(I471=B$15,\"\",lookup!C464)))","v":462},{"$f":"IF(E472=\"\",\"\",IF(B$11=\"Ordinary\",lookup!D464-G472,lookup!F464))","v":526468.53210690361},{"$f":"IF(E472=\"\",\"\",IF(B$11=\"Ordinary\",lookup!D464-lookup!E463,lookup!F465-lookup!G464))","v":2632.3426605344284},{"$f":"IF(E472=\"\",\"\",lookup!E$2)","v":5264.0479388639606},{"$f":"IF(E472=\"\",\"\",lookup!E464)","v":523836.82682857406}]
[null,null,null,null,{"$f":"IF(I472=\"\",\"\",IF(B$14<E472+1,\"\",IF(I472=B$15,\"\",lookup!C465)))","v":463},{"$f":"IF(E473=\"\",\"\",IF(B$11=\"Ordinary\",lookup!D465-G473,lookup!F465))","v":523836.82682857406},{"$f":"IF(E473=\"\",\"\",IF(B$11=\"Ordinary\",lookup!D465-lookup!E464,lookup!F466-lookup!G465))","v":2619.1841341428226},{"$f":"IF(E473=\"\",\"\",lookup!E$2)","v":5264.0479388639606},{"$f":"IF(E473=\"\",\"\",lookup!E465)","v":521191.96302385291}]
[null,null,null,null,{"$f":"IF(I473=\"\",\"\",IF(B$14<E473+1,\"\",IF(I473=B$15,\"\",lookup!C466)))","v":464},{"$f":"IF(E474=\"\",\"\",IF(B$11=\"Ordinary\",lookup!D466-G474,lookup!F466))","v":521191.96302385291},{"$f":"IF(E474=\"\",\"\",IF(B$11=\"Ordinary\",lookup!D466-lookup!E465,lookup!F467-lookup!G466))","v":2605.9598151192185},{"$f":"IF(E474=\"\",\"\",lookup!E$2)","v":5264.0479388639606},{"$f":"IF(E474=\"\",\"\",lookup!E466)","v":518533.87490010815}]
[null,null,null,null,{"$f":"IF(I474=\"\",\"\",IF(B$14<E474+1,\"\",IF(I474=B$15,\"\",lookup!C467)))","v":465},{"$f":"IF(E475=\"\",\"\",IF(B$11=\"Ordinary\",lookup!D467-G475,lookup!F467))","v":518533.87490010815},{"$f":"IF(E475=\"\",\"\",IF(B$11=\"Ordinary\",lookup!D467-lookup!E466,lookup!F468-lookup!G467))","v":2592.6693745004595},{"$f":"IF(E475=\"\",\"\",lookup!E$2)","v":5264.0479388639606},{"$f":"IF(E475=\"\",\"\",lookup!E467)","v":515862.49633574462}]
[null,null,null,null,{"$f":"IF(I475=\"\",\"\",IF(B$14<E475+1,\"\",IF(I475=B$15,\"\",lookup!C468)))","v":466},{"$f":"IF(E476=\"\",\"\",IF(B$11=\"Ordinary\",lookup!D468-G476,lookup!F468))","v":515862.49633574462},{"$f":"IF(E476=\"\",\"\",IF(B$11=\"Ordinary\",lookup!D468-lookup!E467,lookup!F469-lookup!G468))","v":2579.3124816786731},{"$f":"IF(E476=\"\",\"\",lookup!E$2)","v":5264.0479388639606},{"$f":"IF(E476=\"\",\"\",lookup!E468)","v":513177.76087855932}]
[null,null,null,null,{"$f":"IF(I476=\"\",\"\",IF(B$14<E476+1,\"\",IF(I476=B$15,\"\",lookup!C469)))","v":467},{"$f":"IF(E477=\"\",\"\",IF(B$11=\"Ordinary\",lookup!D469-G477,lookup!F469))","v":513177.76087855932},{"$f":"IF(E477=\"\",\"\",IF(B$11=\"Ordinary\",lookup!D469-lookup!E468,lookup!F470-lookup!G469))","v":2565.8888043927145},{"$f":"IF(E477=\"\",\"\",lookup!E$2)","v":5264.0479388639606},{"$f":"IF(E477=\"\",\"\",lookup!E469)","v":510479.60174408805}]
[null,null,null,null,{"$f":"IF(I477=\"\",\"\",IF(B$14<E477+1,\"\",IF(I477=B$15,\"\",lookup!C470)))","v":468},{"$f":"IF(E478=\"\",\"\",IF(B$11=\"Ordinary\",lookup!D470-G478,lookup!F470))","v":510479.60174408805},{"$f":"IF(E478=\"\",\"\",IF(B$11=\"Ordinary\",lookup!D470-lookup!E469,lookup!F471-lookup!G470))","v":2552.3980087203672},{"$f":"IF(E478=\"\",\"\",lookup!E$2)","v":5264.0479388639606},{"$f":"IF(E478=\"\",\"\",lookup!E470)","v":507767.95181394444}]
[null,null,null,null,{"$f":"IF(I478=\"\",\"\",IF(B$14<E478+1,\"\",IF(I478=B$15,\"\",lookup!C471)))","v":469},{"$f":"IF(E479=\"\",\"\",IF(B$11=\"Ordinary\",lookup!D471-G479,lookup!F471))","v":507767.95181394444},{"$f":"IF(E479=\"\",\"\",IF(B$11=\"Ordinary\",lookup!D471-lookup!E470,lookup!F472-lookup!G471))","v":2538.8397590696695},{"$f":"IF(E479=\"\",\"\",lookup!E$2)","v":5264.0479388639606},{"$f":"IF(E479=\"\",\"\",lookup!E471)","v":505042.74363415013}]
[null,null,null,null,{"$f":"IF(I479=\"\",\"\",IF(B$14<E479+1,\"\",IF(I479=B$15,\"\",lookup!C472)))","v":470},{"$f":"IF(E480=\"\",\"\",IF(B$11=\"Ordinary\",lookup!D472-G480,lookup!F472))","v":505042.74363415013},{"$f":"IF(E480=\"\",\"\",IF(B$11=\"Ordinary\",lookup!D472-lookup!E471,lookup!F473-lookup!G472))","v":2525.2137181707076},{"$f":"IF(E480=\"\",\"\",lookup!E$2)","v":5264.0479388639606},{"$f":"IF(E480=\"\",\"\",lookup!E472)","v":502303.90941345686}]
[null,null,null,null,{"$f":"IF(I480=\"\",\"\",IF(B$14<E480+1,\"\",IF(I480=B$15,\"\",lookup!C473)))","v":471},{"$f":"IF(E481=\"\",\"\",IF(B$11=\"Ordinary\",lookup!D473-G481,lookup!F473))","v":502303.90941345686},{"$f":"IF(E481=\"\",\"\",IF(B$11=\"Ordinary\",lookup!D473-lookup!E472,lookup!F474-lookup!G473))","v":2511.5195470672334},{"$f":"IF(E481=\"\",\"\",lookup!E$2)","v":5264.0479388639606},{"$f":"IF(E481=\"\",\"\",lookup!E473)","v":499551.38102166011}]
[null,null,null,null,{"$f":"IF(I481=\"\",\"\",IF(B$14<E481+1,\"\",IF(I481=B$15,\"\",lookup!C474)))","v":472},{"$f":"IF(E482=\"\",\"\",IF(B$11=\"Ordinary\",lookup!D474-G482,lookup!F474))","v":499551.38102166011},{"$f":"IF(E482=\"\",\"\",IF(B$11=\"Ordinary\",lookup!D474-lookup!E473,lookup!F475-lookup!G474))","v":2497.7569051082246},{"$f":"IF(E482=\"\",\"\",lookup!E$2)","v":5264.0479388639606},{"$f":"IF(E482=\"\",\"\",lookup!E474)","v":496785.08998790436}]
[null,null,null,null,{"$f":"IF(I482=\"\",\"\",IF(B$14<E482+1,\"\",IF(I482=B$15,\"\",lookup!C475)))","v":473},{"$f":"IF(E483=\"\",\"\",IF(B$11=\"Ordinary\",lookup!D475-G483,lookup!F475))","v":496785.08998790436},{"$f":"IF(E483=\"\",\"\",IF(B$11=\"Ordinary\",lookup!D475-lookup!E474,lookup!F476-lookup!G475))","v":2483.9254499394447},{"$f":"IF(E483=\"\",\"\",lookup!E$2)","v":5264.0479388639606},{"$f":"IF(E483=\"\",\"\",lookup!E475)","v":494004.96749897982}]
[null,null,null,null,{"$f":"IF(I483=\"\",\"\",IF(B$14<E483+1,\"\",IF(I483=B$15,\"\",lookup!C476)))","v":474},{"$f":"IF(E484=\"\",\"\",IF(B$11=\"Ordinary\",lookup!D476-G484,lookup!F476))","v":494004.96749897982},{"$f":"IF(E484=\"\",\"\",IF(B$11=\"Ordinary\",lookup!D476-lookup!E475,lookup!F477-lookup!G476))","v":2470.0248374948278},{"$f":"IF(E484=\"\",\"\",lookup!E$2)","v":5264.0479388639606},{"$f":"IF(E484=\"\",\"\",lookup!E476)","v":491210.94439761067}]
[null,null,null,null,{"$f":"IF(I484=\"\",\"\",IF(B$14<E484+1,\"\",IF(I484=B$15,\"\",lookup!C477)))","v":475},{"$f":"IF(E485=\"\",\"\",IF(B$11=\"Ordinary\",lookup!D477-G485,lookup!F477))","v":491210.94439761067},{"$f":"IF(E485=\"\",\"\",IF(B$11=\"Ordinary\",lookup!D477-lookup!E476,lookup!F478-lookup!G477))","v":2456.0547219879809},{"$f":"IF(E485=\"\",\"\",lookup!E$2)","v":5264.0479388639606},{"$f":"IF(E485=\"\",\"\",lookup!E477)","v":488402.95118073467}]
[null,null,null,null,{"$f":"IF(I485=\"\",\"\",IF(B$14<E485+1,\"\",IF(I485=B$15,\"\",lookup!C478)))","v":476},{"$f":"IF(E486=\"\",\"\",IF(B$11=\"Ordinary\",lookup!D478-G486,lookup!F478))","v":488402.95118073467},{"$f":"IF(E486=\"\",\"\",IF(B$11=\"Ordinary\",lookup!D478-lookup!E477,lookup!F479-lookup!G478))","v":2442.0147559036268},{"$f":"IF(E486=\"\",\"\",lookup!E$2)","v":5264.0479388639606},{"$f":"IF(E486=\"\",\"\",lookup!E478)","v":485580.91799777432}]
[null,null,null,null,{"$f":"IF(I486=\"\",\"\",IF(B$14<E486+1,\"\",IF(I486=B$15,\"\",lookup!C479)))","v":477},{"$f":"IF(E487=\"\",\"\",IF(B$11=\"Ordinary\",lookup!D479-G487,lookup!F479))","v":485580.91799777432},{"$f":"IF(E487=\"\",\"\",IF(B$11=\"Ordinary\",lookup!D479-lookup!E478,lookup!F480-lookup!G479))","v":2427.9045899888151},{"$f":"IF(E487=\"\",\"\",lookup!E$2)","v":5264.0479388639606},{"$f":"IF(E487=\"\",\"\",lookup!E479)","v":482744.77464889915}]
[null,null,null,null,{"$f":"IF(I487=\"\",\"\",IF(B$14<E487+1,\"\",IF(I487=B$15,\"\",lookup!C480)))","v":478},{"$f":"IF(E488=\"\",\"\",IF(B$11=\"Ordinary\",lookup!D480-G488,lookup!F480))","v":482744.77464889915},{"$f":"IF(E488=\"\",\"\",IF(B$11=\"Ordinary\",lookup!D480-lookup!E479,lookup!F481-lookup!G480))","v":2413.7238732444239},{"$f":"IF(E488=\"\",\"\",lookup!E$2)","v":5264.0479388639606},{"$f":"IF(E488=\"\",\"\",lookup!E480)","v":479894.4505832796}]
[null,null,null,null,{"$f":"IF(I488=\"\",\"\",IF(B$14<E488+1,\"\",IF(I488=B$15,\"\",lookup!C481)))","v":479},{"$f":"IF(E489=\"\",\"\",IF(B$11=\"Ordinary\",lookup!D481-G489,lookup!F481))","v":479894.4505832796},{"$f":"IF(E489=\"\",\"\",IF(B$11=\"Ordinary\",lookup!D481-lookup!E480,lookup!F482-lookup!G481))","v":2399.4722529163701},{"$f":"IF(E489=\"\",\"\",lookup!E$2)","v":5264.0479388639606},{"$f":"IF(E489=\"\",\"\",lookup!E481)","v":477029.87489733199}]
[null,null,null,null,{"$f":"IF(I489=\"\",\"\",IF(B$14<E489+1,\"\",IF(I489=B$15,\"\",lookup!C482)))","v":480},{"$f":"IF(E490=\"\",\"\",IF(B$11=\"Ordinary\",lookup!D482-G490,lookup!F482))","v":477029.87489733199},{"$f":"IF(E490=\"\",\"\",IF(B$11=\"Ordinary\",lookup!D482-lookup!E481,lookup!F483-lookup!G482))","v":2385.1493744865875},{"$f":"IF(E490=\"\",\"\",lookup!E$2)","v":5264.0479388639606},{"$f":"IF(E490=\"\",\"\",lookup!E482)","v":474150.9763329546}]
[null,null,null,null,{"$f":"IF(I490=\"\",\"\",IF(B$14<E490+1,\"\",IF(I490=B$15,\"\",lookup!C483)))","v":481},{"$f":"IF(E491=\"\",\"\",IF(B$11=\"Ordinary\",lookup!D483-G491,lookup!F483))","v":474150.9763329546},{"$f":"IF(E491=\"\",\"\",IF(B$11=\"Ordinary\",lookup!D483-lookup!E482,lookup!F484-lookup!G483))","v":2370.7548816647031},{"$f":"IF(E491=\"\",\"\",lookup!E$2)","v":5264.0479388639606},{"$f":"IF(E491=\"\",\"\",lookup!E483)","v":471257.68327575532}]
[null,null,null,null,{"$f":"IF(I491=\"\",\"\",IF(B$14<E491+1,\"\",IF(I491=B$15,\"\",lookup!C484)))","v":482},{"$f":"IF(E492=\"\",\"\",IF(B$11=\"Ordinary\",lookup!D484-G492,lookup!F484))","v":471257.68327575532},{"$f":"IF(E492=\"\",\"\",IF(B$11=\"Ordinary\",lookup!D484-lookup!E483,lookup!F485-lookup!G484))","v":2356.2884163787239},{"$f":"IF(E492=\"\",\"\",lookup!E$2)","v":5264.0479388639606},{"$f":"IF(E492=\"\",\"\",lookup!E484)","v":468349.92375327006}]
[null,null,null,null,{"$f":"IF(I492=\"\",\"\",IF(B$14<E492+1,\"\",IF(I492=B$15,\"\",lookup!C485)))","v":483},{"$f":"IF(E493=\"\",\"\",IF(B$11=\"Ordinary\",lookup!D485-G493,lookup!F485))","v":468349.92375327006},{"$f":"IF(E493=\"\",\"\",IF(B$11=\"Ordinary\",lookup!D485-lookup!E484,lookup!F486-lookup!G485))","v":2341.7496187663055},{"$f":"IF(E493=\"\",\"\",lookup!E$2)","v":5264.0479388639606},{"$f":"IF(E493=\"\",\"\",lookup!E485)","v":465427.62543317239}]
[null,null,null,null,{"$f":"IF(I493=\"\",\"\",IF(B$14<E493+1,\"\",IF(I493=B$15,\"\",lookup!C486)))","v":484},{"$f":"IF(E494=\"\",\"\",IF(B$11=\"Ordinary\",lookup!D486-G494,lookup!F486))","v":465427.62543317239},{"$f":"IF(E494=\"\",\"\",IF(B$11=\"Ordinary\",lookup!D486-lookup!E485,lookup!F487-lookup!G486))","v":2327.1381271657883},{"$f":"IF(E494=\"\",\"\",lookup!E$2)","v":5264.0479388639606},{"$f":"IF(E494=\"\",\"\",lookup!E486)","v":462490.7156214742}]
[null,null,null,null,{"$f":"IF(I494=\"\",\"\",IF(B$14<E494+1,\"\",IF(I494=B$15,\"\",lookup!C487)))","v":485},{"$f":"IF(E495=\"\",\"\",IF(B$11=\"Ordinary\",lookup!D487-G495,lookup!F487))","v":462490.7156214742},{"$f":"IF(E495=\"\",\"\",IF(B$11=\"Ordinary\",lookup!D487-lookup!E486,lookup!F488-lookup!G487))","v":2312.45357810735},{"$f":"IF(E495=\"\",\"\",lookup!E$2)","v":5264.0479388639606},{"$f":"IF(E495=\"\",\"\",lookup!E487)","v":459539.12126071757}]
[null,null,null,null,{"$f":"IF(I495=\"\",\"\",IF(B$14<E495+1,\"\",IF(I495=B$15,\"\",lookup!C488)))","v":486},{"$f":"IF(E496=\"\",\"\",IF(B$11=\"Ordinary\",lookup!D488-G496,lookup!F488))","v":459539.12126071757},{"$f":"IF(E496=\"\",\"\",IF(B$11=\"Ordinary\",lookup!D488-lookup!E487,lookup!F489-lookup!G488))","v":2297.6956063035177},{"$f":"IF(E496=\"\",\"\",lookup!E$2)","v":5264.0479388639606},{"$f":"IF(E496=\"\",\"\",lookup!E488)","v":456572.76892815711}]
[null,null,null,null,{"$f":"IF(I496=\"\",\"\",IF(B$14<E496+1,\"\",IF(I496=B$15,\"\",lookup!C489)))","v":487},{"$f":"IF(E497=\"\",\"\",IF(B$11=\"Ordinary\",lookup!D489-G497,lookup!F489))","v":456572.76892815711},{"$f":"IF(E497=\"\",\"\",IF(B$11=\"Ordinary\",lookup!D489-lookup!E488,lookup!F490-lookup!G489))","v":2282.8638446407276},{"$f":"IF(E497=\"\",\"\",lookup!E$2)","v":5264.0479388639606},{"$f":"IF(E497=\"\",\"\",lookup!E489)","v":453591.58483393386}]
[null,null,null,null,{"$f":"IF(I497=\"\",\"\",IF(B$14<E497+1,\"\",IF(I497=B$15,\"\",lookup!C490)))","v":488},{"$f":"IF(E498=\"\",\"\",IF(B$11=\"Ordinary\",lookup!D490-G498,lookup!F490))","v":453591.58483393386},{"$f":"IF(E498=\"\",\"\",IF(B$11=\"Ordinary\",lookup!D490-lookup!E489,lookup!F491-lookup!G490))","v":2267.9579241696047},{"$f":"IF(E498=\"\",\"\",lookup!E$2)","v":5264.0479388639606},{"$f":"IF(E498=\"\",\"\",lookup!E490)","v":450595.49481923948}]
[null,null,null,null,{"$f":"IF(I498=\"\",\"\",IF(B$14<E498+1,\"\",IF(I498=B$15,\"\",lookup!C491)))","v":489},{"$f":"IF(E499=\"\",\"\",IF(B$11=\"Ordinary\",lookup!D491-G499,lookup!F491))","v":450595.49481923948},{"$f":"IF(E499=\"\",\"\",IF(B$11=\"Ordinary\",lookup!D491-lookup!E490,lookup!F492-lookup!G491))","v":2252.977474096173},{"$f":"IF(E499=\"\",\"\",lookup!E$2)","v":5264.0479388639606},{"$f":"IF(E499=\"\",\"\",lookup!E491)","v":447584.42435447167}]
[null,null,null,null,{"$f":"IF(I499=\"\",\"\",IF(B$14<E499+1,\"\",IF(I499=B$15,\"\",lookup!C492)))","v":490},{"$f":"IF(E500=\"\",\"\",IF(B$11=\"Ordinary\",lookup!D492-G500,lookup!F492))","v":447584.42435447167},{"$f":"IF(E500=\"\",\"\",IF(B$11=\"Ordinary\",lookup!D492-lookup!E491,lookup!F493-lookup!G492))","v":2237.9221217723098},{"$f":"IF(E500=\"\",\"\",lookup!E$2)","v":5264.0479388639606},{"$f":"IF(E500=\"\",\"\",lookup!E492)","v":444558.29853738}]
[null,null,null,null,{"$f":"IF(I500=\"\",\"\",IF(B$14<E500+1,\"\",IF(I500=B$15,\"\",lookup!C493)))","v":491},{"$f":"IF(E501=\"\",\"\",IF(B$11=\"Ordinary\",lookup!D493-G501,lookup!F493))","v":444558.29853738},{"$f":"IF(E501=\"\",\"\",IF(B$11=\"Ordinary\",lookup!D493-lookup!E492,lookup!F494-lookup!G493))","v":2222.7914926868398},{"$f":"IF(E501=\"\",\"\",lookup!E$2)","v":5264.0479388639606},{"$f":"IF(E501=\"\",\"\",lookup!E493)","v":441517.04209120286}]
[null,null,null,null,{"$f":"IF(I501=\"\",\"\",IF(B$14<E501+1,\"\",IF(I501=B$15,\"\",lookup!C494)))","v":492},{"$f":"IF(E502=\"\",\"\",IF(B$11=\"Ordinary\",lookup!D494-G502,lookup!F494))","v":441517.04209120286},{"$f":"IF(E502=\"\",\"\",IF(B$11=\"Ordinary\",lookup!D494-lookup!E493,lookup!F495-lookup!G494))","v":2207.585210455989},{"$f":"IF(E502=\"\",\"\",lookup!E$2)","v":5264.0479388639606},{"$f":"IF(E502=\"\",\"\",lookup!E494)","v":438460.57936279487}]
[null,null,null,null,{"$f":"IF(I502=\"\",\"\",IF(B$14<E502+1,\"\",IF(I502=B$15,\"\",lookup!C495)))","v":493},{"$f":"IF(E503=\"\",\"\",IF(B$11=\"Ordinary\",lookup!D495-G503,lookup!F495))","v":438460.57936279487},{"$f":"IF(E503=\"\",\"\",IF(B$11=\"Ordinary\",lookup!D495-lookup!E494,lookup!F496-lookup!G495))","v":2192.3028968139552},{"$f":"IF(E503=\"\",\"\",lookup!E$2)","v":5264.0479388639606},{"$f":"IF(E503=\"\",\"\",lookup!E495)","v":435388.83432074485}]
[null,null,null,null,{"$f":"IF(I503=\"\",\"\",IF(B$14<E503+1,\"\",IF(I503=B$15,\"\",lookup!C496)))","v":494},{"$f":"IF(E504=\"\",\"\",IF(B$11=\"Ordinary\",lookup!D496-G504,lookup!F496))","v":435388.83432074485},{"$f":"IF(E504=\"\",\"\",IF(B$11=\"Ordinary\",lookup!D496-lookup!E495,lookup!F497-lookup!G496))","v":2176.9441716036526},{"$f":"IF(E504=\"\",\"\",lookup!E$2)","v":5264.0479388639606},{"$f":"IF(E504=\"\",\"\",lookup!E496)","v":432301.73055348452}]
[null,null,null,null,{"$f":"IF(I504=\"\",\"\",IF(B$14<E504+1,\"\",IF(I504=B$15,\"\",lookup!C497)))","v":495},{"$f":"IF(E505=\"\",\"\",IF(B$11=\"Ordinary\",lookup!D497-G505,lookup!F497))","v":432301.73055348452},{"$f":"IF(E505=\"\",\"\",IF(B$11=\"Ordinary\",lookup!D497-lookup!E496,lookup!F498-lookup!G497))","v":2161.5086527673993},{"$f":"IF(E505=\"\",\"\",lookup!E$2)","v":5264.0479388639606},{"$f":"IF(E505=\"\",\"\",lookup!E497)","v":429199.19126738794}]
[null,null,null,null,{"$f":"IF(I505=\"\",\"\",IF(B$14<E505+1,\"\",IF(I505=B$15,\"\",lookup!C498)))","v":496},{"$f":"IF(E506=\"\",\"\",IF(B$11=\"Ordinary\",lookup!D498-G506,lookup!F498))","v":429199.19126738794},{"$f":"IF(E506=\"\",\"\",IF(B$11=\"Ordinary\",lookup!D498-lookup!E497,lookup!F499-lookup!G498))","v":2145.9959563369048},{"$f":"IF(E506=\"\",\"\",lookup!E$2)","v":5264.0479388639606},{"$f":"IF(E506=\"\",\"\",lookup!E498)","v":426081.13928486087}]
[null,null,null,null,{"$f":"IF(I506=\"\",\"\",IF(B$14<E506+1,\"\",IF(I506=B$15,\"\",lookup!C499)))","v":497},{"$f":"IF(E507=\"\",\"\",IF(B$11=\"Ordinary\",lookup!D499-G507,lookup!F499))","v":426081.13928486087},{"$f":"IF(E507=\"\",\"\",IF(B$11=\"Ordinary\",lookup!D499-lookup!E498,lookup!F500-lookup!G499))","v":2130.4056964242482},{"$f":"IF(E507=\"\",\"\",lookup!E$2)","v":5264.0479388639606},{"$f":"IF(E507=\"\",\"\",lookup!E499)","v":422947.49704242114}]
[null,null,null,null,{"$f":"IF(I507=\"\",\"\",IF(B$14<E507+1,\"\",IF(I507=B$15,\"\",lookup!C500)))","v":498},{"$f":"IF(E508=\"\",\"\",IF(B$11=\"Ordinary\",lookup!D500-G508,lookup!F500))","v":422947.49704242114},{"$f":"IF(E508=\"\",\"\",IF(B$11=\"Ordinary\",lookup!D500-lookup!E499,lookup!F501-lookup!G500))","v":2114.7374852120411},{"$f":"IF(E508=\"\",\"\",lookup!E$2)","v":5264.0479388639606},{"$f":"IF(E508=\"\",\"\",lookup!E500)","v":419798.1865887692}]
[null,null,null,null,{"$f":"IF(I508=\"\",\"\",IF(B$14<E508+1,\"\",IF(I508=B$15,\"\",lookup!C501)))","v":499},{"$f":"IF(E509=\"\",\"\",IF(B$11=\"Ordinary\",lookup!D501-G509,lookup!F501))","v":419798.1865887692},{"$f":"IF(E509=\"\",\"\",IF(B$11=\"Ordinary\",lookup!D501-lookup!E500,lookup!F502-lookup!G501))","v":2098.9909329438233},{"$f":"IF(E509=\"\",\"\",lookup!E$2)","v":5264.0479388639606},{"$f":"IF(E509=\"\",\"\",lookup!E501)","v":416633.12958284904}]
[null,null,null,null,{"$f":"IF(I509=\"\",\"\",IF(B$14<E509+1,\"\",IF(I509=B$15,\"\",lookup!C502)))","v":500},{"$f":"IF(E510=\"\",\"\",IF(B$11=\"Ordinary\",lookup!D502-G510,lookup!F502))","v":416633.12958284904},{"$f":"IF(E510=\"\",\"\",IF(B$11=\"Ordinary\",lookup!D502-lookup!E501,lookup!F503-lookup!G502))","v":2083.1656479142257},{"$f":"IF(E510=\"\",\"\",lookup!E$2)","v":5264.0479388639606},{"$f":"IF(E510=\"\",\"\",lookup!E502)","v":413452.24729189929}]
[null,null,null,null,{"$f":"IF(I510=\"\",\"\",IF(B$14<E510+1,\"\",IF(I510=B$15,\"\",lookup!C503)))","v":501},{"$f":"IF(E511=\"\",\"\",IF(B$11=\"Ordinary\",lookup!D503-G511,lookup!F503))","v":413452.24729189929},{"$f":"IF(E511=\"\",\"\",IF(B$11=\"Ordinary\",lookup!D503-lookup!E502,lookup!F504-lookup!G503))","v":2067.2612364594243},{"$f":"IF(E511=\"\",\"\",lookup!E$2)","v":5264.0479388639606},{"$f":"IF(E511=\"\",\"\",lookup!E503)","v":410255.46058949473}]
[null,null,null,null,{"$f":"IF(I511=\"\",\"\",IF(B$14<E511+1,\"\",IF(I511=B$15,\"\",lookup!C504)))","v":502},{"$f":"IF(E512=\"\",\"\",IF(B$11=\"Ordinary\",lookup!D504-G512,lookup!F504))","v":410255.46058949473},{"$f":"IF(E512=\"\",\"\",IF(B$11=\"Ordinary\",lookup!D504-lookup!E503,lookup!F505-lookup!G504))","v":2051.2773029474192},{"$f":"IF(E512=\"\",\"\",lookup!E$2)","v":5264.0479388639606},{"$f":"IF(E512=\"\",\"\",lookup!E504)","v":407042.68995357817}]
[null,null,null,null,{"$f":"IF(I512=\"\",\"\",IF(B$14<E512+1,\"\",IF(I512=B$15,\"\",lookup!C505)))","v":503},{"$f":"IF(E513=\"\",\"\",IF(B$11=\"Ordinary\",lookup!D505-G513,lookup!F505))","v":407042.68995357817},{"$f":"IF(E513=\"\",\"\",IF(B$11=\"Ordinary\",lookup!D505-lookup!E504,lookup!F506-lookup!G505))","v":2035.2134497678489},{"$f":"IF(E513=\"\",\"\",lookup!E$2)","v":5264.0479388639606},{"$f":"IF(E513=\"\",\"\",lookup!E505)","v":403813.85546448204}]
[null,null,null,null,{"$f":"IF(I513=\"\",\"\",IF(B$14<E513+1,\"\",IF(I513=B$15,\"\",lookup!C506)))","v":504},{"$f":"IF(E514=\"\",\"\",IF(B$11=\"Ordinary\",lookup!D506-G514,lookup!F506))","v":403813.85546448204},{"$f":"IF(E514=\"\",\"\",IF(B$11=\"Ordinary\",lookup!D506-lookup!E505,lookup!F507-lookup!G506))","v":2019.0692773223855},{"$f":"IF(E514=\"\",\"\",lookup!E$2)","v":5264.0479388639606},{"$f":"IF(E514=\"\",\"\",lookup!E506)","v":400568.87680294045}]
[null,null,null,null,{"$f":"IF(I514=\"\",\"\",IF(B$14<E514+1,\"\",IF(I514=B$15,\"\",lookup!C507)))","v":505},{"$f":"IF(E515=\"\",\"\",IF(B$11=\"Ordinary\",lookup!D507-G515,lookup!F507))","v":400568.87680294045},{"$f":"IF(E515=\"\",\"\",IF(B$11=\"Ordinary\",lookup!D507-lookup!E506,lookup!F508-lookup!G507))","v":2002.8443840146647},{"$f":"IF(E515=\"\",\"\",lookup!E$2)","v":5264.0479388639606},{"$f":"IF(E515=\"\",\"\",lookup!E507)","v":397307.67324809113}]
[null,null,null,null,{"$f":"IF(I515=\"\",\"\",IF(B$14<E515+1,\"\",IF(I515=B$15,\"\",lookup!C508)))","v":506},{"$f":"IF(E516=\"\",\"\",IF(B$11=\"Ordinary\",lookup!D508-G516,lookup!F508))","v":397307.67324809113},{"$f":"IF(E516=\"\",\"\",IF(B$11=\"Ordinary\",lookup!D508-lookup!E507,lookup!F509-lookup!G508))","v":1986.538366240391},{"$f":"IF(E516=\"\",\"\",lookup!E$2)","v":5264.0479388639606},{"$f":"IF(E516=\"\",\"\",lookup!E508)","v":394030.16367546754}]
[null,null,null,null,{"$f":"IF(I516=\"\",\"\",IF(B$14<E516+1,\"\",IF(I516=B$15,\"\",lookup!C509)))","v":507},{"$f":"IF(E517=\"\",\"\",IF(B$11=\"Ordinary\",lookup!D509-G517,lookup!F509))","v":394030.16367546754},{"$f":"IF(E517=\"\",\"\",IF(B$11=\"Ordinary\",lookup!D509-lookup!E508,lookup!F510-lookup!G509))","v":1970.1508183772676},{"$f":"IF(E517=\"\",\"\",lookup!E$2)","v":5264.0479388639606},{"$f":"IF(E517=\"\",\"\",lookup!E509)","v":390736.26655498083}]
[null,null,null,null,{"$f":"IF(I517=\"\",\"\",IF(B$14<E517+1,\"\",IF(I517=B$15,\"\",lookup!C510)))","v":508},{"$f":"IF(E518=\"\",\"\",IF(B$11=\"Ordinary\",lookup!D510-G518,lookup!F510))","v":390736.26655498083},{"$f":"IF(E518=\"\",\"\",IF(B$11=\"Ordinary\",lookup!D510-lookup!E509,lookup!F511-lookup!G510))","v":1953.6813327748678},{"$f":"IF(E518=\"\",\"\",lookup!E$2)","v":5264.0479388639606},{"$f":"IF(E518=\"\",\"\",lookup!E510)","v":387425.89994889172}]
[null,null,null,null,{"$f":"IF(I518=\"\",\"\",IF(B$14<E518+1,\"\",IF(I518=B$15,\"\",lookup!C511)))","v":509},{"$f":"IF(E519=\"\",\"\",IF(B$11=\"Ordinary\",lookup!D511-G519,lookup!F511))","v":387425.89994889172},{"$f":"IF(E519=\"\",\"\",IF(B$11=\"Ordinary\",lookup!D511-lookup!E510,lookup!F512-lookup!G511))","v":1937.1294997443911},{"$f":"IF(E519=\"\",\"\",lookup!E$2)","v":5264.0479388639606},{"$f":"IF(E519=\"\",\"\",lookup!E511)","v":384098.98150977213}]
[null,null,null,null,{"$f":"IF(I519=\"\",\"\",IF(B$14<E519+1,\"\",IF(I519=B$15,\"\",lookup!C512)))","v":510},{"$f":"IF(E520=\"\",\"\",IF(B$11=\"Ordinary\",lookup!D512-G520,lookup!F512))","v":384098.98150977213},{"$f":"IF(E520=\"\",\"\",IF(B$11=\"Ordinary\",lookup!D512-lookup!E511,lookup!F513-lookup!G512))","v":1920.4949075488257},{"$f":"IF(E520=\"\",\"\",lookup!E$2)","v":5264.0479388639606},{"$f":"IF(E520=\"\",\"\",lookup!E512)","v":380755.42847845698}]
[null,null,null,null,{"$f":"IF(I520=\"\",\"\",IF(B$14<E520+1,\"\",IF(I520=B$15,\"\",lookup!C513)))","v":511},{"$f":"IF(E521=\"\",\"\",IF(B$11=\"Ordinary\",lookup!D513-G521,lookup!F513))","v":380755.42847845698},{"$f":"IF(E521=\"\",\"\",IF(B$11=\"Ordinary\",lookup!D513-lookup!E512,lookup!F514-lookup!G513))","v":1903.7771423922386},{"$f":"IF(E521=\"\",\"\",lookup!E$2)","v":5264.0479388639606},{"$f":"IF(E521=\"\",\"\",lookup!E513)","v":377395.15768198523}]
[null,null,null,null,{"$f":"IF(I521=\"\",\"\",IF(B$14<E521+1,\"\",IF(I521=B$15,\"\",lookup!C514)))","v":512},{"$f":"IF(E522=\"\",\"\",IF(B$11=\"Ordinary\",lookup!D514-G522,lookup!F514))","v":377395.15768198523},{"$f":"IF(E522=\"\",\"\",IF(B$11=\"Ordinary\",lookup!D514-lookup!E513,lookup!F515-lookup!G514))","v":1886.9757884098799},{"$f":"IF(E522=\"\",\"\",lookup!E$2)","v":5264.0479388639606},{"$f":"IF(E522=\"\",\"\",lookup!E514)","v":374018.08553153113}]
[null,null,null,null,{"$f":"IF(I522=\"\",\"\",IF(B$14<E522+1,\"\",IF(I522=B$15,\"\",lookup!C515)))","v":513},{"$f":"IF(E523=\"\",\"\",IF(B$11=\"Ordinary\",lookup!D515-G523,lookup!F515))","v":374018.08553153113},{"$f":"IF(E523=\"\",\"\",IF(B$11=\"Ordinary\",lookup!D515-lookup!E514,lookup!F516-lookup!G515))","v":1870.0904276575893},{"$f":"IF(E523=\"\",\"\",lookup!E$2)","v":5264.0479388639606},{"$f":"IF(E523=\"\",\"\",lookup!E515)","v":370624.12802032474}]
[null,null,null,null,{"$f":"IF(I523=\"\",\"\",IF(B$14<E523+1,\"\",IF(I523=B$15,\"\",lookup!C516)))","v":514},{"$f":"IF(E524=\"\",\"\",IF(B$11=\"Ordinary\",lookup!D516-G524,lookup!F516))","v":370624.12802032474},{"$f":"IF(E524=\"\",\"\",IF(B$11=\"Ordinary\",lookup!D516-lookup!E515,lookup!F517-lookup!G516))","v":1853.1206401016098},{"$f":"IF(E524=\"\",\"\",lookup!E$2)","v":5264.0479388639606},{"$f":"IF(E524=\"\",\"\",lookup!E516)","v":367213.20072156237}]
[null,null,null,null,{"$f":"IF(I524=\"\",\"\",IF(B$14<E524+1,\"\",IF(I524=B$15,\"\",lookup!C517)))","v":515},{"$f":"IF(E525=\"\",\"\",IF(B$11=\"Ordinary\",lookup!D517-G525,lookup!F517))","v":367213.20072156237},{"$f":"IF(E525=\"\",\"\",IF(B$11=\"Ordinary\",lookup!D517-lookup!E516,lookup!F518-lookup!G517))","v":1836.0660036077606},{"$f":"IF(E525=\"\",\"\",lookup!E$2)","v":5264.0479388639606},{"$f":"IF(E525=\"\",\"\",lookup!E517)","v":363785.21878630616}]
[null,null,null,null,{"$f":"IF(I525=\"\",\"\",IF(B$14<E525+1,\"\",IF(I525=B$15,\"\",lookup!C518)))","v":516},{"$f":"IF(E526=\"\",\"\",IF(B$11=\"Ordinary\",lookup!D518-G526,lookup!F518))","v":363785.21878630616},{"$f":"IF(E526=\"\",\"\",IF(B$11=\"Ordinary\",lookup!D518-lookup!E517,lookup!F519-lookup!G518))","v":1818.9260939314845},{"$f":"IF(E526=\"\",\"\",lookup!E$2)","v":5264.0479388639606},{"$f":"IF(E526=\"\",\"\",lookup!E518)","v":360340.09694137366}]
[null,null,null,null,{"$f":"IF(I526=\"\",\"\",IF(B$14<E526+1,\"\",IF(I526=B$15,\"\",lookup!C519)))","v":517},{"$f":"IF(E527=\"\",\"\",IF(B$11=\"Ordinary\",lookup!D519-G527,lookup!F519))","v":360340.09694137366},{"$f":"IF(E527=\"\",\"\",IF(B$11=\"Ordinary\",lookup!D519-lookup!E518,lookup!F520-lookup!G519))","v":1801.7004847068456},{"$f":"IF(E527=\"\",\"\",lookup!E$2)","v":5264.0479388639606},{"$f":"IF(E527=\"\",\"\",lookup!E519)","v":356877.74948721653}]
[null,null,null,null,{"$f":"IF(I527=\"\",\"\",IF(B$14<E527+1,\"\",IF(I527=B$15,\"\",lookup!C520)))","v":518},{"$f":"IF(E528=\"\",\"\",IF(B$11=\"Ordinary\",lookup!D520-G528,lookup!F520))","v":356877.74948721653},{"$f":"IF(E528=\"\",\"\",IF(B$11=\"Ordinary\",lookup!D520-lookup!E519,lookup!F521-lookup!G520))","v":1784.3887474360527},{"$f":"IF(E528=\"\",\"\",lookup!E$2)","v":5264.0479388639606},{"$f":"IF(E528=\"\",\"\",lookup!E520)","v":353398.0902957886}]
[null,null,null,null,{"$f":"IF(I528=\"\",\"\",IF(B$14<E528+1,\"\",IF(I528=B$15,\"\",lookup!C521)))","v":519},{"$f":"IF(E529=\"\",\"\",IF(B$11=\"Ordinary\",lookup!D521-G529,lookup!F521))","v":353398.0902957886},{"$f":"IF(E529=\"\",\"\",IF(B$11=\"Ordinary\",lookup!D521-lookup!E520,lookup!F522-lookup!G521))","v":1766.9904514789232},{"$f":"IF(E529=\"\",\"\",lookup!E$2)","v":5264.0479388639606},{"$f":"IF(E529=\"\",\"\",lookup!E521)","v":349901.03280840354}]
[null,null,null,null,{"$f":"IF(I529=\"\",\"\",IF(B$14<E529+1,\"\",IF(I529=B$15,\"\",lookup!C522)))","v":520},{"$f":"IF(E530=\"\",\"\",IF(B$11=\"Ordinary\",lookup!D522-G530,lookup!F522))","v":349901.03280840354},{"$f":"IF(E530=\"\",\"\",IF(B$11=\"Ordinary\",lookup!D522-lookup!E521,lookup!F523-lookup!G522))","v":1749.5051640419988},{"$f":"IF(E530=\"\",\"\",lookup!E$2)","v":5264.0479388639606},{"$f":"IF(E530=\"\",\"\",lookup!E522)","v":346386.49003358156}]
[null,null,null,null,{"$f":"IF(I530=\"\",\"\",IF(B$14<E530+1,\"\",IF(I530=B$15,\"\",lookup!C523)))","v":521},{"$f":"IF(E531=\"\",\"\",IF(B$11=\"Ordinary\",lookup!D523-G531,lookup!F523))","v":346386.49003358156},{"$f":"IF(E531=\"\",\"\",IF(B$11=\"Ordinary\",lookup!D523-lookup!E522,lookup!F524-lookup!G523))","v":1731.932450167893},{"$f":"IF(E531=\"\",\"\",lookup!E$2)","v":5264.0479388639606},{"$f":"IF(E531=\"\",\"\",lookup!E523)","v":342854.37454488548}]
[null,null,null,null,{"$f":"IF(I531=\"\",\"\",IF(B$14<E531+1,\"\",IF(I531=B$15,\"\",lookup!C524)))","v":522},{"$f":"IF(E532=\"\",\"\",IF(B$11=\"Ordinary\",lookup!D524-G532,lookup!F524))","v":342854.37454488548},{"$f":"IF(E532=\"\",\"\",IF(B$11=\"Ordinary\",lookup!D524-lookup!E523,lookup!F525-lookup!G524))","v":1714.2718727244064},{"$f":"IF(E532=\"\",\"\",lookup!E$2)","v":5264.0479388639606},{"$f":"IF(E532=\"\",\"\",lookup!E524)","v":339304.5984787459}]
[null,null,null,null,{"$f":"IF(I532=\"\",\"\",IF(B$14<E532+1,\"\",IF(I532=B$15,\"\",lookup!C525)))","v":523},{"$f":"IF(E533=\"\",\"\",IF(B$11=\"Ordinary\",lookup!D525-G533,lookup!F525))","v":339304.5984787459},{"$f":"IF(E533=\"\",\"\",IF(B$11=\"Ordinary\",lookup!D525-lookup!E524,lookup!F526-lookup!G525))","v":1696.5229923937004},{"$f":"IF(E533=\"\",\"\",lookup!E$2)","v":5264.0479388639606},{"$f":"IF(E533=\"\",\"\",lookup!E525)","v":335737.07353227562}]
[null,null,null,null,{"$f":"IF(I533=\"\",\"\",IF(B$14<E533+1,\"\",IF(I533=B$15,\"\",lookup!C526)))","v":524},{"$f":"IF(E534=\"\",\"\",IF(B$11=\"Ordinary\",lookup!D526-G534,lookup!F526))","v":335737.07353227562},{"$f":"IF(E534=\"\",\"\",IF(B$11=\"Ordinary\",lookup!D526-lookup!E525,lookup!F527-lookup!G526))","v":1678.6853676613537},{"$f":"IF(E534=\"\",\"\",lookup!E$2)","v":5264.0479388639606},{"$f":"IF(E534=\"\",\"\",lookup!E526)","v":332151.710961073}]
[null,null,null,null,{"$f":"IF(I534=\"\",\"\",IF(B$14<E534+1,\"\",IF(I534=B$15,\"\",lookup!C527)))","v":525},{"$f":"IF(E535=\"\",\"\",IF(B$11=\"Ordinary\",lookup!D527-G535,lookup!F527))","v":332151.710961073},{"$f":"IF(E535=\"\",\"\",IF(B$11=\"Ordinary\",lookup!D527-lookup!E526,lookup!F528-lookup!G527))","v":1660.758554805303},{"$f":"IF(E535=\"\",\"\",lookup!E$2)","v":5264.0479388639606},{"$f":"IF(E535=\"\",\"\",lookup!E527)","v":328548.42157701432}]
[null,null,null,null,{"$f":"IF(I535=\"\",\"\",IF(B$14<E535+1,\"\",IF(I535=B$15,\"\",lookup!C528)))","v":526},{"$f":"IF(E536=\"\",\"\",IF(B$11=\"Ordinary\",lookup!D528-G536,lookup!F528))","v":328548.42157701432},{"$f":"IF(E536=\"\",\"\",IF(B$11=\"Ordinary\",lookup!D528-lookup!E527,lookup!F529-lookup!G528))","v":1642.7421078850166},{"$f":"IF(E536=\"\",\"\",lookup!E$2)","v":5264.0479388639606},{"$f":"IF(E536=\"\",\"\",lookup!E528)","v":324927.11574603536}]
[null,null,null,null,{"$f":"IF(I536=\"\",\"\",IF(B$14<E536+1,\"\",IF(I536=B$15,\"\",lookup!C529)))","v":527},{"$f":"IF(E537=\"\",\"\",IF(B$11=\"Ordinary\",lookup!D529-G537,lookup!F529))","v":324927.11574603536},{"$f":"IF(E537=\"\",\"\",IF(B$11=\"Ordinary\",lookup!D529-lookup!E528,lookup!F530-lookup!G529))","v":1624.6355787301436},{"$f":"IF(E537=\"\",\"\",lookup!E$2)","v":5264.0479388639606},{"$f":"IF(E537=\"\",\"\",lookup!E529)","v":321287.70338590152}]
[null,null,null,null,{"$f":"IF(I537=\"\",\"\",IF(B$14<E537+1,\"\",IF(I537=B$15,\"\",lookup!C530)))","v":528},{"$f":"IF(E538=\"\",\"\",IF(B$11=\"Ordinary\",lookup!D530-G538,lookup!F530))","v":321287.70338590152},{"$f":"IF(E538=\"\",\"\",IF(B$11=\"Ordinary\",lookup!D530-lookup!E529,lookup!F531-lookup!G530))","v":1606.4385169294546},{"$f":"IF(E538=\"\",\"\",lookup!E$2)","v":5264.0479388639606},{"$f":"IF(E538=\"\",\"\",lookup!E530)","v":317630.093963967}]
[null,null,null,null,{"$f":"IF(I538=\"\",\"\",IF(B$14<E538+1,\"\",IF(I538=B$15,\"\",lookup!C531)))","v":529},{"$f":"IF(E539=\"\",\"\",IF(B$11=\"Ordinary\",lookup!D531-G539,lookup!F531))","v":317630.093963967},{"$f":"IF(E539=\"\",\"\",IF(B$11=\"Ordinary\",lookup!D531-lookup!E530,lookup!F532-lookup!G531))","v":1588.1504698197823},{"$f":"IF(E539=\"\",\"\",lookup!E$2)","v":5264.0479388639606},{"$f":"IF(E539=\"\",\"\",lookup!E531)","v":313954.1964949228}]
[null,null,null,null,{"$f":"IF(I539=\"\",\"\",IF(B$14<E539+1,\"\",IF(I539=B$15,\"\",lookup!C532)))","v":530},{"$f":"IF(E540=\"\",\"\",IF(B$11=\"Ordinary\",lookup!D532-G540,lookup!F532))","v":313954.1964949228},{"$f":"IF(E540=\"\",\"\",IF(B$11=\"Ordinary\",lookup!D532-lookup!E531,lookup!F533-lookup!G532))","v":1569.7709824745543},{"$f":"IF(E540=\"\",\"\",lookup!E$2)","v":5264.0479388639606},{"$f":"IF(E540=\"\",\"\",lookup!E532)","v":310259.91953853337}]
[null,null,null,null,{"$f":"IF(I540=\"\",\"\",IF(B$14<E540+1,\"\",IF(I540=B$15,\"\",lookup!C533)))","v":531},{"$f":"IF(E541=\"\",\"\",IF(B$11=\"Ordinary\",lookup!D533-G541,lookup!F533))","v":310259.91953853337},{"$f":"IF(E541=\"\",\"\",IF(B$11=\"Ordinary\",lookup!D533-lookup!E532,lookup!F534-lookup!G533))","v":1551.2995976926177},{"$f":"IF(E541=\"\",\"\",lookup!E$2)","v":5264.0479388639606},{"$f":"IF(E541=\"\",\"\",lookup!E533)","v":306547.17119736201}]
[null,null,null,null,{"$f":"IF(I541=\"\",\"\",IF(B$14<E541+1,\"\",IF(I541=B$15,\"\",lookup!C534)))","v":532},{"$f":"IF(E542=\"\",\"\",IF(B$11=\"Ordinary\",lookup!D534-G542,lookup!F534))","v":306547.17119736201},{"$f":"IF(E542=\"\",\"\",IF(B$11=\"Ordinary\",lookup!D534-lookup!E533,lookup!F535-lookup!G534))","v":1532.7358559867716},{"$f":"IF(E542=\"\",\"\",lookup!E$2)","v":5264.0479388639606},{"$f":"IF(E542=\"\",\"\",lookup!E534)","v":302815.8591144848}]
[null,null,null,null,{"$f":"IF(I542=\"\",\"\",IF(B$14<E542+1,\"\",IF(I542=B$15,\"\",lookup!C535)))","v":533},{"$f":"IF(E543=\"\",\"\",IF(B$11=\"Ordinary\",lookup!D535-G543,lookup!F535))","v":302815.8591144848},{"$f":"IF(E543=\"\",\"\",IF(B$11=\"Ordinary\",lookup!D535-lookup!E534,lookup!F536-lookup!G535))","v":1514.0792955724173},{"$f":"IF(E543=\"\",\"\",lookup!E$2)","v":5264.0479388639606},{"$f":"IF(E543=\"\",\"\",lookup!E535)","v":299065.89047119324}]
[null,null,null,null,{"$f":"IF(I543=\"\",\"\",IF(B$14<E543+1,\"\",IF(I543=B$15,\"\",lookup!C536)))","v":534},{"$f":"IF(E544=\"\",\"\",IF(B$11=\"Ordinary\",lookup!D536-G544,lookup!F536))","v":299065.89047119324},{"$f":"IF(E544=\"\",\"\",IF(B$11=\"Ordinary\",lookup!D536-lookup!E535,lookup!F537-lookup!G536))","v":1495.3294523559161},{"$f":"IF(E544=\"\",\"\",lookup!E$2)","v":5264.0479388639606},{"$f":"IF(E544=\"\",\"\",lookup!E536)","v":295297.17198468518}]
[null,null,null,null,{"$f":"IF(I544=\"\",\"\",IF(B$14<E544+1,\"\",IF(I544=B$15,\"\",lookup!C537)))","v":535},{"$f":"IF(E545=\"\",\"\",IF(B$11=\"Ordinary\",lookup!D537-G545,lookup!F537))","v":295297.17198468518},{"$f":"IF(E545=\"\",\"\",IF(B$11=\"Ordinary\",lookup!D537-lookup!E536,lookup!F538-lookup!G537))","v":1476.485859923414},{"$f":"IF(E545=\"\",\"\",lookup!E$2)","v":5264.0479388639606},{"$f":"IF(E545=\"\",\"\",lookup!E537)","v":291509.60990574461}]
[null,null,null,null,{"$f":"IF(I545=\"\",\"\",IF(B$14<E545+1,\"\",IF(I545=B$15,\"\",lookup!C538)))","v":536},{"$f":"IF(E546=\"\",\"\",IF(B$11=\"Ordinary\",lookup!D538-G546,lookup!F538))","v":291509.60990574461},{"$f":"IF(E546=\"\",\"\",IF(B$11=\"Ordinary\",lookup!D538-lookup!E537,lookup!F539-lookup!G538))","v":1457.5480495286756},{"$f":"IF(E546=\"\",\"\",lookup!E$2)","v":5264.0479388639606},{"$f":"IF(E546=\"\",\"\",lookup!E538)","v":287703.11001640931}]
[null,null,null,null,{"$f":"IF(I546=\"\",\"\",IF(B$14<E546+1,\"\",IF(I546=B$15,\"\",lookup!C539)))","v":537},{"$f":"IF(E547=\"\",\"\",IF(B$11=\"Ordinary\",lookup!D539-G547,lookup!F539))","v":287703.11001640931},{"$f":"IF(E547=\"\",\"\",IF(B$11=\"Ordinary\",lookup!D539-lookup!E538,lookup!F540-lookup!G539))","v":1438.5155500820256},{"$f":"IF(E547=\"\",\"\",lookup!E$2)","v":5264.0479388639606},{"$f":"IF(E547=\"\",\"\",lookup!E539)","v":283877.57762762735}]
[null,null,null,null,{"$f":"IF(I547=\"\",\"\",IF(B$14<E547+1,\"\",IF(I547=B$15,\"\",lookup!C540)))","v":538},{"$f":"IF(E548=\"\",\"\",IF(B$11=\"Ordinary\",lookup!D540-G548,lookup!F540))","v":283877.57762762735},{"$f":"IF(E548=\"\",\"\",IF(B$11=\"Ordinary\",lookup!D540-lookup!E539,lookup!F541-lookup!G540))","v":1419.3878881381243},{"$f":"IF(E548=\"\",\"\",lookup!E$2)","v":5264.0479388639606},{"$f":"IF(E548=\"\",\"\",lookup!E540)","v":280032.9175769015}]
[null,null,null,null,{"$f":"IF(I548=\"\",\"\",IF(B$14<E548+1,\"\",IF(I548=B$15,\"\",lookup!C541)))","v":539},{"$f":"IF(E549=\"\",\"\",IF(B$11=\"Ordinary\",lookup!D541-G549,lookup!F541))","v":280032.9175769015},{"$f":"IF(E549=\"\",\"\",IF(B$11=\"Ordinary\",lookup!D541-lookup!E540,lookup!F542-lookup!G541))","v":1400.1645878845011},{"$f":"IF(E549=\"\",\"\",lookup!E$2)","v":5264.0479388639606},{"$f":"IF(E549=\"\",\"\",lookup!E541)","v":276169.03422592202}]
[null,null,null,null,{"$f":"IF(I549=\"\",\"\",IF(B$14<E549+1,\"\",IF(I549=B$15,\"\",lookup!C542)))","v":540},{"$f":"IF(E550=\"\",\"\",IF(B$11=\"Ordinary\",lookup!D542-G550,lookup!F542))","v":276169.03422592202},{"$f":"IF(E550=\"\",\"\",IF(B$11=\"Ordinary\",lookup!D542-lookup!E541,lookup!F543-lookup!G542))","v":1380.8451711295638},{"$f":"IF(E550=\"\",\"\",lookup!E$2)","v":5264.0479388639606},{"$f":"IF(E550=\"\",\"\",lookup!E542)","v":272285.8314581876}]
[null,null,null,null,{"$f":"IF(I550=\"\",\"\",IF(B$14<E550+1,\"\",IF(I550=B$15,\"\",lookup!C543)))","v":541},{"$f":"IF(E551=\"\",\"\",IF(B$11=\"Ordinary\",lookup!D543-G551,lookup!F543))","v":272285.8314581876},{"$f":"IF(E551=\"\",\"\",IF(B$11=\"Ordinary\",lookup!D543-lookup!E542,lookup!F544-lookup!G543))","v":1361.4291572908987},{"$f":"IF(E551=\"\",\"\",lookup!E$2)","v":5264.0479388639606},{"$f":"IF(E551=\"\",\"\",lookup!E543)","v":268383.21267661452}]
[null,null,null,null,{"$f":"IF(I551=\"\",\"\",IF(B$14<E551+1,\"\",IF(I551=B$15,\"\",lookup!C544)))","v":542},{"$f":"IF(E552=\"\",\"\",IF(B$11=\"Ordinary\",lookup!D544-G552,lookup!F544))","v":268383.21267661452},{"$f":"IF(E552=\"\",\"\",IF(B$11=\"Ordinary\",lookup!D544-lookup!E543,lookup!F545-lookup!G544))","v":1341.916063383047},{"$f":"IF(E552=\"\",\"\",lookup!E$2)","v":5264.0479388639606},{"$f":"IF(E552=\"\",\"\",lookup!E544)","v":264461.08080113359}]
[null,null,null,null,{"$f":"IF(I552=\"\",\"\",IF(B$14<E552+1,\"\",IF(I552=B$15,\"\",lookup!C545)))","v":543},{"$f":"IF(E553=\"\",\"\",IF(B$11=\"Ordinary\",lookup!D545-G553,lookup!F545))","v":264461.08080113359},{"$f":"IF(E553=\"\",\"\",IF(B$11=\"Ordinary\",lookup!D545-lookup!E544,lookup!F546-lookup!G545))","v":1322.3054040056304},{"$f":"IF(E553=\"\",\"\",lookup!E$2)","v":5264.0479388639606},{"$f":"IF(E553=\"\",\"\",lookup!E545)","v":260519.33826627527}]
[null,null,null,null,{"$f":"IF(I553=\"\",\"\",IF(B$14<E553+1,\"\",IF(I553=B$15,\"\",lookup!C546)))","v":544},{"$f":"IF(E554=\"\",\"\",IF(B$11=\"Ordinary\",lookup!D546-G554,lookup!F546))","v":260519.33826627527},{"$f":"IF(E554=\"\",\"\",IF(B$11=\"Ordinary\",lookup!D546-lookup!E545,lookup!F547-lookup!G546))","v":1302.5966913313605},{"$f":"IF(E554=\"\",\"\",lookup!E$2)","v":5264.0479388639606},{"$f":"IF(E554=\"\",\"\",lookup!E546)","v":256557.88701874268}]
[null,null,null,null,{"$f":"IF(I554=\"\",\"\",IF(B$14<E554+1,\"\",IF(I554=B$15,\"\",lookup!C547)))","v":545},{"$f":"IF(E555=\"\",\"\",IF(B$11=\"Ordinary\",lookup!D547-G555,lookup!F547))","v":256557.88701874268},{"$f":"IF(E555=\"\",\"\",IF(B$11=\"Ordinary\",lookup!D547-lookup!E546,lookup!F548-lookup!G547))","v":1282.7894350936986},{"$f":"IF(E555=\"\",\"\",lookup!E$2)","v":5264.0479388639606},{"$f":"IF(E555=\"\",\"\",lookup!E547)","v":252576.62851497243}]
[null,null,null,null,{"$f":"IF(I555=\"\",\"\",IF(B$14<E555+1,\"\",IF(I555=B$15,\"\",lookup!C548)))","v":546},{"$f":"IF(E556=\"\",\"\",IF(B$11=\"Ordinary\",lookup!D548-G556,lookup!F548))","v":252576.62851497243},{"$f":"IF(E556=\"\",\"\",IF(B$11=\"Ordinary\",lookup!D548-lookup!E547,lookup!F549-lookup!G548))","v":1262.8831425748358},{"$f":"IF(E556=\"\",\"\",lookup!E$2)","v":5264.0479388639606},{"$f":"IF(E556=\"\",\"\",lookup!E548)","v":248575.46371868331}]
[null,null,null,null,{"$f":"IF(I556=\"\",\"\",IF(B$14<E556+1,\"\",IF(I556=B$15,\"\",lookup!C549)))","v":547},{"$f":"IF(E557=\"\",\"\",IF(B$11=\"Ordinary\",lookup!D549-G557,lookup!F549))","v":248575.46371868331},{"$f":"IF(E557=\"\",\"\",IF(B$11=\"Ordinary\",lookup!D549-lookup!E548,lookup!F550-lookup!G549))","v":1242.8773185933824},{"$f":"IF(E557=\"\",\"\",lookup!E$2)","v":5264.0479388639606},{"$f":"IF(E557=\"\",\"\",lookup!E549)","v":244554.29309841275}]
[null,null,null,null,{"$f":"IF(I557=\"\",\"\",IF(B$14<E557+1,\"\",IF(I557=B$15,\"\",lookup!C550)))","v":548},{"$f":"IF(E558=\"\",\"\",IF(B$11=\"Ordinary\",lookup!D550-G558,lookup!F550))","v":244554.29309841275},{"$f":"IF(E558=\"\",\"\",IF(B$11=\"Ordinary\",lookup!D550-lookup!E549,lookup!F551-lookup!G550))","v":1222.7714654920273},{"$f":"IF(E558=\"\",\"\",lookup!E$2)","v":5264.0479388639606},{"$f":"IF(E558=\"\",\"\",lookup!E550)","v":240513.01662504082}]
[null,null,null,null,{"$f":"IF(I558=\"\",\"\",IF(B$14<E558+1,\"\",IF(I558=B$15,\"\",lookup!C551)))","v":549},{"$f":"IF(E559=\"\",\"\",IF(B$11=\"Ordinary\",lookup!D551-G559,lookup!F551))","v":240513.01662504082},{"$f":"IF(E559=\"\",\"\",IF(B$11=\"Ordinary\",lookup!D551-lookup!E550,lookup!F552-lookup!G551))","v":1202.5650831251696},{"$f":"IF(E559=\"\",\"\",lookup!E$2)","v":5264.0479388639606},{"$f":"IF(E559=\"\",\"\",lookup!E551)","v":236451.53376930204}]
[null,null,null,null,{"$f":"IF(I559=\"\",\"\",IF(B$14<E559+1,\"\",IF(I559=B$15,\"\",lookup!C552)))","v":550},{"$f":"IF(E560=\"\",\"\",IF(B$11=\"Ordinary\",lookup!D552-G560,lookup!F552))","v":236451.53376930204},{"$f":"IF(E560=\"\",\"\",IF(B$11=\"Ordinary\",lookup!D552-lookup!E551,lookup!F553-lookup!G552))","v":1182.2576688464906},{"$f":"IF(E560=\"\",\"\",lookup!E$2)","v":5264.0479388639606},{"$f":"IF(E560=\"\",\"\",lookup!E552)","v":232369.74349928458}]
[null,null,null,null,{"$f":"IF(I560=\"\",\"\",IF(B$14<E560+1,\"\",IF(I560=B$15,\"\",lookup!C553)))","v":551},{"$f":"IF(E561=\"\",\"\",IF(B$11=\"Ordinary\",lookup!D553-G561,lookup!F553))","v":232369.74349928458},{"$f":"IF(E561=\"\",\"\",IF(B$11=\"Ordinary\",lookup!D553-lookup!E552,lookup!F554-lookup!G553))","v":1161.8487174964102},{"$f":"IF(E561=\"\",\"\",lookup!E$2)","v":5264.0479388639606},{"$f":"IF(E561=\"\",\"\",lookup!E553)","v":228267.54427791704}]
[null,null,null,null,{"$f":"IF(I561=\"\",\"\",IF(B$14<E561+1,\"\",IF(I561=B$15,\"\",lookup!C554)))","v":552},{"$f":"IF(E562=\"\",\"\",IF(B$11=\"Ordinary\",lookup!D554-G562,lookup!F554))","v":228267.54427791704},{"$f":"IF(E562=\"\",\"\",IF(B$11=\"Ordinary\",lookup!D554-lookup!E553,lookup!F555-lookup!G554))","v":1141.3377213895728},{"$f":"IF(E562=\"\",\"\",lookup!E$2)","v":5264.0479388639606},{"$f":"IF(E562=\"\",\"\",lookup!E554)","v":224144.83406044266}]
[null,null,null,null,{"$f":"IF(I562=\"\",\"\",IF(B$14<E562+1,\"\",IF(I562=B$15,\"\",lookup!C555)))","v":553},{"$f":"IF(E563=\"\",\"\",IF(B$11=\"Ordinary\",lookup!D555-G563,lookup!F555))","v":224144.83406044266},{"$f":"IF(E563=\"\",\"\",IF(B$11=\"Ordinary\",lookup!D555-lookup!E554,lookup!F556-lookup!G555))","v":1120.7241703021864},{"$f":"IF(E563=\"\",\"\",lookup!E$2)","v":5264.0479388639606},{"$f":"IF(E563=\"\",\"\",lookup!E555)","v":220001.5102918809}]
[null,null,null,null,{"$f":"IF(I563=\"\",\"\",IF(B$14<E563+1,\"\",IF(I563=B$15,\"\",lookup!C556)))","v":554},{"$f":"IF(E564=\"\",\"\",IF(B$11=\"Ordinary\",lookup!D556-G564,lookup!F556))","v":220001.5102918809},{"$f":"IF(E564=\"\",\"\",IF(B$11=\"Ordinary\",lookup!D556-lookup!E555,lookup!F557-lookup!G556))","v":1100.0075514593918},{"$f":"IF(E564=\"\",\"\",lookup!E$2)","v":5264.0479388639606},{"$f":"IF(E564=\"\",\"\",lookup!E556)","v":215837.46990447634}]
[null,null,null,null,{"$f":"IF(I564=\"\",\"\",IF(B$14<E564+1,\"\",IF(I564=B$15,\"\",lookup!C557)))","v":555},{"$f":"IF(E565=\"\",\"\",IF(B$11=\"Ordinary\",lookup!D557-G565,lookup!F557))","v":215837.46990447634},{"$f":"IF(E565=\"\",\"\",IF(B$11=\"Ordinary\",lookup!D557-lookup!E556,lookup!F558-lookup!G557))","v":1079.1873495223699},{"$f":"IF(E565=\"\",\"\",lookup!E$2)","v":5264.0479388639606},{"$f":"IF(E565=\"\",\"\",lookup!E557)","v":211652.60931513476}]
[null,null,null,null,{"$f":"IF(I565=\"\",\"\",IF(B$14<E565+1,\"\",IF(I565=B$15,\"\",lookup!C558)))","v":556},{"$f":"IF(E566=\"\",\"\",IF(B$11=\"Ordinary\",lookup!D558-G566,lookup!F558))","v":211652.60931513476},{"$f":"IF(E566=\"\",\"\",IF(B$11=\"Ordinary\",lookup!D558-lookup!E557,lookup!F559-lookup!G558))","v":1058.263046575652},{"$f":"IF(E566=\"\",\"\",lookup!E$2)","v":5264.0479388639606},{"$f":"IF(E566=\"\",\"\",lookup!E558)","v":207446.82442284646}]
[null,null,null,null,{"$f":"IF(I566=\"\",\"\",IF(B$14<E566+1,\"\",IF(I566=B$15,\"\",lookup!C559)))","v":557},{"$f":"IF(E567=\"\",\"\",IF(B$11=\"Ordinary\",lookup!D559-G567,lookup!F559))","v":207446.82442284646},{"$f":"IF(E567=\"\",\"\",IF(B$11=\"Ordinary\",lookup!D559-lookup!E558,lookup!F560-lookup!G559))","v":1037.2341221141978},{"$f":"IF(E567=\"\",\"\",lookup!E$2)","v":5264.0479388639606},{"$f":"IF(E567=\"\",\"\",lookup!E559)","v":203220.01060609671}]
[null,null,null,null,{"$f":"IF(I567=\"\",\"\",IF(B$14<E567+1,\"\",IF(I567=B$15,\"\",lookup!C560)))","v":558},{"$f":"IF(E568=\"\",\"\",IF(B$11=\"Ordinary\",lookup!D560-G568,lookup!F560))","v":203220.01060609671},{"$f":"IF(E568=\"\",\"\",IF(B$11=\"Ordinary\",lookup!D560-lookup!E559,lookup!F561-lookup!G560))","v":1016.1000530304736},{"$f":"IF(E568=\"\",\"\",lookup!E$2)","v":5264.0479388639606},{"$f":"IF(E568=\"\",\"\",lookup!E560)","v":198972.06272026323}]
[null,null,null,null,{"$f":"IF(I568=\"\",\"\",IF(B$14<E568+1,\"\",IF(I568=B$15,\"\",lookup!C561)))","v":559},{"$f":"IF(E569=\"\",\"\",IF(B$11=\"Ordinary\",lookup!D561-G569,lookup!F561))","v":198972.06272026323},{"$f":"IF(E569=\"\",\"\",IF(B$11=\"Ordinary\",lookup!D561-lookup!E560,lookup!F562-lookup!G561))","v":994.86031360129709},{"$f":"IF(E569=\"\",\"\",lookup!E$2)","v":5264.0479388639606},{"$f":"IF(E569=\"\",\"\",lookup!E561)","v":194702.87509500058}]
[null,null,null,null,{"$f":"IF(I569=\"\",\"\",IF(B$14<E569+1,\"\",IF(I569=B$15,\"\",lookup!C562)))","v":560},{"$f":"IF(E570=\"\",\"\",IF(B$11=\"Ordinary\",lookup!D562-G570,lookup!F562))","v":194702.87509500058},{"$f":"IF(E570=\"\",\"\",IF(B$11=\"Ordinary\",lookup!D562-lookup!E561,lookup!F563-lookup!G562))","v":973.51437547497335},{"$f":"IF(E570=\"\",\"\",lookup!E$2)","v":5264.0479388639606},{"$f":"IF(E570=\"\",\"\",lookup!E562)","v":190412.3415316116}]
[null,null,null,null,{"$f":"IF(I570=\"\",\"\",IF(B$14<E570+1,\"\",IF(I570=B$15,\"\",lookup!C563)))","v":561},{"$f":"IF(E571=\"\",\"\",IF(B$11=\"Ordinary\",lookup!D563-G571,lookup!F563))","v":190412.3415316116},{"$f":"IF(E571=\"\",\"\",IF(B$11=\"Ordinary\",lookup!D563-lookup!E562,lookup!F564-lookup!G563))","v":952.06170765802381},{"$f":"IF(E571=\"\",\"\",lookup!E$2)","v":5264.0479388639606},{"$f":"IF(E571=\"\",\"\",lookup!E563)","v":186100.35530040567}]
[null,null,null,null,{"$f":"IF(I571=\"\",\"\",IF(B$14<E571+1,\"\",IF(I571=B$15,\"\",lookup!C564)))","v":562},{"$f":"IF(E572=\"\",\"\",IF(B$11=\"Ordinary\",lookup!D564-G572,lookup!F564))","v":186100.35530040567},{"$f":"IF(E572=\"\",\"\",IF(B$11=\"Ordinary\",lookup!D564-lookup!E563,lookup!F565-lookup!G564))","v":930.50177650200203},{"$f":"IF(E572=\"\",\"\",lookup!E$2)","v":5264.0479388639606},{"$f":"IF(E572=\"\",\"\",lookup!E564)","v":181766.80913804373}]
[null,null,null,null,{"$f":"IF(I572=\"\",\"\",IF(B$14<E572+1,\"\",IF(I572=B$15,\"\",lookup!C565)))","v":563},{"$f":"IF(E573=\"\",\"\",IF(B$11=\"Ordinary\",lookup!D565-G573,lookup!F565))","v":181766.80913804373},{"$f":"IF(E573=\"\",\"\",IF(B$11=\"Ordinary\",lookup!D565-lookup!E564,lookup!F566-lookup!G565))","v":908.83404569019331},{"$f":"IF(E573=\"\",\"\",lookup!E$2)","v":5264.0479388639606},{"$f":"IF(E573=\"\",\"\",lookup!E565)","v":177411.59524486997}]
[null,null,null,null,{"$f":"IF(I573=\"\",\"\",IF(B$14<E573+1,\"\",IF(I573=B$15,\"\",lookup!C566)))","v":564},{"$f":"IF(E574=\"\",\"\",IF(B$11=\"Ordinary\",lookup!D566-G574,lookup!F566))","v":177411.59524486997},{"$f":"IF(E574=\"\",\"\",IF(B$11=\"Ordinary\",lookup!D566-lookup!E565,lookup!F567-lookup!G566))","v":887.05797622434329},{"$f":"IF(E574=\"\",\"\",lookup!E$2)","v":5264.0479388639606},{"$f":"IF(E574=\"\",\"\",lookup!E566)","v":173034.60528223036}]
[null,null,null,null,{"$f":"IF(I574=\"\",\"\",IF(B$14<E574+1,\"\",IF(I574=B$15,\"\",lookup!C567)))","v":565},{"$f":"IF(E575=\"\",\"\",IF(B$11=\"Ordinary\",lookup!D567-G575,lookup!F567))","v":173034.60528223036},{"$f":"IF(E575=\"\",\"\",IF(B$11=\"Ordinary\",lookup!D567-lookup!E566,lookup!F568-lookup!G567))","v":865.17302641112474},{"$f":"IF(E575=\"\",\"\",lookup!E$2)","v":5264.0479388639606},{"$f":"IF(E575=\"\",\"\",lookup!E567)","v":168635.73036977754}]
[null,null,null,null,{"$f":"IF(I575=\"\",\"\",IF(B$14<E575+1,\"\",IF(I575=B$15,\"\",lookup!C568)))","v":566},{"$f":"IF(E576=\"\",\"\",IF(B$11=\"Ordinary\",lookup!D568-G576,lookup!F568))","v":168635.73036977754},{"$f":"IF(E576=\"\",\"\",IF(B$11=\"Ordinary\",lookup!D568-lookup!E567,lookup!F569-lookup!G568))","v":843.17865184886614},{"$f":"IF(E576=\"\",\"\",lookup!E$2)","v":5264.0479388639606},{"$f":"IF(E576=\"\",\"\",lookup!E568)","v":164214.86108276245}]
[null,null,null,null,{"$f":"IF(I576=\"\",\"\",IF(B$14<E576+1,\"\",IF(I576=B$15,\"\",lookup!C569)))","v":567},{"$f":"IF(E577=\"\",\"\",IF(B$11=\"Ordinary\",lookup!D569-G577,lookup!F569))","v":164214.86108276245},{"$f":"IF(E577=\"\",\"\",IF(B$11=\"Ordinary\",lookup!D569-lookup!E568,lookup!F570-lookup!G569))","v":821.07430541378562},{"$f":"IF(E577=\"\",\"\",lookup!E$2)","v":5264.0479388639606},{"$f":"IF(E577=\"\",\"\",lookup!E569)","v":159771.88744931229}]
[null,null,null,null,{"$f":"IF(I577=\"\",\"\",IF(B$14<E577+1,\"\",IF(I577=B$15,\"\",lookup!C570)))","v":568},{"$f":"IF(E578=\"\",\"\",IF(B$11=\"Ordinary\",lookup!D570-G578,lookup!F570))","v":159771.88744931229},{"$f":"IF(E578=\"\",\"\",IF(B$11=\"Ordinary\",lookup!D570-lookup!E569,lookup!F571-lookup!G570))","v":798.85943724654499},{"$f":"IF(E578=\"\",\"\",lookup!E$2)","v":5264.0479388639606},{"$f":"IF(E578=\"\",\"\",lookup!E570)","v":155306.69894769488}]
[null,null,null,null,{"$f":"IF(I578=\"\",\"\",IF(B$14<E578+1,\"\",IF(I578=B$15,\"\",lookup!C571)))","v":569},{"$f":"IF(E579=\"\",\"\",IF(B$11=\"Ordinary\",lookup!D571-G579,lookup!F571))","v":155306.69894769488},{"$f":"IF(E579=\"\",\"\",IF(B$11=\"Ordinary\",lookup!D571-lookup!E570,lookup!F572-lookup!G571))","v":776.53349473845446},{"$f":"IF(E579=\"\",\"\",lookup!E$2)","v":5264.0479388639606},{"$f":"IF(E579=\"\",\"\",lookup!E571)","v":150819.18450356938}]
[null,null,null,null,{"$f":"IF(I579=\"\",\"\",IF(B$14<E579+1,\"\",IF(I579=B$15,\"\",lookup!C572)))","v":570},{"$f":"IF(E580=\"\",\"\",IF(B$11=\"Ordinary\",lookup!D572-G580,lookup!F572))","v":150819.18450356938},{"$f":"IF(E580=\"\",\"\",IF(B$11=\"Ordinary\",lookup!D572-lookup!E571,lookup!F573-lookup!G572))","v":754.09592251782306},{"$f":"IF(E580=\"\",\"\",lookup!E$2)","v":5264.0479388639606},{"$f":"IF(E580=\"\",\"\",lookup!E572)","v":146309.23248722326}]
[null,null,null,null,{"$f":"IF(I580=\"\",\"\",IF(B$14<E580+1,\"\",IF(I580=B$15,\"\",lookup!C573)))","v":571},{"$f":"IF(E581=\"\",\"\",IF(B$11=\"Ordinary\",lookup!D573-G581,lookup!F573))","v":146309.23248722326},{"$f":"IF(E581=\"\",\"\",IF(B$11=\"Ordinary\",lookup!D573-lookup!E572,lookup!F574-lookup!G573))","v":731.54616243610508},{"$f":"IF(E581=\"\",\"\",lookup!E$2)","v":5264.0479388639606},{"$f":"IF(E581=\"\",\"\",lookup!E573)","v":141776.73071079541}]
[null,null,null,null,{"$f":"IF(I581=\"\",\"\",IF(B$14<E581+1,\"\",IF(I581=B$15,\"\",lookup!C574)))","v":572},{"$f":"IF(E582=\"\",\"\",IF(B$11=\"Ordinary\",lookup!D574-G582,lookup!F574))","v":141776.73071079541},{"$f":"IF(E582=\"\",\"\",IF(B$11=\"Ordinary\",lookup!D574-lookup!E573,lookup!F575-lookup!G574))","v":708.88365355395945},{"$f":"IF(E582=\"\",\"\",lookup!E$2)","v":5264.0479388639606},{"$f":"IF(E582=\"\",\"\",lookup!E574)","v":137221.56642548542}]
[null,null,null,null,{"$f":"IF(I582=\"\",\"\",IF(B$14<E582+1,\"\",IF(I582=B$15,\"\",lookup!C575)))","v":573},{"$f":"IF(E583=\"\",\"\",IF(B$11=\"Ordinary\",lookup!D575-G583,lookup!F575))","v":137221.56642548542},{"$f":"IF(E583=\"\",\"\",IF(B$11=\"Ordinary\",lookup!D575-lookup!E574,lookup!F576-lookup!G575))","v":686.10783212742535},{"$f":"IF(E583=\"\",\"\",lookup!E$2)","v":5264.0479388639606},{"$f":"IF(E583=\"\",\"\",lookup!E575)","v":132643.62631874889}]
[null,null,null,null,{"$f":"IF(I583=\"\",\"\",IF(B$14<E583+1,\"\",IF(I583=B$15,\"\",lookup!C576)))","v":574},{"$f":"IF(E584=\"\",\"\",IF(B$11=\"Ordinary\",lookup!D576-G584,lookup!F576))","v":132643.62631874889},{"$f":"IF(E584=\"\",\"\",IF(B$11=\"Ordinary\",lookup!D576-lookup!E575,lookup!F577-lookup!G576))","v":663.21813159371959},{"$f":"IF(E584=\"\",\"\",lookup!E$2)","v":5264.0479388639606},{"$f":"IF(E584=\"\",\"\",lookup!E576)","v":128042.79651147865}]
[null,null,null,null,{"$f":"IF(I584=\"\",\"\",IF(B$14<E584+1,\"\",IF(I584=B$15,\"\",lookup!C577)))","v":575},{"$f":"IF(E585=\"\",\"\",IF(B$11=\"Ordinary\",lookup!D577-G585,lookup!F577))","v":128042.79651147865},{"$f":"IF(E585=\"\",\"\",IF(B$11=\"Ordinary\",lookup!D577-lookup!E576,lookup!F578-lookup!G577))","v":640.21398255738313},{"$f":"IF(E585=\"\",\"\",lookup!E$2)","v":5264.0479388639606},{"$f":"IF(E585=\"\",\"\",lookup!E577)","v":123418.96255517207}]
[null,null,null,null,{"$f":"IF(I585=\"\",\"\",IF(B$14<E585+1,\"\",IF(I585=B$15,\"\",lookup!C578)))","v":576},{"$f":"IF(E586=\"\",\"\",IF(B$11=\"Ordinary\",lookup!D578-G586,lookup!F578))","v":123418.96255517207},{"$f":"IF(E586=\"\",\"\",IF(B$11=\"Ordinary\",lookup!D578-lookup!E577,lookup!F579-lookup!G578))","v":617.09481277584564},{"$f":"IF(E586=\"\",\"\",lookup!E$2)","v":5264.0479388639606},{"$f":"IF(E586=\"\",\"\",lookup!E578)","v":118772.00942908395}]
[null,null,null,null,{"$f":"IF(I586=\"\",\"\",IF(B$14<E586+1,\"\",IF(I586=B$15,\"\",lookup!C579)))","v":577},{"$f":"IF(E587=\"\",\"\",IF(B$11=\"Ordinary\",lookup!D579-G587,lookup!F579))","v":118772.00942908395},{"$f":"IF(E587=\"\",\"\",IF(B$11=\"Ordinary\",lookup!D579-lookup!E578,lookup!F580-lookup!G579))","v":593.86004714541195},{"$f":"IF(E587=\"\",\"\",lookup!E$2)","v":5264.0479388639606},{"$f":"IF(E587=\"\",\"\",lookup!E579)","v":114101.82153736539}]
[null,null,null,null,{"$f":"IF(I587=\"\",\"\",IF(B$14<E587+1,\"\",IF(I587=B$15,\"\",lookup!C580)))","v":578},{"$f":"IF(E588=\"\",\"\",IF(B$11=\"Ordinary\",lookup!D580-G588,lookup!F580))","v":114101.82153736539},{"$f":"IF(E588=\"\",\"\",IF(B$11=\"Ordinary\",lookup!D580-lookup!E579,lookup!F581-lookup!G580))","v":570.50910768681206},{"$f":"IF(E588=\"\",\"\",lookup!E$2)","v":5264.0479388639606},{"$f":"IF(E588=\"\",\"\",lookup!E580)","v":109408.28270618824}]
[null,null,null,null,{"$f":"IF(I588=\"\",\"\",IF(B$14<E588+1,\"\",IF(I588=B$15,\"\",lookup!C581)))","v":579},{"$f":"IF(E589=\"\",\"\",IF(B$11=\"Ordinary\",lookup!D581-G589,lookup!F581))","v":109408.28270618824},{"$f":"IF(E589=\"\",\"\",IF(B$11=\"Ordinary\",lookup!D581-lookup!E580,lookup!F582-lookup!G581))","v":547.04141353092564},{"$f":"IF(E589=\"\",\"\",lookup!E$2)","v":5264.0479388639606},{"$f":"IF(E589=\"\",\"\",lookup!E581)","v":104691.2761808552}]
[null,null,null,null,{"$f":"IF(I589=\"\",\"\",IF(B$14<E589+1,\"\",IF(I589=B$15,\"\",lookup!C582)))","v":580},{"$f":"IF(E590=\"\",\"\",IF(B$11=\"Ordinary\",lookup!D582-G590,lookup!F582))","v":104691.2761808552},{"$f":"IF(E590=\"\",\"\",IF(B$11=\"Ordinary\",lookup!D582-lookup!E581,lookup!F583-lookup!G582))","v":523.45638090425928},{"$f":"IF(E590=\"\",\"\",lookup!E$2)","v":5264.0479388639606},{"$f":"IF(E590=\"\",\"\",lookup!E582)","v":99950.684622895496}]
[null,null,null,null,{"$f":"IF(I590=\"\",\"\",IF(B$14<E590+1,\"\",IF(I590=B$15,\"\",lookup!C583)))","v":581},{"$f":"IF(E591=\"\",\"\",IF(B$11=\"Ordinary\",lookup!D583-G591,lookup!F583))","v":99950.684622895496},{"$f":"IF(E591=\"\",\"\",IF(B$11=\"Ordinary\",lookup!D583-lookup!E582,lookup!F584-lookup!G583))","v":499.7534231144673},{"$f":"IF(E591=\"\",\"\",lookup!E$2)","v":5264.0479388639606},{"$f":"IF(E591=\"\",\"\",lookup!E583)","v":95186.390107145999}]
[null,null,null,null,{"$f":"IF(I591=\"\",\"\",IF(B$14<E591+1,\"\",IF(I591=B$15,\"\",lookup!C584)))","v":582},{"$f":"IF(E592=\"\",\"\",IF(B$11=\"Ordinary\",lookup!D584-G592,lookup!F584))","v":95186.390107145999},{"$f":"IF(E592=\"\",\"\",IF(B$11=\"Ordinary\",lookup!D584-lookup!E583,lookup!F585-lookup!G584))","v":475.93195053572708},{"$f":"IF(E592=\"\",\"\",lookup!E$2)","v":5264.0479388639606},{"$f":"IF(E592=\"\",\"\",lookup!E584)","v":90398.274118817761}]
[null,null,null,null,{"$f":"IF(I592=\"\",\"\",IF(B$14<E592+1,\"\",IF(I592=B$15,\"\",lookup!C585)))","v":583},{"$f":"IF(E593=\"\",\"\",IF(B$11=\"Ordinary\",lookup!D585-G593,lookup!F585))","v":90398.274118817761},{"$f":"IF(E593=\"\",\"\",IF(B$11=\"Ordinary\",lookup!D585-lookup!E584,lookup!F586-lookup!G585))","v":451.99137059408531},{"$f":"IF(E593=\"\",\"\",lookup!E$2)","v":5264.0479388639606},{"$f":"IF(E593=\"\",\"\",lookup!E585)","v":85586.217550547881}]
[null,null,null,null,{"$f":"IF(I593=\"\",\"\",IF(B$14<E593+1,\"\",IF(I593=B$15,\"\",lookup!C586)))","v":584},{"$f":"IF(E594=\"\",\"\",IF(B$11=\"Ordinary\",lookup!D586-G594,lookup!F586))","v":85586.217550547881},{"$f":"IF(E594=\"\",\"\",IF(B$11=\"Ordinary\",lookup!D586-lookup!E585,lookup!F587-lookup!G586))","v":427.9310877527314},{"$f":"IF(E594=\"\",\"\",lookup!E$2)","v":5264.0479388639606},{"$f":"IF(E594=\"\",\"\",lookup!E586)","v":80750.100699436647}]
[null,null,null,null,{"$f":"IF(I594=\"\",\"\",IF(B$14<E594+1,\"\",IF(I594=B$15,\"\",lookup!C587)))","v":585},{"$f":"IF(E595=\"\",\"\",IF(B$11=\"Ordinary\",lookup!D587-G595,lookup!F587))","v":80750.100699436647},{"$f":"IF(E595=\"\",\"\",IF(B$11=\"Ordinary\",lookup!D587-lookup!E586,lookup!F588-lookup!G587))","v":403.75050349716912},{"$f":"IF(E595=\"\",\"\",lookup!E$2)","v":5264.0479388639606},{"$f":"IF(E595=\"\",\"\",lookup!E587)","v":75889.803264069851}]
[null,null,null,null,{"$f":"IF(I595=\"\",\"\",IF(B$14<E595+1,\"\",IF(I595=B$15,\"\",lookup!C588)))","v":586},{"$f":"IF(E596=\"\",\"\",IF(B$11=\"Ordinary\",lookup!D588-G596,lookup!F588))","v":75889.803264069851},{"$f":"IF(E596=\"\",\"\",IF(B$11=\"Ordinary\",lookup!D588-lookup!E587,lookup!F589-lookup!G588))","v":379.44901632034453},{"$f":"IF(E596=\"\",\"\",lookup!E$2)","v":5264.0479388639606},{"$f":"IF(E596=\"\",\"\",lookup!E588)","v":71005.204341526231}]
[null,null,null,null,{"$f":"IF(I596=\"\",\"\",IF(B$14<E596+1,\"\",IF(I596=B$15,\"\",lookup!C589)))","v":587},{"$f":"IF(E597=\"\",\"\",IF(B$11=\"Ordinary\",lookup!D589-G597,lookup!F589))","v":71005.204341526231},{"$f":"IF(E597=\"\",\"\",IF(B$11=\"Ordinary\",lookup!D589-lookup!E588,lookup!F590-lookup!G589))","v":355.02602170762839},{"$f":"IF(E597=\"\",\"\",lookup!E$2)","v":5264.0479388639606},{"$f":"IF(E597=\"\",\"\",lookup!E589)","v":66096.182424369894}]
[null,null,null,null,{"$f":"IF(I597=\"\",\"\",IF(B$14<E597+1,\"\",IF(I597=B$15,\"\",lookup!C590)))","v":588},{"$f":"IF(E598=\"\",\"\",IF(B$11=\"Ordinary\",lookup!D590-G598,lookup!F590))","v":66096.182424369894},{"$f":"IF(E598=\"\",\"\",IF(B$11=\"Ordinary\",lookup!D590-lookup!E589,lookup!F591-lookup!G590))","v":330.48091212184227},{"$f":"IF(E598=\"\",\"\",lookup!E$2)","v":5264.0479388639606},{"$f":"IF(E598=\"\",\"\",lookup!E590)","v":61162.615397627778}]
[null,null,null,null,{"$f":"IF(I598=\"\",\"\",IF(B$14<E598+1,\"\",IF(I598=B$15,\"\",lookup!C591)))","v":589},{"$f":"IF(E599=\"\",\"\",IF(B$11=\"Ordinary\",lookup!D591-G599,lookup!F591))","v":61162.615397627778},{"$f":"IF(E599=\"\",\"\",IF(B$11=\"Ordinary\",lookup!D591-lookup!E590,lookup!F592-lookup!G591))","v":305.8130769881318},{"$f":"IF(E599=\"\",\"\",lookup!E$2)","v":5264.0479388639606},{"$f":"IF(E599=\"\",\"\",lookup!E591)","v":56204.380535751952}]
[null,null,null,null,{"$f":"IF(I599=\"\",\"\",IF(B$14<E599+1,\"\",IF(I599=B$15,\"\",lookup!C592)))","v":590},{"$f":"IF(E600=\"\",\"\",IF(B$11=\"Ordinary\",lookup!D592-G600,lookup!F592))","v":56204.380535751952},{"$f":"IF(E600=\"\",\"\",IF(B$11=\"Ordinary\",lookup!D592-lookup!E591,lookup!F593-lookup!G592))","v":281.02190267875267},{"$f":"IF(E600=\"\",\"\",lookup!E$2)","v":5264.0479388639606},{"$f":"IF(E600=\"\",\"\",lookup!E592)","v":51221.354499566747}]
[null,null,null,null,{"$f":"IF(I600=\"\",\"\",IF(B$14<E600+1,\"\",IF(I600=B$15,\"\",lookup!C593)))","v":591},{"$f":"IF(E601=\"\",\"\",IF(B$11=\"Ordinary\",lookup!D593-G601,lookup!F593))","v":51221.354499566747},{"$f":"IF(E601=\"\",\"\",IF(B$11=\"Ordinary\",lookup!D593-lookup!E592,lookup!F594-lookup!G593))","v":256.10677249782748},{"$f":"IF(E601=\"\",\"\",lookup!E$2)","v":5264.0479388639606},{"$f":"IF(E601=\"\",\"\",lookup!E593)","v":46213.413333200617}]
[null,null,null,null,{"$f":"IF(I601=\"\",\"\",IF(B$14<E601+1,\"\",IF(I601=B$15,\"\",lookup!C594)))","v":592},{"$f":"IF(E602=\"\",\"\",IF(B$11=\"Ordinary\",lookup!D594-G602,lookup!F594))","v":46213.413333200617},{"$f":"IF(E602=\"\",\"\",IF(B$11=\"Ordinary\",lookup!D594-lookup!E593,lookup!F595-lookup!G594))","v":231.06706666600076},{"$f":"IF(E602=\"\",\"\",lookup!E$2)","v":5264.0479388639606},{"$f":"IF(E602=\"\",\"\",lookup!E594)","v":41180.43246100266}]
[null,null,null,null,{"$f":"IF(I602=\"\",\"\",IF(B$14<E602+1,\"\",IF(I602=B$15,\"\",lookup!C595)))","v":593},{"$f":"IF(E603=\"\",\"\",IF(B$11=\"Ordinary\",lookup!D595-G603,lookup!F595))","v":41180.43246100266},{"$f":"IF(E603=\"\",\"\",IF(B$11=\"Ordinary\",lookup!D595-lookup!E594,lookup!F596-lookup!G595))","v":205.90216230500664},{"$f":"IF(E603=\"\",\"\",lookup!E$2)","v":5264.0479388639606},{"$f":"IF(E603=\"\",\"\",lookup!E595)","v":36122.286684443709}]
[null,null,null,null,{"$f":"IF(I603=\"\",\"\",IF(B$14<E603+1,\"\",IF(I603=B$15,\"\",lookup!C596)))","v":594},{"$f":"IF(E604=\"\",\"\",IF(B$11=\"Ordinary\",lookup!D596-G604,lookup!F596))","v":36122.286684443709},{"$f":"IF(E604=\"\",\"\",IF(B$11=\"Ordinary\",lookup!D596-lookup!E595,lookup!F597-lookup!G596))","v":180.61143342221476},{"$f":"IF(E604=\"\",\"\",lookup!E$2)","v":5264.0479388639606},{"$f":"IF(E604=\"\",\"\",lookup!E596)","v":31038.850179001962}]
[null,null,null,null,{"$f":"IF(I604=\"\",\"\",IF(B$14<E604+1,\"\",IF(I604=B$15,\"\",lookup!C597)))","v":595},{"$f":"IF(E605=\"\",\"\",IF(B$11=\"Ordinary\",lookup!D597-G605,lookup!F597))","v":31038.850179001962},{"$f":"IF(E605=\"\",\"\",IF(B$11=\"Ordinary\",lookup!D597-lookup!E596,lookup!F598-lookup!G597))","v":155.1942508950051},{"$f":"IF(E605=\"\",\"\",lookup!E$2)","v":5264.0479388639606},{"$f":"IF(E605=\"\",\"\",lookup!E597)","v":25929.996491033005}]
[null,null,null,null,{"$f":"IF(I605=\"\",\"\",IF(B$14<E605+1,\"\",IF(I605=B$15,\"\",lookup!C598)))","v":596},{"$f":"IF(E606=\"\",\"\",IF(B$11=\"Ordinary\",lookup!D598-G606,lookup!F598))","v":25929.996491033005},{"$f":"IF(E606=\"\",\"\",IF(B$11=\"Ordinary\",lookup!D598-lookup!E597,lookup!F599-lookup!G598))","v":129.64998245516108},{"$f":"IF(E606=\"\",\"\",lookup!E$2)","v":5264.0479388639606},{"$f":"IF(E606=\"\",\"\",lookup!E598)","v":20795.598534624205}]
[null,null,null,null,{"$f":"IF(I606=\"\",\"\",IF(B$14<E606+1,\"\",IF(I606=B$15,\"\",lookup!C599)))","v":597},{"$f":"IF(E607=\"\",\"\",IF(B$11=\"Ordinary\",lookup!D599-G607,lookup!F599))","v":20795.598534624205},{"$f":"IF(E607=\"\",\"\",IF(B$11=\"Ordinary\",lookup!D599-lookup!E598,lookup!F600-lookup!G599))","v":103.97799267311711},{"$f":"IF(E607=\"\",\"\",lookup!E$2)","v":5264.0479388639606},{"$f":"IF(E607=\"\",\"\",lookup!E599)","v":15635.528588433361}]
[null,null,null,null,{"$f":"IF(I607=\"\",\"\",IF(B$14<E607+1,\"\",IF(I607=B$15,\"\",lookup!C600)))","v":598},{"$f":"IF(E608=\"\",\"\",IF(B$11=\"Ordinary\",lookup!D600-G608,lookup!F600))","v":15635.528588433361},{"$f":"IF(E608=\"\",\"\",IF(B$11=\"Ordinary\",lookup!D600-lookup!E599,lookup!F601-lookup!G600))","v":78.177642942164312},{"$f":"IF(E608=\"\",\"\",lookup!E$2)","v":5264.0479388639606},{"$f":"IF(E608=\"\",\"\",lookup!E600)","v":10449.658292511565}]
[null,null,null,null,{"$f":"IF(I608=\"\",\"\",IF(B$14<E608+1,\"\",IF(I608=B$15,\"\",lookup!C601)))","v":599},{"$f":"IF(E609=\"\",\"\",IF(B$11=\"Ordinary\",lookup!D601-G609,lookup!F601))","v":10449.658292511565},{"$f":"IF(E609=\"\",\"\",IF(B$11=\"Ordinary\",lookup!D601-lookup!E600,lookup!F602-lookup!G601))","v":52.248291462556153},{"$f":"IF(E609=\"\",\"\",lookup!E$2)","v":5264.0479388639606},{"$f":"IF(E609=\"\",\"\",lookup!E601)","v":5237.858645110161}]
[null,null,null,null,{"$f":"IF(I609=\"\",\"\",IF(B$14<E609+1,\"\",IF(I609=B$15,\"\",lookup!C602)))","v":600},{"$f":"IF(E610=\"\",\"\",IF(B$11=\"Ordinary\",lookup!D602-G610,lookup!F602))","v":5237.858645110161},{"$f":"IF(E610=\"\",\"\",IF(B$11=\"Ordinary\",lookup!D602-lookup!E601,lookup!F603-lookup!G602))","v":26.1892932255505},{"$f":"IF(E610=\"\",\"\",lookup!E$2)","v":5264.0479388639606},{"$f":"IF(E610=\"\",\"\",lookup!E602)","v":-5.2824907470494509E-7}]

{"sheet":"Compound Interest","index":5,"n_rows":610,"n_cols":10,"rows_kept":610,"cut":false,"hidden":true,"merged":[]}
[]
[]
[]
[]
[]
[]
[]
[]
["Compound Interest",null,null,null,"Month","Deposit","Interest","Total Deposit","Total Interest","Balance"]
[null,null,null,null,0,null,null,null,null,{"$f":"B13","v":10000}]
["Compounded Times per year","Monthly",null,null,{"$f":"lookup!R3","v":1},{"$f":"B$14","v":1200},{"$f":"lookup!T3","v":23.333333333333332},{"$f":"F11","v":1200},{"$f":"G11","v":23.333333333333332},{"$f":"lookup!U3","v":11223.333333333434}]
["Annual Interest Rate",2.5,null,null,{"$f":"IF(J11=\"\",\"\",IF(B$15<E11+1,\"\",IF(J11=B$16,\"\",lookup!R4)))","v":2},{"$f":"IF(E12=\"\",\"\",B$14)","v":1200},{"$f":"IF(E12=\"\",\"\",lookup!T4)","v":25.881944444444652},{"$f":"IF(E12=\"\",\"\",H11+B$14)","v":2400},{"$f":"IF(E12=\"\",\"\",I11+G12)","v":49.215277777777985},{"$f":"IF(E12=\"\",\"\",IF(lookup!U4<0,0,lookup!U4))","v":12449.215277777908}]
["Base Amount",10000,null,null,{"$f":"IF(J12=\"\",\"\",IF(B$15<E12+1,\"\",IF(J12=B$16,\"\",lookup!R5)))","v":3},1200,{"$f":"IF(E13=\"\",\"\",lookup!T5)","v":28.43586516203731},3600,{"$f":"IF(E13=\"\",\"\",I12+G13)","v":77.651142939815287},{"$f":"IF(E13=\"\",\"\",IF(lookup!U5<0,0,lookup!U5))","v":13677.651142940063}]
[{"$f":"IF(B11=\"Yearly\",\"Regular Saving Yearly\",IF(B11=\"Monthly\",\"Regular Saving Monthly\",IF(B11=\"Quarterly\",\"Regular Saving Quarterly\",IF(B11=\"Half-Yearly\",\"Regular Saving Half-Yearly\",\"\"))))","v":"Regular Saving Monthly"},1200,null,null,{"$f":"IF(J13=\"\",\"\",IF(B$15<E13+1,\"\",IF(J13=B$16,\"\",lookup!R6)))","v":4},1200,{"$f":"IF(E14=\"\",\"\",lookup!T6)","v":30.995106547791799},4800,108.64624948760709,{"$f":"IF(E14=\"\",\"\",IF(lookup!U6<0,0,lookup!U6))","v":14908.646249487887}]
["Saving Period (Month)",60,null,null,{"$f":"IF(J14=\"\",\"\",IF(B$15<E14+1,\"\",IF(J14=B$16,\"\",lookup!R7)))","v":5},1200,{"$f":"IF(E15=\"\",\"\",lookup!T7)","v":33.5596796864331},6000,142.20592917404019,{"$f":"IF(E15=\"\",\"\",IF(lookup!U7<0,0,lookup!U7))","v":16142.20592917439}]
["Balance",{"$f":"B13*(1+B12/lookup!A5/100)^(lookup!A5*B15/12)+(B14)*(((1+B12/lookup!A5/100)^(lookup!A5*B15/12+1)-(1+B12/lookup!A5/100))/(B12/lookup!A5/100))","v":88098.258767107094},null,null,{"$f":"IF(J15=\"\",\"\",IF(B$15<E15+1,\"\",IF(J15=B$16,\"\",lookup!R8)))","v":6},1200,{"$f":"IF(E16=\"\",\"\",lookup!T8)","v":36.129595685779975},7200,178.33552485982017,{"$f":"IF(E16=\"\",\"\",IF(lookup!U8<0,0,lookup!U8))","v":17378.335524860238}]
[null,null,null,null,{"$f":"IF(J16=\"\",\"\",IF(B$15<E16+1,\"\",IF(J16=B$16,\"\",lookup!R9)))","v":7},1200,{"$f":"IF(E17=\"\",\"\",lookup!T9)","v":38.70486567679216},8400,217.04039053661234,{"$f":"IF(E17=\"\",\"\",IF(lookup!U9<0,0,lookup!U9))","v":18617.040390537179}]
[null,null,null,null,{"$f":"IF(J17=\"\",\"\",IF(B$15<E17+1,\"\",IF(J17=B$16,\"\",lookup!R10)))","v":8},1200,{"$f":"IF(E18=\"\",\"\",lookup!T10)","v":41.285500813619123},9600,258.32589135023147,{"$f":"IF(E18=\"\",\"\",IF(lookup!U10<0,0,lookup!U10))","v":19858.325891350825}]
[null,null,null,null,{"$f":"IF(J18=\"\",\"\",IF(B$15<E18+1,\"\",IF(J18=B$16,\"\",lookup!R11)))","v":9},1200,{"$f":"IF(E19=\"\",\"\",lookup!T11)","v":43.871512273647554},10800,302.19740362387904,{"$f":"IF(E19=\"\",\"\",IF(lookup!U11<0,0,lookup!U11))","v":21102.197403624559}]
[null,null,null,null,{"$f":"IF(J19=\"\",\"\",IF(B$15<E19+1,\"\",IF(J19=B$16,\"\",lookup!R12)))","v":10},1200,{"$f":"IF(E20=\"\",\"\",lookup!T12)","v":46.462911257551163},12000,348.66031488143022,{"$f":"IF(E20=\"\",\"\",IF(lookup!U12<0,0,lookup!U12))","v":22348.660314882214}]
[null,null,null,null,{"$f":"IF(J20=\"\",\"\",IF(B$15<E20+1,\"\",IF(J20=B$16,\"\",lookup!R13)))","v":11},1200,{"$f":"IF(E21=\"\",\"\",lookup!T13)","v":49.059708989337949},13200,397.72002387076816,{"$f":"IF(E21=\"\",\"\",IF(lookup!U13<0,0,lookup!U13))","v":23597.720023871603}]
[null,null,null,null,{"$f":"IF(J21=\"\",\"\",IF(B$15<E21+1,\"\",IF(J21=B$16,\"\",lookup!R14)))","v":12},1200,{"$f":"IF(E22=\"\",\"\",lookup!T14)","v":51.661916716399169},14400,449.38194058716732,{"$f":"IF(E22=\"\",\"\",IF(lookup!U14<0,0,lookup!U14))","v":24849.381940588064}]
[null,null,null,null,{"$f":"IF(J22=\"\",\"\",IF(B$15<E22+1,\"\",IF(J22=B$16,\"\",lookup!R15)))","v":13},1200,{"$f":"IF(E23=\"\",\"\",lookup!T15)","v":54.269545709558464},15600,{"$f":"IF(E23=\"\",\"\",I22+G23)","v":503.65148629672581},{"$f":"IF(E23=\"\",\"\",IF(lookup!U15<0,0,lookup!U15))","v":26103.65148629776}]
[null,null,null,null,{"$f":"IF(J23=\"\",\"\",IF(B$15<E23+1,\"\",IF(J23=B$16,\"\",lookup!R16)))","v":14},1200,{"$f":"IF(E24=\"\",\"\",lookup!T16)","v":56.882607263120335},16800,560.53409355984616,{"$f":"IF(E24=\"\",\"\",IF(lookup!U16<0,0,lookup!U16))","v":27360.534093560855}]
[null,null,null,null,{"$f":"IF(J24=\"\",\"\",IF(B$15<E24+1,\"\",IF(J24=B$16,\"\",lookup!R17)))","v":15},1200,{"$f":"IF(E25=\"\",\"\",lookup!T17)","v":59.501112694918447},18000,620.0352062547646,{"$f":"IF(E25=\"\",\"\",IF(lookup!U17<0,0,lookup!U17))","v":28620.035206255925}]
[null,null,null,null,{"$f":"IF(J25=\"\",\"\",IF(B$15<E25+1,\"\",IF(J25=B$16,\"\",lookup!R18)))","v":16},1200,{"$f":"IF(E26=\"\",\"\",lookup!T18)","v":62.125073346366513},19200,682.16027960113115,{"$f":"IF(E26=\"\",\"\",IF(lookup!U18<0,0,lookup!U18))","v":29882.160279602409}]
[null,null,null,null,{"$f":"IF(J26=\"\",\"\",IF(B$15<E26+1,\"\",IF(J26=B$16,\"\",lookup!R19)))","v":17},1200,{"$f":"IF(E27=\"\",\"\",lookup!T19)","v":64.754500582505017},20400,746.91478018363614,{"$f":"IF(E27=\"\",\"\",IF(lookup!U19<0,0,lookup!U19))","v":31146.914780185005}]
[null,null,null,null,{"$f":"IF(J27=\"\",\"\",IF(B$15<E27+1,\"\",IF(J27=B$16,\"\",lookup!R20)))","v":18},1200,{"$f":"IF(E28=\"\",\"\",lookup!T20)","v":67.389405792052088},21600,814.30418597568826,{"$f":"IF(E28=\"\",\"\",IF(lookup!U20<0,0,lookup!U20))","v":32414.304185976995}]
[null,null,null,null,{"$f":"IF(J28=\"\",\"\",IF(B$15<E28+1,\"\",IF(J28=B$16,\"\",lookup!R21)))","v":19},1200,{"$f":"IF(E29=\"\",\"\",lookup!T21)","v":70.02980038745207},22800,884.3339863631403,{"$f":"IF(E29=\"\",\"\",IF(lookup!U21<0,0,lookup!U21))","v":33684.333986364567}]
[null,null,null,null,{"$f":"IF(J29=\"\",\"\",IF(B$15<E29+1,\"\",IF(J29=B$16,\"\",lookup!R22)))","v":20},1200,{"$f":"IF(E30=\"\",\"\",lookup!T22)","v":72.675695804926178},24000,957.00968216806643,{"$f":"IF(E30=\"\",\"\",IF(lookup!U22<0,0,lookup!U22))","v":34957.009682169606}]
[null,null,null,null,{"$f":"IF(J30=\"\",\"\",IF(B$15<E30+1,\"\",IF(J30=B$16,\"\",lookup!R23)))","v":21},1200,{"$f":"IF(E31=\"\",\"\",lookup!T23)","v":75.327103504520011},25200,1032.3367856725865,{"$f":"IF(E31=\"\",\"\",IF(lookup!U23<0,0,lookup!U23))","v":36232.336785674219}]
[null,null,null,null,{"$f":"IF(J31=\"\",\"\",IF(B$15<E31+1,\"\",IF(J31=B$16,\"\",lookup!R24)))","v":22},1200,{"$f":"IF(E32=\"\",\"\",lookup!T24)","v":77.984034970154624},26400,1110.3208206427412,{"$f":"IF(E32=\"\",\"\",IF(lookup!U24<0,0,lookup!U24))","v":37510.320820644389}]
[null,null,null,null,{"$f":"IF(J32=\"\",\"\",IF(B$15<E32+1,\"\",IF(J32=B$16,\"\",lookup!R25)))","v":23},1200,{"$f":"IF(E33=\"\",\"\",lookup!T25)","v":80.646501709675803},27600,1190.9673223524169,{"$f":"IF(E33=\"\",\"\",IF(lookup!U25<0,0,lookup!U25))","v":38790.967322354205}]
[null,null,null,null,{"$f":"IF(J33=\"\",\"\",IF(B$15<E33+1,\"\",IF(J33=B$16,\"\",lookup!R26)))","v":24},1200,{"$f":"IF(E34=\"\",\"\",lookup!T26)","v":83.314515254904592},28800,1274.2818376073214,{"$f":"IF(E34=\"\",\"\",IF(lookup!U26<0,0,lookup!U26))","v":40074.281837609102}]
[null,null,null,null,{"$f":"IF(J34=\"\",\"\",IF(B$15<E34+1,\"\",IF(J34=B$16,\"\",lookup!R27)))","v":25},1200,{"$f":"IF(E35=\"\",\"\",lookup!T27)","v":85.988087161685627},30000,1360.269924769007,{"$f":"IF(E35=\"\",\"\",IF(lookup!U27<0,0,lookup!U27))","v":41360.26992477091}]
[null,null,null,null,{"$f":"IF(J35=\"\",\"\",IF(B$15<E35+1,\"\",IF(J35=B$16,\"\",lookup!R28)))","v":26},1200,{"$f":"IF(E36=\"\",\"\",lookup!T28)","v":88.66722900993939},31200,1448.9371537789464,{"$f":"IF(E36=\"\",\"\",IF(lookup!U28<0,0,lookup!U28))","v":42648.937153781051}]
[null,null,null,null,{"$f":"IF(J36=\"\",\"\",IF(B$15<E36+1,\"\",IF(J36=B$16,\"\",lookup!R29)))","v":27},1200,{"$f":"IF(E37=\"\",\"\",lookup!T29)","v":91.351952403710527},32400,1540.289106182657,{"$f":"IF(E37=\"\",\"\",IF(lookup!U29<0,0,lookup!U29))","v":43940.289106184733}]
[null,null,null,null,{"$f":"IF(J37=\"\",\"\",IF(B$15<E37+1,\"\",IF(J37=B$16,\"\",lookup!R30)))","v":28},1200,{"$f":"IF(E38=\"\",\"\",lookup!T30)","v":94.042268971218192},33600,1634.3313751538751,{"$f":"IF(E38=\"\",\"\",IF(lookup!U30<0,0,lookup!U30))","v":45234.331375156064}]
[null,null,null,null,{"$f":"IF(J38=\"\",\"\",IF(B$15<E38+1,\"\",IF(J38=B$16,\"\",lookup!R31)))","v":29},1200,{"$f":"IF(E39=\"\",\"\",lookup!T31)","v":96.738190364908462},34800,1731.0695655187835,{"$f":"IF(E39=\"\",\"\",IF(lookup!U31<0,0,lookup!U31))","v":46531.069565521073}]
[null,null,null,null,{"$f":"IF(J39=\"\",\"\",IF(B$15<E39+1,\"\",IF(J39=B$16,\"\",lookup!R32)))","v":30},1200,{"$f":"IF(E40=\"\",\"\",lookup!T32)","v":99.439728261502239},36000,1830.5092937802858,{"$f":"IF(E40=\"\",\"\",IF(lookup!U32<0,0,lookup!U32))","v":47830.509293782568}]
[null,null,null,null,{"$f":"IF(J40=\"\",\"\",IF(B$15<E40+1,\"\",IF(J40=B$16,\"\",lookup!R33)))","v":31},1200,{"$f":"IF(E41=\"\",\"\",lookup!T33)","v":102.14689436204702},37200,1932.6561881423329,{"$f":"IF(E41=\"\",\"\",IF(lookup!U33<0,0,lookup!U33))","v":49132.656188144727}]
[null,null,null,null,{"$f":"IF(J41=\"\",\"\",IF(B$15<E41+1,\"\",IF(J41=B$16,\"\",lookup!R34)))","v":32},1200,{"$f":"IF(E42=\"\",\"\",lookup!T34)","v":104.85970039196818},38400,2037.515888534301,{"$f":"IF(E42=\"\",\"\",IF(lookup!U34<0,0,lookup!U34))","v":50437.515888536771}]
[null,null,null,null,{"$f":"IF(J42=\"\",\"\",IF(B$15<E42+1,\"\",IF(J42=B$16,\"\",lookup!R35)))","v":33},1200,{"$f":"IF(E43=\"\",\"\",lookup!T35)","v":107.57815810111828},39600,2145.0940466354191,{"$f":"IF(E43=\"\",\"\",IF(lookup!U35<0,0,lookup!U35))","v":51745.094046637969}]
[null,null,null,null,{"$f":"IF(J43=\"\",\"\",IF(B$15<E43+1,\"\",IF(J43=B$16,\"\",lookup!R36)))","v":34},1200,{"$f":"IF(E44=\"\",\"\",lookup!T36)","v":110.30227926382911},40800,2255.396325899248,{"$f":"IF(E44=\"\",\"\",IF(lookup!U36<0,0,lookup!U36))","v":53055.396325901806}]
[null,null,null,null,{"$f":"IF(J44=\"\",\"\",IF(B$15<E44+1,\"\",IF(J44=B$16,\"\",lookup!R37)))","v":35},1200,{"$f":"IF(E45=\"\",\"\",lookup!T37)","v":113.03207567896209},42000,2368.42840157821,{"$f":"IF(E45=\"\",\"\",IF(lookup!U37<0,0,lookup!U37))","v":54368.428401580983}]
[null,null,null,null,{"$f":"IF(J45=\"\",\"\",IF(B$15<E45+1,\"\",IF(J45=B$16,\"\",lookup!R38)))","v":36},1200,{"$f":"IF(E46=\"\",\"\",lookup!T38)","v":115.76755916996038},43200,2484.1959607481704,{"$f":"IF(E46=\"\",\"\",IF(lookup!U38<0,0,lookup!U38))","v":55684.195960750985}]
[null,null,null,null,{"$f":"IF(J46=\"\",\"\",IF(B$15<E46+1,\"\",IF(J46=B$16,\"\",lookup!R39)))","v":37},1200,{"$f":"IF(E47=\"\",\"\",lookup!T39)","v":118.50874158489789},44400,2602.7047023330683,{"$f":"IF(E47=\"\",\"\",IF(lookup!U39<0,0,lookup!U39))","v":57002.704702335926}]
[null,null,null,null,{"$f":"IF(J47=\"\",\"\",IF(B$15<E47+1,\"\",IF(J47=B$16,\"\",lookup!R40)))","v":38},1200,{"$f":"IF(E48=\"\",\"\",lookup!T40)","v":121.25563479653317},45600,2723.9603371296016,{"$f":"IF(E48=\"\",\"\",IF(lookup!U40<0,0,lookup!U40))","v":58323.96033713255}]
[null,null,null,null,{"$f":"IF(J48=\"\",\"\",IF(B$15<E48+1,\"\",IF(J48=B$16,\"\",lookup!R41)))","v":39},1200,{"$f":"IF(E49=\"\",\"\",lookup!T41)","v":124.00825070235948},46800,2847.968587831961,{"$f":"IF(E49=\"\",\"\",IF(lookup!U41<0,0,lookup!U41))","v":59647.968587835021}]
[null,null,null,null,{"$f":"IF(J49=\"\",\"\",IF(B$15<E49+1,\"\",IF(J49=B$16,\"\",lookup!R42)))","v":40},1200,{"$f":"IF(E50=\"\",\"\",lookup!T42)","v":126.7666012246563},48000,2974.7351890566174,{"$f":"IF(E50=\"\",\"\",IF(lookup!U42<0,0,lookup!U42))","v":60974.735189059691}]
[null,null,null,null,{"$f":"IF(J50=\"\",\"\",IF(B$15<E50+1,\"\",IF(J50=B$16,\"\",lookup!R43)))","v":41},1200,{"$f":"IF(E51=\"\",\"\",lookup!T43)","v":129.53069831054103},49200,3104.2658873671585,{"$f":"IF(E51=\"\",\"\",IF(lookup!U43<0,0,lookup!U43))","v":62304.26588737034}]
[null,null,null,null,{"$f":"IF(J51=\"\",\"\",IF(B$15<E51+1,\"\",IF(J51=B$16,\"\",lookup!R44)))","v":42},1200,{"$f":"IF(E52=\"\",\"\",lookup!T44)","v":132.30055393202153},50400,3236.56644129918,{"$f":"IF(E52=\"\",\"\",IF(lookup!U44<0,0,lookup!U44))","v":63636.566441302457}]
[null,null,null,null,{"$f":"IF(J52=\"\",\"\",IF(B$15<E52+1,\"\",IF(J52=B$16,\"\",lookup!R45)))","v":43},1200,{"$f":"IF(E53=\"\",\"\",lookup!T45)","v":135.07618008604678},51600,3371.6426213852269,{"$f":"IF(E53=\"\",\"\",IF(lookup!U45<0,0,lookup!U45))","v":64971.642621388557}]
[null,null,null,null,{"$f":"IF(J53=\"\",\"\",IF(B$15<E53+1,\"\",IF(J53=B$16,\"\",lookup!R46)))","v":44},1200,{"$f":"IF(E54=\"\",\"\",lookup!T46)","v":137.85758879455949},52800,3509.5002101797863,{"$f":"IF(E54=\"\",\"\",IF(lookup!U46<0,0,lookup!U46))","v":66309.500210183207}]
[null,null,null,null,{"$f":"IF(J54=\"\",\"\",IF(B$15<E54+1,\"\",IF(J54=B$16,\"\",lookup!R47)))","v":45},1200,{"$f":"IF(E55=\"\",\"\",lookup!T47)","v":140.64479210454834},54000,3650.1450022843346,{"$f":"IF(E55=\"\",\"\",IF(lookup!U47<0,0,lookup!U47))","v":67650.145002287856}]
[null,null,null,null,{"$f":"IF(J55=\"\",\"\",IF(B$15<E55+1,\"\",IF(J55=B$16,\"\",lookup!R48)))","v":46},1200,{"$f":"IF(E56=\"\",\"\",lookup!T48)","v":143.43780208809969},55200,3793.5828043724341,{"$f":"IF(E56=\"\",\"\",IF(lookup!U48<0,0,lookup!U48))","v":68993.582804375968}]
[null,null,null,null,{"$f":"IF(J56=\"\",\"\",IF(B$15<E56+1,\"\",IF(J56=B$16,\"\",lookup!R49)))","v":47},1200,{"$f":"IF(E57=\"\",\"\",lookup!T49)","v":146.23663084244993},56400,3939.8194352148839,{"$f":"IF(E57=\"\",\"\",IF(lookup!U49<0,0,lookup!U49))","v":70339.819435218582}]
[null,null,null,null,{"$f":"IF(J57=\"\",\"\",IF(B$15<E57+1,\"\",IF(J57=B$16,\"\",lookup!R50)))","v":48},1200,{"$f":"IF(E58=\"\",\"\",lookup!T50)","v":149.0412904900387},57600,4088.8607257049225,{"$f":"IF(E58=\"\",\"\",IF(lookup!U50<0,0,lookup!U50))","v":71688.860725708771}]
[null,null,null,null,{"$f":"IF(J58=\"\",\"\",IF(B$15<E58+1,\"\",IF(J58=B$16,\"\",lookup!R51)))","v":49},1200,{"$f":"IF(E59=\"\",\"\",lookup!T51)","v":151.85179317855994},58800,4240.7125188834825,{"$f":"IF(E59=\"\",\"\",IF(lookup!U51<0,0,lookup!U51))","v":73040.71251888742}]
[null,null,null,null,{"$f":"IF(J59=\"\",\"\",IF(B$15<E59+1,\"\",IF(J59=B$16,\"\",lookup!R52)))","v":50},1200,{"$f":"IF(E60=\"\",\"\",lookup!T52)","v":154.66815108101545},60000,4395.3806699644983,{"$f":"IF(E60=\"\",\"\",IF(lookup!U52<0,0,lookup!U52))","v":74395.380669968377}]
[null,null,null,null,{"$f":"IF(J60=\"\",\"\",IF(B$15<E60+1,\"\",IF(J60=B$16,\"\",lookup!R53)))","v":51},1200,{"$f":"IF(E61=\"\",\"\",lookup!T53)","v":157.49037639576744},61200,4552.8710463602656,{"$f":"IF(E61=\"\",\"\",IF(lookup!U53<0,0,lookup!U53))","v":75752.871046364206}]
[null,null,null,null,{"$f":"IF(J61=\"\",\"\",IF(B$15<E61+1,\"\",IF(J61=B$16,\"\",lookup!R54)))","v":52},1200,{"$f":"IF(E62=\"\",\"\",lookup!T54)","v":160.31848134659208},62400,4713.1895277068579,{"$f":"IF(E62=\"\",\"\",IF(lookup!U54<0,0,lookup!U54))","v":77113.189527711002}]
[null,null,null,null,{"$f":"IF(J62=\"\",\"\",IF(B$15<E62+1,\"\",IF(J62=B$16,\"\",lookup!R55)))","v":53},1200,{"$f":"IF(E63=\"\",\"\",lookup!T55)","v":163.15247818273124},63600,4876.342005889589,{"$f":"IF(E63=\"\",\"\",IF(lookup!U55<0,0,lookup!U55))","v":78476.342005893806}]
[null,null,null,null,{"$f":"IF(J63=\"\",\"\",IF(B$15<E63+1,\"\",IF(J63=B$16,\"\",lookup!R56)))","v":54},1200,{"$f":"IF(E64=\"\",\"\",lookup!T56)","v":165.99237917894544},64800,5042.3343850685342,{"$f":"IF(E64=\"\",\"\",IF(lookup!U56<0,0,lookup!U56))","v":79842.334385072783}]
[null,null,null,null,{"$f":"IF(J64=\"\",\"\",IF(B$15<E64+1,\"\",IF(J64=B$16,\"\",lookup!R57)))","v":55},1200,{"$f":"IF(E65=\"\",\"\",lookup!T57)","v":168.83819663556829},66000,5211.1725817041024,{"$f":"IF(E65=\"\",\"\",IF(lookup!U57<0,0,lookup!U57))","v":81211.172581708452}]
[null,null,null,null,{"$f":"IF(J65=\"\",\"\",IF(B$15<E65+1,\"\",IF(J65=B$16,\"\",lookup!R58)))","v":56},1200,{"$f":"IF(E66=\"\",\"\",lookup!T58)","v":171.68994287855926},67200,5382.8625245826615,{"$f":"IF(E66=\"\",\"\",IF(lookup!U58<0,0,lookup!U58))","v":82582.862524587006}]
[null,null,null,null,{"$f":"IF(J66=\"\",\"\",IF(B$15<E66+1,\"\",IF(J66=B$16,\"\",lookup!R59)))","v":57},1200,{"$f":"IF(E67=\"\",\"\",lookup!T59)","v":174.54763025955626},68400,5557.4101548422177,{"$f":"IF(E67=\"\",\"\",IF(lookup!U59<0,0,lookup!U59))","v":83957.410154846701}]
[null,null,null,null,{"$f":"IF(J67=\"\",\"\",IF(B$15<E67+1,\"\",IF(J67=B$16,\"\",lookup!R60)))","v":58},1200,{"$f":"IF(E68=\"\",\"\",lookup!T60)","v":177.41127115593062},69600,5734.8214259981487,{"$f":"IF(E68=\"\",\"\",IF(lookup!U60<0,0,lookup!U60))","v":85334.821426002847}]
[null,null,null,null,{"$f":"IF(J68=\"\",\"\",IF(B$15<E68+1,\"\",IF(J68=B$16,\"\",lookup!R61)))","v":59},1200,{"$f":"IF(E69=\"\",\"\",lookup!T61)","v":180.28087797083927},70800,5915.1023039689881,{"$f":"IF(E69=\"\",\"\",IF(lookup!U61<0,0,lookup!U61))","v":86715.10230397369}]
[null,null,null,null,{"$f":"IF(J69=\"\",\"\",IF(B$15<E69+1,\"\",IF(J69=B$16,\"\",lookup!R62)))","v":60},1200,{"$f":"IF(E70=\"\",\"\",lookup!T62)","v":183.15646313327852},72000,6098.2587671022666,{"$f":"IF(E70=\"\",\"\",IF(lookup!U62<0,0,lookup!U62))","v":88098.258767107094}]
[null,null,null,null,{"$f":"IF(J70=\"\",\"\",IF(B$15<E70+1,\"\",IF(J70=B$16,\"\",lookup!R63)))","v":""},"",{"$f":"IF(E71=\"\",\"\",lookup!T63)","v":""},"","",{"$f":"IF(E71=\"\",\"\",IF(lookup!U63<0,0,lookup!U63))","v":""}]
[null,null,null,null,{"$f":"IF(J71=\"\",\"\",IF(B$15<E71+1,\"\",IF(J71=B$16,\"\",lookup!R64)))","v":""},"",{"$f":"IF(E72=\"\",\"\",lookup!T64)","v":""},"","",{"$f":"IF(E72=\"\",\"\",IF(lookup!U64<0,0,lookup!U64))","v":""}]
[null,null,null,null,{"$f":"IF(J72=\"\",\"\",IF(B$15<E72+1,\"\",IF(J72=B$16,\"\",lookup!R65)))","v":""},"",{"$f":"IF(E73=\"\",\"\",lookup!T65)","v":""},"","",{"$f":"IF(E73=\"\",\"\",IF(lookup!U65<0,0,lookup!U65))","v":""}]
[null,null,null,null,{"$f":"IF(J73=\"\",\"\",IF(B$15<E73+1,\"\",IF(J73=B$16,\"\",lookup!R66)))","v":""},"",{"$f":"IF(E74=\"\",\"\",lookup!T66)","v":""},"","",{"$f":"IF(E74=\"\",\"\",IF(lookup!U66<0,0,lookup!U66))","v":""}]
[null,null,null,null,{"$f":"IF(J74=\"\",\"\",IF(B$15<E74+1,\"\",IF(J74=B$16,\"\",lookup!R67)))","v":""},"",{"$f":"IF(E75=\"\",\"\",lookup!T67)","v":""},"","",{"$f":"IF(E75=\"\",\"\",IF(lookup!U67<0,0,lookup!U67))","v":""}]
[null,null,null,null,{"$f":"IF(J75=\"\",\"\",IF(B$15<E75+1,\"\",IF(J75=B$16,\"\",lookup!R68)))","v":""},{"$f":"IF(E76=\"\",\"\",B$14)","v":""},{"$f":"IF(E76=\"\",\"\",lookup!T68)","v":""},{"$f":"IF(E76=\"\",\"\",H75+B$14)","v":""},"",{"$f":"IF(E76=\"\",\"\",IF(lookup!U68<0,0,lookup!U68))","v":""}]
[null,null,null,null,{"$f":"IF(J76=\"\",\"\",IF(B$15<E76+1,\"\",IF(J76=B$16,\"\",lookup!R69)))","v":""},"",{"$f":"IF(E77=\"\",\"\",lookup!T69)","v":""},"","",{"$f":"IF(E77=\"\",\"\",IF(lookup!U69<0,0,lookup!U69))","v":""}]
[null,null,null,null,{"$f":"IF(J77=\"\",\"\",IF(B$15<E77+1,\"\",IF(J77=B$16,\"\",lookup!R70)))","v":""},"",{"$f":"IF(E78=\"\",\"\",lookup!T70)","v":""},"","",{"$f":"IF(E78=\"\",\"\",IF(lookup!U70<0,0,lookup!U70))","v":""}]
[null,null,null,null,{"$f":"IF(J78=\"\",\"\",IF(B$15<E78+1,\"\",IF(J78=B$16,\"\",lookup!R71)))","v":""},"",{"$f":"IF(E79=\"\",\"\",lookup!T71)","v":""},"","",{"$f":"IF(E79=\"\",\"\",IF(lookup!U71<0,0,lookup!U71))","v":""}]
[null,null,null,null,{"$f":"IF(J79=\"\",\"\",IF(B$15<E79+1,\"\",IF(J79=B$16,\"\",lookup!R72)))","v":""},"",{"$f":"IF(E80=\"\",\"\",lookup!T72)","v":""},"","",{"$f":"IF(E80=\"\",\"\",IF(lookup!U72<0,0,lookup!U72))","v":""}]
[null,null,null,null,{"$f":"IF(J80=\"\",\"\",IF(B$15<E80+1,\"\",IF(J80=B$16,\"\",lookup!R73)))","v":""},"",{"$f":"IF(E81=\"\",\"\",lookup!T73)","v":""},"","",{"$f":"IF(E81=\"\",\"\",IF(lookup!U73<0,0,lookup!U73))","v":""}]
[null,null,null,null,{"$f":"IF(J81=\"\",\"\",IF(B$15<E81+1,\"\",IF(J81=B$16,\"\",lookup!R74)))","v":""},"",{"$f":"IF(E82=\"\",\"\",lookup!T74)","v":""},"","",{"$f":"IF(E82=\"\",\"\",IF(lookup!U74<0,0,lookup!U74))","v":""}]
[null,null,null,null,{"$f":"IF(J82=\"\",\"\",IF(B$15<E82+1,\"\",IF(J82=B$16,\"\",lookup!R75)))","v":""},"",{"$f":"IF(E83=\"\",\"\",lookup!T75)","v":""},"","",{"$f":"IF(E83=\"\",\"\",IF(lookup!U75<0,0,lookup!U75))","v":""}]
[null,null,null,null,{"$f":"IF(J83=\"\",\"\",IF(B$15<E83+1,\"\",IF(J83=B$16,\"\",lookup!R76)))","v":""},"",{"$f":"IF(E84=\"\",\"\",lookup!T76)","v":""},"","",{"$f":"IF(E84=\"\",\"\",IF(lookup!U76<0,0,lookup!U76))","v":""}]
[null,null,null,null,{"$f":"IF(J84=\"\",\"\",IF(B$15<E84+1,\"\",IF(J84=B$16,\"\",lookup!R77)))","v":""},"",{"$f":"IF(E85=\"\",\"\",lookup!T77)","v":""},"","",{"$f":"IF(E85=\"\",\"\",IF(lookup!U77<0,0,lookup!U77))","v":""}]
[null,null,null,null,{"$f":"IF(J85=\"\",\"\",IF(B$15<E85+1,\"\",IF(J85=B$16,\"\",lookup!R78)))","v":""},"",{"$f":"IF(E86=\"\",\"\",lookup!T78)","v":""},"","",{"$f":"IF(E86=\"\",\"\",IF(lookup!U78<0,0,lookup!U78))","v":""}]
[null,null,null,null,{"$f":"IF(J86=\"\",\"\",IF(B$15<E86+1,\"\",IF(J86=B$16,\"\",lookup!R79)))","v":""},"",{"$f":"IF(E87=\"\",\"\",lookup!T79)","v":""},"",{"$f":"IF(E87=\"\",\"\",I86+G87)","v":""},{"$f":"IF(E87=\"\",\"\",IF(lookup!U79<0,0,lookup!U79))","v":""}]
[null,null,null,null,{"$f":"IF(J87=\"\",\"\",IF(B$15<E87+1,\"\",IF(J87=B$16,\"\",lookup!R80)))","v":""},"",{"$f":"IF(E88=\"\",\"\",lookup!T80)","v":""},"","",{"$f":"IF(E88=\"\",\"\",IF(lookup!U80<0,0,lookup!U80))","v":""}]
[null,null,null,null,{"$f":"IF(J88=\"\",\"\",IF(B$15<E88+1,\"\",IF(J88=B$16,\"\",lookup!R81)))","v":""},"",{"$f":"IF(E89=\"\",\"\",lookup!T81)","v":""},"","",{"$f":"IF(E89=\"\",\"\",IF(lookup!U81<0,0,lookup!U81))","v":""}]
[null,null,null,null,{"$f":"IF(J89=\"\",\"\",IF(B$15<E89+1,\"\",IF(J89=B$16,\"\",lookup!R82)))","v":""},"",{"$f":"IF(E90=\"\",\"\",lookup!T82)","v":""},"","",{"$f":"IF(E90=\"\",\"\",IF(lookup!U82<0,0,lookup!U82))","v":""}]
[null,null,null,null,{"$f":"IF(J90=\"\",\"\",IF(B$15<E90+1,\"\",IF(J90=B$16,\"\",lookup!R83)))","v":""},"",{"$f":"IF(E91=\"\",\"\",lookup!T83)","v":""},"","",{"$f":"IF(E91=\"\",\"\",IF(lookup!U83<0,0,lookup!U83))","v":""}]
[null,null,null,null,{"$f":"IF(J91=\"\",\"\",IF(B$15<E91+1,\"\",IF(J91=B$16,\"\",lookup!R84)))","v":""},"",{"$f":"IF(E92=\"\",\"\",lookup!T84)","v":""},"","",{"$f":"IF(E92=\"\",\"\",IF(lookup!U84<0,0,lookup!U84))","v":""}]
[null,null,null,null,{"$f":"IF(J92=\"\",\"\",IF(B$15<E92+1,\"\",IF(J92=B$16,\"\",lookup!R85)))","v":""},"",{"$f":"IF(E93=\"\",\"\",lookup!T85)","v":""},"","",{"$f":"IF(E93=\"\",\"\",IF(lookup!U85<0,0,lookup!U85))","v":""}]
[null,null,null,null,{"$f":"IF(J93=\"\",\"\",IF(B$15<E93+1,\"\",IF(J93=B$16,\"\",lookup!R86)))","v":""},"",{"$f":"IF(E94=\"\",\"\",lookup!T86)","v":""},"","",{"$f":"IF(E94=\"\",\"\",IF(lookup!U86<0,0,lookup!U86))","v":""}]
[null,null,null,null,{"$f":"IF(J94=\"\",\"\",IF(B$15<E94+1,\"\",IF(J94=B$16,\"\",lookup!R87)))","v":""},"",{"$f":"IF(E95=\"\",\"\",lookup!T87)","v":""},"","",{"$f":"IF(E95=\"\",\"\",IF(lookup!U87<0,0,lookup!U87))","v":""}]
[null,null,null,null,{"$f":"IF(J95=\"\",\"\",IF(B$15<E95+1,\"\",IF(J95=B$16,\"\",lookup!R88)))","v":""},"",{"$f":"IF(E96=\"\",\"\",lookup!T88)","v":""},"","",{"$f":"IF(E96=\"\",\"\",IF(lookup!U88<0,0,lookup!U88))","v":""}]
[null,null,null,null,{"$f":"IF(J96=\"\",\"\",IF(B$15<E96+1,\"\",IF(J96=B$16,\"\",lookup!R89)))","v":""},"",{"$f":"IF(E97=\"\",\"\",lookup!T89)","v":""},"","",{"$f":"IF(E97=\"\",\"\",IF(lookup!U89<0,0,lookup!U89))","v":""}]
[null,null,null,null,{"$f":"IF(J97=\"\",\"\",IF(B$15<E97+1,\"\",IF(J97=B$16,\"\",lookup!R90)))","v":""},"",{"$f":"IF(E98=\"\",\"\",lookup!T90)","v":""},"","",{"$f":"IF(E98=\"\",\"\",IF(lookup!U90<0,0,lookup!U90))","v":""}]
[null,null,null,null,{"$f":"IF(J98=\"\",\"\",IF(B$15<E98+1,\"\",IF(J98=B$16,\"\",lookup!R91)))","v":""},"",{"$f":"IF(E99=\"\",\"\",lookup!T91)","v":""},"","",{"$f":"IF(E99=\"\",\"\",IF(lookup!U91<0,0,lookup!U91))","v":""}]
[null,null,null,null,{"$f":"IF(J99=\"\",\"\",IF(B$15<E99+1,\"\",IF(J99=B$16,\"\",lookup!R92)))","v":""},"",{"$f":"IF(E100=\"\",\"\",lookup!T92)","v":""},"","",{"$f":"IF(E100=\"\",\"\",IF(lookup!U92<0,0,lookup!U92))","v":""}]
[null,null,null,null,{"$f":"IF(J100=\"\",\"\",IF(B$15<E100+1,\"\",IF(J100=B$16,\"\",lookup!R93)))","v":""},"",{"$f":"IF(E101=\"\",\"\",lookup!T93)","v":""},"","",{"$f":"IF(E101=\"\",\"\",IF(lookup!U93<0,0,lookup!U93))","v":""}]
[null,null,null,null,{"$f":"IF(J101=\"\",\"\",IF(B$15<E101+1,\"\",IF(J101=B$16,\"\",lookup!R94)))","v":""},"",{"$f":"IF(E102=\"\",\"\",lookup!T94)","v":""},"","",{"$f":"IF(E102=\"\",\"\",IF(lookup!U94<0,0,lookup!U94))","v":""}]
[null,null,null,null,{"$f":"IF(J102=\"\",\"\",IF(B$15<E102+1,\"\",IF(J102=B$16,\"\",lookup!R95)))","v":""},"",{"$f":"IF(E103=\"\",\"\",lookup!T95)","v":""},"","",{"$f":"IF(E103=\"\",\"\",IF(lookup!U95<0,0,lookup!U95))","v":""}]
[null,null,null,null,{"$f":"IF(J103=\"\",\"\",IF(B$15<E103+1,\"\",IF(J103=B$16,\"\",lookup!R96)))","v":""},"",{"$f":"IF(E104=\"\",\"\",lookup!T96)","v":""},"","",{"$f":"IF(E104=\"\",\"\",IF(lookup!U96<0,0,lookup!U96))","v":""}]
[null,null,null,null,{"$f":"IF(J104=\"\",\"\",IF(B$15<E104+1,\"\",IF(J104=B$16,\"\",lookup!R97)))","v":""},"",{"$f":"IF(E105=\"\",\"\",lookup!T97)","v":""},"","",{"$f":"IF(E105=\"\",\"\",IF(lookup!U97<0,0,lookup!U97))","v":""}]
[null,null,null,null,{"$f":"IF(J105=\"\",\"\",IF(B$15<E105+1,\"\",IF(J105=B$16,\"\",lookup!R98)))","v":""},"",{"$f":"IF(E106=\"\",\"\",lookup!T98)","v":""},"","",{"$f":"IF(E106=\"\",\"\",IF(lookup!U98<0,0,lookup!U98))","v":""}]
[null,null,null,null,{"$f":"IF(J106=\"\",\"\",IF(B$15<E106+1,\"\",IF(J106=B$16,\"\",lookup!R99)))","v":""},"",{"$f":"IF(E107=\"\",\"\",lookup!T99)","v":""},"","",{"$f":"IF(E107=\"\",\"\",IF(lookup!U99<0,0,lookup!U99))","v":""}]
[null,null,null,null,{"$f":"IF(J107=\"\",\"\",IF(B$15<E107+1,\"\",IF(J107=B$16,\"\",lookup!R100)))","v":""},"",{"$f":"IF(E108=\"\",\"\",lookup!T100)","v":""},"","",{"$f":"IF(E108=\"\",\"\",IF(lookup!U100<0,0,lookup!U100))","v":""}]
[null,null,null,null,{"$f":"IF(J108=\"\",\"\",IF(B$15<E108+1,\"\",IF(J108=B$16,\"\",lookup!R101)))","v":""},"",{"$f":"IF(E109=\"\",\"\",lookup!T101)","v":""},"","",{"$f":"IF(E109=\"\",\"\",IF(lookup!U101<0,0,lookup!U101))","v":""}]
[null,null,null,null,{"$f":"IF(J109=\"\",\"\",IF(B$15<E109+1,\"\",IF(J109=B$16,\"\",lookup!R102)))","v":""},"",{"$f":"IF(E110=\"\",\"\",lookup!T102)","v":""},"","",{"$f":"IF(E110=\"\",\"\",IF(lookup!U102<0,0,lookup!U102))","v":""}]
[null,null,null,null,{"$f":"IF(J110=\"\",\"\",IF(B$15<E110+1,\"\",IF(J110=B$16,\"\",lookup!R103)))","v":""},"",{"$f":"IF(E111=\"\",\"\",lookup!T103)","v":""},"","",{"$f":"IF(E111=\"\",\"\",IF(lookup!U103<0,0,lookup!U103))","v":""}]
[null,null,null,null,{"$f":"IF(J111=\"\",\"\",IF(B$15<E111+1,\"\",IF(J111=B$16,\"\",lookup!R104)))","v":""},"",{"$f":"IF(E112=\"\",\"\",lookup!T104)","v":""},"","",{"$f":"IF(E112=\"\",\"\",IF(lookup!U104<0,0,lookup!U104))","v":""}]
[null,null,null,null,{"$f":"IF(J112=\"\",\"\",IF(B$15<E112+1,\"\",IF(J112=B$16,\"\",lookup!R105)))","v":""},"",{"$f":"IF(E113=\"\",\"\",lookup!T105)","v":""},"","",{"$f":"IF(E113=\"\",\"\",IF(lookup!U105<0,0,lookup!U105))","v":""}]
[null,null,null,null,{"$f":"IF(J113=\"\",\"\",IF(B$15<E113+1,\"\",IF(J113=B$16,\"\",lookup!R106)))","v":""},"",{"$f":"IF(E114=\"\",\"\",lookup!T106)","v":""},"","",{"$f":"IF(E114=\"\",\"\",IF(lookup!U106<0,0,lookup!U106))","v":""}]
[null,null,null,null,{"$f":"IF(J114=\"\",\"\",IF(B$15<E114+1,\"\",IF(J114=B$16,\"\",lookup!R107)))","v":""},"",{"$f":"IF(E115=\"\",\"\",lookup!T107)","v":""},"","",{"$f":"IF(E115=\"\",\"\",IF(lookup!U107<0,0,lookup!U107))","v":""}]
[null,null,null,null,{"$f":"IF(J115=\"\",\"\",IF(B$15<E115+1,\"\",IF(J115=B$16,\"\",lookup!R108)))","v":""},"",{"$f":"IF(E116=\"\",\"\",lookup!T108)","v":""},"","",{"$f":"IF(E116=\"\",\"\",IF(lookup!U108<0,0,lookup!U108))","v":""}]
[null,null,null,null,{"$f":"IF(J116=\"\",\"\",IF(B$15<E116+1,\"\",IF(J116=B$16,\"\",lookup!R109)))","v":""},"",{"$f":"IF(E117=\"\",\"\",lookup!T109)","v":""},"","",{"$f":"IF(E117=\"\",\"\",IF(lookup!U109<0,0,lookup!U109))","v":""}]
[null,null,null,null,{"$f":"IF(J117=\"\",\"\",IF(B$15<E117+1,\"\",IF(J117=B$16,\"\",lookup!R110)))","v":""},"",{"$f":"IF(E118=\"\",\"\",lookup!T110)","v":""},"","",{"$f":"IF(E118=\"\",\"\",IF(lookup!U110<0,0,lookup!U110))","v":""}]
[null,null,null,null,{"$f":"IF(J118=\"\",\"\",IF(B$15<E118+1,\"\",IF(J118=B$16,\"\",lookup!R111)))","v":""},"",{"$f":"IF(E119=\"\",\"\",lookup!T111)","v":""},"","",{"$f":"IF(E119=\"\",\"\",IF(lookup!U111<0,0,lookup!U111))","v":""}]
[null,null,null,null,{"$f":"IF(J119=\"\",\"\",IF(B$15<E119+1,\"\",IF(J119=B$16,\"\",lookup!R112)))","v":""},"",{"$f":"IF(E120=\"\",\"\",lookup!T112)","v":""},"","",{"$f":"IF(E120=\"\",\"\",IF(lookup!U112<0,0,lookup!U112))","v":""}]
[null,null,null,null,{"$f":"IF(J120=\"\",\"\",IF(B$15<E120+1,\"\",IF(J120=B$16,\"\",lookup!R113)))","v":""},"",{"$f":"IF(E121=\"\",\"\",lookup!T113)","v":""},"","",{"$f":"IF(E121=\"\",\"\",IF(lookup!U113<0,0,lookup!U113))","v":""}]
[null,null,null,null,{"$f":"IF(J121=\"\",\"\",IF(B$15<E121+1,\"\",IF(J121=B$16,\"\",lookup!R114)))","v":""},"",{"$f":"IF(E122=\"\",\"\",lookup!T114)","v":""},"","",{"$f":"IF(E122=\"\",\"\",IF(lookup!U114<0,0,lookup!U114))","v":""}]
[null,null,null,null,{"$f":"IF(J122=\"\",\"\",IF(B$15<E122+1,\"\",IF(J122=B$16,\"\",lookup!R115)))","v":""},"",{"$f":"IF(E123=\"\",\"\",lookup!T115)","v":""},"","",{"$f":"IF(E123=\"\",\"\",IF(lookup!U115<0,0,lookup!U115))","v":""}]
[null,null,null,null,{"$f":"IF(J123=\"\",\"\",IF(B$15<E123+1,\"\",IF(J123=B$16,\"\",lookup!R116)))","v":""},"",{"$f":"IF(E124=\"\",\"\",lookup!T116)","v":""},"","",{"$f":"IF(E124=\"\",\"\",IF(lookup!U116<0,0,lookup!U116))","v":""}]
[null,null,null,null,{"$f":"IF(J124=\"\",\"\",IF(B$15<E124+1,\"\",IF(J124=B$16,\"\",lookup!R117)))","v":""},"",{"$f":"IF(E125=\"\",\"\",lookup!T117)","v":""},"","",{"$f":"IF(E125=\"\",\"\",IF(lookup!U117<0,0,lookup!U117))","v":""}]
[null,null,null,null,{"$f":"IF(J125=\"\",\"\",IF(B$15<E125+1,\"\",IF(J125=B$16,\"\",lookup!R118)))","v":""},"",{"$f":"IF(E126=\"\",\"\",lookup!T118)","v":""},"","",{"$f":"IF(E126=\"\",\"\",IF(lookup!U118<0,0,lookup!U118))","v":""}]
[null,null,null,null,{"$f":"IF(J126=\"\",\"\",IF(B$15<E126+1,\"\",IF(J126=B$16,\"\",lookup!R119)))","v":""},"",{"$f":"IF(E127=\"\",\"\",lookup!T119)","v":""},"","",{"$f":"IF(E127=\"\",\"\",IF(lookup!U119<0,0,lookup!U119))","v":""}]
[null,null,null,null,{"$f":"IF(J127=\"\",\"\",IF(B$15<E127+1,\"\",IF(J127=B$16,\"\",lookup!R120)))","v":""},"",{"$f":"IF(E128=\"\",\"\",lookup!T120)","v":""},"","",{"$f":"IF(E128=\"\",\"\",IF(lookup!U120<0,0,lookup!U120))","v":""}]
[null,null,null,null,{"$f":"IF(J128=\"\",\"\",IF(B$15<E128+1,\"\",IF(J128=B$16,\"\",lookup!R121)))","v":""},"",{"$f":"IF(E129=\"\",\"\",lookup!T121)","v":""},"","",{"$f":"IF(E129=\"\",\"\",IF(lookup!U121<0,0,lookup!U121))","v":""}]
[null,null,null,null,{"$f":"IF(J129=\"\",\"\",IF(B$15<E129+1,\"\",IF(J129=B$16,\"\",lookup!R122)))","v":""},"",{"$f":"IF(E130=\"\",\"\",lookup!T122)","v":""},"","",{"$f":"IF(E130=\"\",\"\",IF(lookup!U122<0,0,lookup!U122))","v":""}]
[null,null,null,null,{"$f":"IF(J130=\"\",\"\",IF(B$15<E130+1,\"\",IF(J130=B$16,\"\",lookup!R123)))","v":""},"",{"$f":"IF(E131=\"\",\"\",lookup!T123)","v":""},"","",{"$f":"IF(E131=\"\",\"\",IF(lookup!U123<0,0,lookup!U123))","v":""}]
[null,null,null,null,{"$f":"IF(J131=\"\",\"\",IF(B$15<E131+1,\"\",IF(J131=B$16,\"\",lookup!R124)))","v":""},"",{"$f":"IF(E132=\"\",\"\",lookup!T124)","v":""},"","",{"$f":"IF(E132=\"\",\"\",IF(lookup!U124<0,0,lookup!U124))","v":""}]
[null,null,null,null,{"$f":"IF(J132=\"\",\"\",IF(B$15<E132+1,\"\",IF(J132=B$16,\"\",lookup!R125)))","v":""},"",{"$f":"IF(E133=\"\",\"\",lookup!T125)","v":""},"","",{"$f":"IF(E133=\"\",\"\",IF(lookup!U125<0,0,lookup!U125))","v":""}]
[null,null,null,null,{"$f":"IF(J133=\"\",\"\",IF(B$15<E133+1,\"\",IF(J133=B$16,\"\",lookup!R126)))","v":""},"",{"$f":"IF(E134=\"\",\"\",lookup!T126)","v":""},"","",{"$f":"IF(E134=\"\",\"\",IF(lookup!U126<0,0,lookup!U126))","v":""}]
[null,null,null,null,{"$f":"IF(J134=\"\",\"\",IF(B$15<E134+1,\"\",IF(J134=B$16,\"\",lookup!R127)))","v":""},"",{"$f":"IF(E135=\"\",\"\",lookup!T127)","v":""},"","",{"$f":"IF(E135=\"\",\"\",IF(lookup!U127<0,0,lookup!U127))","v":""}]
[null,null,null,null,{"$f":"IF(J135=\"\",\"\",IF(B$15<E135+1,\"\",IF(J135=B$16,\"\",lookup!R128)))","v":""},"",{"$f":"IF(E136=\"\",\"\",lookup!T128)","v":""},"","",{"$f":"IF(E136=\"\",\"\",IF(lookup!U128<0,0,lookup!U128))","v":""}]
[null,null,null,null,{"$f":"IF(J136=\"\",\"\",IF(B$15<E136+1,\"\",IF(J136=B$16,\"\",lookup!R129)))","v":""},"",{"$f":"IF(E137=\"\",\"\",lookup!T129)","v":""},"","",{"$f":"IF(E137=\"\",\"\",IF(lookup!U129<0,0,lookup!U129))","v":""}]
[null,null,null,null,{"$f":"IF(J137=\"\",\"\",IF(B$15<E137+1,\"\",IF(J137=B$16,\"\",lookup!R130)))","v":""},"",{"$f":"IF(E138=\"\",\"\",lookup!T130)","v":""},"","",{"$f":"IF(E138=\"\",\"\",IF(lookup!U130<0,0,lookup!U130))","v":""}]
[null,null,null,null,{"$f":"IF(J138=\"\",\"\",IF(B$15<E138+1,\"\",IF(J138=B$16,\"\",lookup!R131)))","v":""},"",{"$f":"IF(E139=\"\",\"\",lookup!T131)","v":""},"","",{"$f":"IF(E139=\"\",\"\",IF(lookup!U131<0,0,lookup!U131))","v":""}]
[null,null,null,null,{"$f":"IF(J139=\"\",\"\",IF(B$15<E139+1,\"\",IF(J139=B$16,\"\",lookup!R132)))","v":""},{"$f":"IF(E140=\"\",\"\",B$14)","v":""},{"$f":"IF(E140=\"\",\"\",lookup!T132)","v":""},{"$f":"IF(E140=\"\",\"\",H139+B$14)","v":""},"",{"$f":"IF(E140=\"\",\"\",IF(lookup!U132<0,0,lookup!U132))","v":""}]
[null,null,null,null,{"$f":"IF(J140=\"\",\"\",IF(B$15<E140+1,\"\",IF(J140=B$16,\"\",lookup!R133)))","v":""},"",{"$f":"IF(E141=\"\",\"\",lookup!T133)","v":""},"","",{"$f":"IF(E141=\"\",\"\",IF(lookup!U133<0,0,lookup!U133))","v":""}]
[null,null,null,null,{"$f":"IF(J141=\"\",\"\",IF(B$15<E141+1,\"\",IF(J141=B$16,\"\",lookup!R134)))","v":""},"",{"$f":"IF(E142=\"\",\"\",lookup!T134)","v":""},"","",{"$f":"IF(E142=\"\",\"\",IF(lookup!U134<0,0,lookup!U134))","v":""}]
[null,null,null,null,{"$f":"IF(J142=\"\",\"\",IF(B$15<E142+1,\"\",IF(J142=B$16,\"\",lookup!R135)))","v":""},"",{"$f":"IF(E143=\"\",\"\",lookup!T135)","v":""},"","",{"$f":"IF(E143=\"\",\"\",IF(lookup!U135<0,0,lookup!U135))","v":""}]
[null,null,null,null,{"$f":"IF(J143=\"\",\"\",IF(B$15<E143+1,\"\",IF(J143=B$16,\"\",lookup!R136)))","v":""},"",{"$f":"IF(E144=\"\",\"\",lookup!T136)","v":""},"","",{"$f":"IF(E144=\"\",\"\",IF(lookup!U136<0,0,lookup!U136))","v":""}]
[null,null,null,null,{"$f":"IF(J144=\"\",\"\",IF(B$15<E144+1,\"\",IF(J144=B$16,\"\",lookup!R137)))","v":""},"",{"$f":"IF(E145=\"\",\"\",lookup!T137)","v":""},"","",{"$f":"IF(E145=\"\",\"\",IF(lookup!U137<0,0,lookup!U137))","v":""}]
[null,null,null,null,{"$f":"IF(J145=\"\",\"\",IF(B$15<E145+1,\"\",IF(J145=B$16,\"\",lookup!R138)))","v":""},"",{"$f":"IF(E146=\"\",\"\",lookup!T138)","v":""},"","",{"$f":"IF(E146=\"\",\"\",IF(lookup!U138<0,0,lookup!U138))","v":""}]
[null,null,null,null,{"$f":"IF(J146=\"\",\"\",IF(B$15<E146+1,\"\",IF(J146=B$16,\"\",lookup!R139)))","v":""},"",{"$f":"IF(E147=\"\",\"\",lookup!T139)","v":""},"","",{"$f":"IF(E147=\"\",\"\",IF(lookup!U139<0,0,lookup!U139))","v":""}]
[null,null,null,null,{"$f":"IF(J147=\"\",\"\",IF(B$15<E147+1,\"\",IF(J147=B$16,\"\",lookup!R140)))","v":""},"",{"$f":"IF(E148=\"\",\"\",lookup!T140)","v":""},"","",{"$f":"IF(E148=\"\",\"\",IF(lookup!U140<0,0,lookup!U140))","v":""}]
[null,null,null,null,{"$f":"IF(J148=\"\",\"\",IF(B$15<E148+1,\"\",IF(J148=B$16,\"\",lookup!R141)))","v":""},"",{"$f":"IF(E149=\"\",\"\",lookup!T141)","v":""},"","",{"$f":"IF(E149=\"\",\"\",IF(lookup!U141<0,0,lookup!U141))","v":""}]
[null,null,null,null,{"$f":"IF(J149=\"\",\"\",IF(B$15<E149+1,\"\",IF(J149=B$16,\"\",lookup!R142)))","v":""},"",{"$f":"IF(E150=\"\",\"\",lookup!T142)","v":""},"","",{"$f":"IF(E150=\"\",\"\",IF(lookup!U142<0,0,lookup!U142))","v":""}]
[null,null,null,null,{"$f":"IF(J150=\"\",\"\",IF(B$15<E150+1,\"\",IF(J150=B$16,\"\",lookup!R143)))","v":""},"",{"$f":"IF(E151=\"\",\"\",lookup!T143)","v":""},"",{"$f":"IF(E151=\"\",\"\",I150+G151)","v":""},{"$f":"IF(E151=\"\",\"\",IF(lookup!U143<0,0,lookup!U143))","v":""}]
[null,null,null,null,{"$f":"IF(J151=\"\",\"\",IF(B$15<E151+1,\"\",IF(J151=B$16,\"\",lookup!R144)))","v":""},"",{"$f":"IF(E152=\"\",\"\",lookup!T144)","v":""},"","",{"$f":"IF(E152=\"\",\"\",IF(lookup!U144<0,0,lookup!U144))","v":""}]
[null,null,null,null,{"$f":"IF(J152=\"\",\"\",IF(B$15<E152+1,\"\",IF(J152=B$16,\"\",lookup!R145)))","v":""},"",{"$f":"IF(E153=\"\",\"\",lookup!T145)","v":""},"","",{"$f":"IF(E153=\"\",\"\",IF(lookup!U145<0,0,lookup!U145))","v":""}]
[null,null,null,null,{"$f":"IF(J153=\"\",\"\",IF(B$15<E153+1,\"\",IF(J153=B$16,\"\",lookup!R146)))","v":""},"",{"$f":"IF(E154=\"\",\"\",lookup!T146)","v":""},"","",{"$f":"IF(E154=\"\",\"\",IF(lookup!U146<0,0,lookup!U146))","v":""}]
[null,null,null,null,{"$f":"IF(J154=\"\",\"\",IF(B$15<E154+1,\"\",IF(J154=B$16,\"\",lookup!R147)))","v":""},"",{"$f":"IF(E155=\"\",\"\",lookup!T147)","v":""},"","",{"$f":"IF(E155=\"\",\"\",IF(lookup!U147<0,0,lookup!U147))","v":""}]
[null,null,null,null,{"$f":"IF(J155=\"\",\"\",IF(B$15<E155+1,\"\",IF(J155=B$16,\"\",lookup!R148)))","v":""},"",{"$f":"IF(E156=\"\",\"\",lookup!T148)","v":""},"","",{"$f":"IF(E156=\"\",\"\",IF(lookup!U148<0,0,lookup!U148))","v":""}]
[null,null,null,null,{"$f":"IF(J156=\"\",\"\",IF(B$15<E156+1,\"\",IF(J156=B$16,\"\",lookup!R149)))","v":""},"",{"$f":"IF(E157=\"\",\"\",lookup!T149)","v":""},"","",{"$f":"IF(E157=\"\",\"\",IF(lookup!U149<0,0,lookup!U149))","v":""}]
[null,null,null,null,{"$f":"IF(J157=\"\",\"\",IF(B$15<E157+1,\"\",IF(J157=B$16,\"\",lookup!R150)))","v":""},"",{"$f":"IF(E158=\"\",\"\",lookup!T150)","v":""},"","",{"$f":"IF(E158=\"\",\"\",IF(lookup!U150<0,0,lookup!U150))","v":""}]
[null,null,null,null,{"$f":"IF(J158=\"\",\"\",IF(B$15<E158+1,\"\",IF(J158=B$16,\"\",lookup!R151)))","v":""},"",{"$f":"IF(E159=\"\",\"\",lookup!T151)","v":""},"","",{"$f":"IF(E159=\"\",\"\",IF(lookup!U151<0,0,lookup!U151))","v":""}]
[null,null,null,null,{"$f":"IF(J159=\"\",\"\",IF(B$15<E159+1,\"\",IF(J159=B$16,\"\",lookup!R152)))","v":""},"",{"$f":"IF(E160=\"\",\"\",lookup!T152)","v":""},"","",{"$f":"IF(E160=\"\",\"\",IF(lookup!U152<0,0,lookup!U152))","v":""}]
[null,null,null,null,{"$f":"IF(J160=\"\",\"\",IF(B$15<E160+1,\"\",IF(J160=B$16,\"\",lookup!R153)))","v":""},"",{"$f":"IF(E161=\"\",\"\",lookup!T153)","v":""},"","",{"$f":"IF(E161=\"\",\"\",IF(lookup!U153<0,0,lookup!U153))","v":""}]
[null,null,null,null,{"$f":"IF(J161=\"\",\"\",IF(B$15<E161+1,\"\",IF(J161=B$16,\"\",lookup!R154)))","v":""},"",{"$f":"IF(E162=\"\",\"\",lookup!T154)","v":""},"","",{"$f":"IF(E162=\"\",\"\",IF(lookup!U154<0,0,lookup!U154))","v":""}]
[null,null,null,null,{"$f":"IF(J162=\"\",\"\",IF(B$15<E162+1,\"\",IF(J162=B$16,\"\",lookup!R155)))","v":""},"",{"$f":"IF(E163=\"\",\"\",lookup!T155)","v":""},"","",{"$f":"IF(E163=\"\",\"\",IF(lookup!U155<0,0,lookup!U155))","v":""}]
[null,null,null,null,{"$f":"IF(J163=\"\",\"\",IF(B$15<E163+1,\"\",IF(J163=B$16,\"\",lookup!R156)))","v":""},"",{"$f":"IF(E164=\"\",\"\",lookup!T156)","v":""},"","",{"$f":"IF(E164=\"\",\"\",IF(lookup!U156<0,0,lookup!U156))","v":""}]
[null,null,null,null,{"$f":"IF(J164=\"\",\"\",IF(B$15<E164+1,\"\",IF(J164=B$16,\"\",lookup!R157)))","v":""},"",{"$f":"IF(E165=\"\",\"\",lookup!T157)","v":""},"","",{"$f":"IF(E165=\"\",\"\",IF(lookup!U157<0,0,lookup!U157))","v":""}]
[null,null,null,null,{"$f":"IF(J165=\"\",\"\",IF(B$15<E165+1,\"\",IF(J165=B$16,\"\",lookup!R158)))","v":""},"",{"$f":"IF(E166=\"\",\"\",lookup!T158)","v":""},"","",{"$f":"IF(E166=\"\",\"\",IF(lookup!U158<0,0,lookup!U158))","v":""}]
[null,null,null,null,{"$f":"IF(J166=\"\",\"\",IF(B$15<E166+1,\"\",IF(J166=B$16,\"\",lookup!R159)))","v":""},"",{"$f":"IF(E167=\"\",\"\",lookup!T159)","v":""},"","",{"$f":"IF(E167=\"\",\"\",IF(lookup!U159<0,0,lookup!U159))","v":""}]
[null,null,null,null,{"$f":"IF(J167=\"\",\"\",IF(B$15<E167+1,\"\",IF(J167=B$16,\"\",lookup!R160)))","v":""},"",{"$f":"IF(E168=\"\",\"\",lookup!T160)","v":""},"","",{"$f":"IF(E168=\"\",\"\",IF(lookup!U160<0,0,lookup!U160))","v":""}]
[null,null,null,null,{"$f":"IF(J168=\"\",\"\",IF(B$15<E168+1,\"\",IF(J168=B$16,\"\",lookup!R161)))","v":""},"",{"$f":"IF(E169=\"\",\"\",lookup!T161)","v":""},"","",{"$f":"IF(E169=\"\",\"\",IF(lookup!U161<0,0,lookup!U161))","v":""}]
[null,null,null,null,{"$f":"IF(J169=\"\",\"\",IF(B$15<E169+1,\"\",IF(J169=B$16,\"\",lookup!R162)))","v":""},"",{"$f":"IF(E170=\"\",\"\",lookup!T162)","v":""},"","",{"$f":"IF(E170=\"\",\"\",IF(lookup!U162<0,0,lookup!U162))","v":""}]
[null,null,null,null,{"$f":"IF(J170=\"\",\"\",IF(B$15<E170+1,\"\",IF(J170=B$16,\"\",lookup!R163)))","v":""},"",{"$f":"IF(E171=\"\",\"\",lookup!T163)","v":""},"","",{"$f":"IF(E171=\"\",\"\",IF(lookup!U163<0,0,lookup!U163))","v":""}]
[null,null,null,null,{"$f":"IF(J171=\"\",\"\",IF(B$15<E171+1,\"\",IF(J171=B$16,\"\",lookup!R164)))","v":""},"",{"$f":"IF(E172=\"\",\"\",lookup!T164)","v":""},"","",{"$f":"IF(E172=\"\",\"\",IF(lookup!U164<0,0,lookup!U164))","v":""}]
[null,null,null,null,{"$f":"IF(J172=\"\",\"\",IF(B$15<E172+1,\"\",IF(J172=B$16,\"\",lookup!R165)))","v":""},"",{"$f":"IF(E173=\"\",\"\",lookup!T165)","v":""},"","",{"$f":"IF(E173=\"\",\"\",IF(lookup!U165<0,0,lookup!U165))","v":""}]
[null,null,null,null,{"$f":"IF(J173=\"\",\"\",IF(B$15<E173+1,\"\",IF(J173=B$16,\"\",lookup!R166)))","v":""},"",{"$f":"IF(E174=\"\",\"\",lookup!T166)","v":""},"","",{"$f":"IF(E174=\"\",\"\",IF(lookup!U166<0,0,lookup!U166))","v":""}]
[null,null,null,null,{"$f":"IF(J174=\"\",\"\",IF(B$15<E174+1,\"\",IF(J174=B$16,\"\",lookup!R167)))","v":""},"",{"$f":"IF(E175=\"\",\"\",lookup!T167)","v":""},"","",{"$f":"IF(E175=\"\",\"\",IF(lookup!U167<0,0,lookup!U167))","v":""}]
[null,null,null,null,{"$f":"IF(J175=\"\",\"\",IF(B$15<E175+1,\"\",IF(J175=B$16,\"\",lookup!R168)))","v":""},"",{"$f":"IF(E176=\"\",\"\",lookup!T168)","v":""},"","",{"$f":"IF(E176=\"\",\"\",IF(lookup!U168<0,0,lookup!U168))","v":""}]
[null,null,null,null,{"$f":"IF(J176=\"\",\"\",IF(B$15<E176+1,\"\",IF(J176=B$16,\"\",lookup!R169)))","v":""},"",{"$f":"IF(E177=\"\",\"\",lookup!T169)","v":""},"","",{"$f":"IF(E177=\"\",\"\",IF(lookup!U169<0,0,lookup!U169))","v":""}]
[null,null,null,null,{"$f":"IF(J177=\"\",\"\",IF(B$15<E177+1,\"\",IF(J177=B$16,\"\",lookup!R170)))","v":""},"",{"$f":"IF(E178=\"\",\"\",lookup!T170)","v":""},"","",{"$f":"IF(E178=\"\",\"\",IF(lookup!U170<0,0,lookup!U170))","v":""}]
[null,null,null,null,{"$f":"IF(J178=\"\",\"\",IF(B$15<E178+1,\"\",IF(J178=B$16,\"\",lookup!R171)))","v":""},"",{"$f":"IF(E179=\"\",\"\",lookup!T171)","v":""},"","",{"$f":"IF(E179=\"\",\"\",IF(lookup!U171<0,0,lookup!U171))","v":""}]
[null,null,null,null,{"$f":"IF(J179=\"\",\"\",IF(B$15<E179+1,\"\",IF(J179=B$16,\"\",lookup!R172)))","v":""},"",{"$f":"IF(E180=\"\",\"\",lookup!T172)","v":""},"","",{"$f":"IF(E180=\"\",\"\",IF(lookup!U172<0,0,lookup!U172))","v":""}]
[null,null,null,null,{"$f":"IF(J180=\"\",\"\",IF(B$15<E180+1,\"\",IF(J180=B$16,\"\",lookup!R173)))","v":""},"",{"$f":"IF(E181=\"\",\"\",lookup!T173)","v":""},"","",{"$f":"IF(E181=\"\",\"\",IF(lookup!U173<0,0,lookup!U173))","v":""}]
[null,null,null,null,{"$f":"IF(J181=\"\",\"\",IF(B$15<E181+1,\"\",IF(J181=B$16,\"\",lookup!R174)))","v":""},"",{"$f":"IF(E182=\"\",\"\",lookup!T174)","v":""},"","",{"$f":"IF(E182=\"\",\"\",IF(lookup!U174<0,0,lookup!U174))","v":""}]
[null,null,null,null,{"$f":"IF(J182=\"\",\"\",IF(B$15<E182+1,\"\",IF(J182=B$16,\"\",lookup!R175)))","v":""},"",{"$f":"IF(E183=\"\",\"\",lookup!T175)","v":""},"","",{"$f":"IF(E183=\"\",\"\",IF(lookup!U175<0,0,lookup!U175))","v":""}]
[null,null,null,null,{"$f":"IF(J183=\"\",\"\",IF(B$15<E183+1,\"\",IF(J183=B$16,\"\",lookup!R176)))","v":""},"",{"$f":"IF(E184=\"\",\"\",lookup!T176)","v":""},"","",{"$f":"IF(E184=\"\",\"\",IF(lookup!U176<0,0,lookup!U176))","v":""}]
[null,null,null,null,{"$f":"IF(J184=\"\",\"\",IF(B$15<E184+1,\"\",IF(J184=B$16,\"\",lookup!R177)))","v":""},"",{"$f":"IF(E185=\"\",\"\",lookup!T177)","v":""},"","",{"$f":"IF(E185=\"\",\"\",IF(lookup!U177<0,0,lookup!U177))","v":""}]
[null,null,null,null,{"$f":"IF(J185=\"\",\"\",IF(B$15<E185+1,\"\",IF(J185=B$16,\"\",lookup!R178)))","v":""},"",{"$f":"IF(E186=\"\",\"\",lookup!T178)","v":""},"","",{"$f":"IF(E186=\"\",\"\",IF(lookup!U178<0,0,lookup!U178))","v":""}]
[null,null,null,null,{"$f":"IF(J186=\"\",\"\",IF(B$15<E186+1,\"\",IF(J186=B$16,\"\",lookup!R179)))","v":""},"",{"$f":"IF(E187=\"\",\"\",lookup!T179)","v":""},"","",{"$f":"IF(E187=\"\",\"\",IF(lookup!U179<0,0,lookup!U179))","v":""}]
[null,null,null,null,{"$f":"IF(J187=\"\",\"\",IF(B$15<E187+1,\"\",IF(J187=B$16,\"\",lookup!R180)))","v":""},"",{"$f":"IF(E188=\"\",\"\",lookup!T180)","v":""},"","",{"$f":"IF(E188=\"\",\"\",IF(lookup!U180<0,0,lookup!U180))","v":""}]
[null,null,null,null,{"$f":"IF(J188=\"\",\"\",IF(B$15<E188+1,\"\",IF(J188=B$16,\"\",lookup!R181)))","v":""},"",{"$f":"IF(E189=\"\",\"\",lookup!T181)","v":""},"","",{"$f":"IF(E189=\"\",\"\",IF(lookup!U181<0,0,lookup!U181))","v":""}]
[null,null,null,null,{"$f":"IF(J189=\"\",\"\",IF(B$15<E189+1,\"\",IF(J189=B$16,\"\",lookup!R182)))","v":""},"",{"$f":"IF(E190=\"\",\"\",lookup!T182)","v":""},"","",{"$f":"IF(E190=\"\",\"\",IF(lookup!U182<0,0,lookup!U182))","v":""}]
[null,null,null,null,{"$f":"IF(J190=\"\",\"\",IF(B$15<E190+1,\"\",IF(J190=B$16,\"\",lookup!R183)))","v":""},"",{"$f":"IF(E191=\"\",\"\",lookup!T183)","v":""},"","",{"$f":"IF(E191=\"\",\"\",IF(lookup!U183<0,0,lookup!U183))","v":""}]
[null,null,null,null,{"$f":"IF(J191=\"\",\"\",IF(B$15<E191+1,\"\",IF(J191=B$16,\"\",lookup!R184)))","v":""},"",{"$f":"IF(E192=\"\",\"\",lookup!T184)","v":""},"","",{"$f":"IF(E192=\"\",\"\",IF(lookup!U184<0,0,lookup!U184))","v":""}]
[null,null,null,null,{"$f":"IF(J192=\"\",\"\",IF(B$15<E192+1,\"\",IF(J192=B$16,\"\",lookup!R185)))","v":""},"",{"$f":"IF(E193=\"\",\"\",lookup!T185)","v":""},"","",{"$f":"IF(E193=\"\",\"\",IF(lookup!U185<0,0,lookup!U185))","v":""}]
[null,null,null,null,{"$f":"IF(J193=\"\",\"\",IF(B$15<E193+1,\"\",IF(J193=B$16,\"\",lookup!R186)))","v":""},"",{"$f":"IF(E194=\"\",\"\",lookup!T186)","v":""},"","",{"$f":"IF(E194=\"\",\"\",IF(lookup!U186<0,0,lookup!U186))","v":""}]
[null,null,null,null,{"$f":"IF(J194=\"\",\"\",IF(B$15<E194+1,\"\",IF(J194=B$16,\"\",lookup!R187)))","v":""},"",{"$f":"IF(E195=\"\",\"\",lookup!T187)","v":""},"","",{"$f":"IF(E195=\"\",\"\",IF(lookup!U187<0,0,lookup!U187))","v":""}]
[null,null,null,null,{"$f":"IF(J195=\"\",\"\",IF(B$15<E195+1,\"\",IF(J195=B$16,\"\",lookup!R188)))","v":""},"",{"$f":"IF(E196=\"\",\"\",lookup!T188)","v":""},"","",{"$f":"IF(E196=\"\",\"\",IF(lookup!U188<0,0,lookup!U188))","v":""}]
[null,null,null,null,{"$f":"IF(J196=\"\",\"\",IF(B$15<E196+1,\"\",IF(J196=B$16,\"\",lookup!R189)))","v":""},"",{"$f":"IF(E197=\"\",\"\",lookup!T189)","v":""},"","",{"$f":"IF(E197=\"\",\"\",IF(lookup!U189<0,0,lookup!U189))","v":""}]
[null,null,null,null,{"$f":"IF(J197=\"\",\"\",IF(B$15<E197+1,\"\",IF(J197=B$16,\"\",lookup!R190)))","v":""},"",{"$f":"IF(E198=\"\",\"\",lookup!T190)","v":""},"","",{"$f":"IF(E198=\"\",\"\",IF(lookup!U190<0,0,lookup!U190))","v":""}]
[null,null,null,null,{"$f":"IF(J198=\"\",\"\",IF(B$15<E198+1,\"\",IF(J198=B$16,\"\",lookup!R191)))","v":""},"",{"$f":"IF(E199=\"\",\"\",lookup!T191)","v":""},"","",{"$f":"IF(E199=\"\",\"\",IF(lookup!U191<0,0,lookup!U191))","v":""}]
[null,null,null,null,{"$f":"IF(J199=\"\",\"\",IF(B$15<E199+1,\"\",IF(J199=B$16,\"\",lookup!R192)))","v":""},"",{"$f":"IF(E200=\"\",\"\",lookup!T192)","v":""},"","",{"$f":"IF(E200=\"\",\"\",IF(lookup!U192<0,0,lookup!U192))","v":""}]
[null,null,null,null,{"$f":"IF(J200=\"\",\"\",IF(B$15<E200+1,\"\",IF(J200=B$16,\"\",lookup!R193)))","v":""},"",{"$f":"IF(E201=\"\",\"\",lookup!T193)","v":""},"","",{"$f":"IF(E201=\"\",\"\",IF(lookup!U193<0,0,lookup!U193))","v":""}]
[null,null,null,null,{"$f":"IF(J201=\"\",\"\",IF(B$15<E201+1,\"\",IF(J201=B$16,\"\",lookup!R194)))","v":""},"",{"$f":"IF(E202=\"\",\"\",lookup!T194)","v":""},"","",{"$f":"IF(E202=\"\",\"\",IF(lookup!U194<0,0,lookup!U194))","v":""}]
[null,null,null,null,{"$f":"IF(J202=\"\",\"\",IF(B$15<E202+1,\"\",IF(J202=B$16,\"\",lookup!R195)))","v":""},"",{"$f":"IF(E203=\"\",\"\",lookup!T195)","v":""},"","",{"$f":"IF(E203=\"\",\"\",IF(lookup!U195<0,0,lookup!U195))","v":""}]
[null,null,null,null,{"$f":"IF(J203=\"\",\"\",IF(B$15<E203+1,\"\",IF(J203=B$16,\"\",lookup!R196)))","v":""},{"$f":"IF(E204=\"\",\"\",B$14)","v":""},{"$f":"IF(E204=\"\",\"\",lookup!T196)","v":""},{"$f":"IF(E204=\"\",\"\",H203+B$14)","v":""},"",{"$f":"IF(E204=\"\",\"\",IF(lookup!U196<0,0,lookup!U196))","v":""}]
[null,null,null,null,{"$f":"IF(J204=\"\",\"\",IF(B$15<E204+1,\"\",IF(J204=B$16,\"\",lookup!R197)))","v":""},"",{"$f":"IF(E205=\"\",\"\",lookup!T197)","v":""},"","",{"$f":"IF(E205=\"\",\"\",IF(lookup!U197<0,0,lookup!U197))","v":""}]
[null,null,null,null,{"$f":"IF(J205=\"\",\"\",IF(B$15<E205+1,\"\",IF(J205=B$16,\"\",lookup!R198)))","v":""},"",{"$f":"IF(E206=\"\",\"\",lookup!T198)","v":""},"","",{"$f":"IF(E206=\"\",\"\",IF(lookup!U198<0,0,lookup!U198))","v":""}]
[null,null,null,null,{"$f":"IF(J206=\"\",\"\",IF(B$15<E206+1,\"\",IF(J206=B$16,\"\",lookup!R199)))","v":""},"",{"$f":"IF(E207=\"\",\"\",lookup!T199)","v":""},"","",{"$f":"IF(E207=\"\",\"\",IF(lookup!U199<0,0,lookup!U199))","v":""}]
[null,null,null,null,{"$f":"IF(J207=\"\",\"\",IF(B$15<E207+1,\"\",IF(J207=B$16,\"\",lookup!R200)))","v":""},"",{"$f":"IF(E208=\"\",\"\",lookup!T200)","v":""},"","",{"$f":"IF(E208=\"\",\"\",IF(lookup!U200<0,0,lookup!U200))","v":""}]
[null,null,null,null,{"$f":"IF(J208=\"\",\"\",IF(B$15<E208+1,\"\",IF(J208=B$16,\"\",lookup!R201)))","v":""},"",{"$f":"IF(E209=\"\",\"\",lookup!T201)","v":""},"","",{"$f":"IF(E209=\"\",\"\",IF(lookup!U201<0,0,lookup!U201))","v":""}]
[null,null,null,null,{"$f":"IF(J209=\"\",\"\",IF(B$15<E209+1,\"\",IF(J209=B$16,\"\",lookup!R202)))","v":""},"",{"$f":"IF(E210=\"\",\"\",lookup!T202)","v":""},"","",{"$f":"IF(E210=\"\",\"\",IF(lookup!U202<0,0,lookup!U202))","v":""}]
[null,null,null,null,{"$f":"IF(J210=\"\",\"\",IF(B$15<E210+1,\"\",IF(J210=B$16,\"\",lookup!R203)))","v":""},"",{"$f":"IF(E211=\"\",\"\",lookup!T203)","v":""},"","",{"$f":"IF(E211=\"\",\"\",IF(lookup!U203<0,0,lookup!U203))","v":""}]
[null,null,null,null,{"$f":"IF(J211=\"\",\"\",IF(B$15<E211+1,\"\",IF(J211=B$16,\"\",lookup!R204)))","v":""},"",{"$f":"IF(E212=\"\",\"\",lookup!T204)","v":""},"","",{"$f":"IF(E212=\"\",\"\",IF(lookup!U204<0,0,lookup!U204))","v":""}]
[null,null,null,null,{"$f":"IF(J212=\"\",\"\",IF(B$15<E212+1,\"\",IF(J212=B$16,\"\",lookup!R205)))","v":""},"",{"$f":"IF(E213=\"\",\"\",lookup!T205)","v":""},"","",{"$f":"IF(E213=\"\",\"\",IF(lookup!U205<0,0,lookup!U205))","v":""}]
[null,null,null,null,{"$f":"IF(J213=\"\",\"\",IF(B$15<E213+1,\"\",IF(J213=B$16,\"\",lookup!R206)))","v":""},"",{"$f":"IF(E214=\"\",\"\",lookup!T206)","v":""},"","",{"$f":"IF(E214=\"\",\"\",IF(lookup!U206<0,0,lookup!U206))","v":""}]
[null,null,null,null,{"$f":"IF(J214=\"\",\"\",IF(B$15<E214+1,\"\",IF(J214=B$16,\"\",lookup!R207)))","v":""},"",{"$f":"IF(E215=\"\",\"\",lookup!T207)","v":""},"",{"$f":"IF(E215=\"\",\"\",I214+G215)","v":""},{"$f":"IF(E215=\"\",\"\",IF(lookup!U207<0,0,lookup!U207))","v":""}]
[null,null,null,null,{"$f":"IF(J215=\"\",\"\",IF(B$15<E215+1,\"\",IF(J215=B$16,\"\",lookup!R208)))","v":""},"",{"$f":"IF(E216=\"\",\"\",lookup!T208)","v":""},"","",{"$f":"IF(E216=\"\",\"\",IF(lookup!U208<0,0,lookup!U208))","v":""}]
[null,null,null,null,{"$f":"IF(J216=\"\",\"\",IF(B$15<E216+1,\"\",IF(J216=B$16,\"\",lookup!R209)))","v":""},"",{"$f":"IF(E217=\"\",\"\",lookup!T209)","v":""},"","",{"$f":"IF(E217=\"\",\"\",IF(lookup!U209<0,0,lookup!U209))","v":""}]
[null,null,null,null,{"$f":"IF(J217=\"\",\"\",IF(B$15<E217+1,\"\",IF(J217=B$16,\"\",lookup!R210)))","v":""},"",{"$f":"IF(E218=\"\",\"\",lookup!T210)","v":""},"","",{"$f":"IF(E218=\"\",\"\",IF(lookup!U210<0,0,lookup!U210))","v":""}]
[null,null,null,null,{"$f":"IF(J218=\"\",\"\",IF(B$15<E218+1,\"\",IF(J218=B$16,\"\",lookup!R211)))","v":""},"",{"$f":"IF(E219=\"\",\"\",lookup!T211)","v":""},"","",{"$f":"IF(E219=\"\",\"\",IF(lookup!U211<0,0,lookup!U211))","v":""}]
[null,null,null,null,{"$f":"IF(J219=\"\",\"\",IF(B$15<E219+1,\"\",IF(J219=B$16,\"\",lookup!R212)))","v":""},"",{"$f":"IF(E220=\"\",\"\",lookup!T212)","v":""},"","",{"$f":"IF(E220=\"\",\"\",IF(lookup!U212<0,0,lookup!U212))","v":""}]
[null,null,null,null,{"$f":"IF(J220=\"\",\"\",IF(B$15<E220+1,\"\",IF(J220=B$16,\"\",lookup!R213)))","v":""},"",{"$f":"IF(E221=\"\",\"\",lookup!T213)","v":""},"","",{"$f":"IF(E221=\"\",\"\",IF(lookup!U213<0,0,lookup!U213))","v":""}]
[null,null,null,null,{"$f":"IF(J221=\"\",\"\",IF(B$15<E221+1,\"\",IF(J221=B$16,\"\",lookup!R214)))","v":""},"",{"$f":"IF(E222=\"\",\"\",lookup!T214)","v":""},"","",{"$f":"IF(E222=\"\",\"\",IF(lookup!U214<0,0,lookup!U214))","v":""}]
[null,null,null,null,{"$f":"IF(J222=\"\",\"\",IF(B$15<E222+1,\"\",IF(J222=B$16,\"\",lookup!R215)))","v":""},"",{"$f":"IF(E223=\"\",\"\",lookup!T215)","v":""},"","",{"$f":"IF(E223=\"\",\"\",IF(lookup!U215<0,0,lookup!U215))","v":""}]
[null,null,null,null,{"$f":"IF(J223=\"\",\"\",IF(B$15<E223+1,\"\",IF(J223=B$16,\"\",lookup!R216)))","v":""},"",{"$f":"IF(E224=\"\",\"\",lookup!T216)","v":""},"","",{"$f":"IF(E224=\"\",\"\",IF(lookup!U216<0,0,lookup!U216))","v":""}]
[null,null,null,null,{"$f":"IF(J224=\"\",\"\",IF(B$15<E224+1,\"\",IF(J224=B$16,\"\",lookup!R217)))","v":""},"",{"$f":"IF(E225=\"\",\"\",lookup!T217)","v":""},"","",{"$f":"IF(E225=\"\",\"\",IF(lookup!U217<0,0,lookup!U217))","v":""}]
[null,null,null,null,{"$f":"IF(J225=\"\",\"\",IF(B$15<E225+1,\"\",IF(J225=B$16,\"\",lookup!R218)))","v":""},"",{"$f":"IF(E226=\"\",\"\",lookup!T218)","v":""},"","",{"$f":"IF(E226=\"\",\"\",IF(lookup!U218<0,0,lookup!U218))","v":""}]
[null,null,null,null,{"$f":"IF(J226=\"\",\"\",IF(B$15<E226+1,\"\",IF(J226=B$16,\"\",lookup!R219)))","v":""},"",{"$f":"IF(E227=\"\",\"\",lookup!T219)","v":""},"","",{"$f":"IF(E227=\"\",\"\",IF(lookup!U219<0,0,lookup!U219))","v":""}]
[null,null,null,null,{"$f":"IF(J227=\"\",\"\",IF(B$15<E227+1,\"\",IF(J227=B$16,\"\",lookup!R220)))","v":""},"",{"$f":"IF(E228=\"\",\"\",lookup!T220)","v":""},"","",{"$f":"IF(E228=\"\",\"\",IF(lookup!U220<0,0,lookup!U220))","v":""}]
[null,null,null,null,{"$f":"IF(J228=\"\",\"\",IF(B$15<E228+1,\"\",IF(J228=B$16,\"\",lookup!R221)))","v":""},"",{"$f":"IF(E229=\"\",\"\",lookup!T221)","v":""},"","",{"$f":"IF(E229=\"\",\"\",IF(lookup!U221<0,0,lookup!U221))","v":""}]
[null,null,null,null,{"$f":"IF(J229=\"\",\"\",IF(B$15<E229+1,\"\",IF(J229=B$16,\"\",lookup!R222)))","v":""},"",{"$f":"IF(E230=\"\",\"\",lookup!T222)","v":""},"","",{"$f":"IF(E230=\"\",\"\",IF(lookup!U222<0,0,lookup!U222))","v":""}]
[null,null,null,null,{"$f":"IF(J230=\"\",\"\",IF(B$15<E230+1,\"\",IF(J230=B$16,\"\",lookup!R223)))","v":""},"",{"$f":"IF(E231=\"\",\"\",lookup!T223)","v":""},"","",{"$f":"IF(E231=\"\",\"\",IF(lookup!U223<0,0,lookup!U223))","v":""}]
[null,null,null,null,{"$f":"IF(J231=\"\",\"\",IF(B$15<E231+1,\"\",IF(J231=B$16,\"\",lookup!R224)))","v":""},"",{"$f":"IF(E232=\"\",\"\",lookup!T224)","v":""},"","",{"$f":"IF(E232=\"\",\"\",IF(lookup!U224<0,0,lookup!U224))","v":""}]
[null,null,null,null,{"$f":"IF(J232=\"\",\"\",IF(B$15<E232+1,\"\",IF(J232=B$16,\"\",lookup!R225)))","v":""},"",{"$f":"IF(E233=\"\",\"\",lookup!T225)","v":""},"","",{"$f":"IF(E233=\"\",\"\",IF(lookup!U225<0,0,lookup!U225))","v":""}]
[null,null,null,null,{"$f":"IF(J233=\"\",\"\",IF(B$15<E233+1,\"\",IF(J233=B$16,\"\",lookup!R226)))","v":""},"",{"$f":"IF(E234=\"\",\"\",lookup!T226)","v":""},"","",{"$f":"IF(E234=\"\",\"\",IF(lookup!U226<0,0,lookup!U226))","v":""}]
[null,null,null,null,{"$f":"IF(J234=\"\",\"\",IF(B$15<E234+1,\"\",IF(J234=B$16,\"\",lookup!R227)))","v":""},"",{"$f":"IF(E235=\"\",\"\",lookup!T227)","v":""},"","",{"$f":"IF(E235=\"\",\"\",IF(lookup!U227<0,0,lookup!U227))","v":""}]
[null,null,null,null,{"$f":"IF(J235=\"\",\"\",IF(B$15<E235+1,\"\",IF(J235=B$16,\"\",lookup!R228)))","v":""},"",{"$f":"IF(E236=\"\",\"\",lookup!T228)","v":""},"","",{"$f":"IF(E236=\"\",\"\",IF(lookup!U228<0,0,lookup!U228))","v":""}]
[null,null,null,null,{"$f":"IF(J236=\"\",\"\",IF(B$15<E236+1,\"\",IF(J236=B$16,\"\",lookup!R229)))","v":""},"",{"$f":"IF(E237=\"\",\"\",lookup!T229)","v":""},"","",{"$f":"IF(E237=\"\",\"\",IF(lookup!U229<0,0,lookup!U229))","v":""}]
[null,null,null,null,{"$f":"IF(J237=\"\",\"\",IF(B$15<E237+1,\"\",IF(J237=B$16,\"\",lookup!R230)))","v":""},"",{"$f":"IF(E238=\"\",\"\",lookup!T230)","v":""},"","",{"$f":"IF(E238=\"\",\"\",IF(lookup!U230<0,0,lookup!U230))","v":""}]
[null,null,null,null,{"$f":"IF(J238=\"\",\"\",IF(B$15<E238+1,\"\",IF(J238=B$16,\"\",lookup!R231)))","v":""},"",{"$f":"IF(E239=\"\",\"\",lookup!T231)","v":""},"","",{"$f":"IF(E239=\"\",\"\",IF(lookup!U231<0,0,lookup!U231))","v":""}]
[null,null,null,null,{"$f":"IF(J239=\"\",\"\",IF(B$15<E239+1,\"\",IF(J239=B$16,\"\",lookup!R232)))","v":""},"",{"$f":"IF(E240=\"\",\"\",lookup!T232)","v":""},"","",{"$f":"IF(E240=\"\",\"\",IF(lookup!U232<0,0,lookup!U232))","v":""}]
[null,null,null,null,{"$f":"IF(J240=\"\",\"\",IF(B$15<E240+1,\"\",IF(J240=B$16,\"\",lookup!R233)))","v":""},"",{"$f":"IF(E241=\"\",\"\",lookup!T233)","v":""},"","",{"$f":"IF(E241=\"\",\"\",IF(lookup!U233<0,0,lookup!U233))","v":""}]
[null,null,null,null,{"$f":"IF(J241=\"\",\"\",IF(B$15<E241+1,\"\",IF(J241=B$16,\"\",lookup!R234)))","v":""},"",{"$f":"IF(E242=\"\",\"\",lookup!T234)","v":""},"","",{"$f":"IF(E242=\"\",\"\",IF(lookup!U234<0,0,lookup!U234))","v":""}]
[null,null,null,null,{"$f":"IF(J242=\"\",\"\",IF(B$15<E242+1,\"\",IF(J242=B$16,\"\",lookup!R235)))","v":""},"",{"$f":"IF(E243=\"\",\"\",lookup!T235)","v":""},"","",{"$f":"IF(E243=\"\",\"\",IF(lookup!U235<0,0,lookup!U235))","v":""}]
[null,null,null,null,{"$f":"IF(J243=\"\",\"\",IF(B$15<E243+1,\"\",IF(J243=B$16,\"\",lookup!R236)))","v":""},"",{"$f":"IF(E244=\"\",\"\",lookup!T236)","v":""},"","",{"$f":"IF(E244=\"\",\"\",IF(lookup!U236<0,0,lookup!U236))","v":""}]
[null,null,null,null,{"$f":"IF(J244=\"\",\"\",IF(B$15<E244+1,\"\",IF(J244=B$16,\"\",lookup!R237)))","v":""},"",{"$f":"IF(E245=\"\",\"\",lookup!T237)","v":""},"","",{"$f":"IF(E245=\"\",\"\",IF(lookup!U237<0,0,lookup!U237))","v":""}]
[null,null,null,null,{"$f":"IF(J245=\"\",\"\",IF(B$15<E245+1,\"\",IF(J245=B$16,\"\",lookup!R238)))","v":""},"",{"$f":"IF(E246=\"\",\"\",lookup!T238)","v":""},"","",{"$f":"IF(E246=\"\",\"\",IF(lookup!U238<0,0,lookup!U238))","v":""}]
[null,null,null,null,{"$f":"IF(J246=\"\",\"\",IF(B$15<E246+1,\"\",IF(J246=B$16,\"\",lookup!R239)))","v":""},"",{"$f":"IF(E247=\"\",\"\",lookup!T239)","v":""},"","",{"$f":"IF(E247=\"\",\"\",IF(lookup!U239<0,0,lookup!U239))","v":""}]
[null,null,null,null,{"$f":"IF(J247=\"\",\"\",IF(B$15<E247+1,\"\",IF(J247=B$16,\"\",lookup!R240)))","v":""},"",{"$f":"IF(E248=\"\",\"\",lookup!T240)","v":""},"","",{"$f":"IF(E248=\"\",\"\",IF(lookup!U240<0,0,lookup!U240))","v":""}]
[null,null,null,null,{"$f":"IF(J248=\"\",\"\",IF(B$15<E248+1,\"\",IF(J248=B$16,\"\",lookup!R241)))","v":""},"",{"$f":"IF(E249=\"\",\"\",lookup!T241)","v":""},"","",{"$f":"IF(E249=\"\",\"\",IF(lookup!U241<0,0,lookup!U241))","v":""}]
[null,null,null,null,{"$f":"IF(J249=\"\",\"\",IF(B$15<E249+1,\"\",IF(J249=B$16,\"\",lookup!R242)))","v":""},"",{"$f":"IF(E250=\"\",\"\",lookup!T242)","v":""},"","",{"$f":"IF(E250=\"\",\"\",IF(lookup!U242<0,0,lookup!U242))","v":""}]
[null,null,null,null,{"$f":"IF(J250=\"\",\"\",IF(B$15<E250+1,\"\",IF(J250=B$16,\"\",lookup!R243)))","v":""},"",{"$f":"IF(E251=\"\",\"\",lookup!T243)","v":""},"","",{"$f":"IF(E251=\"\",\"\",IF(lookup!U243<0,0,lookup!U243))","v":""}]
[null,null,null,null,{"$f":"IF(J251=\"\",\"\",IF(B$15<E251+1,\"\",IF(J251=B$16,\"\",lookup!R244)))","v":""},"",{"$f":"IF(E252=\"\",\"\",lookup!T244)","v":""},"","",{"$f":"IF(E252=\"\",\"\",IF(lookup!U244<0,0,lookup!U244))","v":""}]
[null,null,null,null,{"$f":"IF(J252=\"\",\"\",IF(B$15<E252+1,\"\",IF(J252=B$16,\"\",lookup!R245)))","v":""},"",{"$f":"IF(E253=\"\",\"\",lookup!T245)","v":""},"","",{"$f":"IF(E253=\"\",\"\",IF(lookup!U245<0,0,lookup!U245))","v":""}]
[null,null,null,null,{"$f":"IF(J253=\"\",\"\",IF(B$15<E253+1,\"\",IF(J253=B$16,\"\",lookup!R246)))","v":""},"",{"$f":"IF(E254=\"\",\"\",lookup!T246)","v":""},"","",{"$f":"IF(E254=\"\",\"\",IF(lookup!U246<0,0,lookup!U246))","v":""}]
[null,null,null,null,{"$f":"IF(J254=\"\",\"\",IF(B$15<E254+1,\"\",IF(J254=B$16,\"\",lookup!R247)))","v":""},"",{"$f":"IF(E255=\"\",\"\",lookup!T247)","v":""},"","",{"$f":"IF(E255=\"\",\"\",IF(lookup!U247<0,0,lookup!U247))","v":""}]
[null,null,null,null,{"$f":"IF(J255=\"\",\"\",IF(B$15<E255+1,\"\",IF(J255=B$16,\"\",lookup!R248)))","v":""},"",{"$f":"IF(E256=\"\",\"\",lookup!T248)","v":""},"","",{"$f":"IF(E256=\"\",\"\",IF(lookup!U248<0,0,lookup!U248))","v":""}]
[null,null,null,null,{"$f":"IF(J256=\"\",\"\",IF(B$15<E256+1,\"\",IF(J256=B$16,\"\",lookup!R249)))","v":""},"",{"$f":"IF(E257=\"\",\"\",lookup!T249)","v":""},"","",{"$f":"IF(E257=\"\",\"\",IF(lookup!U249<0,0,lookup!U249))","v":""}]
[null,null,null,null,{"$f":"IF(J257=\"\",\"\",IF(B$15<E257+1,\"\",IF(J257=B$16,\"\",lookup!R250)))","v":""},"",{"$f":"IF(E258=\"\",\"\",lookup!T250)","v":""},"","",{"$f":"IF(E258=\"\",\"\",IF(lookup!U250<0,0,lookup!U250))","v":""}]
[null,null,null,null,{"$f":"IF(J258=\"\",\"\",IF(B$15<E258+1,\"\",IF(J258=B$16,\"\",lookup!R251)))","v":""},"",{"$f":"IF(E259=\"\",\"\",lookup!T251)","v":""},"","",{"$f":"IF(E259=\"\",\"\",IF(lookup!U251<0,0,lookup!U251))","v":""}]
[null,null,null,null,{"$f":"IF(J259=\"\",\"\",IF(B$15<E259+1,\"\",IF(J259=B$16,\"\",lookup!R252)))","v":""},"",{"$f":"IF(E260=\"\",\"\",lookup!T252)","v":""},"","",{"$f":"IF(E260=\"\",\"\",IF(lookup!U252<0,0,lookup!U252))","v":""}]
[null,null,null,null,{"$f":"IF(J260=\"\",\"\",IF(B$15<E260+1,\"\",IF(J260=B$16,\"\",lookup!R253)))","v":""},"",{"$f":"IF(E261=\"\",\"\",lookup!T253)","v":""},"","",{"$f":"IF(E261=\"\",\"\",IF(lookup!U253<0,0,lookup!U253))","v":""}]
[null,null,null,null,{"$f":"IF(J261=\"\",\"\",IF(B$15<E261+1,\"\",IF(J261=B$16,\"\",lookup!R254)))","v":""},"",{"$f":"IF(E262=\"\",\"\",lookup!T254)","v":""},"","",{"$f":"IF(E262=\"\",\"\",IF(lookup!U254<0,0,lookup!U254))","v":""}]
[null,null,null,null,{"$f":"IF(J262=\"\",\"\",IF(B$15<E262+1,\"\",IF(J262=B$16,\"\",lookup!R255)))","v":""},"",{"$f":"IF(E263=\"\",\"\",lookup!T255)","v":""},"","",{"$f":"IF(E263=\"\",\"\",IF(lookup!U255<0,0,lookup!U255))","v":""}]
[null,null,null,null,{"$f":"IF(J263=\"\",\"\",IF(B$15<E263+1,\"\",IF(J263=B$16,\"\",lookup!R256)))","v":""},"",{"$f":"IF(E264=\"\",\"\",lookup!T256)","v":""},"","",{"$f":"IF(E264=\"\",\"\",IF(lookup!U256<0,0,lookup!U256))","v":""}]
[null,null,null,null,{"$f":"IF(J264=\"\",\"\",IF(B$15<E264+1,\"\",IF(J264=B$16,\"\",lookup!R257)))","v":""},"",{"$f":"IF(E265=\"\",\"\",lookup!T257)","v":""},"","",{"$f":"IF(E265=\"\",\"\",IF(lookup!U257<0,0,lookup!U257))","v":""}]
[null,null,null,null,{"$f":"IF(J265=\"\",\"\",IF(B$15<E265+1,\"\",IF(J265=B$16,\"\",lookup!R258)))","v":""},"",{"$f":"IF(E266=\"\",\"\",lookup!T258)","v":""},"","",{"$f":"IF(E266=\"\",\"\",IF(lookup!U258<0,0,lookup!U258))","v":""}]
[null,null,null,null,{"$f":"IF(J266=\"\",\"\",IF(B$15<E266+1,\"\",IF(J266=B$16,\"\",lookup!R259)))","v":""},"",{"$f":"IF(E267=\"\",\"\",lookup!T259)","v":""},"","",{"$f":"IF(E267=\"\",\"\",IF(lookup!U259<0,0,lookup!U259))","v":""}]
[null,null,null,null,{"$f":"IF(J267=\"\",\"\",IF(B$15<E267+1,\"\",IF(J267=B$16,\"\",lookup!R260)))","v":""},{"$f":"IF(E268=\"\",\"\",B$14)","v":""},{"$f":"IF(E268=\"\",\"\",lookup!T260)","v":""},{"$f":"IF(E268=\"\",\"\",H267+B$14)","v":""},"",{"$f":"IF(E268=\"\",\"\",IF(lookup!U260<0,0,lookup!U260))","v":""}]
[null,null,null,null,{"$f":"IF(J268=\"\",\"\",IF(B$15<E268+1,\"\",IF(J268=B$16,\"\",lookup!R261)))","v":""},"",{"$f":"IF(E269=\"\",\"\",lookup!T261)","v":""},"","",{"$f":"IF(E269=\"\",\"\",IF(lookup!U261<0,0,lookup!U261))","v":""}]
[null,null,null,null,{"$f":"IF(J269=\"\",\"\",IF(B$15<E269+1,\"\",IF(J269=B$16,\"\",lookup!R262)))","v":""},"",{"$f":"IF(E270=\"\",\"\",lookup!T262)","v":""},"","",{"$f":"IF(E270=\"\",\"\",IF(lookup!U262<0,0,lookup!U262))","v":""}]
[null,null,null,null,{"$f":"IF(J270=\"\",\"\",IF(B$15<E270+1,\"\",IF(J270=B$16,\"\",lookup!R263)))","v":""},"",{"$f":"IF(E271=\"\",\"\",lookup!T263)","v":""},"","",{"$f":"IF(E271=\"\",\"\",IF(lookup!U263<0,0,lookup!U263))","v":""}]
[null,null,null,null,{"$f":"IF(J271=\"\",\"\",IF(B$15<E271+1,\"\",IF(J271=B$16,\"\",lookup!R264)))","v":""},"",{"$f":"IF(E272=\"\",\"\",lookup!T264)","v":""},"","",{"$f":"IF(E272=\"\",\"\",IF(lookup!U264<0,0,lookup!U264))","v":""}]
[null,null,null,null,{"$f":"IF(J272=\"\",\"\",IF(B$15<E272+1,\"\",IF(J272=B$16,\"\",lookup!R265)))","v":""},"",{"$f":"IF(E273=\"\",\"\",lookup!T265)","v":""},"","",{"$f":"IF(E273=\"\",\"\",IF(lookup!U265<0,0,lookup!U265))","v":""}]
[null,null,null,null,{"$f":"IF(J273=\"\",\"\",IF(B$15<E273+1,\"\",IF(J273=B$16,\"\",lookup!R266)))","v":""},"",{"$f":"IF(E274=\"\",\"\",lookup!T266)","v":""},"","",{"$f":"IF(E274=\"\",\"\",IF(lookup!U266<0,0,lookup!U266))","v":""}]
[null,null,null,null,{"$f":"IF(J274=\"\",\"\",IF(B$15<E274+1,\"\",IF(J274=B$16,\"\",lookup!R267)))","v":""},"",{"$f":"IF(E275=\"\",\"\",lookup!T267)","v":""},"","",{"$f":"IF(E275=\"\",\"\",IF(lookup!U267<0,0,lookup!U267))","v":""}]
[null,null,null,null,{"$f":"IF(J275=\"\",\"\",IF(B$15<E275+1,\"\",IF(J275=B$16,\"\",lookup!R268)))","v":""},"",{"$f":"IF(E276=\"\",\"\",lookup!T268)","v":""},"","",{"$f":"IF(E276=\"\",\"\",IF(lookup!U268<0,0,lookup!U268))","v":""}]
[null,null,null,null,{"$f":"IF(J276=\"\",\"\",IF(B$15<E276+1,\"\",IF(J276=B$16,\"\",lookup!R269)))","v":""},"",{"$f":"IF(E277=\"\",\"\",lookup!T269)","v":""},"","",{"$f":"IF(E277=\"\",\"\",IF(lookup!U269<0,0,lookup!U269))","v":""}]
[null,null,null,null,{"$f":"IF(J277=\"\",\"\",IF(B$15<E277+1,\"\",IF(J277=B$16,\"\",lookup!R270)))","v":""},"",{"$f":"IF(E278=\"\",\"\",lookup!T270)","v":""},"","",{"$f":"IF(E278=\"\",\"\",IF(lookup!U270<0,0,lookup!U270))","v":""}]
[null,null,null,null,{"$f":"IF(J278=\"\",\"\",IF(B$15<E278+1,\"\",IF(J278=B$16,\"\",lookup!R271)))","v":""},"",{"$f":"IF(E279=\"\",\"\",lookup!T271)","v":""},"",{"$f":"IF(E279=\"\",\"\",I278+G279)","v":""},{"$f":"IF(E279=\"\",\"\",IF(lookup!U271<0,0,lookup!U271))","v":""}]
[null,null,null,null,{"$f":"IF(J279=\"\",\"\",IF(B$15<E279+1,\"\",IF(J279=B$16,\"\",lookup!R272)))","v":""},"",{"$f":"IF(E280=\"\",\"\",lookup!T272)","v":""},"","",{"$f":"IF(E280=\"\",\"\",IF(lookup!U272<0,0,lookup!U272))","v":""}]
[null,null,null,null,{"$f":"IF(J280=\"\",\"\",IF(B$15<E280+1,\"\",IF(J280=B$16,\"\",lookup!R273)))","v":""},"",{"$f":"IF(E281=\"\",\"\",lookup!T273)","v":""},"","",{"$f":"IF(E281=\"\",\"\",IF(lookup!U273<0,0,lookup!U273))","v":""}]
[null,null,null,null,{"$f":"IF(J281=\"\",\"\",IF(B$15<E281+1,\"\",IF(J281=B$16,\"\",lookup!R274)))","v":""},"",{"$f":"IF(E282=\"\",\"\",lookup!T274)","v":""},"","",{"$f":"IF(E282=\"\",\"\",IF(lookup!U274<0,0,lookup!U274))","v":""}]
[null,null,null,null,{"$f":"IF(J282=\"\",\"\",IF(B$15<E282+1,\"\",IF(J282=B$16,\"\",lookup!R275)))","v":""},"",{"$f":"IF(E283=\"\",\"\",lookup!T275)","v":""},"","",{"$f":"IF(E283=\"\",\"\",IF(lookup!U275<0,0,lookup!U275))","v":""}]
[null,null,null,null,{"$f":"IF(J283=\"\",\"\",IF(B$15<E283+1,\"\",IF(J283=B$16,\"\",lookup!R276)))","v":""},"",{"$f":"IF(E284=\"\",\"\",lookup!T276)","v":""},"","",{"$f":"IF(E284=\"\",\"\",IF(lookup!U276<0,0,lookup!U276))","v":""}]
[null,null,null,null,{"$f":"IF(J284=\"\",\"\",IF(B$15<E284+1,\"\",IF(J284=B$16,\"\",lookup!R277)))","v":""},"",{"$f":"IF(E285=\"\",\"\",lookup!T277)","v":""},"","",{"$f":"IF(E285=\"\",\"\",IF(lookup!U277<0,0,lookup!U277))","v":""}]
[null,null,null,null,{"$f":"IF(J285=\"\",\"\",IF(B$15<E285+1,\"\",IF(J285=B$16,\"\",lookup!R278)))","v":""},"",{"$f":"IF(E286=\"\",\"\",lookup!T278)","v":""},"","",{"$f":"IF(E286=\"\",\"\",IF(lookup!U278<0,0,lookup!U278))","v":""}]
[null,null,null,null,{"$f":"IF(J286=\"\",\"\",IF(B$15<E286+1,\"\",IF(J286=B$16,\"\",lookup!R279)))","v":""},"",{"$f":"IF(E287=\"\",\"\",lookup!T279)","v":""},"","",{"$f":"IF(E287=\"\",\"\",IF(lookup!U279<0,0,lookup!U279))","v":""}]
[null,null,null,null,{"$f":"IF(J287=\"\",\"\",IF(B$15<E287+1,\"\",IF(J287=B$16,\"\",lookup!R280)))","v":""},"",{"$f":"IF(E288=\"\",\"\",lookup!T280)","v":""},"","",{"$f":"IF(E288=\"\",\"\",IF(lookup!U280<0,0,lookup!U280))","v":""}]
[null,null,null,null,{"$f":"IF(J288=\"\",\"\",IF(B$15<E288+1,\"\",IF(J288=B$16,\"\",lookup!R281)))","v":""},"",{"$f":"IF(E289=\"\",\"\",lookup!T281)","v":""},"","",{"$f":"IF(E289=\"\",\"\",IF(lookup!U281<0,0,lookup!U281))","v":""}]
[null,null,null,null,{"$f":"IF(J289=\"\",\"\",IF(B$15<E289+1,\"\",IF(J289=B$16,\"\",lookup!R282)))","v":""},"",{"$f":"IF(E290=\"\",\"\",lookup!T282)","v":""},"","",{"$f":"IF(E290=\"\",\"\",IF(lookup!U282<0,0,lookup!U282))","v":""}]
[null,null,null,null,{"$f":"IF(J290=\"\",\"\",IF(B$15<E290+1,\"\",IF(J290=B$16,\"\",lookup!R283)))","v":""},"",{"$f":"IF(E291=\"\",\"\",lookup!T283)","v":""},"","",{"$f":"IF(E291=\"\",\"\",IF(lookup!U283<0,0,lookup!U283))","v":""}]
[null,null,null,null,{"$f":"IF(J291=\"\",\"\",IF(B$15<E291+1,\"\",IF(J291=B$16,\"\",lookup!R284)))","v":""},"",{"$f":"IF(E292=\"\",\"\",lookup!T284)","v":""},"","",{"$f":"IF(E292=\"\",\"\",IF(lookup!U284<0,0,lookup!U284))","v":""}]
[null,null,null,null,{"$f":"IF(J292=\"\",\"\",IF(B$15<E292+1,\"\",IF(J292=B$16,\"\",lookup!R285)))","v":""},"",{"$f":"IF(E293=\"\",\"\",lookup!T285)","v":""},"","",{"$f":"IF(E293=\"\",\"\",IF(lookup!U285<0,0,lookup!U285))","v":""}]
[null,null,null,null,{"$f":"IF(J293=\"\",\"\",IF(B$15<E293+1,\"\",IF(J293=B$16,\"\",lookup!R286)))","v":""},"",{"$f":"IF(E294=\"\",\"\",lookup!T286)","v":""},"","",{"$f":"IF(E294=\"\",\"\",IF(lookup!U286<0,0,lookup!U286))","v":""}]
[null,null,null,null,{"$f":"IF(J294=\"\",\"\",IF(B$15<E294+1,\"\",IF(J294=B$16,\"\",lookup!R287)))","v":""},"",{"$f":"IF(E295=\"\",\"\",lookup!T287)","v":""},"","",{"$f":"IF(E295=\"\",\"\",IF(lookup!U287<0,0,lookup!U287))","v":""}]
[null,null,null,null,{"$f":"IF(J295=\"\",\"\",IF(B$15<E295+1,\"\",IF(J295=B$16,\"\",lookup!R288)))","v":""},"",{"$f":"IF(E296=\"\",\"\",lookup!T288)","v":""},"","",{"$f":"IF(E296=\"\",\"\",IF(lookup!U288<0,0,lookup!U288))","v":""}]
[null,null,null,null,{"$f":"IF(J296=\"\",\"\",IF(B$15<E296+1,\"\",IF(J296=B$16,\"\",lookup!R289)))","v":""},"",{"$f":"IF(E297=\"\",\"\",lookup!T289)","v":""},"","",{"$f":"IF(E297=\"\",\"\",IF(lookup!U289<0,0,lookup!U289))","v":""}]
[null,null,null,null,{"$f":"IF(J297=\"\",\"\",IF(B$15<E297+1,\"\",IF(J297=B$16,\"\",lookup!R290)))","v":""},"",{"$f":"IF(E298=\"\",\"\",lookup!T290)","v":""},"","",{"$f":"IF(E298=\"\",\"\",IF(lookup!U290<0,0,lookup!U290))","v":""}]
[null,null,null,null,{"$f":"IF(J298=\"\",\"\",IF(B$15<E298+1,\"\",IF(J298=B$16,\"\",lookup!R291)))","v":""},"",{"$f":"IF(E299=\"\",\"\",lookup!T291)","v":""},"","",{"$f":"IF(E299=\"\",\"\",IF(lookup!U291<0,0,lookup!U291))","v":""}]
[null,null,null,null,{"$f":"IF(J299=\"\",\"\",IF(B$15<E299+1,\"\",IF(J299=B$16,\"\",lookup!R292)))","v":""},"",{"$f":"IF(E300=\"\",\"\",lookup!T292)","v":""},"","",{"$f":"IF(E300=\"\",\"\",IF(lookup!U292<0,0,lookup!U292))","v":""}]
[null,null,null,null,{"$f":"IF(J300=\"\",\"\",IF(B$15<E300+1,\"\",IF(J300=B$16,\"\",lookup!R293)))","v":""},"",{"$f":"IF(E301=\"\",\"\",lookup!T293)","v":""},"","",{"$f":"IF(E301=\"\",\"\",IF(lookup!U293<0,0,lookup!U293))","v":""}]
[null,null,null,null,{"$f":"IF(J301=\"\",\"\",IF(B$15<E301+1,\"\",IF(J301=B$16,\"\",lookup!R294)))","v":""},"",{"$f":"IF(E302=\"\",\"\",lookup!T294)","v":""},"","",{"$f":"IF(E302=\"\",\"\",IF(lookup!U294<0,0,lookup!U294))","v":""}]
[null,null,null,null,{"$f":"IF(J302=\"\",\"\",IF(B$15<E302+1,\"\",IF(J302=B$16,\"\",lookup!R295)))","v":""},"",{"$f":"IF(E303=\"\",\"\",lookup!T295)","v":""},"","",{"$f":"IF(E303=\"\",\"\",IF(lookup!U295<0,0,lookup!U295))","v":""}]
[null,null,null,null,{"$f":"IF(J303=\"\",\"\",IF(B$15<E303+1,\"\",IF(J303=B$16,\"\",lookup!R296)))","v":""},"",{"$f":"IF(E304=\"\",\"\",lookup!T296)","v":""},"","",{"$f":"IF(E304=\"\",\"\",IF(lookup!U296<0,0,lookup!U296))","v":""}]
[null,null,null,null,{"$f":"IF(J304=\"\",\"\",IF(B$15<E304+1,\"\",IF(J304=B$16,\"\",lookup!R297)))","v":""},"",{"$f":"IF(E305=\"\",\"\",lookup!T297)","v":""},"","",{"$f":"IF(E305=\"\",\"\",IF(lookup!U297<0,0,lookup!U297))","v":""}]
[null,null,null,null,{"$f":"IF(J305=\"\",\"\",IF(B$15<E305+1,\"\",IF(J305=B$16,\"\",lookup!R298)))","v":""},"",{"$f":"IF(E306=\"\",\"\",lookup!T298)","v":""},"","",{"$f":"IF(E306=\"\",\"\",IF(lookup!U298<0,0,lookup!U298))","v":""}]
[null,null,null,null,{"$f":"IF(J306=\"\",\"\",IF(B$15<E306+1,\"\",IF(J306=B$16,\"\",lookup!R299)))","v":""},"",{"$f":"IF(E307=\"\",\"\",lookup!T299)","v":""},"","",{"$f":"IF(E307=\"\",\"\",IF(lookup!U299<0,0,lookup!U299))","v":""}]
[null,null,null,null,{"$f":"IF(J307=\"\",\"\",IF(B$15<E307+1,\"\",IF(J307=B$16,\"\",lookup!R300)))","v":""},"",{"$f":"IF(E308=\"\",\"\",lookup!T300)","v":""},"","",{"$f":"IF(E308=\"\",\"\",IF(lookup!U300<0,0,lookup!U300))","v":""}]
[null,null,null,null,{"$f":"IF(J308=\"\",\"\",IF(B$15<E308+1,\"\",IF(J308=B$16,\"\",lookup!R301)))","v":""},"",{"$f":"IF(E309=\"\",\"\",lookup!T301)","v":""},"","",{"$f":"IF(E309=\"\",\"\",IF(lookup!U301<0,0,lookup!U301))","v":""}]
[null,null,null,null,{"$f":"IF(J309=\"\",\"\",IF(B$15<E309+1,\"\",IF(J309=B$16,\"\",lookup!R302)))","v":""},"",{"$f":"IF(E310=\"\",\"\",lookup!T302)","v":""},"","",{"$f":"IF(E310=\"\",\"\",IF(lookup!U302<0,0,lookup!U302))","v":""}]
[null,null,null,null,{"$f":"IF(J310=\"\",\"\",IF(B$15<E310+1,\"\",IF(J310=B$16,\"\",lookup!R303)))","v":""},"",{"$f":"IF(E311=\"\",\"\",lookup!T303)","v":""},"","",{"$f":"IF(E311=\"\",\"\",IF(lookup!U303<0,0,lookup!U303))","v":""}]
[null,null,null,null,{"$f":"IF(J311=\"\",\"\",IF(B$15<E311+1,\"\",IF(J311=B$16,\"\",lookup!R304)))","v":""},"",{"$f":"IF(E312=\"\",\"\",lookup!T304)","v":""},"","",{"$f":"IF(E312=\"\",\"\",IF(lookup!U304<0,0,lookup!U304))","v":""}]
[null,null,null,null,{"$f":"IF(J312=\"\",\"\",IF(B$15<E312+1,\"\",IF(J312=B$16,\"\",lookup!R305)))","v":""},"",{"$f":"IF(E313=\"\",\"\",lookup!T305)","v":""},"","",{"$f":"IF(E313=\"\",\"\",IF(lookup!U305<0,0,lookup!U305))","v":""}]
[null,null,null,null,{"$f":"IF(J313=\"\",\"\",IF(B$15<E313+1,\"\",IF(J313=B$16,\"\",lookup!R306)))","v":""},"",{"$f":"IF(E314=\"\",\"\",lookup!T306)","v":""},"","",{"$f":"IF(E314=\"\",\"\",IF(lookup!U306<0,0,lookup!U306))","v":""}]
[null,null,null,null,{"$f":"IF(J314=\"\",\"\",IF(B$15<E314+1,\"\",IF(J314=B$16,\"\",lookup!R307)))","v":""},"",{"$f":"IF(E315=\"\",\"\",lookup!T307)","v":""},"","",{"$f":"IF(E315=\"\",\"\",IF(lookup!U307<0,0,lookup!U307))","v":""}]
[null,null,null,null,{"$f":"IF(J315=\"\",\"\",IF(B$15<E315+1,\"\",IF(J315=B$16,\"\",lookup!R308)))","v":""},"",{"$f":"IF(E316=\"\",\"\",lookup!T308)","v":""},"","",{"$f":"IF(E316=\"\",\"\",IF(lookup!U308<0,0,lookup!U308))","v":""}]
[null,null,null,null,{"$f":"IF(J316=\"\",\"\",IF(B$15<E316+1,\"\",IF(J316=B$16,\"\",lookup!R309)))","v":""},"",{"$f":"IF(E317=\"\",\"\",lookup!T309)","v":""},"","",{"$f":"IF(E317=\"\",\"\",IF(lookup!U309<0,0,lookup!U309))","v":""}]
[null,null,null,null,{"$f":"IF(J317=\"\",\"\",IF(B$15<E317+1,\"\",IF(J317=B$16,\"\",lookup!R310)))","v":""},"",{"$f":"IF(E318=\"\",\"\",lookup!T310)","v":""},"","",{"$f":"IF(E318=\"\",\"\",IF(lookup!U310<0,0,lookup!U310))","v":""}]
[null,null,null,null,{"$f":"IF(J318=\"\",\"\",IF(B$15<E318+1,\"\",IF(J318=B$16,\"\",lookup!R311)))","v":""},"",{"$f":"IF(E319=\"\",\"\",lookup!T311)","v":""},"","",{"$f":"IF(E319=\"\",\"\",IF(lookup!U311<0,0,lookup!U311))","v":""}]
[null,null,null,null,{"$f":"IF(J319=\"\",\"\",IF(B$15<E319+1,\"\",IF(J319=B$16,\"\",lookup!R312)))","v":""},"",{"$f":"IF(E320=\"\",\"\",lookup!T312)","v":""},"","",{"$f":"IF(E320=\"\",\"\",IF(lookup!U312<0,0,lookup!U312))","v":""}]
[null,null,null,null,{"$f":"IF(J320=\"\",\"\",IF(B$15<E320+1,\"\",IF(J320=B$16,\"\",lookup!R313)))","v":""},"",{"$f":"IF(E321=\"\",\"\",lookup!T313)","v":""},"","",{"$f":"IF(E321=\"\",\"\",IF(lookup!U313<0,0,lookup!U313))","v":""}]
[null,null,null,null,{"$f":"IF(J321=\"\",\"\",IF(B$15<E321+1,\"\",IF(J321=B$16,\"\",lookup!R314)))","v":""},"",{"$f":"IF(E322=\"\",\"\",lookup!T314)","v":""},"","",{"$f":"IF(E322=\"\",\"\",IF(lookup!U314<0,0,lookup!U314))","v":""}]
[null,null,null,null,{"$f":"IF(J322=\"\",\"\",IF(B$15<E322+1,\"\",IF(J322=B$16,\"\",lookup!R315)))","v":""},"",{"$f":"IF(E323=\"\",\"\",lookup!T315)","v":""},"","",{"$f":"IF(E323=\"\",\"\",IF(lookup!U315<0,0,lookup!U315))","v":""}]
[null,null,null,null,{"$f":"IF(J323=\"\",\"\",IF(B$15<E323+1,\"\",IF(J323=B$16,\"\",lookup!R316)))","v":""},"",{"$f":"IF(E324=\"\",\"\",lookup!T316)","v":""},"","",{"$f":"IF(E324=\"\",\"\",IF(lookup!U316<0,0,lookup!U316))","v":""}]
[null,null,null,null,{"$f":"IF(J324=\"\",\"\",IF(B$15<E324+1,\"\",IF(J324=B$16,\"\",lookup!R317)))","v":""},"",{"$f":"IF(E325=\"\",\"\",lookup!T317)","v":""},"","",{"$f":"IF(E325=\"\",\"\",IF(lookup!U317<0,0,lookup!U317))","v":""}]
[null,null,null,null,{"$f":"IF(J325=\"\",\"\",IF(B$15<E325+1,\"\",IF(J325=B$16,\"\",lookup!R318)))","v":""},"",{"$f":"IF(E326=\"\",\"\",lookup!T318)","v":""},"","",{"$f":"IF(E326=\"\",\"\",IF(lookup!U318<0,0,lookup!U318))","v":""}]
[null,null,null,null,{"$f":"IF(J326=\"\",\"\",IF(B$15<E326+1,\"\",IF(J326=B$16,\"\",lookup!R319)))","v":""},"",{"$f":"IF(E327=\"\",\"\",lookup!T319)","v":""},"","",{"$f":"IF(E327=\"\",\"\",IF(lookup!U319<0,0,lookup!U319))","v":""}]
[null,null,null,null,{"$f":"IF(J327=\"\",\"\",IF(B$15<E327+1,\"\",IF(J327=B$16,\"\",lookup!R320)))","v":""},"",{"$f":"IF(E328=\"\",\"\",lookup!T320)","v":""},"","",{"$f":"IF(E328=\"\",\"\",IF(lookup!U320<0,0,lookup!U320))","v":""}]
[null,null,null,null,{"$f":"IF(J328=\"\",\"\",IF(B$15<E328+1,\"\",IF(J328=B$16,\"\",lookup!R321)))","v":""},"",{"$f":"IF(E329=\"\",\"\",lookup!T321)","v":""},"","",{"$f":"IF(E329=\"\",\"\",IF(lookup!U321<0,0,lookup!U321))","v":""}]
[null,null,null,null,{"$f":"IF(J329=\"\",\"\",IF(B$15<E329+1,\"\",IF(J329=B$16,\"\",lookup!R322)))","v":""},"",{"$f":"IF(E330=\"\",\"\",lookup!T322)","v":""},"","",{"$f":"IF(E330=\"\",\"\",IF(lookup!U322<0,0,lookup!U322))","v":""}]
[null,null,null,null,{"$f":"IF(J330=\"\",\"\",IF(B$15<E330+1,\"\",IF(J330=B$16,\"\",lookup!R323)))","v":""},"",{"$f":"IF(E331=\"\",\"\",lookup!T323)","v":""},"","",{"$f":"IF(E331=\"\",\"\",IF(lookup!U323<0,0,lookup!U323))","v":""}]
[null,null,null,null,{"$f":"IF(J331=\"\",\"\",IF(B$15<E331+1,\"\",IF(J331=B$16,\"\",lookup!R324)))","v":""},{"$f":"IF(E332=\"\",\"\",B$14)","v":""},{"$f":"IF(E332=\"\",\"\",lookup!T324)","v":""},{"$f":"IF(E332=\"\",\"\",H331+B$14)","v":""},"",{"$f":"IF(E332=\"\",\"\",IF(lookup!U324<0,0,lookup!U324))","v":""}]
[null,null,null,null,{"$f":"IF(J332=\"\",\"\",IF(B$15<E332+1,\"\",IF(J332=B$16,\"\",lookup!R325)))","v":""},"",{"$f":"IF(E333=\"\",\"\",lookup!T325)","v":""},"","",{"$f":"IF(E333=\"\",\"\",IF(lookup!U325<0,0,lookup!U325))","v":""}]
[null,null,null,null,{"$f":"IF(J333=\"\",\"\",IF(B$15<E333+1,\"\",IF(J333=B$16,\"\",lookup!R326)))","v":""},"",{"$f":"IF(E334=\"\",\"\",lookup!T326)","v":""},"","",{"$f":"IF(E334=\"\",\"\",IF(lookup!U326<0,0,lookup!U326))","v":""}]
[null,null,null,null,{"$f":"IF(J334=\"\",\"\",IF(B$15<E334+1,\"\",IF(J334=B$16,\"\",lookup!R327)))","v":""},"",{"$f":"IF(E335=\"\",\"\",lookup!T327)","v":""},"","",{"$f":"IF(E335=\"\",\"\",IF(lookup!U327<0,0,lookup!U327))","v":""}]
[null,null,null,null,{"$f":"IF(J335=\"\",\"\",IF(B$15<E335+1,\"\",IF(J335=B$16,\"\",lookup!R328)))","v":""},"",{"$f":"IF(E336=\"\",\"\",lookup!T328)","v":""},"","",{"$f":"IF(E336=\"\",\"\",IF(lookup!U328<0,0,lookup!U328))","v":""}]
[null,null,null,null,{"$f":"IF(J336=\"\",\"\",IF(B$15<E336+1,\"\",IF(J336=B$16,\"\",lookup!R329)))","v":""},"",{"$f":"IF(E337=\"\",\"\",lookup!T329)","v":""},"","",{"$f":"IF(E337=\"\",\"\",IF(lookup!U329<0,0,lookup!U329))","v":""}]
[null,null,null,null,{"$f":"IF(J337=\"\",\"\",IF(B$15<E337+1,\"\",IF(J337=B$16,\"\",lookup!R330)))","v":""},"",{"$f":"IF(E338=\"\",\"\",lookup!T330)","v":""},"","",{"$f":"IF(E338=\"\",\"\",IF(lookup!U330<0,0,lookup!U330))","v":""}]
[null,null,null,null,{"$f":"IF(J338=\"\",\"\",IF(B$15<E338+1,\"\",IF(J338=B$16,\"\",lookup!R331)))","v":""},"",{"$f":"IF(E339=\"\",\"\",lookup!T331)","v":""},"","",{"$f":"IF(E339=\"\",\"\",IF(lookup!U331<0,0,lookup!U331))","v":""}]
[null,null,null,null,{"$f":"IF(J339=\"\",\"\",IF(B$15<E339+1,\"\",IF(J339=B$16,\"\",lookup!R332)))","v":""},"",{"$f":"IF(E340=\"\",\"\",lookup!T332)","v":""},"","",{"$f":"IF(E340=\"\",\"\",IF(lookup!U332<0,0,lookup!U332))","v":""}]
[null,null,null,null,{"$f":"IF(J340=\"\",\"\",IF(B$15<E340+1,\"\",IF(J340=B$16,\"\",lookup!R333)))","v":""},"",{"$f":"IF(E341=\"\",\"\",lookup!T333)","v":""},"","",{"$f":"IF(E341=\"\",\"\",IF(lookup!U333<0,0,lookup!U333))","v":""}]
[null,null,null,null,{"$f":"IF(J341=\"\",\"\",IF(B$15<E341+1,\"\",IF(J341=B$16,\"\",lookup!R334)))","v":""},"",{"$f":"IF(E342=\"\",\"\",lookup!T334)","v":""},"","",{"$f":"IF(E342=\"\",\"\",IF(lookup!U334<0,0,lookup!U334))","v":""}]
[null,null,null,null,{"$f":"IF(J342=\"\",\"\",IF(B$15<E342+1,\"\",IF(J342=B$16,\"\",lookup!R335)))","v":""},"",{"$f":"IF(E343=\"\",\"\",lookup!T335)","v":""},"",{"$f":"IF(E343=\"\",\"\",I342+G343)","v":""},{"$f":"IF(E343=\"\",\"\",IF(lookup!U335<0,0,lookup!U335))","v":""}]
[null,null,null,null,{"$f":"IF(J343=\"\",\"\",IF(B$15<E343+1,\"\",IF(J343=B$16,\"\",lookup!R336)))","v":""},"",{"$f":"IF(E344=\"\",\"\",lookup!T336)","v":""},"","",{"$f":"IF(E344=\"\",\"\",IF(lookup!U336<0,0,lookup!U336))","v":""}]
[null,null,null,null,{"$f":"IF(J344=\"\",\"\",IF(B$15<E344+1,\"\",IF(J344=B$16,\"\",lookup!R337)))","v":""},"",{"$f":"IF(E345=\"\",\"\",lookup!T337)","v":""},"","",{"$f":"IF(E345=\"\",\"\",IF(lookup!U337<0,0,lookup!U337))","v":""}]
[null,null,null,null,{"$f":"IF(J345=\"\",\"\",IF(B$15<E345+1,\"\",IF(J345=B$16,\"\",lookup!R338)))","v":""},"",{"$f":"IF(E346=\"\",\"\",lookup!T338)","v":""},"","",{"$f":"IF(E346=\"\",\"\",IF(lookup!U338<0,0,lookup!U338))","v":""}]
[null,null,null,null,{"$f":"IF(J346=\"\",\"\",IF(B$15<E346+1,\"\",IF(J346=B$16,\"\",lookup!R339)))","v":""},"",{"$f":"IF(E347=\"\",\"\",lookup!T339)","v":""},"","",{"$f":"IF(E347=\"\",\"\",IF(lookup!U339<0,0,lookup!U339))","v":""}]
[null,null,null,null,{"$f":"IF(J347=\"\",\"\",IF(B$15<E347+1,\"\",IF(J347=B$16,\"\",lookup!R340)))","v":""},"",{"$f":"IF(E348=\"\",\"\",lookup!T340)","v":""},"","",{"$f":"IF(E348=\"\",\"\",IF(lookup!U340<0,0,lookup!U340))","v":""}]
[null,null,null,null,{"$f":"IF(J348=\"\",\"\",IF(B$15<E348+1,\"\",IF(J348=B$16,\"\",lookup!R341)))","v":""},"",{"$f":"IF(E349=\"\",\"\",lookup!T341)","v":""},"","",{"$f":"IF(E349=\"\",\"\",IF(lookup!U341<0,0,lookup!U341))","v":""}]
[null,null,null,null,{"$f":"IF(J349=\"\",\"\",IF(B$15<E349+1,\"\",IF(J349=B$16,\"\",lookup!R342)))","v":""},"",{"$f":"IF(E350=\"\",\"\",lookup!T342)","v":""},"","",{"$f":"IF(E350=\"\",\"\",IF(lookup!U342<0,0,lookup!U342))","v":""}]
[null,null,null,null,{"$f":"IF(J350=\"\",\"\",IF(B$15<E350+1,\"\",IF(J350=B$16,\"\",lookup!R343)))","v":""},"",{"$f":"IF(E351=\"\",\"\",lookup!T343)","v":""},"","",{"$f":"IF(E351=\"\",\"\",IF(lookup!U343<0,0,lookup!U343))","v":""}]
[null,null,null,null,{"$f":"IF(J351=\"\",\"\",IF(B$15<E351+1,\"\",IF(J351=B$16,\"\",lookup!R344)))","v":""},"",{"$f":"IF(E352=\"\",\"\",lookup!T344)","v":""},"","",{"$f":"IF(E352=\"\",\"\",IF(lookup!U344<0,0,lookup!U344))","v":""}]
[null,null,null,null,{"$f":"IF(J352=\"\",\"\",IF(B$15<E352+1,\"\",IF(J352=B$16,\"\",lookup!R345)))","v":""},"",{"$f":"IF(E353=\"\",\"\",lookup!T345)","v":""},"","",{"$f":"IF(E353=\"\",\"\",IF(lookup!U345<0,0,lookup!U345))","v":""}]
[null,null,null,null,{"$f":"IF(J353=\"\",\"\",IF(B$15<E353+1,\"\",IF(J353=B$16,\"\",lookup!R346)))","v":""},"",{"$f":"IF(E354=\"\",\"\",lookup!T346)","v":""},"","",{"$f":"IF(E354=\"\",\"\",IF(lookup!U346<0,0,lookup!U346))","v":""}]
[null,null,null,null,{"$f":"IF(J354=\"\",\"\",IF(B$15<E354+1,\"\",IF(J354=B$16,\"\",lookup!R347)))","v":""},"",{"$f":"IF(E355=\"\",\"\",lookup!T347)","v":""},"","",{"$f":"IF(E355=\"\",\"\",IF(lookup!U347<0,0,lookup!U347))","v":""}]
[null,null,null,null,{"$f":"IF(J355=\"\",\"\",IF(B$15<E355+1,\"\",IF(J355=B$16,\"\",lookup!R348)))","v":""},"",{"$f":"IF(E356=\"\",\"\",lookup!T348)","v":""},"","",{"$f":"IF(E356=\"\",\"\",IF(lookup!U348<0,0,lookup!U348))","v":""}]
[null,null,null,null,{"$f":"IF(J356=\"\",\"\",IF(B$15<E356+1,\"\",IF(J356=B$16,\"\",lookup!R349)))","v":""},"",{"$f":"IF(E357=\"\",\"\",lookup!T349)","v":""},"","",{"$f":"IF(E357=\"\",\"\",IF(lookup!U349<0,0,lookup!U349))","v":""}]
[null,null,null,null,{"$f":"IF(J357=\"\",\"\",IF(B$15<E357+1,\"\",IF(J357=B$16,\"\",lookup!R350)))","v":""},"",{"$f":"IF(E358=\"\",\"\",lookup!T350)","v":""},"","",{"$f":"IF(E358=\"\",\"\",IF(lookup!U350<0,0,lookup!U350))","v":""}]
[null,null,null,null,{"$f":"IF(J358=\"\",\"\",IF(B$15<E358+1,\"\",IF(J358=B$16,\"\",lookup!R351)))","v":""},"",{"$f":"IF(E359=\"\",\"\",lookup!T351)","v":""},"","",{"$f":"IF(E359=\"\",\"\",IF(lookup!U351<0,0,lookup!U351))","v":""}]
[null,null,null,null,{"$f":"IF(J359=\"\",\"\",IF(B$15<E359+1,\"\",IF(J359=B$16,\"\",lookup!R352)))","v":""},"",{"$f":"IF(E360=\"\",\"\",lookup!T352)","v":""},"","",{"$f":"IF(E360=\"\",\"\",IF(lookup!U352<0,0,lookup!U352))","v":""}]
[null,null,null,null,{"$f":"IF(J360=\"\",\"\",IF(B$15<E360+1,\"\",IF(J360=B$16,\"\",lookup!R353)))","v":""},"",{"$f":"IF(E361=\"\",\"\",lookup!T353)","v":""},"","",{"$f":"IF(E361=\"\",\"\",IF(lookup!U353<0,0,lookup!U353))","v":""}]
[null,null,null,null,{"$f":"IF(J361=\"\",\"\",IF(B$15<E361+1,\"\",IF(J361=B$16,\"\",lookup!R354)))","v":""},"",{"$f":"IF(E362=\"\",\"\",lookup!T354)","v":""},"","",{"$f":"IF(E362=\"\",\"\",IF(lookup!U354<0,0,lookup!U354))","v":""}]
[null,null,null,null,{"$f":"IF(J362=\"\",\"\",IF(B$15<E362+1,\"\",IF(J362=B$16,\"\",lookup!R355)))","v":""},"",{"$f":"IF(E363=\"\",\"\",lookup!T355)","v":""},"","",{"$f":"IF(E363=\"\",\"\",IF(lookup!U355<0,0,lookup!U355))","v":""}]
[null,null,null,null,{"$f":"IF(J363=\"\",\"\",IF(B$15<E363+1,\"\",IF(J363=B$16,\"\",lookup!R356)))","v":""},"",{"$f":"IF(E364=\"\",\"\",lookup!T356)","v":""},"","",{"$f":"IF(E364=\"\",\"\",IF(lookup!U356<0,0,lookup!U356))","v":""}]
[null,null,null,null,{"$f":"IF(J364=\"\",\"\",IF(B$15<E364+1,\"\",IF(J364=B$16,\"\",lookup!R357)))","v":""},"",{"$f":"IF(E365=\"\",\"\",lookup!T357)","v":""},"","",{"$f":"IF(E365=\"\",\"\",IF(lookup!U357<0,0,lookup!U357))","v":""}]
[null,null,null,null,{"$f":"IF(J365=\"\",\"\",IF(B$15<E365+1,\"\",IF(J365=B$16,\"\",lookup!R358)))","v":""},"",{"$f":"IF(E366=\"\",\"\",lookup!T358)","v":""},"","",{"$f":"IF(E366=\"\",\"\",IF(lookup!U358<0,0,lookup!U358))","v":""}]
[null,null,null,null,{"$f":"IF(J366=\"\",\"\",IF(B$15<E366+1,\"\",IF(J366=B$16,\"\",lookup!R359)))","v":""},"",{"$f":"IF(E367=\"\",\"\",lookup!T359)","v":""},"","",{"$f":"IF(E367=\"\",\"\",IF(lookup!U359<0,0,lookup!U359))","v":""}]
[null,null,null,null,{"$f":"IF(J367=\"\",\"\",IF(B$15<E367+1,\"\",IF(J367=B$16,\"\",lookup!R360)))","v":""},"",{"$f":"IF(E368=\"\",\"\",lookup!T360)","v":""},"",{"$f":"IF(E368=\"\",\"\",I367+G368)","v":""},{"$f":"IF(E368=\"\",\"\",IF(lookup!U360<0,0,lookup!U360))","v":""}]
[null,null,null,null,{"$f":"IF(J368=\"\",\"\",IF(B$15<E368+1,\"\",IF(J368=B$16,\"\",lookup!R361)))","v":""},"",{"$f":"IF(E369=\"\",\"\",lookup!T361)","v":""},"","",{"$f":"IF(E369=\"\",\"\",IF(lookup!U361<0,0,lookup!U361))","v":""}]
[null,null,null,null,{"$f":"IF(J369=\"\",\"\",IF(B$15<E369+1,\"\",IF(J369=B$16,\"\",lookup!R362)))","v":""},"",{"$f":"IF(E370=\"\",\"\",lookup!T362)","v":""},"","",{"$f":"IF(E370=\"\",\"\",IF(lookup!U362<0,0,lookup!U362))","v":""}]
[null,null,null,null,{"$f":"IF(J370=\"\",\"\",IF(B$15<E370+1,\"\",IF(J370=B$16,\"\",lookup!R363)))","v":""},"",{"$f":"IF(E371=\"\",\"\",lookup!T363)","v":""},"","",{"$f":"IF(E371=\"\",\"\",IF(lookup!U363<0,0,lookup!U363))","v":""}]
[null,null,null,null,{"$f":"IF(J371=\"\",\"\",IF(B$15<E371+1,\"\",IF(J371=B$16,\"\",lookup!R364)))","v":""},"",{"$f":"IF(E372=\"\",\"\",lookup!T364)","v":""},"","",{"$f":"IF(E372=\"\",\"\",IF(lookup!U364<0,0,lookup!U364))","v":""}]
[null,null,null,null,{"$f":"IF(J372=\"\",\"\",IF(B$15<E372+1,\"\",IF(J372=B$16,\"\",lookup!R365)))","v":""},"",{"$f":"IF(E373=\"\",\"\",lookup!T365)","v":""},"","",{"$f":"IF(E373=\"\",\"\",IF(lookup!U365<0,0,lookup!U365))","v":""}]
[null,null,null,null,{"$f":"IF(J373=\"\",\"\",IF(B$15<E373+1,\"\",IF(J373=B$16,\"\",lookup!R366)))","v":""},"",{"$f":"IF(E374=\"\",\"\",lookup!T366)","v":""},"","",{"$f":"IF(E374=\"\",\"\",IF(lookup!U366<0,0,lookup!U366))","v":""}]
[null,null,null,null,{"$f":"IF(J374=\"\",\"\",IF(B$15<E374+1,\"\",IF(J374=B$16,\"\",lookup!R367)))","v":""},"",{"$f":"IF(E375=\"\",\"\",lookup!T367)","v":""},"","",{"$f":"IF(E375=\"\",\"\",IF(lookup!U367<0,0,lookup!U367))","v":""}]
[null,null,null,null,{"$f":"IF(J375=\"\",\"\",IF(B$15<E375+1,\"\",IF(J375=B$16,\"\",lookup!R368)))","v":""},"",{"$f":"IF(E376=\"\",\"\",lookup!T368)","v":""},"","",{"$f":"IF(E376=\"\",\"\",IF(lookup!U368<0,0,lookup!U368))","v":""}]
[null,null,null,null,{"$f":"IF(J376=\"\",\"\",IF(B$15<E376+1,\"\",IF(J376=B$16,\"\",lookup!R369)))","v":""},"",{"$f":"IF(E377=\"\",\"\",lookup!T369)","v":""},"","",{"$f":"IF(E377=\"\",\"\",IF(lookup!U369<0,0,lookup!U369))","v":""}]
[null,null,null,null,{"$f":"IF(J377=\"\",\"\",IF(B$15<E377+1,\"\",IF(J377=B$16,\"\",lookup!R370)))","v":""},"",{"$f":"IF(E378=\"\",\"\",lookup!T370)","v":""},"","",{"$f":"IF(E378=\"\",\"\",IF(lookup!U370<0,0,lookup!U370))","v":""}]
[null,null,null,null,{"$f":"IF(J378=\"\",\"\",IF(B$15<E378+1,\"\",IF(J378=B$16,\"\",lookup!R371)))","v":""},"",{"$f":"IF(E379=\"\",\"\",lookup!T371)","v":""},"","",{"$f":"IF(E379=\"\",\"\",IF(lookup!U371<0,0,lookup!U371))","v":""}]
[null,null,null,null,{"$f":"IF(J379=\"\",\"\",IF(B$15<E379+1,\"\",IF(J379=B$16,\"\",lookup!R372)))","v":""},"",{"$f":"IF(E380=\"\",\"\",lookup!T372)","v":""},"","",{"$f":"IF(E380=\"\",\"\",IF(lookup!U372<0,0,lookup!U372))","v":""}]
[null,null,null,null,{"$f":"IF(J380=\"\",\"\",IF(B$15<E380+1,\"\",IF(J380=B$16,\"\",lookup!R373)))","v":""},"",{"$f":"IF(E381=\"\",\"\",lookup!T373)","v":""},"","",{"$f":"IF(E381=\"\",\"\",IF(lookup!U373<0,0,lookup!U373))","v":""}]
[null,null,null,null,{"$f":"IF(J381=\"\",\"\",IF(B$15<E381+1,\"\",IF(J381=B$16,\"\",lookup!R374)))","v":""},"",{"$f":"IF(E382=\"\",\"\",lookup!T374)","v":""},"","",{"$f":"IF(E382=\"\",\"\",IF(lookup!U374<0,0,lookup!U374))","v":""}]
[null,null,null,null,{"$f":"IF(J382=\"\",\"\",IF(B$15<E382+1,\"\",IF(J382=B$16,\"\",lookup!R375)))","v":""},"",{"$f":"IF(E383=\"\",\"\",lookup!T375)","v":""},"","",{"$f":"IF(E383=\"\",\"\",IF(lookup!U375<0,0,lookup!U375))","v":""}]
[null,null,null,null,{"$f":"IF(J383=\"\",\"\",IF(B$15<E383+1,\"\",IF(J383=B$16,\"\",lookup!R376)))","v":""},"",{"$f":"IF(E384=\"\",\"\",lookup!T376)","v":""},"","",{"$f":"IF(E384=\"\",\"\",IF(lookup!U376<0,0,lookup!U376))","v":""}]
[null,null,null,null,{"$f":"IF(J384=\"\",\"\",IF(B$15<E384+1,\"\",IF(J384=B$16,\"\",lookup!R377)))","v":""},"",{"$f":"IF(E385=\"\",\"\",lookup!T377)","v":""},"","",{"$f":"IF(E385=\"\",\"\",IF(lookup!U377<0,0,lookup!U377))","v":""}]
[null,null,null,null,{"$f":"IF(J385=\"\",\"\",IF(B$15<E385+1,\"\",IF(J385=B$16,\"\",lookup!R378)))","v":""},"",{"$f":"IF(E386=\"\",\"\",lookup!T378)","v":""},"","",{"$f":"IF(E386=\"\",\"\",IF(lookup!U378<0,0,lookup!U378))","v":""}]
[null,null,null,null,{"$f":"IF(J386=\"\",\"\",IF(B$15<E386+1,\"\",IF(J386=B$16,\"\",lookup!R379)))","v":""},"",{"$f":"IF(E387=\"\",\"\",lookup!T379)","v":""},"","",{"$f":"IF(E387=\"\",\"\",IF(lookup!U379<0,0,lookup!U379))","v":""}]
[null,null,null,null,{"$f":"IF(J387=\"\",\"\",IF(B$15<E387+1,\"\",IF(J387=B$16,\"\",lookup!R380)))","v":""},"",{"$f":"IF(E388=\"\",\"\",lookup!T380)","v":""},"","",{"$f":"IF(E388=\"\",\"\",IF(lookup!U380<0,0,lookup!U380))","v":""}]
[null,null,null,null,{"$f":"IF(J388=\"\",\"\",IF(B$15<E388+1,\"\",IF(J388=B$16,\"\",lookup!R381)))","v":""},"",{"$f":"IF(E389=\"\",\"\",lookup!T381)","v":""},"","",{"$f":"IF(E389=\"\",\"\",IF(lookup!U381<0,0,lookup!U381))","v":""}]
[null,null,null,null,{"$f":"IF(J389=\"\",\"\",IF(B$15<E389+1,\"\",IF(J389=B$16,\"\",lookup!R382)))","v":""},"",{"$f":"IF(E390=\"\",\"\",lookup!T382)","v":""},"","",{"$f":"IF(E390=\"\",\"\",IF(lookup!U382<0,0,lookup!U382))","v":""}]
[null,null,null,null,{"$f":"IF(J390=\"\",\"\",IF(B$15<E390+1,\"\",IF(J390=B$16,\"\",lookup!R383)))","v":""},"",{"$f":"IF(E391=\"\",\"\",lookup!T383)","v":""},"","",{"$f":"IF(E391=\"\",\"\",IF(lookup!U383<0,0,lookup!U383))","v":""}]
[null,null,null,null,{"$f":"IF(J391=\"\",\"\",IF(B$15<E391+1,\"\",IF(J391=B$16,\"\",lookup!R384)))","v":""},"",{"$f":"IF(E392=\"\",\"\",lookup!T384)","v":""},"","",{"$f":"IF(E392=\"\",\"\",IF(lookup!U384<0,0,lookup!U384))","v":""}]
[null,null,null,null,{"$f":"IF(J392=\"\",\"\",IF(B$15<E392+1,\"\",IF(J392=B$16,\"\",lookup!R385)))","v":""},"",{"$f":"IF(E393=\"\",\"\",lookup!T385)","v":""},"","",{"$f":"IF(E393=\"\",\"\",IF(lookup!U385<0,0,lookup!U385))","v":""}]
[null,null,null,null,{"$f":"IF(J393=\"\",\"\",IF(B$15<E393+1,\"\",IF(J393=B$16,\"\",lookup!R386)))","v":""},"",{"$f":"IF(E394=\"\",\"\",lookup!T386)","v":""},"","",{"$f":"IF(E394=\"\",\"\",IF(lookup!U386<0,0,lookup!U386))","v":""}]
[null,null,null,null,{"$f":"IF(J394=\"\",\"\",IF(B$15<E394+1,\"\",IF(J394=B$16,\"\",lookup!R387)))","v":""},"",{"$f":"IF(E395=\"\",\"\",lookup!T387)","v":""},"","",{"$f":"IF(E395=\"\",\"\",IF(lookup!U387<0,0,lookup!U387))","v":""}]
[null,null,null,null,{"$f":"IF(J395=\"\",\"\",IF(B$15<E395+1,\"\",IF(J395=B$16,\"\",lookup!R388)))","v":""},{"$f":"IF(E396=\"\",\"\",B$14)","v":""},{"$f":"IF(E396=\"\",\"\",lookup!T388)","v":""},{"$f":"IF(E396=\"\",\"\",H395+B$14)","v":""},"",{"$f":"IF(E396=\"\",\"\",IF(lookup!U388<0,0,lookup!U388))","v":""}]
[null,null,null,null,{"$f":"IF(J396=\"\",\"\",IF(B$15<E396+1,\"\",IF(J396=B$16,\"\",lookup!R389)))","v":""},"",{"$f":"IF(E397=\"\",\"\",lookup!T389)","v":""},"","",{"$f":"IF(E397=\"\",\"\",IF(lookup!U389<0,0,lookup!U389))","v":""}]
[null,null,null,null,{"$f":"IF(J397=\"\",\"\",IF(B$15<E397+1,\"\",IF(J397=B$16,\"\",lookup!R390)))","v":""},"",{"$f":"IF(E398=\"\",\"\",lookup!T390)","v":""},"","",{"$f":"IF(E398=\"\",\"\",IF(lookup!U390<0,0,lookup!U390))","v":""}]
[null,null,null,null,{"$f":"IF(J398=\"\",\"\",IF(B$15<E398+1,\"\",IF(J398=B$16,\"\",lookup!R391)))","v":""},"",{"$f":"IF(E399=\"\",\"\",lookup!T391)","v":""},"","",{"$f":"IF(E399=\"\",\"\",IF(lookup!U391<0,0,lookup!U391))","v":""}]
[null,null,null,null,{"$f":"IF(J399=\"\",\"\",IF(B$15<E399+1,\"\",IF(J399=B$16,\"\",lookup!R392)))","v":""},"",{"$f":"IF(E400=\"\",\"\",lookup!T392)","v":""},"","",{"$f":"IF(E400=\"\",\"\",IF(lookup!U392<0,0,lookup!U392))","v":""}]
[null,null,null,null,{"$f":"IF(J400=\"\",\"\",IF(B$15<E400+1,\"\",IF(J400=B$16,\"\",lookup!R393)))","v":""},"",{"$f":"IF(E401=\"\",\"\",lookup!T393)","v":""},"","",{"$f":"IF(E401=\"\",\"\",IF(lookup!U393<0,0,lookup!U393))","v":""}]
[null,null,null,null,{"$f":"IF(J401=\"\",\"\",IF(B$15<E401+1,\"\",IF(J401=B$16,\"\",lookup!R394)))","v":""},"",{"$f":"IF(E402=\"\",\"\",lookup!T394)","v":""},"","",{"$f":"IF(E402=\"\",\"\",IF(lookup!U394<0,0,lookup!U394))","v":""}]
[null,null,null,null,{"$f":"IF(J402=\"\",\"\",IF(B$15<E402+1,\"\",IF(J402=B$16,\"\",lookup!R395)))","v":""},"",{"$f":"IF(E403=\"\",\"\",lookup!T395)","v":""},"","",{"$f":"IF(E403=\"\",\"\",IF(lookup!U395<0,0,lookup!U395))","v":""}]
[null,null,null,null,{"$f":"IF(J403=\"\",\"\",IF(B$15<E403+1,\"\",IF(J403=B$16,\"\",lookup!R396)))","v":""},"",{"$f":"IF(E404=\"\",\"\",lookup!T396)","v":""},"","",{"$f":"IF(E404=\"\",\"\",IF(lookup!U396<0,0,lookup!U396))","v":""}]
[null,null,null,null,{"$f":"IF(J404=\"\",\"\",IF(B$15<E404+1,\"\",IF(J404=B$16,\"\",lookup!R397)))","v":""},"",{"$f":"IF(E405=\"\",\"\",lookup!T397)","v":""},"","",{"$f":"IF(E405=\"\",\"\",IF(lookup!U397<0,0,lookup!U397))","v":""}]
[null,null,null,null,{"$f":"IF(J405=\"\",\"\",IF(B$15<E405+1,\"\",IF(J405=B$16,\"\",lookup!R398)))","v":""},"",{"$f":"IF(E406=\"\",\"\",lookup!T398)","v":""},"","",{"$f":"IF(E406=\"\",\"\",IF(lookup!U398<0,0,lookup!U398))","v":""}]
[null,null,null,null,{"$f":"IF(J406=\"\",\"\",IF(B$15<E406+1,\"\",IF(J406=B$16,\"\",lookup!R399)))","v":""},"",{"$f":"IF(E407=\"\",\"\",lookup!T399)","v":""},"","",{"$f":"IF(E407=\"\",\"\",IF(lookup!U399<0,0,lookup!U399))","v":""}]
[null,null,null,null,{"$f":"IF(J407=\"\",\"\",IF(B$15<E407+1,\"\",IF(J407=B$16,\"\",lookup!R400)))","v":""},"",{"$f":"IF(E408=\"\",\"\",lookup!T400)","v":""},"","",{"$f":"IF(E408=\"\",\"\",IF(lookup!U400<0,0,lookup!U400))","v":""}]
[null,null,null,null,{"$f":"IF(J408=\"\",\"\",IF(B$15<E408+1,\"\",IF(J408=B$16,\"\",lookup!R401)))","v":""},"",{"$f":"IF(E409=\"\",\"\",lookup!T401)","v":""},"","",{"$f":"IF(E409=\"\",\"\",IF(lookup!U401<0,0,lookup!U401))","v":""}]
[null,null,null,null,{"$f":"IF(J409=\"\",\"\",IF(B$15<E409+1,\"\",IF(J409=B$16,\"\",lookup!R402)))","v":""},"",{"$f":"IF(E410=\"\",\"\",lookup!T402)","v":""},"","",{"$f":"IF(E410=\"\",\"\",IF(lookup!U402<0,0,lookup!U402))","v":""}]
[null,null,null,null,{"$f":"IF(J410=\"\",\"\",IF(B$15<E410+1,\"\",IF(J410=B$16,\"\",lookup!R403)))","v":""},"",{"$f":"IF(E411=\"\",\"\",lookup!T403)","v":""},"","",{"$f":"IF(E411=\"\",\"\",IF(lookup!U403<0,0,lookup!U403))","v":""}]
[null,null,null,null,{"$f":"IF(J411=\"\",\"\",IF(B$15<E411+1,\"\",IF(J411=B$16,\"\",lookup!R404)))","v":""},"",{"$f":"IF(E412=\"\",\"\",lookup!T404)","v":""},"","",{"$f":"IF(E412=\"\",\"\",IF(lookup!U404<0,0,lookup!U404))","v":""}]
[null,null,null,null,{"$f":"IF(J412=\"\",\"\",IF(B$15<E412+1,\"\",IF(J412=B$16,\"\",lookup!R405)))","v":""},"",{"$f":"IF(E413=\"\",\"\",lookup!T405)","v":""},"","",{"$f":"IF(E413=\"\",\"\",IF(lookup!U405<0,0,lookup!U405))","v":""}]
[null,null,null,null,{"$f":"IF(J413=\"\",\"\",IF(B$15<E413+1,\"\",IF(J413=B$16,\"\",lookup!R406)))","v":""},"",{"$f":"IF(E414=\"\",\"\",lookup!T406)","v":""},"","",{"$f":"IF(E414=\"\",\"\",IF(lookup!U406<0,0,lookup!U406))","v":""}]
[null,null,null,null,{"$f":"IF(J414=\"\",\"\",IF(B$15<E414+1,\"\",IF(J414=B$16,\"\",lookup!R407)))","v":""},"",{"$f":"IF(E415=\"\",\"\",lookup!T407)","v":""},"","",{"$f":"IF(E415=\"\",\"\",IF(lookup!U407<0,0,lookup!U407))","v":""}]
[null,null,null,null,{"$f":"IF(J415=\"\",\"\",IF(B$15<E415+1,\"\",IF(J415=B$16,\"\",lookup!R408)))","v":""},"",{"$f":"IF(E416=\"\",\"\",lookup!T408)","v":""},"","",{"$f":"IF(E416=\"\",\"\",IF(lookup!U408<0,0,lookup!U408))","v":""}]
[null,null,null,null,{"$f":"IF(J416=\"\",\"\",IF(B$15<E416+1,\"\",IF(J416=B$16,\"\",lookup!R409)))","v":""},"",{"$f":"IF(E417=\"\",\"\",lookup!T409)","v":""},"","",{"$f":"IF(E417=\"\",\"\",IF(lookup!U409<0,0,lookup!U409))","v":""}]
[null,null,null,null,{"$f":"IF(J417=\"\",\"\",IF(B$15<E417+1,\"\",IF(J417=B$16,\"\",lookup!R410)))","v":""},"",{"$f":"IF(E418=\"\",\"\",lookup!T410)","v":""},"","",{"$f":"IF(E418=\"\",\"\",IF(lookup!U410<0,0,lookup!U410))","v":""}]
[null,null,null,null,{"$f":"IF(J418=\"\",\"\",IF(B$15<E418+1,\"\",IF(J418=B$16,\"\",lookup!R411)))","v":""},"",{"$f":"IF(E419=\"\",\"\",lookup!T411)","v":""},"","",{"$f":"IF(E419=\"\",\"\",IF(lookup!U411<0,0,lookup!U411))","v":""}]
[null,null,null,null,{"$f":"IF(J419=\"\",\"\",IF(B$15<E419+1,\"\",IF(J419=B$16,\"\",lookup!R412)))","v":""},"",{"$f":"IF(E420=\"\",\"\",lookup!T412)","v":""},"","",{"$f":"IF(E420=\"\",\"\",IF(lookup!U412<0,0,lookup!U412))","v":""}]
[null,null,null,null,{"$f":"IF(J420=\"\",\"\",IF(B$15<E420+1,\"\",IF(J420=B$16,\"\",lookup!R413)))","v":""},"",{"$f":"IF(E421=\"\",\"\",lookup!T413)","v":""},"","",{"$f":"IF(E421=\"\",\"\",IF(lookup!U413<0,0,lookup!U413))","v":""}]
[null,null,null,null,{"$f":"IF(J421=\"\",\"\",IF(B$15<E421+1,\"\",IF(J421=B$16,\"\",lookup!R414)))","v":""},"",{"$f":"IF(E422=\"\",\"\",lookup!T414)","v":""},"","",{"$f":"IF(E422=\"\",\"\",IF(lookup!U414<0,0,lookup!U414))","v":""}]
[null,null,null,null,{"$f":"IF(J422=\"\",\"\",IF(B$15<E422+1,\"\",IF(J422=B$16,\"\",lookup!R415)))","v":""},"",{"$f":"IF(E423=\"\",\"\",lookup!T415)","v":""},"","",{"$f":"IF(E423=\"\",\"\",IF(lookup!U415<0,0,lookup!U415))","v":""}]
[null,null,null,null,{"$f":"IF(J423=\"\",\"\",IF(B$15<E423+1,\"\",IF(J423=B$16,\"\",lookup!R416)))","v":""},"",{"$f":"IF(E424=\"\",\"\",lookup!T416)","v":""},"","",{"$f":"IF(E424=\"\",\"\",IF(lookup!U416<0,0,lookup!U416))","v":""}]
[null,null,null,null,{"$f":"IF(J424=\"\",\"\",IF(B$15<E424+1,\"\",IF(J424=B$16,\"\",lookup!R417)))","v":""},"",{"$f":"IF(E425=\"\",\"\",lookup!T417)","v":""},"","",{"$f":"IF(E425=\"\",\"\",IF(lookup!U417<0,0,lookup!U417))","v":""}]
[null,null,null,null,{"$f":"IF(J425=\"\",\"\",IF(B$15<E425+1,\"\",IF(J425=B$16,\"\",lookup!R418)))","v":""},"",{"$f":"IF(E426=\"\",\"\",lookup!T418)","v":""},"","",{"$f":"IF(E426=\"\",\"\",IF(lookup!U418<0,0,lookup!U418))","v":""}]
[null,null,null,null,{"$f":"IF(J426=\"\",\"\",IF(B$15<E426+1,\"\",IF(J426=B$16,\"\",lookup!R419)))","v":""},"",{"$f":"IF(E427=\"\",\"\",lookup!T419)","v":""},"","",{"$f":"IF(E427=\"\",\"\",IF(lookup!U419<0,0,lookup!U419))","v":""}]
[null,null,null,null,{"$f":"IF(J427=\"\",\"\",IF(B$15<E427+1,\"\",IF(J427=B$16,\"\",lookup!R420)))","v":""},"",{"$f":"IF(E428=\"\",\"\",lookup!T420)","v":""},"","",{"$f":"IF(E428=\"\",\"\",IF(lookup!U420<0,0,lookup!U420))","v":""}]
[null,null,null,null,{"$f":"IF(J428=\"\",\"\",IF(B$15<E428+1,\"\",IF(J428=B$16,\"\",lookup!R421)))","v":""},"",{"$f":"IF(E429=\"\",\"\",lookup!T421)","v":""},"","",{"$f":"IF(E429=\"\",\"\",IF(lookup!U421<0,0,lookup!U421))","v":""}]
[null,null,null,null,{"$f":"IF(J429=\"\",\"\",IF(B$15<E429+1,\"\",IF(J429=B$16,\"\",lookup!R422)))","v":""},"",{"$f":"IF(E430=\"\",\"\",lookup!T422)","v":""},"","",{"$f":"IF(E430=\"\",\"\",IF(lookup!U422<0,0,lookup!U422))","v":""}]
[null,null,null,null,{"$f":"IF(J430=\"\",\"\",IF(B$15<E430+1,\"\",IF(J430=B$16,\"\",lookup!R423)))","v":""},"",{"$f":"IF(E431=\"\",\"\",lookup!T423)","v":""},"","",{"$f":"IF(E431=\"\",\"\",IF(lookup!U423<0,0,lookup!U423))","v":""}]
[null,null,null,null,{"$f":"IF(J431=\"\",\"\",IF(B$15<E431+1,\"\",IF(J431=B$16,\"\",lookup!R424)))","v":""},"",{"$f":"IF(E432=\"\",\"\",lookup!T424)","v":""},"",{"$f":"IF(E432=\"\",\"\",I431+G432)","v":""},{"$f":"IF(E432=\"\",\"\",IF(lookup!U424<0,0,lookup!U424))","v":""}]
[null,null,null,null,{"$f":"IF(J432=\"\",\"\",IF(B$15<E432+1,\"\",IF(J432=B$16,\"\",lookup!R425)))","v":""},"",{"$f":"IF(E433=\"\",\"\",lookup!T425)","v":""},"","",{"$f":"IF(E433=\"\",\"\",IF(lookup!U425<0,0,lookup!U425))","v":""}]
[null,null,null,null,{"$f":"IF(J433=\"\",\"\",IF(B$15<E433+1,\"\",IF(J433=B$16,\"\",lookup!R426)))","v":""},"",{"$f":"IF(E434=\"\",\"\",lookup!T426)","v":""},"","",{"$f":"IF(E434=\"\",\"\",IF(lookup!U426<0,0,lookup!U426))","v":""}]
[null,null,null,null,{"$f":"IF(J434=\"\",\"\",IF(B$15<E434+1,\"\",IF(J434=B$16,\"\",lookup!R427)))","v":""},"",{"$f":"IF(E435=\"\",\"\",lookup!T427)","v":""},"","",{"$f":"IF(E435=\"\",\"\",IF(lookup!U427<0,0,lookup!U427))","v":""}]
[null,null,null,null,{"$f":"IF(J435=\"\",\"\",IF(B$15<E435+1,\"\",IF(J435=B$16,\"\",lookup!R428)))","v":""},"",{"$f":"IF(E436=\"\",\"\",lookup!T428)","v":""},"","",{"$f":"IF(E436=\"\",\"\",IF(lookup!U428<0,0,lookup!U428))","v":""}]
[null,null,null,null,{"$f":"IF(J436=\"\",\"\",IF(B$15<E436+1,\"\",IF(J436=B$16,\"\",lookup!R429)))","v":""},"",{"$f":"IF(E437=\"\",\"\",lookup!T429)","v":""},"","",{"$f":"IF(E437=\"\",\"\",IF(lookup!U429<0,0,lookup!U429))","v":""}]
[null,null,null,null,{"$f":"IF(J437=\"\",\"\",IF(B$15<E437+1,\"\",IF(J437=B$16,\"\",lookup!R430)))","v":""},"",{"$f":"IF(E438=\"\",\"\",lookup!T430)","v":""},"","",{"$f":"IF(E438=\"\",\"\",IF(lookup!U430<0,0,lookup!U430))","v":""}]
[null,null,null,null,{"$f":"IF(J438=\"\",\"\",IF(B$15<E438+1,\"\",IF(J438=B$16,\"\",lookup!R431)))","v":""},"",{"$f":"IF(E439=\"\",\"\",lookup!T431)","v":""},"","",{"$f":"IF(E439=\"\",\"\",IF(lookup!U431<0,0,lookup!U431))","v":""}]
[null,null,null,null,{"$f":"IF(J439=\"\",\"\",IF(B$15<E439+1,\"\",IF(J439=B$16,\"\",lookup!R432)))","v":""},"",{"$f":"IF(E440=\"\",\"\",lookup!T432)","v":""},"","",{"$f":"IF(E440=\"\",\"\",IF(lookup!U432<0,0,lookup!U432))","v":""}]
[null,null,null,null,{"$f":"IF(J440=\"\",\"\",IF(B$15<E440+1,\"\",IF(J440=B$16,\"\",lookup!R433)))","v":""},"",{"$f":"IF(E441=\"\",\"\",lookup!T433)","v":""},"","",{"$f":"IF(E441=\"\",\"\",IF(lookup!U433<0,0,lookup!U433))","v":""}]
[null,null,null,null,{"$f":"IF(J441=\"\",\"\",IF(B$15<E441+1,\"\",IF(J441=B$16,\"\",lookup!R434)))","v":""},"",{"$f":"IF(E442=\"\",\"\",lookup!T434)","v":""},"","",{"$f":"IF(E442=\"\",\"\",IF(lookup!U434<0,0,lookup!U434))","v":""}]
[null,null,null,null,{"$f":"IF(J442=\"\",\"\",IF(B$15<E442+1,\"\",IF(J442=B$16,\"\",lookup!R435)))","v":""},"",{"$f":"IF(E443=\"\",\"\",lookup!T435)","v":""},"","",{"$f":"IF(E443=\"\",\"\",IF(lookup!U435<0,0,lookup!U435))","v":""}]
[null,null,null,null,{"$f":"IF(J443=\"\",\"\",IF(B$15<E443+1,\"\",IF(J443=B$16,\"\",lookup!R436)))","v":""},"",{"$f":"IF(E444=\"\",\"\",lookup!T436)","v":""},"","",{"$f":"IF(E444=\"\",\"\",IF(lookup!U436<0,0,lookup!U436))","v":""}]
[null,null,null,null,{"$f":"IF(J444=\"\",\"\",IF(B$15<E444+1,\"\",IF(J444=B$16,\"\",lookup!R437)))","v":""},"",{"$f":"IF(E445=\"\",\"\",lookup!T437)","v":""},"","",{"$f":"IF(E445=\"\",\"\",IF(lookup!U437<0,0,lookup!U437))","v":""}]
[null,null,null,null,{"$f":"IF(J445=\"\",\"\",IF(B$15<E445+1,\"\",IF(J445=B$16,\"\",lookup!R438)))","v":""},"",{"$f":"IF(E446=\"\",\"\",lookup!T438)","v":""},"","",{"$f":"IF(E446=\"\",\"\",IF(lookup!U438<0,0,lookup!U438))","v":""}]
[null,null,null,null,{"$f":"IF(J446=\"\",\"\",IF(B$15<E446+1,\"\",IF(J446=B$16,\"\",lookup!R439)))","v":""},"",{"$f":"IF(E447=\"\",\"\",lookup!T439)","v":""},"","",{"$f":"IF(E447=\"\",\"\",IF(lookup!U439<0,0,lookup!U439))","v":""}]
[null,null,null,null,{"$f":"IF(J447=\"\",\"\",IF(B$15<E447+1,\"\",IF(J447=B$16,\"\",lookup!R440)))","v":""},"",{"$f":"IF(E448=\"\",\"\",lookup!T440)","v":""},"","",{"$f":"IF(E448=\"\",\"\",IF(lookup!U440<0,0,lookup!U440))","v":""}]
[null,null,null,null,{"$f":"IF(J448=\"\",\"\",IF(B$15<E448+1,\"\",IF(J448=B$16,\"\",lookup!R441)))","v":""},"",{"$f":"IF(E449=\"\",\"\",lookup!T441)","v":""},"","",{"$f":"IF(E449=\"\",\"\",IF(lookup!U441<0,0,lookup!U441))","v":""}]
[null,null,null,null,{"$f":"IF(J449=\"\",\"\",IF(B$15<E449+1,\"\",IF(J449=B$16,\"\",lookup!R442)))","v":""},"",{"$f":"IF(E450=\"\",\"\",lookup!T442)","v":""},"","",{"$f":"IF(E450=\"\",\"\",IF(lookup!U442<0,0,lookup!U442))","v":""}]
[null,null,null,null,{"$f":"IF(J450=\"\",\"\",IF(B$15<E450+1,\"\",IF(J450=B$16,\"\",lookup!R443)))","v":""},"",{"$f":"IF(E451=\"\",\"\",lookup!T443)","v":""},"","",{"$f":"IF(E451=\"\",\"\",IF(lookup!U443<0,0,lookup!U443))","v":""}]
[null,null,null,null,{"$f":"IF(J451=\"\",\"\",IF(B$15<E451+1,\"\",IF(J451=B$16,\"\",lookup!R444)))","v":""},"",{"$f":"IF(E452=\"\",\"\",lookup!T444)","v":""},"","",{"$f":"IF(E452=\"\",\"\",IF(lookup!U444<0,0,lookup!U444))","v":""}]
[null,null,null,null,{"$f":"IF(J452=\"\",\"\",IF(B$15<E452+1,\"\",IF(J452=B$16,\"\",lookup!R445)))","v":""},"",{"$f":"IF(E453=\"\",\"\",lookup!T445)","v":""},"","",{"$f":"IF(E453=\"\",\"\",IF(lookup!U445<0,0,lookup!U445))","v":""}]
[null,null,null,null,{"$f":"IF(J453=\"\",\"\",IF(B$15<E453+1,\"\",IF(J453=B$16,\"\",lookup!R446)))","v":""},"",{"$f":"IF(E454=\"\",\"\",lookup!T446)","v":""},"","",{"$f":"IF(E454=\"\",\"\",IF(lookup!U446<0,0,lookup!U446))","v":""}]
[null,null,null,null,{"$f":"IF(J454=\"\",\"\",IF(B$15<E454+1,\"\",IF(J454=B$16,\"\",lookup!R447)))","v":""},"",{"$f":"IF(E455=\"\",\"\",lookup!T447)","v":""},"","",{"$f":"IF(E455=\"\",\"\",IF(lookup!U447<0,0,lookup!U447))","v":""}]
[null,null,null,null,{"$f":"IF(J455=\"\",\"\",IF(B$15<E455+1,\"\",IF(J455=B$16,\"\",lookup!R448)))","v":""},"",{"$f":"IF(E456=\"\",\"\",lookup!T448)","v":""},"","",{"$f":"IF(E456=\"\",\"\",IF(lookup!U448<0,0,lookup!U448))","v":""}]
[null,null,null,null,{"$f":"IF(J456=\"\",\"\",IF(B$15<E456+1,\"\",IF(J456=B$16,\"\",lookup!R449)))","v":""},"",{"$f":"IF(E457=\"\",\"\",lookup!T449)","v":""},"","",{"$f":"IF(E457=\"\",\"\",IF(lookup!U449<0,0,lookup!U449))","v":""}]
[null,null,null,null,{"$f":"IF(J457=\"\",\"\",IF(B$15<E457+1,\"\",IF(J457=B$16,\"\",lookup!R450)))","v":""},"",{"$f":"IF(E458=\"\",\"\",lookup!T450)","v":""},"","",{"$f":"IF(E458=\"\",\"\",IF(lookup!U450<0,0,lookup!U450))","v":""}]
[null,null,null,null,{"$f":"IF(J458=\"\",\"\",IF(B$15<E458+1,\"\",IF(J458=B$16,\"\",lookup!R451)))","v":""},"",{"$f":"IF(E459=\"\",\"\",lookup!T451)","v":""},"","",{"$f":"IF(E459=\"\",\"\",IF(lookup!U451<0,0,lookup!U451))","v":""}]
[null,null,null,null,{"$f":"IF(J459=\"\",\"\",IF(B$15<E459+1,\"\",IF(J459=B$16,\"\",lookup!R452)))","v":""},{"$f":"IF(E460=\"\",\"\",B$14)","v":""},{"$f":"IF(E460=\"\",\"\",lookup!T452)","v":""},{"$f":"IF(E460=\"\",\"\",H459+B$14)","v":""},"",{"$f":"IF(E460=\"\",\"\",IF(lookup!U452<0,0,lookup!U452))","v":""}]
[null,null,null,null,{"$f":"IF(J460=\"\",\"\",IF(B$15<E460+1,\"\",IF(J460=B$16,\"\",lookup!R453)))","v":""},"",{"$f":"IF(E461=\"\",\"\",lookup!T453)","v":""},"","",{"$f":"IF(E461=\"\",\"\",IF(lookup!U453<0,0,lookup!U453))","v":""}]
[null,null,null,null,{"$f":"IF(J461=\"\",\"\",IF(B$15<E461+1,\"\",IF(J461=B$16,\"\",lookup!R454)))","v":""},"",{"$f":"IF(E462=\"\",\"\",lookup!T454)","v":""},"","",{"$f":"IF(E462=\"\",\"\",IF(lookup!U454<0,0,lookup!U454))","v":""}]
[null,null,null,null,{"$f":"IF(J462=\"\",\"\",IF(B$15<E462+1,\"\",IF(J462=B$16,\"\",lookup!R455)))","v":""},"",{"$f":"IF(E463=\"\",\"\",lookup!T455)","v":""},"","",{"$f":"IF(E463=\"\",\"\",IF(lookup!U455<0,0,lookup!U455))","v":""}]
[null,null,null,null,{"$f":"IF(J463=\"\",\"\",IF(B$15<E463+1,\"\",IF(J463=B$16,\"\",lookup!R456)))","v":""},"",{"$f":"IF(E464=\"\",\"\",lookup!T456)","v":""},"","",{"$f":"IF(E464=\"\",\"\",IF(lookup!U456<0,0,lookup!U456))","v":""}]
[null,null,null,null,{"$f":"IF(J464=\"\",\"\",IF(B$15<E464+1,\"\",IF(J464=B$16,\"\",lookup!R457)))","v":""},"",{"$f":"IF(E465=\"\",\"\",lookup!T457)","v":""},"","",{"$f":"IF(E465=\"\",\"\",IF(lookup!U457<0,0,lookup!U457))","v":""}]
[null,null,null,null,{"$f":"IF(J465=\"\",\"\",IF(B$15<E465+1,\"\",IF(J465=B$16,\"\",lookup!R458)))","v":""},"",{"$f":"IF(E466=\"\",\"\",lookup!T458)","v":""},"","",{"$f":"IF(E466=\"\",\"\",IF(lookup!U458<0,0,lookup!U458))","v":""}]
[null,null,null,null,{"$f":"IF(J466=\"\",\"\",IF(B$15<E466+1,\"\",IF(J466=B$16,\"\",lookup!R459)))","v":""},"",{"$f":"IF(E467=\"\",\"\",lookup!T459)","v":""},"","",{"$f":"IF(E467=\"\",\"\",IF(lookup!U459<0,0,lookup!U459))","v":""}]
[null,null,null,null,{"$f":"IF(J467=\"\",\"\",IF(B$15<E467+1,\"\",IF(J467=B$16,\"\",lookup!R460)))","v":""},"",{"$f":"IF(E468=\"\",\"\",lookup!T460)","v":""},"","",{"$f":"IF(E468=\"\",\"\",IF(lookup!U460<0,0,lookup!U460))","v":""}]
[null,null,null,null,{"$f":"IF(J468=\"\",\"\",IF(B$15<E468+1,\"\",IF(J468=B$16,\"\",lookup!R461)))","v":""},"",{"$f":"IF(E469=\"\",\"\",lookup!T461)","v":""},"","",{"$f":"IF(E469=\"\",\"\",IF(lookup!U461<0,0,lookup!U461))","v":""}]
[null,null,null,null,{"$f":"IF(J469=\"\",\"\",IF(B$15<E469+1,\"\",IF(J469=B$16,\"\",lookup!R462)))","v":""},"",{"$f":"IF(E470=\"\",\"\",lookup!T462)","v":""},"","",{"$f":"IF(E470=\"\",\"\",IF(lookup!U462<0,0,lookup!U462))","v":""}]
[null,null,null,null,{"$f":"IF(J470=\"\",\"\",IF(B$15<E470+1,\"\",IF(J470=B$16,\"\",lookup!R463)))","v":""},"",{"$f":"IF(E471=\"\",\"\",lookup!T463)","v":""},"","",{"$f":"IF(E471=\"\",\"\",IF(lookup!U463<0,0,lookup!U463))","v":""}]
[null,null,null,null,{"$f":"IF(J471=\"\",\"\",IF(B$15<E471+1,\"\",IF(J471=B$16,\"\",lookup!R464)))","v":""},"",{"$f":"IF(E472=\"\",\"\",lookup!T464)","v":""},"","",{"$f":"IF(E472=\"\",\"\",IF(lookup!U464<0,0,lookup!U464))","v":""}]
[null,null,null,null,{"$f":"IF(J472=\"\",\"\",IF(B$15<E472+1,\"\",IF(J472=B$16,\"\",lookup!R465)))","v":""},"",{"$f":"IF(E473=\"\",\"\",lookup!T465)","v":""},"","",{"$f":"IF(E473=\"\",\"\",IF(lookup!U465<0,0,lookup!U465))","v":""}]
[null,null,null,null,{"$f":"IF(J473=\"\",\"\",IF(B$15<E473+1,\"\",IF(J473=B$16,\"\",lookup!R466)))","v":""},"",{"$f":"IF(E474=\"\",\"\",lookup!T466)","v":""},"","",{"$f":"IF(E474=\"\",\"\",IF(lookup!U466<0,0,lookup!U466))","v":""}]
[null,null,null,null,{"$f":"IF(J474=\"\",\"\",IF(B$15<E474+1,\"\",IF(J474=B$16,\"\",lookup!R467)))","v":""},"",{"$f":"IF(E475=\"\",\"\",lookup!T467)","v":""},"","",{"$f":"IF(E475=\"\",\"\",IF(lookup!U467<0,0,lookup!U467))","v":""}]
[null,null,null,null,{"$f":"IF(J475=\"\",\"\",IF(B$15<E475+1,\"\",IF(J475=B$16,\"\",lookup!R468)))","v":""},"",{"$f":"IF(E476=\"\",\"\",lookup!T468)","v":""},"","",{"$f":"IF(E476=\"\",\"\",IF(lookup!U468<0,0,lookup!U468))","v":""}]
[null,null,null,null,{"$f":"IF(J476=\"\",\"\",IF(B$15<E476+1,\"\",IF(J476=B$16,\"\",lookup!R469)))","v":""},"",{"$f":"IF(E477=\"\",\"\",lookup!T469)","v":""},"","",{"$f":"IF(E477=\"\",\"\",IF(lookup!U469<0,0,lookup!U469))","v":""}]
[null,null,null,null,{"$f":"IF(J477=\"\",\"\",IF(B$15<E477+1,\"\",IF(J477=B$16,\"\",lookup!R470)))","v":""},"",{"$f":"IF(E478=\"\",\"\",lookup!T470)","v":""},"","",{"$f":"IF(E478=\"\",\"\",IF(lookup!U470<0,0,lookup!U470))","v":""}]
[null,null,null,null,{"$f":"IF(J478=\"\",\"\",IF(B$15<E478+1,\"\",IF(J478=B$16,\"\",lookup!R471)))","v":""},"",{"$f":"IF(E479=\"\",\"\",lookup!T471)","v":""},"","",{"$f":"IF(E479=\"\",\"\",IF(lookup!U471<0,0,lookup!U471))","v":""}]
[null,null,null,null,{"$f":"IF(J479=\"\",\"\",IF(B$15<E479+1,\"\",IF(J479=B$16,\"\",lookup!R472)))","v":""},"",{"$f":"IF(E480=\"\",\"\",lookup!T472)","v":""},"","",{"$f":"IF(E480=\"\",\"\",IF(lookup!U472<0,0,lookup!U472))","v":""}]
[null,null,null,null,{"$f":"IF(J480=\"\",\"\",IF(B$15<E480+1,\"\",IF(J480=B$16,\"\",lookup!R473)))","v":""},"",{"$f":"IF(E481=\"\",\"\",lookup!T473)","v":""},"","",{"$f":"IF(E481=\"\",\"\",IF(lookup!U473<0,0,lookup!U473))","v":""}]
[null,null,null,null,{"$f":"IF(J481=\"\",\"\",IF(B$15<E481+1,\"\",IF(J481=B$16,\"\",lookup!R474)))","v":""},"",{"$f":"IF(E482=\"\",\"\",lookup!T474)","v":""},"","",{"$f":"IF(E482=\"\",\"\",IF(lookup!U474<0,0,lookup!U474))","v":""}]
[null,null,null,null,{"$f":"IF(J482=\"\",\"\",IF(B$15<E482+1,\"\",IF(J482=B$16,\"\",lookup!R475)))","v":""},"",{"$f":"IF(E483=\"\",\"\",lookup!T475)","v":""},"","",{"$f":"IF(E483=\"\",\"\",IF(lookup!U475<0,0,lookup!U475))","v":""}]
[null,null,null,null,{"$f":"IF(J483=\"\",\"\",IF(B$15<E483+1,\"\",IF(J483=B$16,\"\",lookup!R476)))","v":""},"",{"$f":"IF(E484=\"\",\"\",lookup!T476)","v":""},"","",{"$f":"IF(E484=\"\",\"\",IF(lookup!U476<0,0,lookup!U476))","v":""}]
[null,null,null,null,{"$f":"IF(J484=\"\",\"\",IF(B$15<E484+1,\"\",IF(J484=B$16,\"\",lookup!R477)))","v":""},"",{"$f":"IF(E485=\"\",\"\",lookup!T477)","v":""},"","",{"$f":"IF(E485=\"\",\"\",IF(lookup!U477<0,0,lookup!U477))","v":""}]
[null,null,null,null,{"$f":"IF(J485=\"\",\"\",IF(B$15<E485+1,\"\",IF(J485=B$16,\"\",lookup!R478)))","v":""},"",{"$f":"IF(E486=\"\",\"\",lookup!T478)","v":""},"","",{"$f":"IF(E486=\"\",\"\",IF(lookup!U478<0,0,lookup!U478))","v":""}]
[null,null,null,null,{"$f":"IF(J486=\"\",\"\",IF(B$15<E486+1,\"\",IF(J486=B$16,\"\",lookup!R479)))","v":""},"",{"$f":"IF(E487=\"\",\"\",lookup!T479)","v":""},"","",{"$f":"IF(E487=\"\",\"\",IF(lookup!U479<0,0,lookup!U479))","v":""}]
[null,null,null,null,{"$f":"IF(J487=\"\",\"\",IF(B$15<E487+1,\"\",IF(J487=B$16,\"\",lookup!R480)))","v":""},"",{"$f":"IF(E488=\"\",\"\",lookup!T480)","v":""},"","",{"$f":"IF(E488=\"\",\"\",IF(lookup!U480<0,0,lookup!U480))","v":""}]
[null,null,null,null,{"$f":"IF(J488=\"\",\"\",IF(B$15<E488+1,\"\",IF(J488=B$16,\"\",lookup!R481)))","v":""},"",{"$f":"IF(E489=\"\",\"\",lookup!T481)","v":""},"","",{"$f":"IF(E489=\"\",\"\",IF(lookup!U481<0,0,lookup!U481))","v":""}]
[null,null,null,null,{"$f":"IF(J489=\"\",\"\",IF(B$15<E489+1,\"\",IF(J489=B$16,\"\",lookup!R482)))","v":""},"",{"$f":"IF(E490=\"\",\"\",lookup!T482)","v":""},"","",{"$f":"IF(E490=\"\",\"\",IF(lookup!U482<0,0,lookup!U482))","v":""}]
[null,null,null,null,{"$f":"IF(J490=\"\",\"\",IF(B$15<E490+1,\"\",IF(J490=B$16,\"\",lookup!R483)))","v":""},"",{"$f":"IF(E491=\"\",\"\",lookup!T483)","v":""},"","",{"$f":"IF(E491=\"\",\"\",IF(lookup!U483<0,0,lookup!U483))","v":""}]
[null,null,null,null,{"$f":"IF(J491=\"\",\"\",IF(B$15<E491+1,\"\",IF(J491=B$16,\"\",lookup!R484)))","v":""},"",{"$f":"IF(E492=\"\",\"\",lookup!T484)","v":""},"","",{"$f":"IF(E492=\"\",\"\",IF(lookup!U484<0,0,lookup!U484))","v":""}]
[null,null,null,null,{"$f":"IF(J492=\"\",\"\",IF(B$15<E492+1,\"\",IF(J492=B$16,\"\",lookup!R485)))","v":""},"",{"$f":"IF(E493=\"\",\"\",lookup!T485)","v":""},"","",{"$f":"IF(E493=\"\",\"\",IF(lookup!U485<0,0,lookup!U485))","v":""}]
[null,null,null,null,{"$f":"IF(J493=\"\",\"\",IF(B$15<E493+1,\"\",IF(J493=B$16,\"\",lookup!R486)))","v":""},"",{"$f":"IF(E494=\"\",\"\",lookup!T486)","v":""},"","",{"$f":"IF(E494=\"\",\"\",IF(lookup!U486<0,0,lookup!U486))","v":""}]
[null,null,null,null,{"$f":"IF(J494=\"\",\"\",IF(B$15<E494+1,\"\",IF(J494=B$16,\"\",lookup!R487)))","v":""},"",{"$f":"IF(E495=\"\",\"\",lookup!T487)","v":""},"","",{"$f":"IF(E495=\"\",\"\",IF(lookup!U487<0,0,lookup!U487))","v":""}]
[null,null,null,null,{"$f":"IF(J495=\"\",\"\",IF(B$15<E495+1,\"\",IF(J495=B$16,\"\",lookup!R488)))","v":""},"",{"$f":"IF(E496=\"\",\"\",lookup!T488)","v":""},"",{"$f":"IF(E496=\"\",\"\",I495+G496)","v":""},{"$f":"IF(E496=\"\",\"\",IF(lookup!U488<0,0,lookup!U488))","v":""}]
[null,null,null,null,{"$f":"IF(J496=\"\",\"\",IF(B$15<E496+1,\"\",IF(J496=B$16,\"\",lookup!R489)))","v":""},"",{"$f":"IF(E497=\"\",\"\",lookup!T489)","v":""},"","",{"$f":"IF(E497=\"\",\"\",IF(lookup!U489<0,0,lookup!U489))","v":""}]
[null,null,null,null,{"$f":"IF(J497=\"\",\"\",IF(B$15<E497+1,\"\",IF(J497=B$16,\"\",lookup!R490)))","v":""},"",{"$f":"IF(E498=\"\",\"\",lookup!T490)","v":""},"","",{"$f":"IF(E498=\"\",\"\",IF(lookup!U490<0,0,lookup!U490))","v":""}]
[null,null,null,null,{"$f":"IF(J498=\"\",\"\",IF(B$15<E498+1,\"\",IF(J498=B$16,\"\",lookup!R491)))","v":""},"",{"$f":"IF(E499=\"\",\"\",lookup!T491)","v":""},"","",{"$f":"IF(E499=\"\",\"\",IF(lookup!U491<0,0,lookup!U491))","v":""}]
[null,null,null,null,{"$f":"IF(J499=\"\",\"\",IF(B$15<E499+1,\"\",IF(J499=B$16,\"\",lookup!R492)))","v":""},"",{"$f":"IF(E500=\"\",\"\",lookup!T492)","v":""},"","",{"$f":"IF(E500=\"\",\"\",IF(lookup!U492<0,0,lookup!U492))","v":""}]
[null,null,null,null,{"$f":"IF(J500=\"\",\"\",IF(B$15<E500+1,\"\",IF(J500=B$16,\"\",lookup!R493)))","v":""},"",{"$f":"IF(E501=\"\",\"\",lookup!T493)","v":""},"","",{"$f":"IF(E501=\"\",\"\",IF(lookup!U493<0,0,lookup!U493))","v":""}]
[null,null,null,null,{"$f":"IF(J501=\"\",\"\",IF(B$15<E501+1,\"\",IF(J501=B$16,\"\",lookup!R494)))","v":""},"",{"$f":"IF(E502=\"\",\"\",lookup!T494)","v":""},"","",{"$f":"IF(E502=\"\",\"\",IF(lookup!U494<0,0,lookup!U494))","v":""}]
[null,null,null,null,{"$f":"IF(J502=\"\",\"\",IF(B$15<E502+1,\"\",IF(J502=B$16,\"\",lookup!R495)))","v":""},"",{"$f":"IF(E503=\"\",\"\",lookup!T495)","v":""},"","",{"$f":"IF(E503=\"\",\"\",IF(lookup!U495<0,0,lookup!U495))","v":""}]
[null,null,null,null,{"$f":"IF(J503=\"\",\"\",IF(B$15<E503+1,\"\",IF(J503=B$16,\"\",lookup!R496)))","v":""},"",{"$f":"IF(E504=\"\",\"\",lookup!T496)","v":""},"","",{"$f":"IF(E504=\"\",\"\",IF(lookup!U496<0,0,lookup!U496))","v":""}]
[null,null,null,null,{"$f":"IF(J504=\"\",\"\",IF(B$15<E504+1,\"\",IF(J504=B$16,\"\",lookup!R497)))","v":""},"",{"$f":"IF(E505=\"\",\"\",lookup!T497)","v":""},"","",{"$f":"IF(E505=\"\",\"\",IF(lookup!U497<0,0,lookup!U497))","v":""}]
[null,null,null,null,{"$f":"IF(J505=\"\",\"\",IF(B$15<E505+1,\"\",IF(J505=B$16,\"\",lookup!R498)))","v":""},"",{"$f":"IF(E506=\"\",\"\",lookup!T498)","v":""},"","",{"$f":"IF(E506=\"\",\"\",IF(lookup!U498<0,0,lookup!U498))","v":""}]
[null,null,null,null,{"$f":"IF(J506=\"\",\"\",IF(B$15<E506+1,\"\",IF(J506=B$16,\"\",lookup!R499)))","v":""},"",{"$f":"IF(E507=\"\",\"\",lookup!T499)","v":""},"","",{"$f":"IF(E507=\"\",\"\",IF(lookup!U499<0,0,lookup!U499))","v":""}]
[null,null,null,null,{"$f":"IF(J507=\"\",\"\",IF(B$15<E507+1,\"\",IF(J507=B$16,\"\",lookup!R500)))","v":""},"",{"$f":"IF(E508=\"\",\"\",lookup!T500)","v":""},"","",{"$f":"IF(E508=\"\",\"\",IF(lookup!U500<0,0,lookup!U500))","v":""}]
[null,null,null,null,{"$f":"IF(J508=\"\",\"\",IF(B$15<E508+1,\"\",IF(J508=B$16,\"\",lookup!R501)))","v":""},"",{"$f":"IF(E509=\"\",\"\",lookup!T501)","v":""},"","",{"$f":"IF(E509=\"\",\"\",IF(lookup!U501<0,0,lookup!U501))","v":""}]
[null,null,null,null,{"$f":"IF(J509=\"\",\"\",IF(B$15<E509+1,\"\",IF(J509=B$16,\"\",lookup!R502)))","v":""},"",{"$f":"IF(E510=\"\",\"\",lookup!T502)","v":""},"","",{"$f":"IF(E510=\"\",\"\",IF(lookup!U502<0,0,lookup!U502))","v":""}]
[null,null,null,null,{"$f":"IF(J510=\"\",\"\",IF(B$15<E510+1,\"\",IF(J510=B$16,\"\",lookup!R503)))","v":""},"",{"$f":"IF(E511=\"\",\"\",lookup!T503)","v":""},"","",{"$f":"IF(E511=\"\",\"\",IF(lookup!U503<0,0,lookup!U503))","v":""}]
[null,null,null,null,{"$f":"IF(J511=\"\",\"\",IF(B$15<E511+1,\"\",IF(J511=B$16,\"\",lookup!R504)))","v":""},"",{"$f":"IF(E512=\"\",\"\",lookup!T504)","v":""},"","",{"$f":"IF(E512=\"\",\"\",IF(lookup!U504<0,0,lookup!U504))","v":""}]
[null,null,null,null,{"$f":"IF(J512=\"\",\"\",IF(B$15<E512+1,\"\",IF(J512=B$16,\"\",lookup!R505)))","v":""},"",{"$f":"IF(E513=\"\",\"\",lookup!T505)","v":""},"","",{"$f":"IF(E513=\"\",\"\",IF(lookup!U505<0,0,lookup!U505))","v":""}]
[null,null,null,null,{"$f":"IF(J513=\"\",\"\",IF(B$15<E513+1,\"\",IF(J513=B$16,\"\",lookup!R506)))","v":""},"",{"$f":"IF(E514=\"\",\"\",lookup!T506)","v":""},"","",{"$f":"IF(E514=\"\",\"\",IF(lookup!U506<0,0,lookup!U506))","v":""}]
[null,null,null,null,{"$f":"IF(J514=\"\",\"\",IF(B$15<E514+1,\"\",IF(J514=B$16,\"\",lookup!R507)))","v":""},"",{"$f":"IF(E515=\"\",\"\",lookup!T507)","v":""},"","",{"$f":"IF(E515=\"\",\"\",IF(lookup!U507<0,0,lookup!U507))","v":""}]
[null,null,null,null,{"$f":"IF(J515=\"\",\"\",IF(B$15<E515+1,\"\",IF(J515=B$16,\"\",lookup!R508)))","v":""},"",{"$f":"IF(E516=\"\",\"\",lookup!T508)","v":""},"","",{"$f":"IF(E516=\"\",\"\",IF(lookup!U508<0,0,lookup!U508))","v":""}]
[null,null,null,null,{"$f":"IF(J516=\"\",\"\",IF(B$15<E516+1,\"\",IF(J516=B$16,\"\",lookup!R509)))","v":""},"",{"$f":"IF(E517=\"\",\"\",lookup!T509)","v":""},"","",{"$f":"IF(E517=\"\",\"\",IF(lookup!U509<0,0,lookup!U509))","v":""}]
[null,null,null,null,{"$f":"IF(J517=\"\",\"\",IF(B$15<E517+1,\"\",IF(J517=B$16,\"\",lookup!R510)))","v":""},"",{"$f":"IF(E518=\"\",\"\",lookup!T510)","v":""},"","",{"$f":"IF(E518=\"\",\"\",IF(lookup!U510<0,0,lookup!U510))","v":""}]
[null,null,null,null,{"$f":"IF(J518=\"\",\"\",IF(B$15<E518+1,\"\",IF(J518=B$16,\"\",lookup!R511)))","v":""},"",{"$f":"IF(E519=\"\",\"\",lookup!T511)","v":""},"","",{"$f":"IF(E519=\"\",\"\",IF(lookup!U511<0,0,lookup!U511))","v":""}]
[null,null,null,null,{"$f":"IF(J519=\"\",\"\",IF(B$15<E519+1,\"\",IF(J519=B$16,\"\",lookup!R512)))","v":""},"",{"$f":"IF(E520=\"\",\"\",lookup!T512)","v":""},"","",{"$f":"IF(E520=\"\",\"\",IF(lookup!U512<0,0,lookup!U512))","v":""}]
[null,null,null,null,{"$f":"IF(J520=\"\",\"\",IF(B$15<E520+1,\"\",IF(J520=B$16,\"\",lookup!R513)))","v":""},"",{"$f":"IF(E521=\"\",\"\",lookup!T513)","v":""},"","",{"$f":"IF(E521=\"\",\"\",IF(lookup!U513<0,0,lookup!U513))","v":""}]
[null,null,null,null,{"$f":"IF(J521=\"\",\"\",IF(B$15<E521+1,\"\",IF(J521=B$16,\"\",lookup!R514)))","v":""},"",{"$f":"IF(E522=\"\",\"\",lookup!T514)","v":""},"","",{"$f":"IF(E522=\"\",\"\",IF(lookup!U514<0,0,lookup!U514))","v":""}]
[null,null,null,null,{"$f":"IF(J522=\"\",\"\",IF(B$15<E522+1,\"\",IF(J522=B$16,\"\",lookup!R515)))","v":""},"",{"$f":"IF(E523=\"\",\"\",lookup!T515)","v":""},"","",{"$f":"IF(E523=\"\",\"\",IF(lookup!U515<0,0,lookup!U515))","v":""}]
[null,null,null,null,{"$f":"IF(J523=\"\",\"\",IF(B$15<E523+1,\"\",IF(J523=B$16,\"\",lookup!R516)))","v":""},{"$f":"IF(E524=\"\",\"\",B$14)","v":""},{"$f":"IF(E524=\"\",\"\",lookup!T516)","v":""},{"$f":"IF(E524=\"\",\"\",H523+B$14)","v":""},"",{"$f":"IF(E524=\"\",\"\",IF(lookup!U516<0,0,lookup!U516))","v":""}]
[null,null,null,null,{"$f":"IF(J524=\"\",\"\",IF(B$15<E524+1,\"\",IF(J524=B$16,\"\",lookup!R517)))","v":""},"",{"$f":"IF(E525=\"\",\"\",lookup!T517)","v":""},"","",{"$f":"IF(E525=\"\",\"\",IF(lookup!U517<0,0,lookup!U517))","v":""}]
[null,null,null,null,{"$f":"IF(J525=\"\",\"\",IF(B$15<E525+1,\"\",IF(J525=B$16,\"\",lookup!R518)))","v":""},"",{"$f":"IF(E526=\"\",\"\",lookup!T518)","v":""},"","",{"$f":"IF(E526=\"\",\"\",IF(lookup!U518<0,0,lookup!U518))","v":""}]
[null,null,null,null,{"$f":"IF(J526=\"\",\"\",IF(B$15<E526+1,\"\",IF(J526=B$16,\"\",lookup!R519)))","v":""},"",{"$f":"IF(E527=\"\",\"\",lookup!T519)","v":""},"","",{"$f":"IF(E527=\"\",\"\",IF(lookup!U519<0,0,lookup!U519))","v":""}]
[null,null,null,null,{"$f":"IF(J527=\"\",\"\",IF(B$15<E527+1,\"\",IF(J527=B$16,\"\",lookup!R520)))","v":""},"",{"$f":"IF(E528=\"\",\"\",lookup!T520)","v":""},"","",{"$f":"IF(E528=\"\",\"\",IF(lookup!U520<0,0,lookup!U520))","v":""}]
[null,null,null,null,{"$f":"IF(J528=\"\",\"\",IF(B$15<E528+1,\"\",IF(J528=B$16,\"\",lookup!R521)))","v":""},"",{"$f":"IF(E529=\"\",\"\",lookup!T521)","v":""},"","",{"$f":"IF(E529=\"\",\"\",IF(lookup!U521<0,0,lookup!U521))","v":""}]
[null,null,null,null,{"$f":"IF(J529=\"\",\"\",IF(B$15<E529+1,\"\",IF(J529=B$16,\"\",lookup!R522)))","v":""},"",{"$f":"IF(E530=\"\",\"\",lookup!T522)","v":""},"","",{"$f":"IF(E530=\"\",\"\",IF(lookup!U522<0,0,lookup!U522))","v":""}]
[null,null,null,null,{"$f":"IF(J530=\"\",\"\",IF(B$15<E530+1,\"\",IF(J530=B$16,\"\",lookup!R523)))","v":""},"",{"$f":"IF(E531=\"\",\"\",lookup!T523)","v":""},"","",{"$f":"IF(E531=\"\",\"\",IF(lookup!U523<0,0,lookup!U523))","v":""}]
[null,null,null,null,{"$f":"IF(J531=\"\",\"\",IF(B$15<E531+1,\"\",IF(J531=B$16,\"\",lookup!R524)))","v":""},"",{"$f":"IF(E532=\"\",\"\",lookup!T524)","v":""},"","",{"$f":"IF(E532=\"\",\"\",IF(lookup!U524<0,0,lookup!U524))","v":""}]
[null,null,null,null,{"$f":"IF(J532=\"\",\"\",IF(B$15<E532+1,\"\",IF(J532=B$16,\"\",lookup!R525)))","v":""},"",{"$f":"IF(E533=\"\",\"\",lookup!T525)","v":""},"","",{"$f":"IF(E533=\"\",\"\",IF(lookup!U525<0,0,lookup!U525))","v":""}]
[null,null,null,null,{"$f":"IF(J533=\"\",\"\",IF(B$15<E533+1,\"\",IF(J533=B$16,\"\",lookup!R526)))","v":""},"",{"$f":"IF(E534=\"\",\"\",lookup!T526)","v":""},"","",{"$f":"IF(E534=\"\",\"\",IF(lookup!U526<0,0,lookup!U526))","v":""}]
[null,null,null,null,{"$f":"IF(J534=\"\",\"\",IF(B$15<E534+1,\"\",IF(J534=B$16,\"\",lookup!R527)))","v":""},"",{"$f":"IF(E535=\"\",\"\",lookup!T527)","v":""},"","",{"$f":"IF(E535=\"\",\"\",IF(lookup!U527<0,0,lookup!U527))","v":""}]
[null,null,null,null,{"$f":"IF(J535=\"\",\"\",IF(B$15<E535+1,\"\",IF(J535=B$16,\"\",lookup!R528)))","v":""},"",{"$f":"IF(E536=\"\",\"\",lookup!T528)","v":""},"","",{"$f":"IF(E536=\"\",\"\",IF(lookup!U528<0,0,lookup!U528))","v":""}]
[null,null,null,null,{"$f":"IF(J536=\"\",\"\",IF(B$15<E536+1,\"\",IF(J536=B$16,\"\",lookup!R529)))","v":""},"",{"$f":"IF(E537=\"\",\"\",lookup!T529)","v":""},"","",{"$f":"IF(E537=\"\",\"\",IF(lookup!U529<0,0,lookup!U529))","v":""}]
[null,null,null,null,{"$f":"IF(J537=\"\",\"\",IF(B$15<E537+1,\"\",IF(J537=B$16,\"\",lookup!R530)))","v":""},"",{"$f":"IF(E538=\"\",\"\",lookup!T530)","v":""},"","",{"$f":"IF(E538=\"\",\"\",IF(lookup!U530<0,0,lookup!U530))","v":""}]
[null,null,null,null,{"$f":"IF(J538=\"\",\"\",IF(B$15<E538+1,\"\",IF(J538=B$16,\"\",lookup!R531)))","v":""},"",{"$f":"IF(E539=\"\",\"\",lookup!T531)","v":""},"","",{"$f":"IF(E539=\"\",\"\",IF(lookup!U531<0,0,lookup!U531))","v":""}]
[null,null,null,null,{"$f":"IF(J539=\"\",\"\",IF(B$15<E539+1,\"\",IF(J539=B$16,\"\",lookup!R532)))","v":""},"",{"$f":"IF(E540=\"\",\"\",lookup!T532)","v":""},"","",{"$f":"IF(E540=\"\",\"\",IF(lookup!U532<0,0,lookup!U532))","v":""}]
[null,null,null,null,{"$f":"IF(J540=\"\",\"\",IF(B$15<E540+1,\"\",IF(J540=B$16,\"\",lookup!R533)))","v":""},"",{"$f":"IF(E541=\"\",\"\",lookup!T533)","v":""},"","",{"$f":"IF(E541=\"\",\"\",IF(lookup!U533<0,0,lookup!U533))","v":""}]
[null,null,null,null,{"$f":"IF(J541=\"\",\"\",IF(B$15<E541+1,\"\",IF(J541=B$16,\"\",lookup!R534)))","v":""},"",{"$f":"IF(E542=\"\",\"\",lookup!T534)","v":""},"","",{"$f":"IF(E542=\"\",\"\",IF(lookup!U534<0,0,lookup!U534))","v":""}]
[null,null,null,null,{"$f":"IF(J542=\"\",\"\",IF(B$15<E542+1,\"\",IF(J542=B$16,\"\",lookup!R535)))","v":""},"",{"$f":"IF(E543=\"\",\"\",lookup!T535)","v":""},"","",{"$f":"IF(E543=\"\",\"\",IF(lookup!U535<0,0,lookup!U535))","v":""}]
[null,null,null,null,{"$f":"IF(J543=\"\",\"\",IF(B$15<E543+1,\"\",IF(J543=B$16,\"\",lookup!R536)))","v":""},"",{"$f":"IF(E544=\"\",\"\",lookup!T536)","v":""},"","",{"$f":"IF(E544=\"\",\"\",IF(lookup!U536<0,0,lookup!U536))","v":""}]
[null,null,null,null,{"$f":"IF(J544=\"\",\"\",IF(B$15<E544+1,\"\",IF(J544=B$16,\"\",lookup!R537)))","v":""},"",{"$f":"IF(E545=\"\",\"\",lookup!T537)","v":""},"","",{"$f":"IF(E545=\"\",\"\",IF(lookup!U537<0,0,lookup!U537))","v":""}]
[null,null,null,null,{"$f":"IF(J545=\"\",\"\",IF(B$15<E545+1,\"\",IF(J545=B$16,\"\",lookup!R538)))","v":""},"",{"$f":"IF(E546=\"\",\"\",lookup!T538)","v":""},"","",{"$f":"IF(E546=\"\",\"\",IF(lookup!U538<0,0,lookup!U538))","v":""}]
[null,null,null,null,{"$f":"IF(J546=\"\",\"\",IF(B$15<E546+1,\"\",IF(J546=B$16,\"\",lookup!R539)))","v":""},"",{"$f":"IF(E547=\"\",\"\",lookup!T539)","v":""},"","",{"$f":"IF(E547=\"\",\"\",IF(lookup!U539<0,0,lookup!U539))","v":""}]
[null,null,null,null,{"$f":"IF(J547=\"\",\"\",IF(B$15<E547+1,\"\",IF(J547=B$16,\"\",lookup!R540)))","v":""},"",{"$f":"IF(E548=\"\",\"\",lookup!T540)","v":""},"","",{"$f":"IF(E548=\"\",\"\",IF(lookup!U540<0,0,lookup!U540))","v":""}]
[null,null,null,null,{"$f":"IF(J548=\"\",\"\",IF(B$15<E548+1,\"\",IF(J548=B$16,\"\",lookup!R541)))","v":""},"",{"$f":"IF(E549=\"\",\"\",lookup!T541)","v":""},"","",{"$f":"IF(E549=\"\",\"\",IF(lookup!U541<0,0,lookup!U541))","v":""}]
[null,null,null,null,{"$f":"IF(J549=\"\",\"\",IF(B$15<E549+1,\"\",IF(J549=B$16,\"\",lookup!R542)))","v":""},"",{"$f":"IF(E550=\"\",\"\",lookup!T542)","v":""},"","",{"$f":"IF(E550=\"\",\"\",IF(lookup!U542<0,0,lookup!U542))","v":""}]
[null,null,null,null,{"$f":"IF(J550=\"\",\"\",IF(B$15<E550+1,\"\",IF(J550=B$16,\"\",lookup!R543)))","v":""},"",{"$f":"IF(E551=\"\",\"\",lookup!T543)","v":""},"","",{"$f":"IF(E551=\"\",\"\",IF(lookup!U543<0,0,lookup!U543))","v":""}]
[null,null,null,null,{"$f":"IF(J551=\"\",\"\",IF(B$15<E551+1,\"\",IF(J551=B$16,\"\",lookup!R544)))","v":""},"",{"$f":"IF(E552=\"\",\"\",lookup!T544)","v":""},"","",{"$f":"IF(E552=\"\",\"\",IF(lookup!U544<0,0,lookup!U544))","v":""}]
[null,null,null,null,{"$f":"IF(J552=\"\",\"\",IF(B$15<E552+1,\"\",IF(J552=B$16,\"\",lookup!R545)))","v":""},"",{"$f":"IF(E553=\"\",\"\",lookup!T545)","v":""},"","",{"$f":"IF(E553=\"\",\"\",IF(lookup!U545<0,0,lookup!U545))","v":""}]
[null,null,null,null,{"$f":"IF(J553=\"\",\"\",IF(B$15<E553+1,\"\",IF(J553=B$16,\"\",lookup!R546)))","v":""},"",{"$f":"IF(E554=\"\",\"\",lookup!T546)","v":""},"","",{"$f":"IF(E554=\"\",\"\",IF(lookup!U546<0,0,lookup!U546))","v":""}]
[null,null,null,null,{"$f":"IF(J554=\"\",\"\",IF(B$15<E554+1,\"\",IF(J554=B$16,\"\",lookup!R547)))","v":""},"",{"$f":"IF(E555=\"\",\"\",lookup!T547)","v":""},"","",{"$f":"IF(E555=\"\",\"\",IF(lookup!U547<0,0,lookup!U547))","v":""}]
[null,null,null,null,{"$f":"IF(J555=\"\",\"\",IF(B$15<E555+1,\"\",IF(J555=B$16,\"\",lookup!R548)))","v":""},"",{"$f":"IF(E556=\"\",\"\",lookup!T548)","v":""},"","",{"$f":"IF(E556=\"\",\"\",IF(lookup!U548<0,0,lookup!U548))","v":""}]
[null,null,null,null,{"$f":"IF(J556=\"\",\"\",IF(B$15<E556+1,\"\",IF(J556=B$16,\"\",lookup!R549)))","v":""},"",{"$f":"IF(E557=\"\",\"\",lookup!T549)","v":""},"","",{"$f":"IF(E557=\"\",\"\",IF(lookup!U549<0,0,lookup!U549))","v":""}]
[null,null,null,null,{"$f":"IF(J557=\"\",\"\",IF(B$15<E557+1,\"\",IF(J557=B$16,\"\",lookup!R550)))","v":""},"",{"$f":"IF(E558=\"\",\"\",lookup!T550)","v":""},"","",{"$f":"IF(E558=\"\",\"\",IF(lookup!U550<0,0,lookup!U550))","v":""}]
[null,null,null,null,{"$f":"IF(J558=\"\",\"\",IF(B$15<E558+1,\"\",IF(J558=B$16,\"\",lookup!R551)))","v":""},"",{"$f":"IF(E559=\"\",\"\",lookup!T551)","v":""},"","",{"$f":"IF(E559=\"\",\"\",IF(lookup!U551<0,0,lookup!U551))","v":""}]
[null,null,null,null,{"$f":"IF(J559=\"\",\"\",IF(B$15<E559+1,\"\",IF(J559=B$16,\"\",lookup!R552)))","v":""},"",{"$f":"IF(E560=\"\",\"\",lookup!T552)","v":""},"",{"$f":"IF(E560=\"\",\"\",I559+G560)","v":""},{"$f":"IF(E560=\"\",\"\",IF(lookup!U552<0,0,lookup!U552))","v":""}]
[null,null,null,null,{"$f":"IF(J560=\"\",\"\",IF(B$15<E560+1,\"\",IF(J560=B$16,\"\",lookup!R553)))","v":""},"",{"$f":"IF(E561=\"\",\"\",lookup!T553)","v":""},"","",{"$f":"IF(E561=\"\",\"\",IF(lookup!U553<0,0,lookup!U553))","v":""}]
[null,null,null,null,{"$f":"IF(J561=\"\",\"\",IF(B$15<E561+1,\"\",IF(J561=B$16,\"\",lookup!R554)))","v":""},"",{"$f":"IF(E562=\"\",\"\",lookup!T554)","v":""},"","",{"$f":"IF(E562=\"\",\"\",IF(lookup!U554<0,0,lookup!U554))","v":""}]
[null,null,null,null,{"$f":"IF(J562=\"\",\"\",IF(B$15<E562+1,\"\",IF(J562=B$16,\"\",lookup!R555)))","v":""},"",{"$f":"IF(E563=\"\",\"\",lookup!T555)","v":""},"","",{"$f":"IF(E563=\"\",\"\",IF(lookup!U555<0,0,lookup!U555))","v":""}]
[null,null,null,null,{"$f":"IF(J563=\"\",\"\",IF(B$15<E563+1,\"\",IF(J563=B$16,\"\",lookup!R556)))","v":""},"",{"$f":"IF(E564=\"\",\"\",lookup!T556)","v":""},"","",{"$f":"IF(E564=\"\",\"\",IF(lookup!U556<0,0,lookup!U556))","v":""}]
[null,null,null,null,{"$f":"IF(J564=\"\",\"\",IF(B$15<E564+1,\"\",IF(J564=B$16,\"\",lookup!R557)))","v":""},"",{"$f":"IF(E565=\"\",\"\",lookup!T557)","v":""},"","",{"$f":"IF(E565=\"\",\"\",IF(lookup!U557<0,0,lookup!U557))","v":""}]
[null,null,null,null,{"$f":"IF(J565=\"\",\"\",IF(B$15<E565+1,\"\",IF(J565=B$16,\"\",lookup!R558)))","v":""},"",{"$f":"IF(E566=\"\",\"\",lookup!T558)","v":""},"","",{"$f":"IF(E566=\"\",\"\",IF(lookup!U558<0,0,lookup!U558))","v":""}]
[null,null,null,null,{"$f":"IF(J566=\"\",\"\",IF(B$15<E566+1,\"\",IF(J566=B$16,\"\",lookup!R559)))","v":""},"",{"$f":"IF(E567=\"\",\"\",lookup!T559)","v":""},"","",{"$f":"IF(E567=\"\",\"\",IF(lookup!U559<0,0,lookup!U559))","v":""}]
[null,null,null,null,{"$f":"IF(J567=\"\",\"\",IF(B$15<E567+1,\"\",IF(J567=B$16,\"\",lookup!R560)))","v":""},"",{"$f":"IF(E568=\"\",\"\",lookup!T560)","v":""},"","",{"$f":"IF(E568=\"\",\"\",IF(lookup!U560<0,0,lookup!U560))","v":""}]
[null,null,null,null,{"$f":"IF(J568=\"\",\"\",IF(B$15<E568+1,\"\",IF(J568=B$16,\"\",lookup!R561)))","v":""},"",{"$f":"IF(E569=\"\",\"\",lookup!T561)","v":""},"","",{"$f":"IF(E569=\"\",\"\",IF(lookup!U561<0,0,lookup!U561))","v":""}]
[null,null,null,null,{"$f":"IF(J569=\"\",\"\",IF(B$15<E569+1,\"\",IF(J569=B$16,\"\",lookup!R562)))","v":""},"",{"$f":"IF(E570=\"\",\"\",lookup!T562)","v":""},"","",{"$f":"IF(E570=\"\",\"\",IF(lookup!U562<0,0,lookup!U562))","v":""}]
[null,null,null,null,{"$f":"IF(J570=\"\",\"\",IF(B$15<E570+1,\"\",IF(J570=B$16,\"\",lookup!R563)))","v":""},"",{"$f":"IF(E571=\"\",\"\",lookup!T563)","v":""},"","",{"$f":"IF(E571=\"\",\"\",IF(lookup!U563<0,0,lookup!U563))","v":""}]
[null,null,null,null,{"$f":"IF(J571=\"\",\"\",IF(B$15<E571+1,\"\",IF(J571=B$16,\"\",lookup!R564)))","v":""},"",{"$f":"IF(E572=\"\",\"\",lookup!T564)","v":""},"","",{"$f":"IF(E572=\"\",\"\",IF(lookup!U564<0,0,lookup!U564))","v":""}]
[null,null,null,null,{"$f":"IF(J572=\"\",\"\",IF(B$15<E572+1,\"\",IF(J572=B$16,\"\",lookup!R565)))","v":""},"",{"$f":"IF(E573=\"\",\"\",lookup!T565)","v":""},"","",{"$f":"IF(E573=\"\",\"\",IF(lookup!U565<0,0,lookup!U565))","v":""}]
[null,null,null,null,{"$f":"IF(J573=\"\",\"\",IF(B$15<E573+1,\"\",IF(J573=B$16,\"\",lookup!R566)))","v":""},"",{"$f":"IF(E574=\"\",\"\",lookup!T566)","v":""},"","",{"$f":"IF(E574=\"\",\"\",IF(lookup!U566<0,0,lookup!U566))","v":""}]
[null,null,null,null,{"$f":"IF(J574=\"\",\"\",IF(B$15<E574+1,\"\",IF(J574=B$16,\"\",lookup!R567)))","v":""},"",{"$f":"IF(E575=\"\",\"\",lookup!T567)","v":""},"","",{"$f":"IF(E575=\"\",\"\",IF(lookup!U567<0,0,lookup!U567))","v":""}]
[null,null,null,null,{"$f":"IF(J575=\"\",\"\",IF(B$15<E575+1,\"\",IF(J575=B$16,\"\",lookup!R568)))","v":""},"",{"$f":"IF(E576=\"\",\"\",lookup!T568)","v":""},"","",{"$f":"IF(E576=\"\",\"\",IF(lookup!U568<0,0,lookup!U568))","v":""}]
[null,null,null,null,{"$f":"IF(J576=\"\",\"\",IF(B$15<E576+1,\"\",IF(J576=B$16,\"\",lookup!R569)))","v":""},"",{"$f":"IF(E577=\"\",\"\",lookup!T569)","v":""},"","",{"$f":"IF(E577=\"\",\"\",IF(lookup!U569<0,0,lookup!U569))","v":""}]
[null,null,null,null,{"$f":"IF(J577=\"\",\"\",IF(B$15<E577+1,\"\",IF(J577=B$16,\"\",lookup!R570)))","v":""},"",{"$f":"IF(E578=\"\",\"\",lookup!T570)","v":""},"","",{"$f":"IF(E578=\"\",\"\",IF(lookup!U570<0,0,lookup!U570))","v":""}]
[null,null,null,null,{"$f":"IF(J578=\"\",\"\",IF(B$15<E578+1,\"\",IF(J578=B$16,\"\",lookup!R571)))","v":""},"",{"$f":"IF(E579=\"\",\"\",lookup!T571)","v":""},"","",{"$f":"IF(E579=\"\",\"\",IF(lookup!U571<0,0,lookup!U571))","v":""}]
[null,null,null,null,{"$f":"IF(J579=\"\",\"\",IF(B$15<E579+1,\"\",IF(J579=B$16,\"\",lookup!R572)))","v":""},"",{"$f":"IF(E580=\"\",\"\",lookup!T572)","v":""},"","",{"$f":"IF(E580=\"\",\"\",IF(lookup!U572<0,0,lookup!U572))","v":""}]
[null,null,null,null,{"$f":"IF(J580=\"\",\"\",IF(B$15<E580+1,\"\",IF(J580=B$16,\"\",lookup!R573)))","v":""},"",{"$f":"IF(E581=\"\",\"\",lookup!T573)","v":""},"","",{"$f":"IF(E581=\"\",\"\",IF(lookup!U573<0,0,lookup!U573))","v":""}]
[null,null,null,null,{"$f":"IF(J581=\"\",\"\",IF(B$15<E581+1,\"\",IF(J581=B$16,\"\",lookup!R574)))","v":""},"",{"$f":"IF(E582=\"\",\"\",lookup!T574)","v":""},"","",{"$f":"IF(E582=\"\",\"\",IF(lookup!U574<0,0,lookup!U574))","v":""}]
[null,null,null,null,{"$f":"IF(J582=\"\",\"\",IF(B$15<E582+1,\"\",IF(J582=B$16,\"\",lookup!R575)))","v":""},"",{"$f":"IF(E583=\"\",\"\",lookup!T575)","v":""},"","",{"$f":"IF(E583=\"\",\"\",IF(lookup!U575<0,0,lookup!U575))","v":""}]
[null,null,null,null,{"$f":"IF(J583=\"\",\"\",IF(B$15<E583+1,\"\",IF(J583=B$16,\"\",lookup!R576)))","v":""},"",{"$f":"IF(E584=\"\",\"\",lookup!T576)","v":""},"","",{"$f":"IF(E584=\"\",\"\",IF(lookup!U576<0,0,lookup!U576))","v":""}]
[null,null,null,null,{"$f":"IF(J584=\"\",\"\",IF(B$15<E584+1,\"\",IF(J584=B$16,\"\",lookup!R577)))","v":""},"",{"$f":"IF(E585=\"\",\"\",lookup!T577)","v":""},"","",{"$f":"IF(E585=\"\",\"\",IF(lookup!U577<0,0,lookup!U577))","v":""}]
[null,null,null,null,{"$f":"IF(J585=\"\",\"\",IF(B$15<E585+1,\"\",IF(J585=B$16,\"\",lookup!R578)))","v":""},"",{"$f":"IF(E586=\"\",\"\",lookup!T578)","v":""},"","",{"$f":"IF(E586=\"\",\"\",IF(lookup!U578<0,0,lookup!U578))","v":""}]
[null,null,null,null,{"$f":"IF(J586=\"\",\"\",IF(B$15<E586+1,\"\",IF(J586=B$16,\"\",lookup!R579)))","v":""},"",{"$f":"IF(E587=\"\",\"\",lookup!T579)","v":""},"","",{"$f":"IF(E587=\"\",\"\",IF(lookup!U579<0,0,lookup!U579))","v":""}]
[null,null,null,null,{"$f":"IF(J587=\"\",\"\",IF(B$15<E587+1,\"\",IF(J587=B$16,\"\",lookup!R580)))","v":""},{"$f":"IF(E588=\"\",\"\",B$14)","v":""},{"$f":"IF(E588=\"\",\"\",lookup!T580)","v":""},{"$f":"IF(E588=\"\",\"\",H587+B$14)","v":""},"",{"$f":"IF(E588=\"\",\"\",IF(lookup!U580<0,0,lookup!U580))","v":""}]
[null,null,null,null,{"$f":"IF(J588=\"\",\"\",IF(B$15<E588+1,\"\",IF(J588=B$16,\"\",lookup!R581)))","v":""},"",{"$f":"IF(E589=\"\",\"\",lookup!T581)","v":""},"","",{"$f":"IF(E589=\"\",\"\",IF(lookup!U581<0,0,lookup!U581))","v":""}]
[null,null,null,null,{"$f":"IF(J589=\"\",\"\",IF(B$15<E589+1,\"\",IF(J589=B$16,\"\",lookup!R582)))","v":""},"",{"$f":"IF(E590=\"\",\"\",lookup!T582)","v":""},"","",{"$f":"IF(E590=\"\",\"\",IF(lookup!U582<0,0,lookup!U582))","v":""}]
[null,null,null,null,{"$f":"IF(J590=\"\",\"\",IF(B$15<E590+1,\"\",IF(J590=B$16,\"\",lookup!R583)))","v":""},"",{"$f":"IF(E591=\"\",\"\",lookup!T583)","v":""},"","",{"$f":"IF(E591=\"\",\"\",IF(lookup!U583<0,0,lookup!U583))","v":""}]
[null,null,null,null,{"$f":"IF(J591=\"\",\"\",IF(B$15<E591+1,\"\",IF(J591=B$16,\"\",lookup!R584)))","v":""},"",{"$f":"IF(E592=\"\",\"\",lookup!T584)","v":""},"","",{"$f":"IF(E592=\"\",\"\",IF(lookup!U584<0,0,lookup!U584))","v":""}]
[null,null,null,null,{"$f":"IF(J592=\"\",\"\",IF(B$15<E592+1,\"\",IF(J592=B$16,\"\",lookup!R585)))","v":""},"",{"$f":"IF(E593=\"\",\"\",lookup!T585)","v":""},"","",{"$f":"IF(E593=\"\",\"\",IF(lookup!U585<0,0,lookup!U585))","v":""}]
[null,null,null,null,{"$f":"IF(J593=\"\",\"\",IF(B$15<E593+1,\"\",IF(J593=B$16,\"\",lookup!R586)))","v":""},"",{"$f":"IF(E594=\"\",\"\",lookup!T586)","v":""},"","",{"$f":"IF(E594=\"\",\"\",IF(lookup!U586<0,0,lookup!U586))","v":""}]
[null,null,null,null,{"$f":"IF(J594=\"\",\"\",IF(B$15<E594+1,\"\",IF(J594=B$16,\"\",lookup!R587)))","v":""},"",{"$f":"IF(E595=\"\",\"\",lookup!T587)","v":""},"","",{"$f":"IF(E595=\"\",\"\",IF(lookup!U587<0,0,lookup!U587))","v":""}]
[null,null,null,null,{"$f":"IF(J595=\"\",\"\",IF(B$15<E595+1,\"\",IF(J595=B$16,\"\",lookup!R588)))","v":""},"",{"$f":"IF(E596=\"\",\"\",lookup!T588)","v":""},"","",{"$f":"IF(E596=\"\",\"\",IF(lookup!U588<0,0,lookup!U588))","v":""}]
[null,null,null,null,{"$f":"IF(J596=\"\",\"\",IF(B$15<E596+1,\"\",IF(J596=B$16,\"\",lookup!R589)))","v":""},"",{"$f":"IF(E597=\"\",\"\",lookup!T589)","v":""},"","",{"$f":"IF(E597=\"\",\"\",IF(lookup!U589<0,0,lookup!U589))","v":""}]
[null,null,null,null,{"$f":"IF(J597=\"\",\"\",IF(B$15<E597+1,\"\",IF(J597=B$16,\"\",lookup!R590)))","v":""},"",{"$f":"IF(E598=\"\",\"\",lookup!T590)","v":""},"","",{"$f":"IF(E598=\"\",\"\",IF(lookup!U590<0,0,lookup!U590))","v":""}]
[null,null,null,null,{"$f":"IF(J598=\"\",\"\",IF(B$15<E598+1,\"\",IF(J598=B$16,\"\",lookup!R591)))","v":""},"",{"$f":"IF(E599=\"\",\"\",lookup!T591)","v":""},"","",{"$f":"IF(E599=\"\",\"\",IF(lookup!U591<0,0,lookup!U591))","v":""}]
[null,null,null,null,{"$f":"IF(J599=\"\",\"\",IF(B$15<E599+1,\"\",IF(J599=B$16,\"\",lookup!R592)))","v":""},"",{"$f":"IF(E600=\"\",\"\",lookup!T592)","v":""},"","",{"$f":"IF(E600=\"\",\"\",IF(lookup!U592<0,0,lookup!U592))","v":""}]
[null,null,null,null,{"$f":"IF(J600=\"\",\"\",IF(B$15<E600+1,\"\",IF(J600=B$16,\"\",lookup!R593)))","v":""},"",{"$f":"IF(E601=\"\",\"\",lookup!T593)","v":""},"","",{"$f":"IF(E601=\"\",\"\",IF(lookup!U593<0,0,lookup!U593))","v":""}]
[null,null,null,null,{"$f":"IF(J601=\"\",\"\",IF(B$15<E601+1,\"\",IF(J601=B$16,\"\",lookup!R594)))","v":""},"",{"$f":"IF(E602=\"\",\"\",lookup!T594)","v":""},"","",{"$f":"IF(E602=\"\",\"\",IF(lookup!U594<0,0,lookup!U594))","v":""}]
[null,null,null,null,{"$f":"IF(J602=\"\",\"\",IF(B$15<E602+1,\"\",IF(J602=B$16,\"\",lookup!R595)))","v":""},"",{"$f":"IF(E603=\"\",\"\",lookup!T595)","v":""},"","",{"$f":"IF(E603=\"\",\"\",IF(lookup!U595<0,0,lookup!U595))","v":""}]
[null,null,null,null,{"$f":"IF(J603=\"\",\"\",IF(B$15<E603+1,\"\",IF(J603=B$16,\"\",lookup!R596)))","v":""},"",{"$f":"IF(E604=\"\",\"\",lookup!T596)","v":""},"","",{"$f":"IF(E604=\"\",\"\",IF(lookup!U596<0,0,lookup!U596))","v":""}]
[null,null,null,null,{"$f":"IF(J604=\"\",\"\",IF(B$15<E604+1,\"\",IF(J604=B$16,\"\",lookup!R597)))","v":""},"",{"$f":"IF(E605=\"\",\"\",lookup!T597)","v":""},"","",{"$f":"IF(E605=\"\",\"\",IF(lookup!U597<0,0,lookup!U597))","v":""}]
[null,null,null,null,{"$f":"IF(J605=\"\",\"\",IF(B$15<E605+1,\"\",IF(J605=B$16,\"\",lookup!R598)))","v":""},"",{"$f":"IF(E606=\"\",\"\",lookup!T598)","v":""},"","",{"$f":"IF(E606=\"\",\"\",IF(lookup!U598<0,0,lookup!U598))","v":""}]
[null,null,null,null,{"$f":"IF(J606=\"\",\"\",IF(B$15<E606+1,\"\",IF(J606=B$16,\"\",lookup!R599)))","v":""},"",{"$f":"IF(E607=\"\",\"\",lookup!T599)","v":""},"","",{"$f":"IF(E607=\"\",\"\",IF(lookup!U599<0,0,lookup!U599))","v":""}]
[null,null,null,null,{"$f":"IF(J607=\"\",\"\",IF(B$15<E607+1,\"\",IF(J607=B$16,\"\",lookup!R600)))","v":""},"",{"$f":"IF(E608=\"\",\"\",lookup!T600)","v":""},"","",{"$f":"IF(E608=\"\",\"\",IF(lookup!U600<0,0,lookup!U600))","v":""}]
[null,null,null,null,{"$f":"IF(J608=\"\",\"\",IF(B$15<E608+1,\"\",IF(J608=B$16,\"\",lookup!R601)))","v":""},"",{"$f":"IF(E609=\"\",\"\",lookup!T601)","v":""},"","",{"$f":"IF(E609=\"\",\"\",IF(lookup!U601<0,0,lookup!U601))","v":""}]
[null,null,null,null,{"$f":"IF(J609=\"\",\"\",IF(B$15<E609+1,\"\",IF(J609=B$16,\"\",lookup!R602)))","v":""},"",{"$f":"IF(E610=\"\",\"\",lookup!T602)","v":""},"","",{"$f":"IF(E610=\"\",\"\",IF(lookup!U602<0,0,lookup!U602))","v":""}]

{"sheet":"Loan (by paid amount)","index":6,"n_rows":610,"n_cols":10,"rows_kept":610,"cut":false,"hidden":true,"merged":[]}
[]
[]
[]
[]
[]
[]
[]
[]
["LOAN (by paid amount)",null,null,null,"Month","Payment","Interest paid","Total interest","Principal paid","Balance"]
[null,null,null,null,0,null,null,null,null,{"$f":"B12","v":5600}]
["APR",12,null,null,{"$f":"lookup!X3","v":1},{"$f":"lookup!Y3","v":500},{"$f":"lookup!Y$1","v":56},{"$f":"G11","v":56},{"$f":"F11-G11","v":444},{"$f":"lookup!AA3","v":5156.0928030443083}]
["Loan Amount",5600,null,null,{"$f":"IF(J11=\"\",\"\",IF(J11<=0,\"\",lookup!X4))","v":2},{"$f":"IF(E12=\"\",\"\",IF(J12<=0,lookup!Y4+lookup!AA4,lookup!Y4))","v":500},{"$f":"IF(E12=\"\",\"\",lookup!Z3)","v":51.56},{"$f":"IF(E12=\"\",\"\",H11+G12)","v":107.56},{"$f":"IF(E12=\"\",\"\",F12-G12)","v":448.44},{"$f":"IF(E12=\"\",\"\",IF(lookup!AA4<0,0,lookup!AA4))","v":4707.7465341190564}]
["Amount paid",500,{"$f":"IF(B14=\"\",\"Amnt to be higher than the interest!\",\"\")","v":""},null,{"$f":"IF(J12=\"\",\"\",IF(J12<=0,\"\",lookup!X5))","v":3},{"$f":"IF(E13=\"\",\"\",IF(J13<=0,lookup!Y5+lookup!AA5,lookup!Y5))","v":500},{"$f":"IF(E13=\"\",\"\",lookup!Z4)","v":47.08},154.63999999999999,452.92,{"$f":"IF(E13=\"\",\"\",IF(lookup!AA5<0,0,lookup!AA5))","v":4254.9168025045446}]
["Months to clear",{"$f":"IF(lookup!X1=\"\",\"\",ROUNDUP(lookup!X1,0))","v":12},null,null,{"$f":"IF(J13=\"\",\"\",IF(J13<=0,\"\",lookup!X6))","v":4},{"$f":"IF(E14=\"\",\"\",IF(J14<=0,lookup!Y6+lookup!AA6,lookup!Y6))","v":500},{"$f":"IF(E14=\"\",\"\",lookup!Z5)","v":42.55},197.19,457.45,{"$f":"IF(E14=\"\",\"\",IF(lookup!AA6<0,0,lookup!AA6))","v":3797.5587735738918}]
[null,null,null,null,{"$f":"IF(J14=\"\",\"\",IF(J14<=0,\"\",lookup!X7))","v":5},{"$f":"IF(E15=\"\",\"\",IF(J15<=0,lookup!Y7+lookup!AA7,lookup!Y7))","v":500},{"$f":"IF(E15=\"\",\"\",lookup!Z6)","v":37.979999999999997},235.17,462.02,{"$f":"IF(E15=\"\",\"\",IF(lookup!AA7<0,0,lookup!AA7))","v":3335.6271643539312}]
[null,null,null,null,{"$f":"IF(J15=\"\",\"\",IF(J15<=0,\"\",lookup!X8))","v":6},{"$f":"IF(E16=\"\",\"\",IF(J16<=0,lookup!Y8+lookup!AA8,lookup!Y8))","v":500},{"$f":"IF(E16=\"\",\"\",lookup!Z7)","v":33.36},268.52999999999997,466.64,{"$f":"IF(E16=\"\",\"\",IF(lookup!AA8<0,0,lookup!AA8))","v":2869.0762390417776}]
[null,null,null,null,{"$f":"IF(J16=\"\",\"\",IF(J16<=0,\"\",lookup!X9))","v":7},{"$f":"IF(E17=\"\",\"\",IF(J17<=0,lookup!Y9+lookup!AA9,lookup!Y9))","v":500},{"$f":"IF(E17=\"\",\"\",lookup!Z8)","v":28.69},297.21999999999997,471.31,{"$f":"IF(E17=\"\",\"\",IF(lookup!AA9<0,0,lookup!AA9))","v":2397.8598044765013}]
[null,null,null,null,{"$f":"IF(J17=\"\",\"\",IF(J17<=0,\"\",lookup!X10))","v":8},{"$f":"IF(E18=\"\",\"\",IF(J18<=0,lookup!Y10+lookup!AA10,lookup!Y10))","v":500},{"$f":"IF(E18=\"\",\"\",lookup!Z9)","v":23.98},321.2,476.02,{"$f":"IF(E18=\"\",\"\",IF(lookup!AA10<0,0,lookup!AA10))","v":1921.9312055655628}]
[null,null,null,null,{"$f":"IF(J18=\"\",\"\",IF(J18<=0,\"\",lookup!X11))","v":9},{"$f":"IF(E19=\"\",\"\",IF(J19<=0,lookup!Y11+lookup!AA11,lookup!Y11))","v":500},{"$f":"IF(E19=\"\",\"\",lookup!Z10)","v":19.22},340.41999999999996,480.78,{"$f":"IF(E19=\"\",\"\",IF(lookup!AA11<0,0,lookup!AA11))","v":1441.2433206655264}]
[null,null,null,null,{"$f":"IF(J19=\"\",\"\",IF(J19<=0,\"\",lookup!X12))","v":10},{"$f":"IF(E20=\"\",\"\",IF(J20<=0,lookup!Y12+lookup!AA12,lookup!Y12))","v":500},{"$f":"IF(E20=\"\",\"\",lookup!Z11)","v":14.41},354.83,485.59,{"$f":"IF(E20=\"\",\"\",IF(lookup!AA12<0,0,lookup!AA12))","v":955.74855691648747}]
[null,null,null,null,{"$f":"IF(J20=\"\",\"\",IF(J20<=0,\"\",lookup!X13))","v":11},{"$f":"IF(E21=\"\",\"\",IF(J21<=0,lookup!Y13+lookup!AA13,lookup!Y13))","v":500},{"$f":"IF(E21=\"\",\"\",lookup!Z12)","v":9.56},364.39,490.44,{"$f":"IF(E21=\"\",\"\",IF(lookup!AA13<0,0,lookup!AA13))","v":465.39884552995596}]
[null,null,null,null,{"$f":"IF(J21=\"\",\"\",IF(J21<=0,\"\",lookup!X14))","v":12},{"$f":"IF(E22=\"\",\"\",IF(J22<=0,lookup!Y14+lookup!AA14,lookup!Y14))","v":470.14563702954797},{"$f":"IF(E22=\"\",\"\",lookup!Z13)","v":4.6500000000000004},369.03999999999996,465.49563702954799,{"$f":"IF(E22=\"\",\"\",IF(lookup!AA14<0,0,lookup!AA14))","v":0}]
[null,null,null,null,{"$f":"IF(J22=\"\",\"\",IF(J22<=0,\"\",lookup!X15))","v":""},{"$f":"IF(E23=\"\",\"\",IF(J23<=0,lookup!Y15+lookup!AA15,lookup!Y15))","v":""},{"$f":"IF(E23=\"\",\"\",lookup!Z14)","v":""},"","",{"$f":"IF(E23=\"\",\"\",IF(lookup!AA15<0,0,lookup!AA15))","v":""}]
[null,null,null,null,{"$f":"IF(J23=\"\",\"\",IF(J23<=0,\"\",lookup!X16))","v":""},{"$f":"IF(E24=\"\",\"\",IF(J24<=0,lookup!Y16+lookup!AA16,lookup!Y16))","v":""},{"$f":"IF(E24=\"\",\"\",lookup!Z15)","v":""},"","",{"$f":"IF(E24=\"\",\"\",IF(lookup!AA16<0,0,lookup!AA16))","v":""}]
[null,null,null,null,{"$f":"IF(J24=\"\",\"\",IF(J24<=0,\"\",lookup!X17))","v":""},{"$f":"IF(E25=\"\",\"\",IF(J25<=0,lookup!Y17+lookup!AA17,lookup!Y17))","v":""},{"$f":"IF(E25=\"\",\"\",lookup!Z16)","v":""},"","",{"$f":"IF(E25=\"\",\"\",IF(lookup!AA17<0,0,lookup!AA17))","v":""}]
[null,null,null,null,{"$f":"IF(J25=\"\",\"\",IF(J25<=0,\"\",lookup!X18))","v":""},{"$f":"IF(E26=\"\",\"\",IF(J26<=0,lookup!Y18+lookup!AA18,lookup!Y18))","v":""},{"$f":"IF(E26=\"\",\"\",lookup!Z17)","v":""},"","",{"$f":"IF(E26=\"\",\"\",IF(lookup!AA18<0,0,lookup!AA18))","v":""}]
[null,null,null,null,{"$f":"IF(J26=\"\",\"\",IF(J26<=0,\"\",lookup!X19))","v":""},{"$f":"IF(E27=\"\",\"\",IF(J27<=0,lookup!Y19+lookup!AA19,lookup!Y19))","v":""},{"$f":"IF(E27=\"\",\"\",lookup!Z18)","v":""},"","",{"$f":"IF(E27=\"\",\"\",IF(lookup!AA19<0,0,lookup!AA19))","v":""}]
[null,null,null,null,{"$f":"IF(J27=\"\",\"\",IF(J27<=0,\"\",lookup!X20))","v":""},{"$f":"IF(E28=\"\",\"\",IF(J28<=0,lookup!Y20+lookup!AA20,lookup!Y20))","v":""},{"$f":"IF(E28=\"\",\"\",lookup!Z19)","v":""},"","",{"$f":"IF(E28=\"\",\"\",IF(lookup!AA20<0,0,lookup!AA20))","v":""}]
[null,null,null,null,{"$f":"IF(J28=\"\",\"\",IF(J28<=0,\"\",lookup!X21))","v":""},{"$f":"IF(E29=\"\",\"\",IF(J29<=0,lookup!Y21+lookup!AA21,lookup!Y21))","v":""},{"$f":"IF(E29=\"\",\"\",lookup!Z20)","v":""},"","",{"$f":"IF(E29=\"\",\"\",IF(lookup!AA21<0,0,lookup!AA21))","v":""}]
[null,null,null,null,{"$f":"IF(J29=\"\",\"\",IF(J29<=0,\"\",lookup!X22))","v":""},{"$f":"IF(E30=\"\",\"\",IF(J30<=0,lookup!Y22+lookup!AA22,lookup!Y22))","v":""},{"$f":"IF(E30=\"\",\"\",lookup!Z21)","v":""},"","",{"$f":"IF(E30=\"\",\"\",IF(lookup!AA22<0,0,lookup!AA22))","v":""}]
[null,null,null,null,{"$f":"IF(J30=\"\",\"\",IF(J30<=0,\"\",lookup!X23))","v":""},{"$f":"IF(E31=\"\",\"\",IF(J31<=0,lookup!Y23+lookup!AA23,lookup!Y23))","v":""},{"$f":"IF(E31=\"\",\"\",lookup!Z22)","v":""},"","",{"$f":"IF(E31=\"\",\"\",IF(lookup!AA23<0,0,lookup!AA23))","v":""}]
[null,null,null,null,{"$f":"IF(J31=\"\",\"\",IF(J31<=0,\"\",lookup!X24))","v":""},{"$f":"IF(E32=\"\",\"\",IF(J32<=0,lookup!Y24+lookup!AA24,lookup!Y24))","v":""},{"$f":"IF(E32=\"\",\"\",lookup!Z23)","v":""},"","",{"$f":"IF(E32=\"\",\"\",IF(lookup!AA24<0,0,lookup!AA24))","v":""}]
[null,null,null,null,{"$f":"IF(J32=\"\",\"\",IF(J32<=0,\"\",lookup!X25))","v":""},{"$f":"IF(E33=\"\",\"\",IF(J33<=0,lookup!Y25+lookup!AA25,lookup!Y25))","v":""},{"$f":"IF(E33=\"\",\"\",lookup!Z24)","v":""},"","",{"$f":"IF(E33=\"\",\"\",IF(lookup!AA25<0,0,lookup!AA25))","v":""}]
[null,null,null,null,{"$f":"IF(J33=\"\",\"\",IF(J33<=0,\"\",lookup!X26))","v":""},{"$f":"IF(E34=\"\",\"\",IF(J34<=0,lookup!Y26+lookup!AA26,lookup!Y26))","v":""},{"$f":"IF(E34=\"\",\"\",lookup!Z25)","v":""},"","",{"$f":"IF(E34=\"\",\"\",IF(lookup!AA26<0,0,lookup!AA26))","v":""}]
[null,null,null,null,{"$f":"IF(J34=\"\",\"\",IF(J34<=0,\"\",lookup!X27))","v":""},{"$f":"IF(E35=\"\",\"\",IF(J35<=0,lookup!Y27+lookup!AA27,lookup!Y27))","v":""},{"$f":"IF(E35=\"\",\"\",lookup!Z26)","v":""},"","",{"$f":"IF(E35=\"\",\"\",IF(lookup!AA27<0,0,lookup!AA27))","v":""}]
[null,null,null,null,{"$f":"IF(J35=\"\",\"\",IF(J35<=0,\"\",lookup!X28))","v":""},{"$f":"IF(E36=\"\",\"\",IF(J36<=0,lookup!Y28+lookup!AA28,lookup!Y28))","v":""},{"$f":"IF(E36=\"\",\"\",lookup!Z27)","v":""},"","",{"$f":"IF(E36=\"\",\"\",IF(lookup!AA28<0,0,lookup!AA28))","v":""}]
[null,null,null,null,{"$f":"IF(J36=\"\",\"\",IF(J36<=0,\"\",lookup!X29))","v":""},{"$f":"IF(E37=\"\",\"\",IF(J37<=0,lookup!Y29+lookup!AA29,lookup!Y29))","v":""},{"$f":"IF(E37=\"\",\"\",lookup!Z28)","v":""},"","",{"$f":"IF(E37=\"\",\"\",IF(lookup!AA29<0,0,lookup!AA29))","v":""}]
[null,null,null,null,{"$f":"IF(J37=\"\",\"\",IF(J37<=0,\"\",lookup!X30))","v":""},{"$f":"IF(E38=\"\",\"\",IF(J38<=0,lookup!Y30+lookup!AA30,lookup!Y30))","v":""},{"$f":"IF(E38=\"\",\"\",lookup!Z29)","v":""},"","",{"$f":"IF(E38=\"\",\"\",IF(lookup!AA30<0,0,lookup!AA30))","v":""}]
[null,null,null,null,{"$f":"IF(J38=\"\",\"\",IF(J38<=0,\"\",lookup!X31))","v":""},{"$f":"IF(E39=\"\",\"\",IF(J39<=0,lookup!Y31+lookup!AA31,lookup!Y31))","v":""},{"$f":"IF(E39=\"\",\"\",lookup!Z30)","v":""},"","",{"$f":"IF(E39=\"\",\"\",IF(lookup!AA31<0,0,lookup!AA31))","v":""}]
[null,null,null,null,{"$f":"IF(J39=\"\",\"\",IF(J39<=0,\"\",lookup!X32))","v":""},{"$f":"IF(E40=\"\",\"\",IF(J40<=0,lookup!Y32+lookup!AA32,lookup!Y32))","v":""},{"$f":"IF(E40=\"\",\"\",lookup!Z31)","v":""},"","",{"$f":"IF(E40=\"\",\"\",IF(lookup!AA32<0,0,lookup!AA32))","v":""}]
[null,null,null,null,{"$f":"IF(J40=\"\",\"\",IF(J40<=0,\"\",lookup!X33))","v":""},{"$f":"IF(E41=\"\",\"\",IF(J41<=0,lookup!Y33+lookup!AA33,lookup!Y33))","v":""},{"$f":"IF(E41=\"\",\"\",lookup!Z32)","v":""},"","",{"$f":"IF(E41=\"\",\"\",IF(lookup!AA33<0,0,lookup!AA33))","v":""}]
[null,null,null,null,{"$f":"IF(J41=\"\",\"\",IF(J41<=0,\"\",lookup!X34))","v":""},{"$f":"IF(E42=\"\",\"\",IF(J42<=0,lookup!Y34+lookup!AA34,lookup!Y34))","v":""},{"$f":"IF(E42=\"\",\"\",lookup!Z33)","v":""},"","",{"$f":"IF(E42=\"\",\"\",IF(lookup!AA34<0,0,lookup!AA34))","v":""}]
[null,null,null,null,{"$f":"IF(J42=\"\",\"\",IF(J42<=0,\"\",lookup!X35))","v":""},{"$f":"IF(E43=\"\",\"\",IF(J43<=0,lookup!Y35+lookup!AA35,lookup!Y35))","v":""},{"$f":"IF(E43=\"\",\"\",lookup!Z34)","v":""},"","",{"$f":"IF(E43=\"\",\"\",IF(lookup!AA35<0,0,lookup!AA35))","v":""}]
[null,null,null,null,{"$f":"IF(J43=\"\",\"\",IF(J43<=0,\"\",lookup!X36))","v":""},{"$f":"IF(E44=\"\",\"\",IF(J44<=0,lookup!Y36+lookup!AA36,lookup!Y36))","v":""},{"$f":"IF(E44=\"\",\"\",lookup!Z35)","v":""},"","",{"$f":"IF(E44=\"\",\"\",IF(lookup!AA36<0,0,lookup!AA36))","v":""}]
[null,null,null,null,{"$f":"IF(J44=\"\",\"\",IF(J44<=0,\"\",lookup!X37))","v":""},{"$f":"IF(E45=\"\",\"\",IF(J45<=0,lookup!Y37+lookup!AA37,lookup!Y37))","v":""},{"$f":"IF(E45=\"\",\"\",lookup!Z36)","v":""},"","",{"$f":"IF(E45=\"\",\"\",IF(lookup!AA37<0,0,lookup!AA37))","v":""}]
[null,null,null,null,{"$f":"IF(J45=\"\",\"\",IF(J45<=0,\"\",lookup!X38))","v":""},{"$f":"IF(E46=\"\",\"\",IF(J46<=0,lookup!Y38+lookup!AA38,lookup!Y38))","v":""},{"$f":"IF(E46=\"\",\"\",lookup!Z37)","v":""},"","",{"$f":"IF(E46=\"\",\"\",IF(lookup!AA38<0,0,lookup!AA38))","v":""}]
[null,null,null,null,{"$f":"IF(J46=\"\",\"\",IF(J46<=0,\"\",lookup!X39))","v":""},{"$f":"IF(E47=\"\",\"\",IF(J47<=0,lookup!Y39+lookup!AA39,lookup!Y39))","v":""},{"$f":"IF(E47=\"\",\"\",lookup!Z38)","v":""},"","",{"$f":"IF(E47=\"\",\"\",IF(lookup!AA39<0,0,lookup!AA39))","v":""}]
[null,null,null,null,{"$f":"IF(J47=\"\",\"\",IF(J47<=0,\"\",lookup!X40))","v":""},{"$f":"IF(E48=\"\",\"\",IF(J48<=0,lookup!Y40+lookup!AA40,lookup!Y40))","v":""},{"$f":"IF(E48=\"\",\"\",lookup!Z39)","v":""},"","",{"$f":"IF(E48=\"\",\"\",IF(lookup!AA40<0,0,lookup!AA40))","v":""}]
[null,null,null,null,{"$f":"IF(J48=\"\",\"\",IF(J48<=0,\"\",lookup!X41))","v":""},{"$f":"IF(E49=\"\",\"\",IF(J49<=0,lookup!Y41+lookup!AA41,lookup!Y41))","v":""},{"$f":"IF(E49=\"\",\"\",lookup!Z40)","v":""},"","",{"$f":"IF(E49=\"\",\"\",IF(lookup!AA41<0,0,lookup!AA41))","v":""}]
[null,null,null,null,{"$f":"IF(J49=\"\",\"\",IF(J49<=0,\"\",lookup!X42))","v":""},{"$f":"IF(E50=\"\",\"\",IF(J50<=0,lookup!Y42+lookup!AA42,lookup!Y42))","v":""},{"$f":"IF(E50=\"\",\"\",lookup!Z41)","v":""},"","",{"$f":"IF(E50=\"\",\"\",IF(lookup!AA42<0,0,lookup!AA42))","v":""}]
[null,null,null,null,{"$f":"IF(J50=\"\",\"\",IF(J50<=0,\"\",lookup!X43))","v":""},{"$f":"IF(E51=\"\",\"\",IF(J51<=0,lookup!Y43+lookup!AA43,lookup!Y43))","v":""},{"$f":"IF(E51=\"\",\"\",lookup!Z42)","v":""},"","",{"$f":"IF(E51=\"\",\"\",IF(lookup!AA43<0,0,lookup!AA43))","v":""}]
[null,null,null,null,{"$f":"IF(J51=\"\",\"\",IF(J51<=0,\"\",lookup!X44))","v":""},{"$f":"IF(E52=\"\",\"\",IF(J52<=0,lookup!Y44+lookup!AA44,lookup!Y44))","v":""},{"$f":"IF(E52=\"\",\"\",lookup!Z43)","v":""},"","",{"$f":"IF(E52=\"\",\"\",IF(lookup!AA44<0,0,lookup!AA44))","v":""}]
[null,null,null,null,{"$f":"IF(J52=\"\",\"\",IF(J52<=0,\"\",lookup!X45))","v":""},{"$f":"IF(E53=\"\",\"\",IF(J53<=0,lookup!Y45+lookup!AA45,lookup!Y45))","v":""},{"$f":"IF(E53=\"\",\"\",lookup!Z44)","v":""},"","",{"$f":"IF(E53=\"\",\"\",IF(lookup!AA45<0,0,lookup!AA45))","v":""}]
[null,null,null,null,{"$f":"IF(J53=\"\",\"\",IF(J53<=0,\"\",lookup!X46))","v":""},{"$f":"IF(E54=\"\",\"\",IF(J54<=0,lookup!Y46+lookup!AA46,lookup!Y46))","v":""},{"$f":"IF(E54=\"\",\"\",lookup!Z45)","v":""},"","",{"$f":"IF(E54=\"\",\"\",IF(lookup!AA46<0,0,lookup!AA46))","v":""}]
[null,null,null,null,{"$f":"IF(J54=\"\",\"\",IF(J54<=0,\"\",lookup!X47))","v":""},{"$f":"IF(E55=\"\",\"\",IF(J55<=0,lookup!Y47+lookup!AA47,lookup!Y47))","v":""},{"$f":"IF(E55=\"\",\"\",lookup!Z46)","v":""},"","",{"$f":"IF(E55=\"\",\"\",IF(lookup!AA47<0,0,lookup!AA47))","v":""}]
[null,null,null,null,{"$f":"IF(J55=\"\",\"\",IF(J55<=0,\"\",lookup!X48))","v":""},{"$f":"IF(E56=\"\",\"\",IF(J56<=0,lookup!Y48+lookup!AA48,lookup!Y48))","v":""},{"$f":"IF(E56=\"\",\"\",lookup!Z47)","v":""},"","",{"$f":"IF(E56=\"\",\"\",IF(lookup!AA48<0,0,lookup!AA48))","v":""}]
[null,null,null,null,{"$f":"IF(J56=\"\",\"\",IF(J56<=0,\"\",lookup!X49))","v":""},{"$f":"IF(E57=\"\",\"\",IF(J57<=0,lookup!Y49+lookup!AA49,lookup!Y49))","v":""},{"$f":"IF(E57=\"\",\"\",lookup!Z48)","v":""},"","",{"$f":"IF(E57=\"\",\"\",IF(lookup!AA49<0,0,lookup!AA49))","v":""}]
[null,null,null,null,{"$f":"IF(J57=\"\",\"\",IF(J57<=0,\"\",lookup!X50))","v":""},{"$f":"IF(E58=\"\",\"\",IF(J58<=0,lookup!Y50+lookup!AA50,lookup!Y50))","v":""},{"$f":"IF(E58=\"\",\"\",lookup!Z49)","v":""},"","",{"$f":"IF(E58=\"\",\"\",IF(lookup!AA50<0,0,lookup!AA50))","v":""}]
[null,null,null,null,{"$f":"IF(J58=\"\",\"\",IF(J58<=0,\"\",lookup!X51))","v":""},{"$f":"IF(E59=\"\",\"\",IF(J59<=0,lookup!Y51+lookup!AA51,lookup!Y51))","v":""},{"$f":"IF(E59=\"\",\"\",lookup!Z50)","v":""},"","",{"$f":"IF(E59=\"\",\"\",IF(lookup!AA51<0,0,lookup!AA51))","v":""}]
[null,null,null,null,{"$f":"IF(J59=\"\",\"\",IF(J59<=0,\"\",lookup!X52))","v":""},{"$f":"IF(E60=\"\",\"\",IF(J60<=0,lookup!Y52+lookup!AA52,lookup!Y52))","v":""},{"$f":"IF(E60=\"\",\"\",lookup!Z51)","v":""},"","",{"$f":"IF(E60=\"\",\"\",IF(lookup!AA52<0,0,lookup!AA52))","v":""}]
[null,null,null,null,{"$f":"IF(J60=\"\",\"\",IF(J60<=0,\"\",lookup!X53))","v":""},{"$f":"IF(E61=\"\",\"\",IF(J61<=0,lookup!Y53+lookup!AA53,lookup!Y53))","v":""},{"$f":"IF(E61=\"\",\"\",lookup!Z52)","v":""},"","",{"$f":"IF(E61=\"\",\"\",IF(lookup!AA53<0,0,lookup!AA53))","v":""}]
[null,null,null,null,{"$f":"IF(J61=\"\",\"\",IF(J61<=0,\"\",lookup!X54))","v":""},{"$f":"IF(E62=\"\",\"\",IF(J62<=0,lookup!Y54+lookup!AA54,lookup!Y54))","v":""},{"$f":"IF(E62=\"\",\"\",lookup!Z53)","v":""},"","",{"$f":"IF(E62=\"\",\"\",IF(lookup!AA54<0,0,lookup!AA54))","v":""}]
[null,null,null,null,{"$f":"IF(J62=\"\",\"\",IF(J62<=0,\"\",lookup!X55))","v":""},{"$f":"IF(E63=\"\",\"\",IF(J63<=0,lookup!Y55+lookup!AA55,lookup!Y55))","v":""},{"$f":"IF(E63=\"\",\"\",lookup!Z54)","v":""},"","",{"$f":"IF(E63=\"\",\"\",IF(lookup!AA55<0,0,lookup!AA55))","v":""}]
[null,null,null,null,{"$f":"IF(J63=\"\",\"\",IF(J63<=0,\"\",lookup!X56))","v":""},{"$f":"IF(E64=\"\",\"\",IF(J64<=0,lookup!Y56+lookup!AA56,lookup!Y56))","v":""},{"$f":"IF(E64=\"\",\"\",lookup!Z55)","v":""},"","",{"$f":"IF(E64=\"\",\"\",IF(lookup!AA56<0,0,lookup!AA56))","v":""}]
[null,null,null,null,{"$f":"IF(J64=\"\",\"\",IF(J64<=0,\"\",lookup!X57))","v":""},{"$f":"IF(E65=\"\",\"\",IF(J65<=0,lookup!Y57+lookup!AA57,lookup!Y57))","v":""},{"$f":"IF(E65=\"\",\"\",lookup!Z56)","v":""},"","",{"$f":"IF(E65=\"\",\"\",IF(lookup!AA57<0,0,lookup!AA57))","v":""}]
[null,null,null,null,{"$f":"IF(J65=\"\",\"\",IF(J65<=0,\"\",lookup!X58))","v":""},{"$f":"IF(E66=\"\",\"\",IF(J66<=0,lookup!Y58+lookup!AA58,lookup!Y58))","v":""},{"$f":"IF(E66=\"\",\"\",lookup!Z57)","v":""},"","",{"$f":"IF(E66=\"\",\"\",IF(lookup!AA58<0,0,lookup!AA58))","v":""}]
[null,null,null,null,{"$f":"IF(J66=\"\",\"\",IF(J66<=0,\"\",lookup!X59))","v":""},{"$f":"IF(E67=\"\",\"\",IF(J67<=0,lookup!Y59+lookup!AA59,lookup!Y59))","v":""},{"$f":"IF(E67=\"\",\"\",lookup!Z58)","v":""},"","",{"$f":"IF(E67=\"\",\"\",IF(lookup!AA59<0,0,lookup!AA59))","v":""}]
[null,null,null,null,{"$f":"IF(J67=\"\",\"\",IF(J67<=0,\"\",lookup!X60))","v":""},{"$f":"IF(E68=\"\",\"\",IF(J68<=0,lookup!Y60+lookup!AA60,lookup!Y60))","v":""},{"$f":"IF(E68=\"\",\"\",lookup!Z59)","v":""},"","",{"$f":"IF(E68=\"\",\"\",IF(lookup!AA60<0,0,lookup!AA60))","v":""}]
[null,null,null,null,{"$f":"IF(J68=\"\",\"\",IF(J68<=0,\"\",lookup!X61))","v":""},{"$f":"IF(E69=\"\",\"\",IF(J69<=0,lookup!Y61+lookup!AA61,lookup!Y61))","v":""},{"$f":"IF(E69=\"\",\"\",lookup!Z60)","v":""},"","",{"$f":"IF(E69=\"\",\"\",IF(lookup!AA61<0,0,lookup!AA61))","v":""}]
[null,null,null,null,{"$f":"IF(J69=\"\",\"\",IF(J69<=0,\"\",lookup!X62))","v":""},{"$f":"IF(E70=\"\",\"\",IF(J70<=0,lookup!Y62+lookup!AA62,lookup!Y62))","v":""},{"$f":"IF(E70=\"\",\"\",lookup!Z61)","v":""},"","",{"$f":"IF(E70=\"\",\"\",IF(lookup!AA62<0,0,lookup!AA62))","v":""}]
[null,null,null,null,{"$f":"IF(J70=\"\",\"\",IF(J70<=0,\"\",lookup!X63))","v":""},{"$f":"IF(E71=\"\",\"\",IF(J71<=0,lookup!Y63+lookup!AA63,lookup!Y63))","v":""},{"$f":"IF(E71=\"\",\"\",lookup!Z62)","v":""},"","",{"$f":"IF(E71=\"\",\"\",IF(lookup!AA63<0,0,lookup!AA63))","v":""}]
[null,null,null,null,{"$f":"IF(J71=\"\",\"\",IF(J71<=0,\"\",lookup!X64))","v":""},{"$f":"IF(E72=\"\",\"\",IF(J72<=0,lookup!Y64+lookup!AA64,lookup!Y64))","v":""},{"$f":"IF(E72=\"\",\"\",lookup!Z63)","v":""},"","",{"$f":"IF(E72=\"\",\"\",IF(lookup!AA64<0,0,lookup!AA64))","v":""}]
[null,null,null,null,{"$f":"IF(J72=\"\",\"\",IF(J72<=0,\"\",lookup!X65))","v":""},{"$f":"IF(E73=\"\",\"\",IF(J73<=0,lookup!Y65+lookup!AA65,lookup!Y65))","v":""},{"$f":"IF(E73=\"\",\"\",lookup!Z64)","v":""},"","",{"$f":"IF(E73=\"\",\"\",IF(lookup!AA65<0,0,lookup!AA65))","v":""}]
[null,null,null,null,{"$f":"IF(J73=\"\",\"\",IF(J73<=0,\"\",lookup!X66))","v":""},{"$f":"IF(E74=\"\",\"\",IF(J74<=0,lookup!Y66+lookup!AA66,lookup!Y66))","v":""},{"$f":"IF(E74=\"\",\"\",lookup!Z65)","v":""},"","",{"$f":"IF(E74=\"\",\"\",IF(lookup!AA66<0,0,lookup!AA66))","v":""}]
[null,null,null,null,{"$f":"IF(J74=\"\",\"\",IF(J74<=0,\"\",lookup!X67))","v":""},{"$f":"IF(E75=\"\",\"\",IF(J75<=0,lookup!Y67+lookup!AA67,lookup!Y67))","v":""},{"$f":"IF(E75=\"\",\"\",lookup!Z66)","v":""},"","",{"$f":"IF(E75=\"\",\"\",IF(lookup!AA67<0,0,lookup!AA67))","v":""}]
[null,null,null,null,{"$f":"IF(J75=\"\",\"\",IF(J75<=0,\"\",lookup!X68))","v":""},{"$f":"IF(E76=\"\",\"\",IF(J76<=0,lookup!Y68+lookup!AA68,lookup!Y68))","v":""},{"$f":"IF(E76=\"\",\"\",lookup!Z67)","v":""},{"$f":"IF(E76=\"\",\"\",H75+G76)","v":""},{"$f":"IF(E76=\"\",\"\",F76-G76)","v":""},{"$f":"IF(E76=\"\",\"\",IF(lookup!AA68<0,0,lookup!AA68))","v":""}]
[null,null,null,null,{"$f":"IF(J76=\"\",\"\",IF(J76<=0,\"\",lookup!X69))","v":""},{"$f":"IF(E77=\"\",\"\",IF(J77<=0,lookup!Y69+lookup!AA69,lookup!Y69))","v":""},{"$f":"IF(E77=\"\",\"\",lookup!Z68)","v":""},"","",{"$f":"IF(E77=\"\",\"\",IF(lookup!AA69<0,0,lookup!AA69))","v":""}]
[null,null,null,null,{"$f":"IF(J77=\"\",\"\",IF(J77<=0,\"\",lookup!X70))","v":""},{"$f":"IF(E78=\"\",\"\",IF(J78<=0,lookup!Y70+lookup!AA70,lookup!Y70))","v":""},{"$f":"IF(E78=\"\",\"\",lookup!Z69)","v":""},"","",{"$f":"IF(E78=\"\",\"\",IF(lookup!AA70<0,0,lookup!AA70))","v":""}]
[null,null,null,null,{"$f":"IF(J78=\"\",\"\",IF(J78<=0,\"\",lookup!X71))","v":""},{"$f":"IF(E79=\"\",\"\",IF(J79<=0,lookup!Y71+lookup!AA71,lookup!Y71))","v":""},{"$f":"IF(E79=\"\",\"\",lookup!Z70)","v":""},"","",{"$f":"IF(E79=\"\",\"\",IF(lookup!AA71<0,0,lookup!AA71))","v":""}]
[null,null,null,null,{"$f":"IF(J79=\"\",\"\",IF(J79<=0,\"\",lookup!X72))","v":""},{"$f":"IF(E80=\"\",\"\",IF(J80<=0,lookup!Y72+lookup!AA72,lookup!Y72))","v":""},{"$f":"IF(E80=\"\",\"\",lookup!Z71)","v":""},"","",{"$f":"IF(E80=\"\",\"\",IF(lookup!AA72<0,0,lookup!AA72))","v":""}]
[null,null,null,null,{"$f":"IF(J80=\"\",\"\",IF(J80<=0,\"\",lookup!X73))","v":""},{"$f":"IF(E81=\"\",\"\",IF(J81<=0,lookup!Y73+lookup!AA73,lookup!Y73))","v":""},{"$f":"IF(E81=\"\",\"\",lookup!Z72)","v":""},"","",{"$f":"IF(E81=\"\",\"\",IF(lookup!AA73<0,0,lookup!AA73))","v":""}]
[null,null,null,null,{"$f":"IF(J81=\"\",\"\",IF(J81<=0,\"\",lookup!X74))","v":""},{"$f":"IF(E82=\"\",\"\",IF(J82<=0,lookup!Y74+lookup!AA74,lookup!Y74))","v":""},{"$f":"IF(E82=\"\",\"\",lookup!Z73)","v":""},"","",{"$f":"IF(E82=\"\",\"\",IF(lookup!AA74<0,0,lookup!AA74))","v":""}]
[null,null,null,null,{"$f":"IF(J82=\"\",\"\",IF(J82<=0,\"\",lookup!X75))","v":""},{"$f":"IF(E83=\"\",\"\",IF(J83<=0,lookup!Y75+lookup!AA75,lookup!Y75))","v":""},{"$f":"IF(E83=\"\",\"\",lookup!Z74)","v":""},"","",{"$f":"IF(E83=\"\",\"\",IF(lookup!AA75<0,0,lookup!AA75))","v":""}]
[null,null,null,null,{"$f":"IF(J83=\"\",\"\",IF(J83<=0,\"\",lookup!X76))","v":""},{"$f":"IF(E84=\"\",\"\",IF(J84<=0,lookup!Y76+lookup!AA76,lookup!Y76))","v":""},{"$f":"IF(E84=\"\",\"\",lookup!Z75)","v":""},"","",{"$f":"IF(E84=\"\",\"\",IF(lookup!AA76<0,0,lookup!AA76))","v":""}]
[null,null,null,null,{"$f":"IF(J84=\"\",\"\",IF(J84<=0,\"\",lookup!X77))","v":""},{"$f":"IF(E85=\"\",\"\",IF(J85<=0,lookup!Y77+lookup!AA77,lookup!Y77))","v":""},{"$f":"IF(E85=\"\",\"\",lookup!Z76)","v":""},"","",{"$f":"IF(E85=\"\",\"\",IF(lookup!AA77<0,0,lookup!AA77))","v":""}]
[null,null,null,null,{"$f":"IF(J85=\"\",\"\",IF(J85<=0,\"\",lookup!X78))","v":""},{"$f":"IF(E86=\"\",\"\",IF(J86<=0,lookup!Y78+lookup!AA78,lookup!Y78))","v":""},{"$f":"IF(E86=\"\",\"\",lookup!Z77)","v":""},"","",{"$f":"IF(E86=\"\",\"\",IF(lookup!AA78<0,0,lookup!AA78))","v":""}]
[null,null,null,null,{"$f":"IF(J86=\"\",\"\",IF(J86<=0,\"\",lookup!X79))","v":""},{"$f":"IF(E87=\"\",\"\",IF(J87<=0,lookup!Y79+lookup!AA79,lookup!Y79))","v":""},{"$f":"IF(E87=\"\",\"\",lookup!Z78)","v":""},"","",{"$f":"IF(E87=\"\",\"\",IF(lookup!AA79<0,0,lookup!AA79))","v":""}]
[null,null,null,null,{"$f":"IF(J87=\"\",\"\",IF(J87<=0,\"\",lookup!X80))","v":""},{"$f":"IF(E88=\"\",\"\",IF(J88<=0,lookup!Y80+lookup!AA80,lookup!Y80))","v":""},{"$f":"IF(E88=\"\",\"\",lookup!Z79)","v":""},"","",{"$f":"IF(E88=\"\",\"\",IF(lookup!AA80<0,0,lookup!AA80))","v":""}]
[null,null,null,null,{"$f":"IF(J88=\"\",\"\",IF(J88<=0,\"\",lookup!X81))","v":""},{"$f":"IF(E89=\"\",\"\",IF(J89<=0,lookup!Y81+lookup!AA81,lookup!Y81))","v":""},{"$f":"IF(E89=\"\",\"\",lookup!Z80)","v":""},"","",{"$f":"IF(E89=\"\",\"\",IF(lookup!AA81<0,0,lookup!AA81))","v":""}]
[null,null,null,null,{"$f":"IF(J89=\"\",\"\",IF(J89<=0,\"\",lookup!X82))","v":""},{"$f":"IF(E90=\"\",\"\",IF(J90<=0,lookup!Y82+lookup!AA82,lookup!Y82))","v":""},{"$f":"IF(E90=\"\",\"\",lookup!Z81)","v":""},"","",{"$f":"IF(E90=\"\",\"\",IF(lookup!AA82<0,0,lookup!AA82))","v":""}]
[null,null,null,null,{"$f":"IF(J90=\"\",\"\",IF(J90<=0,\"\",lookup!X83))","v":""},{"$f":"IF(E91=\"\",\"\",IF(J91<=0,lookup!Y83+lookup!AA83,lookup!Y83))","v":""},{"$f":"IF(E91=\"\",\"\",lookup!Z82)","v":""},"","",{"$f":"IF(E91=\"\",\"\",IF(lookup!AA83<0,0,lookup!AA83))","v":""}]
[null,null,null,null,{"$f":"IF(J91=\"\",\"\",IF(J91<=0,\"\",lookup!X84))","v":""},{"$f":"IF(E92=\"\",\"\",IF(J92<=0,lookup!Y84+lookup!AA84,lookup!Y84))","v":""},{"$f":"IF(E92=\"\",\"\",lookup!Z83)","v":""},"","",{"$f":"IF(E92=\"\",\"\",IF(lookup!AA84<0,0,lookup!AA84))","v":""}]
[null,null,null,null,{"$f":"IF(J92=\"\",\"\",IF(J92<=0,\"\",lookup!X85))","v":""},{"$f":"IF(E93=\"\",\"\",IF(J93<=0,lookup!Y85+lookup!AA85,lookup!Y85))","v":""},{"$f":"IF(E93=\"\",\"\",lookup!Z84)","v":""},"","",{"$f":"IF(E93=\"\",\"\",IF(lookup!AA85<0,0,lookup!AA85))","v":""}]
[null,null,null,null,{"$f":"IF(J93=\"\",\"\",IF(J93<=0,\"\",lookup!X86))","v":""},{"$f":"IF(E94=\"\",\"\",IF(J94<=0,lookup!Y86+lookup!AA86,lookup!Y86))","v":""},{"$f":"IF(E94=\"\",\"\",lookup!Z85)","v":""},"","",{"$f":"IF(E94=\"\",\"\",IF(lookup!AA86<0,0,lookup!AA86))","v":""}]
[null,null,null,null,{"$f":"IF(J94=\"\",\"\",IF(J94<=0,\"\",lookup!X87))","v":""},{"$f":"IF(E95=\"\",\"\",IF(J95<=0,lookup!Y87+lookup!AA87,lookup!Y87))","v":""},{"$f":"IF(E95=\"\",\"\",lookup!Z86)","v":""},"","",{"$f":"IF(E95=\"\",\"\",IF(lookup!AA87<0,0,lookup!AA87))","v":""}]
[null,null,null,null,{"$f":"IF(J95=\"\",\"\",IF(J95<=0,\"\",lookup!X88))","v":""},{"$f":"IF(E96=\"\",\"\",IF(J96<=0,lookup!Y88+lookup!AA88,lookup!Y88))","v":""},{"$f":"IF(E96=\"\",\"\",lookup!Z87)","v":""},"","",{"$f":"IF(E96=\"\",\"\",IF(lookup!AA88<0,0,lookup!AA88))","v":""}]
[null,null,null,null,{"$f":"IF(J96=\"\",\"\",IF(J96<=0,\"\",lookup!X89))","v":""},{"$f":"IF(E97=\"\",\"\",IF(J97<=0,lookup!Y89+lookup!AA89,lookup!Y89))","v":""},{"$f":"IF(E97=\"\",\"\",lookup!Z88)","v":""},"","",{"$f":"IF(E97=\"\",\"\",IF(lookup!AA89<0,0,lookup!AA89))","v":""}]
[null,null,null,null,{"$f":"IF(J97=\"\",\"\",IF(J97<=0,\"\",lookup!X90))","v":""},{"$f":"IF(E98=\"\",\"\",IF(J98<=0,lookup!Y90+lookup!AA90,lookup!Y90))","v":""},{"$f":"IF(E98=\"\",\"\",lookup!Z89)","v":""},"","",{"$f":"IF(E98=\"\",\"\",IF(lookup!AA90<0,0,lookup!AA90))","v":""}]
[null,null,null,null,{"$f":"IF(J98=\"\",\"\",IF(J98<=0,\"\",lookup!X91))","v":""},{"$f":"IF(E99=\"\",\"\",IF(J99<=0,lookup!Y91+lookup!AA91,lookup!Y91))","v":""},{"$f":"IF(E99=\"\",\"\",lookup!Z90)","v":""},"","",{"$f":"IF(E99=\"\",\"\",IF(lookup!AA91<0,0,lookup!AA91))","v":""}]
[null,null,null,null,{"$f":"IF(J99=\"\",\"\",IF(J99<=0,\"\",lookup!X92))","v":""},{"$f":"IF(E100=\"\",\"\",IF(J100<=0,lookup!Y92+lookup!AA92,lookup!Y92))","v":""},{"$f":"IF(E100=\"\",\"\",lookup!Z91)","v":""},"","",{"$f":"IF(E100=\"\",\"\",IF(lookup!AA92<0,0,lookup!AA92))","v":""}]
[null,null,null,null,{"$f":"IF(J100=\"\",\"\",IF(J100<=0,\"\",lookup!X93))","v":""},{"$f":"IF(E101=\"\",\"\",IF(J101<=0,lookup!Y93+lookup!AA93,lookup!Y93))","v":""},{"$f":"IF(E101=\"\",\"\",lookup!Z92)","v":""},"","",{"$f":"IF(E101=\"\",\"\",IF(lookup!AA93<0,0,lookup!AA93))","v":""}]
[null,null,null,null,{"$f":"IF(J101=\"\",\"\",IF(J101<=0,\"\",lookup!X94))","v":""},{"$f":"IF(E102=\"\",\"\",IF(J102<=0,lookup!Y94+lookup!AA94,lookup!Y94))","v":""},{"$f":"IF(E102=\"\",\"\",lookup!Z93)","v":""},"","",{"$f":"IF(E102=\"\",\"\",IF(lookup!AA94<0,0,lookup!AA94))","v":""}]
[null,null,null,null,{"$f":"IF(J102=\"\",\"\",IF(J102<=0,\"\",lookup!X95))","v":""},{"$f":"IF(E103=\"\",\"\",IF(J103<=0,lookup!Y95+lookup!AA95,lookup!Y95))","v":""},{"$f":"IF(E103=\"\",\"\",lookup!Z94)","v":""},"","",{"$f":"IF(E103=\"\",\"\",IF(lookup!AA95<0,0,lookup!AA95))","v":""}]
[null,null,null,null,{"$f":"IF(J103=\"\",\"\",IF(J103<=0,\"\",lookup!X96))","v":""},{"$f":"IF(E104=\"\",\"\",IF(J104<=0,lookup!Y96+lookup!AA96,lookup!Y96))","v":""},{"$f":"IF(E104=\"\",\"\",lookup!Z95)","v":""},"","",{"$f":"IF(E104=\"\",\"\",IF(lookup!AA96<0,0,lookup!AA96))","v":""}]
[null,null,null,null,{"$f":"IF(J104=\"\",\"\",IF(J104<=0,\"\",lookup!X97))","v":""},{"$f":"IF(E105=\"\",\"\",IF(J105<=0,lookup!Y97+lookup!AA97,lookup!Y97))","v":""},{"$f":"IF(E105=\"\",\"\",lookup!Z96)","v":""},"","",{"$f":"IF(E105=\"\",\"\",IF(lookup!AA97<0,0,lookup!AA97))","v":""}]
[null,null,null,null,{"$f":"IF(J105=\"\",\"\",IF(J105<=0,\"\",lookup!X98))","v":""},{"$f":"IF(E106=\"\",\"\",IF(J106<=0,lookup!Y98+lookup!AA98,lookup!Y98))","v":""},{"$f":"IF(E106=\"\",\"\",lookup!Z97)","v":""},"","",{"$f":"IF(E106=\"\",\"\",IF(lookup!AA98<0,0,lookup!AA98))","v":""}]
[null,null,null,null,{"$f":"IF(J106=\"\",\"\",IF(J106<=0,\"\",lookup!X99))","v":""},{"$f":"IF(E107=\"\",\"\",IF(J107<=0,lookup!Y99+lookup!AA99,lookup!Y99))","v":""},{"$f":"IF(E107=\"\",\"\",lookup!Z98)","v":""},"","",{"$f":"IF(E107=\"\",\"\",IF(lookup!AA99<0,0,lookup!AA99))","v":""}]
[null,null,null,null,{"$f":"IF(J107=\"\",\"\",IF(J107<=0,\"\",lookup!X100))","v":""},{"$f":"IF(E108=\"\",\"\",IF(J108<=0,lookup!Y100+lookup!AA100,lookup!Y100))","v":""},{"$f":"IF(E108=\"\",\"\",lookup!Z99)","v":""},"","",{"$f":"IF(E108=\"\",\"\",IF(lookup!AA100<0,0,lookup!AA100))","v":""}]
[null,null,null,null,{"$f":"IF(J108=\"\",\"\",IF(J108<=0,\"\",lookup!X101))","v":""},{"$f":"IF(E109=\"\",\"\",IF(J109<=0,lookup!Y101+lookup!AA101,lookup!Y101))","v":""},{"$f":"IF(E109=\"\",\"\",lookup!Z100)","v":""},"","",{"$f":"IF(E109=\"\",\"\",IF(lookup!AA101<0,0,lookup!AA101))","v":""}]
[null,null,null,null,{"$f":"IF(J109=\"\",\"\",IF(J109<=0,\"\",lookup!X102))","v":""},{"$f":"IF(E110=\"\",\"\",IF(J110<=0,lookup!Y102+lookup!AA102,lookup!Y102))","v":""},{"$f":"IF(E110=\"\",\"\",lookup!Z101)","v":""},"","",{"$f":"IF(E110=\"\",\"\",IF(lookup!AA102<0,0,lookup!AA102))","v":""}]
[null,null,null,null,{"$f":"IF(J110=\"\",\"\",IF(J110<=0,\"\",lookup!X103))","v":""},{"$f":"IF(E111=\"\",\"\",IF(J111<=0,lookup!Y103+lookup!AA103,lookup!Y103))","v":""},{"$f":"IF(E111=\"\",\"\",lookup!Z102)","v":""},"","",{"$f":"IF(E111=\"\",\"\",IF(lookup!AA103<0,0,lookup!AA103))","v":""}]
[null,null,null,null,{"$f":"IF(J111=\"\",\"\",IF(J111<=0,\"\",lookup!X104))","v":""},{"$f":"IF(E112=\"\",\"\",IF(J112<=0,lookup!Y104+lookup!AA104,lookup!Y104))","v":""},{"$f":"IF(E112=\"\",\"\",lookup!Z103)","v":""},"","",{"$f":"IF(E112=\"\",\"\",IF(lookup!AA104<0,0,lookup!AA104))","v":""}]
[null,null,null,null,{"$f":"IF(J112=\"\",\"\",IF(J112<=0,\"\",lookup!X105))","v":""},{"$f":"IF(E113=\"\",\"\",IF(J113<=0,lookup!Y105+lookup!AA105,lookup!Y105))","v":""},{"$f":"IF(E113=\"\",\"\",lookup!Z104)","v":""},"","",{"$f":"IF(E113=\"\",\"\",IF(lookup!AA105<0,0,lookup!AA105))","v":""}]
[null,null,null,null,{"$f":"IF(J113=\"\",\"\",IF(J113<=0,\"\",lookup!X106))","v":""},{"$f":"IF(E114=\"\",\"\",IF(J114<=0,lookup!Y106+lookup!AA106,lookup!Y106))","v":""},{"$f":"IF(E114=\"\",\"\",lookup!Z105)","v":""},"","",{"$f":"IF(E114=\"\",\"\",IF(lookup!AA106<0,0,lookup!AA106))","v":""}]
[null,null,null,null,{"$f":"IF(J114=\"\",\"\",IF(J114<=0,\"\",lookup!X107))","v":""},{"$f":"IF(E115=\"\",\"\",IF(J115<=0,lookup!Y107+lookup!AA107,lookup!Y107))","v":""},{"$f":"IF(E115=\"\",\"\",lookup!Z106)","v":""},"","",{"$f":"IF(E115=\"\",\"\",IF(lookup!AA107<0,0,lookup!AA107))","v":""}]
[null,null,null,null,{"$f":"IF(J115=\"\",\"\",IF(J115<=0,\"\",lookup!X108))","v":""},{"$f":"IF(E116=\"\",\"\",IF(J116<=0,lookup!Y108+lookup!AA108,lookup!Y108))","v":""},{"$f":"IF(E116=\"\",\"\",lookup!Z107)","v":""},"","",{"$f":"IF(E116=\"\",\"\",IF(lookup!AA108<0,0,lookup!AA108))","v":""}]
[null,null,null,null,{"$f":"IF(J116=\"\",\"\",IF(J116<=0,\"\",lookup!X109))","v":""},{"$f":"IF(E117=\"\",\"\",IF(J117<=0,lookup!Y109+lookup!AA109,lookup!Y109))","v":""},{"$f":"IF(E117=\"\",\"\",lookup!Z108)","v":""},"","",{"$f":"IF(E117=\"\",\"\",IF(lookup!AA109<0,0,lookup!AA109))","v":""}]
[null,null,null,null,{"$f":"IF(J117=\"\",\"\",IF(J117<=0,\"\",lookup!X110))","v":""},{"$f":"IF(E118=\"\",\"\",IF(J118<=0,lookup!Y110+lookup!AA110,lookup!Y110))","v":""},{"$f":"IF(E118=\"\",\"\",lookup!Z109)","v":""},"","",{"$f":"IF(E118=\"\",\"\",IF(lookup!AA110<0,0,lookup!AA110))","v":""}]
[null,null,null,null,{"$f":"IF(J118=\"\",\"\",IF(J118<=0,\"\",lookup!X111))","v":""},{"$f":"IF(E119=\"\",\"\",IF(J119<=0,lookup!Y111+lookup!AA111,lookup!Y111))","v":""},{"$f":"IF(E119=\"\",\"\",lookup!Z110)","v":""},"","",{"$f":"IF(E119=\"\",\"\",IF(lookup!AA111<0,0,lookup!AA111))","v":""}]
[null,null,null,null,{"$f":"IF(J119=\"\",\"\",IF(J119<=0,\"\",lookup!X112))","v":""},{"$f":"IF(E120=\"\",\"\",IF(J120<=0,lookup!Y112+lookup!AA112,lookup!Y112))","v":""},{"$f":"IF(E120=\"\",\"\",lookup!Z111)","v":""},"","",{"$f":"IF(E120=\"\",\"\",IF(lookup!AA112<0,0,lookup!AA112))","v":""}]
[null,null,null,null,{"$f":"IF(J120=\"\",\"\",IF(J120<=0,\"\",lookup!X113))","v":""},{"$f":"IF(E121=\"\",\"\",IF(J121<=0,lookup!Y113+lookup!AA113,lookup!Y113))","v":""},{"$f":"IF(E121=\"\",\"\",lookup!Z112)","v":""},"","",{"$f":"IF(E121=\"\",\"\",IF(lookup!AA113<0,0,lookup!AA113))","v":""}]
[null,null,null,null,{"$f":"IF(J121=\"\",\"\",IF(J121<=0,\"\",lookup!X114))","v":""},{"$f":"IF(E122=\"\",\"\",IF(J122<=0,lookup!Y114+lookup!AA114,lookup!Y114))","v":""},{"$f":"IF(E122=\"\",\"\",lookup!Z113)","v":""},"","",{"$f":"IF(E122=\"\",\"\",IF(lookup!AA114<0,0,lookup!AA114))","v":""}]
[null,null,null,null,{"$f":"IF(J122=\"\",\"\",IF(J122<=0,\"\",lookup!X115))","v":""},{"$f":"IF(E123=\"\",\"\",IF(J123<=0,lookup!Y115+lookup!AA115,lookup!Y115))","v":""},{"$f":"IF(E123=\"\",\"\",lookup!Z114)","v":""},"","",{"$f":"IF(E123=\"\",\"\",IF(lookup!AA115<0,0,lookup!AA115))","v":""}]
[null,null,null,null,{"$f":"IF(J123=\"\",\"\",IF(J123<=0,\"\",lookup!X116))","v":""},{"$f":"IF(E124=\"\",\"\",IF(J124<=0,lookup!Y116+lookup!AA116,lookup!Y116))","v":""},{"$f":"IF(E124=\"\",\"\",lookup!Z115)","v":""},"","",{"$f":"IF(E124=\"\",\"\",IF(lookup!AA116<0,0,lookup!AA116))","v":""}]
[null,null,null,null,{"$f":"IF(J124=\"\",\"\",IF(J124<=0,\"\",lookup!X117))","v":""},{"$f":"IF(E125=\"\",\"\",IF(J125<=0,lookup!Y117+lookup!AA117,lookup!Y117))","v":""},{"$f":"IF(E125=\"\",\"\",lookup!Z116)","v":""},"","",{"$f":"IF(E125=\"\",\"\",IF(lookup!AA117<0,0,lookup!AA117))","v":""}]
[null,null,null,null,{"$f":"IF(J125=\"\",\"\",IF(J125<=0,\"\",lookup!X118))","v":""},{"$f":"IF(E126=\"\",\"\",IF(J126<=0,lookup!Y118+lookup!AA118,lookup!Y118))","v":""},{"$f":"IF(E126=\"\",\"\",lookup!Z117)","v":""},"","",{"$f":"IF(E126=\"\",\"\",IF(lookup!AA118<0,0,lookup!AA118))","v":""}]
[null,null,null,null,{"$f":"IF(J126=\"\",\"\",IF(J126<=0,\"\",lookup!X119))","v":""},{"$f":"IF(E127=\"\",\"\",IF(J127<=0,lookup!Y119+lookup!AA119,lookup!Y119))","v":""},{"$f":"IF(E127=\"\",\"\",lookup!Z118)","v":""},"","",{"$f":"IF(E127=\"\",\"\",IF(lookup!AA119<0,0,lookup!AA119))","v":""}]
[null,null,null,null,{"$f":"IF(J127=\"\",\"\",IF(J127<=0,\"\",lookup!X120))","v":""},{"$f":"IF(E128=\"\",\"\",IF(J128<=0,lookup!Y120+lookup!AA120,lookup!Y120))","v":""},{"$f":"IF(E128=\"\",\"\",lookup!Z119)","v":""},"","",{"$f":"IF(E128=\"\",\"\",IF(lookup!AA120<0,0,lookup!AA120))","v":""}]
[null,null,null,null,{"$f":"IF(J128=\"\",\"\",IF(J128<=0,\"\",lookup!X121))","v":""},{"$f":"IF(E129=\"\",\"\",IF(J129<=0,lookup!Y121+lookup!AA121,lookup!Y121))","v":""},{"$f":"IF(E129=\"\",\"\",lookup!Z120)","v":""},"","",{"$f":"IF(E129=\"\",\"\",IF(lookup!AA121<0,0,lookup!AA121))","v":""}]
[null,null,null,null,{"$f":"IF(J129=\"\",\"\",IF(J129<=0,\"\",lookup!X122))","v":""},{"$f":"IF(E130=\"\",\"\",IF(J130<=0,lookup!Y122+lookup!AA122,lookup!Y122))","v":""},{"$f":"IF(E130=\"\",\"\",lookup!Z121)","v":""},"","",{"$f":"IF(E130=\"\",\"\",IF(lookup!AA122<0,0,lookup!AA122))","v":""}]
[null,null,null,null,{"$f":"IF(J130=\"\",\"\",IF(J130<=0,\"\",lookup!X123))","v":""},{"$f":"IF(E131=\"\",\"\",IF(J131<=0,lookup!Y123+lookup!AA123,lookup!Y123))","v":""},{"$f":"IF(E131=\"\",\"\",lookup!Z122)","v":""},"","",{"$f":"IF(E131=\"\",\"\",IF(lookup!AA123<0,0,lookup!AA123))","v":""}]
[null,null,null,null,{"$f":"IF(J131=\"\",\"\",IF(J131<=0,\"\",lookup!X124))","v":""},{"$f":"IF(E132=\"\",\"\",IF(J132<=0,lookup!Y124+lookup!AA124,lookup!Y124))","v":""},{"$f":"IF(E132=\"\",\"\",lookup!Z123)","v":""},"","",{"$f":"IF(E132=\"\",\"\",IF(lookup!AA124<0,0,lookup!AA124))","v":""}]
[null,null,null,null,{"$f":"IF(J132=\"\",\"\",IF(J132<=0,\"\",lookup!X125))","v":""},{"$f":"IF(E133=\"\",\"\",IF(J133<=0,lookup!Y125+lookup!AA125,lookup!Y125))","v":""},{"$f":"IF(E133=\"\",\"\",lookup!Z124)","v":""},"","",{"$f":"IF(E133=\"\",\"\",IF(lookup!AA125<0,0,lookup!AA125))","v":""}]
[null,null,null,null,{"$f":"IF(J133=\"\",\"\",IF(J133<=0,\"\",lookup!X126))","v":""},{"$f":"IF(E134=\"\",\"\",IF(J134<=0,lookup!Y126+lookup!AA126,lookup!Y126))","v":""},{"$f":"IF(E134=\"\",\"\",lookup!Z125)","v":""},"","",{"$f":"IF(E134=\"\",\"\",IF(lookup!AA126<0,0,lookup!AA126))","v":""}]
[null,null,null,null,{"$f":"IF(J134=\"\",\"\",IF(J134<=0,\"\",lookup!X127))","v":""},{"$f":"IF(E135=\"\",\"\",IF(J135<=0,lookup!Y127+lookup!AA127,lookup!Y127))","v":""},{"$f":"IF(E135=\"\",\"\",lookup!Z126)","v":""},"","",{"$f":"IF(E135=\"\",\"\",IF(lookup!AA127<0,0,lookup!AA127))","v":""}]
[null,null,null,null,{"$f":"IF(J135=\"\",\"\",IF(J135<=0,\"\",lookup!X128))","v":""},{"$f":"IF(E136=\"\",\"\",IF(J136<=0,lookup!Y128+lookup!AA128,lookup!Y128))","v":""},{"$f":"IF(E136=\"\",\"\",lookup!Z127)","v":""},"","",{"$f":"IF(E136=\"\",\"\",IF(lookup!AA128<0,0,lookup!AA128))","v":""}]
[null,null,null,null,{"$f":"IF(J136=\"\",\"\",IF(J136<=0,\"\",lookup!X129))","v":""},{"$f":"IF(E137=\"\",\"\",IF(J137<=0,lookup!Y129+lookup!AA129,lookup!Y129))","v":""},{"$f":"IF(E137=\"\",\"\",lookup!Z128)","v":""},"","",{"$f":"IF(E137=\"\",\"\",IF(lookup!AA129<0,0,lookup!AA129))","v":""}]
[null,null,null,null,{"$f":"IF(J137=\"\",\"\",IF(J137<=0,\"\",lookup!X130))","v":""},{"$f":"IF(E138=\"\",\"\",IF(J138<=0,lookup!Y130+lookup!AA130,lookup!Y130))","v":""},{"$f":"IF(E138=\"\",\"\",lookup!Z129)","v":""},"","",{"$f":"IF(E138=\"\",\"\",IF(lookup!AA130<0,0,lookup!AA130))","v":""}]
[null,null,null,null,{"$f":"IF(J138=\"\",\"\",IF(J138<=0,\"\",lookup!X131))","v":""},{"$f":"IF(E139=\"\",\"\",IF(J139<=0,lookup!Y131+lookup!AA131,lookup!Y131))","v":""},{"$f":"IF(E139=\"\",\"\",lookup!Z130)","v":""},"","",{"$f":"IF(E139=\"\",\"\",IF(lookup!AA131<0,0,lookup!AA131))","v":""}]
[null,null,null,null,{"$f":"IF(J139=\"\",\"\",IF(J139<=0,\"\",lookup!X132))","v":""},{"$f":"IF(E140=\"\",\"\",IF(J140<=0,lookup!Y132+lookup!AA132,lookup!Y132))","v":""},{"$f":"IF(E140=\"\",\"\",lookup!Z131)","v":""},{"$f":"IF(E140=\"\",\"\",H139+G140)","v":""},{"$f":"IF(E140=\"\",\"\",F140-G140)","v":""},{"$f":"IF(E140=\"\",\"\",IF(lookup!AA132<0,0,lookup!AA132))","v":""}]
[null,null,null,null,{"$f":"IF(J140=\"\",\"\",IF(J140<=0,\"\",lookup!X133))","v":""},{"$f":"IF(E141=\"\",\"\",IF(J141<=0,lookup!Y133+lookup!AA133,lookup!Y133))","v":""},{"$f":"IF(E141=\"\",\"\",lookup!Z132)","v":""},"","",{"$f":"IF(E141=\"\",\"\",IF(lookup!AA133<0,0,lookup!AA133))","v":""}]
[null,null,null,null,{"$f":"IF(J141=\"\",\"\",IF(J141<=0,\"\",lookup!X134))","v":""},{"$f":"IF(E142=\"\",\"\",IF(J142<=0,lookup!Y134+lookup!AA134,lookup!Y134))","v":""},{"$f":"IF(E142=\"\",\"\",lookup!Z133)","v":""},"","",{"$f":"IF(E142=\"\",\"\",IF(lookup!AA134<0,0,lookup!AA134))","v":""}]
[null,null,null,null,{"$f":"IF(J142=\"\",\"\",IF(J142<=0,\"\",lookup!X135))","v":""},{"$f":"IF(E143=\"\",\"\",IF(J143<=0,lookup!Y135+lookup!AA135,lookup!Y135))","v":""},{"$f":"IF(E143=\"\",\"\",lookup!Z134)","v":""},"","",{"$f":"IF(E143=\"\",\"\",IF(lookup!AA135<0,0,lookup!AA135))","v":""}]
[null,null,null,null,{"$f":"IF(J143=\"\",\"\",IF(J143<=0,\"\",lookup!X136))","v":""},{"$f":"IF(E144=\"\",\"\",IF(J144<=0,lookup!Y136+lookup!AA136,lookup!Y136))","v":""},{"$f":"IF(E144=\"\",\"\",lookup!Z135)","v":""},"","",{"$f":"IF(E144=\"\",\"\",IF(lookup!AA136<0,0,lookup!AA136))","v":""}]
[null,null,null,null,{"$f":"IF(J144=\"\",\"\",IF(J144<=0,\"\",lookup!X137))","v":""},{"$f":"IF(E145=\"\",\"\",IF(J145<=0,lookup!Y137+lookup!AA137,lookup!Y137))","v":""},{"$f":"IF(E145=\"\",\"\",lookup!Z136)","v":""},"","",{"$f":"IF(E145=\"\",\"\",IF(lookup!AA137<0,0,lookup!AA137))","v":""}]
[null,null,null,null,{"$f":"IF(J145=\"\",\"\",IF(J145<=0,\"\",lookup!X138))","v":""},{"$f":"IF(E146=\"\",\"\",IF(J146<=0,lookup!Y138+lookup!AA138,lookup!Y138))","v":""},{"$f":"IF(E146=\"\",\"\",lookup!Z137)","v":""},"","",{"$f":"IF(E146=\"\",\"\",IF(lookup!AA138<0,0,lookup!AA138))","v":""}]
[null,null,null,null,{"$f":"IF(J146=\"\",\"\",IF(J146<=0,\"\",lookup!X139))","v":""},{"$f":"IF(E147=\"\",\"\",IF(J147<=0,lookup!Y139+lookup!AA139,lookup!Y139))","v":""},{"$f":"IF(E147=\"\",\"\",lookup!Z138)","v":""},"","",{"$f":"IF(E147=\"\",\"\",IF(lookup!AA139<0,0,lookup!AA139))","v":""}]
[null,null,null,null,{"$f":"IF(J147=\"\",\"\",IF(J147<=0,\"\",lookup!X140))","v":""},{"$f":"IF(E148=\"\",\"\",IF(J148<=0,lookup!Y140+lookup!AA140,lookup!Y140))","v":""},{"$f":"IF(E148=\"\",\"\",lookup!Z139)","v":""},"","",{"$f":"IF(E148=\"\",\"\",IF(lookup!AA140<0,0,lookup!AA140))","v":""}]
[null,null,null,null,{"$f":"IF(J148=\"\",\"\",IF(J148<=0,\"\",lookup!X141))","v":""},{"$f":"IF(E149=\"\",\"\",IF(J149<=0,lookup!Y141+lookup!AA141,lookup!Y141))","v":""},{"$f":"IF(E149=\"\",\"\",lookup!Z140)","v":""},"","",{"$f":"IF(E149=\"\",\"\",IF(lookup!AA141<0,0,lookup!AA141))","v":""}]
[null,null,null,null,{"$f":"IF(J149=\"\",\"\",IF(J149<=0,\"\",lookup!X142))","v":""},{"$f":"IF(E150=\"\",\"\",IF(J150<=0,lookup!Y142+lookup!AA142,lookup!Y142))","v":""},{"$f":"IF(E150=\"\",\"\",lookup!Z141)","v":""},"","",{"$f":"IF(E150=\"\",\"\",IF(lookup!AA142<0,0,lookup!AA142))","v":""}]
[null,null,null,null,{"$f":"IF(J150=\"\",\"\",IF(J150<=0,\"\",lookup!X143))","v":""},{"$f":"IF(E151=\"\",\"\",IF(J151<=0,lookup!Y143+lookup!AA143,lookup!Y143))","v":""},{"$f":"IF(E151=\"\",\"\",lookup!Z142)","v":""},"","",{"$f":"IF(E151=\"\",\"\",IF(lookup!AA143<0,0,lookup!AA143))","v":""}]
[null,null,null,null,{"$f":"IF(J151=\"\",\"\",IF(J151<=0,\"\",lookup!X144))","v":""},{"$f":"IF(E152=\"\",\"\",IF(J152<=0,lookup!Y144+lookup!AA144,lookup!Y144))","v":""},{"$f":"IF(E152=\"\",\"\",lookup!Z143)","v":""},"","",{"$f":"IF(E152=\"\",\"\",IF(lookup!AA144<0,0,lookup!AA144))","v":""}]
[null,null,null,null,{"$f":"IF(J152=\"\",\"\",IF(J152<=0,\"\",lookup!X145))","v":""},{"$f":"IF(E153=\"\",\"\",IF(J153<=0,lookup!Y145+lookup!AA145,lookup!Y145))","v":""},{"$f":"IF(E153=\"\",\"\",lookup!Z144)","v":""},"","",{"$f":"IF(E153=\"\",\"\",IF(lookup!AA145<0,0,lookup!AA145))","v":""}]
[null,null,null,null,{"$f":"IF(J153=\"\",\"\",IF(J153<=0,\"\",lookup!X146))","v":""},{"$f":"IF(E154=\"\",\"\",IF(J154<=0,lookup!Y146+lookup!AA146,lookup!Y146))","v":""},{"$f":"IF(E154=\"\",\"\",lookup!Z145)","v":""},"","",{"$f":"IF(E154=\"\",\"\",IF(lookup!AA146<0,0,lookup!AA146))","v":""}]
[null,null,null,null,{"$f":"IF(J154=\"\",\"\",IF(J154<=0,\"\",lookup!X147))","v":""},{"$f":"IF(E155=\"\",\"\",IF(J155<=0,lookup!Y147+lookup!AA147,lookup!Y147))","v":""},{"$f":"IF(E155=\"\",\"\",lookup!Z146)","v":""},"","",{"$f":"IF(E155=\"\",\"\",IF(lookup!AA147<0,0,lookup!AA147))","v":""}]
[null,null,null,null,{"$f":"IF(J155=\"\",\"\",IF(J155<=0,\"\",lookup!X148))","v":""},{"$f":"IF(E156=\"\",\"\",IF(J156<=0,lookup!Y148+lookup!AA148,lookup!Y148))","v":""},{"$f":"IF(E156=\"\",\"\",lookup!Z147)","v":""},"","",{"$f":"IF(E156=\"\",\"\",IF(lookup!AA148<0,0,lookup!AA148))","v":""}]
[null,null,null,null,{"$f":"IF(J156=\"\",\"\",IF(J156<=0,\"\",lookup!X149))","v":""},{"$f":"IF(E157=\"\",\"\",IF(J157<=0,lookup!Y149+lookup!AA149,lookup!Y149))","v":""},{"$f":"IF(E157=\"\",\"\",lookup!Z148)","v":""},"","",{"$f":"IF(E157=\"\",\"\",IF(lookup!AA149<0,0,lookup!AA149))","v":""}]
[null,null,null,null,{"$f":"IF(J157=\"\",\"\",IF(J157<=0,\"\",lookup!X150))","v":""},{"$f":"IF(E158=\"\",\"\",IF(J158<=0,lookup!Y150+lookup!AA150,lookup!Y150))","v":""},{"$f":"IF(E158=\"\",\"\",lookup!Z149)","v":""},"","",{"$f":"IF(E158=\"\",\"\",IF(lookup!AA150<0,0,lookup!AA150))","v":""}]
[null,null,null,null,{"$f":"IF(J158=\"\",\"\",IF(J158<=0,\"\",lookup!X151))","v":""},{"$f":"IF(E159=\"\",\"\",IF(J159<=0,lookup!Y151+lookup!AA151,lookup!Y151))","v":""},{"$f":"IF(E159=\"\",\"\",lookup!Z150)","v":""},"","",{"$f":"IF(E159=\"\",\"\",IF(lookup!AA151<0,0,lookup!AA151))","v":""}]
[null,null,null,null,{"$f":"IF(J159=\"\",\"\",IF(J159<=0,\"\",lookup!X152))","v":""},{"$f":"IF(E160=\"\",\"\",IF(J160<=0,lookup!Y152+lookup!AA152,lookup!Y152))","v":""},{"$f":"IF(E160=\"\",\"\",lookup!Z151)","v":""},"","",{"$f":"IF(E160=\"\",\"\",IF(lookup!AA152<0,0,lookup!AA152))","v":""}]
[null,null,null,null,{"$f":"IF(J160=\"\",\"\",IF(J160<=0,\"\",lookup!X153))","v":""},{"$f":"IF(E161=\"\",\"\",IF(J161<=0,lookup!Y153+lookup!AA153,lookup!Y153))","v":""},{"$f":"IF(E161=\"\",\"\",lookup!Z152)","v":""},"","",{"$f":"IF(E161=\"\",\"\",IF(lookup!AA153<0,0,lookup!AA153))","v":""}]
[null,null,null,null,{"$f":"IF(J161=\"\",\"\",IF(J161<=0,\"\",lookup!X154))","v":""},{"$f":"IF(E162=\"\",\"\",IF(J162<=0,lookup!Y154+lookup!AA154,lookup!Y154))","v":""},{"$f":"IF(E162=\"\",\"\",lookup!Z153)","v":""},"","",{"$f":"IF(E162=\"\",\"\",IF(lookup!AA154<0,0,lookup!AA154))","v":""}]
[null,null,null,null,{"$f":"IF(J162=\"\",\"\",IF(J162<=0,\"\",lookup!X155))","v":""},{"$f":"IF(E163=\"\",\"\",IF(J163<=0,lookup!Y155+lookup!AA155,lookup!Y155))","v":""},{"$f":"IF(E163=\"\",\"\",lookup!Z154)","v":""},"","",{"$f":"IF(E163=\"\",\"\",IF(lookup!AA155<0,0,lookup!AA155))","v":""}]
[null,null,null,null,{"$f":"IF(J163=\"\",\"\",IF(J163<=0,\"\",lookup!X156))","v":""},{"$f":"IF(E164=\"\",\"\",IF(J164<=0,lookup!Y156+lookup!AA156,lookup!Y156))","v":""},{"$f":"IF(E164=\"\",\"\",lookup!Z155)","v":""},"","",{"$f":"IF(E164=\"\",\"\",IF(lookup!AA156<0,0,lookup!AA156))","v":""}]
[null,null,null,null,{"$f":"IF(J164=\"\",\"\",IF(J164<=0,\"\",lookup!X157))","v":""},{"$f":"IF(E165=\"\",\"\",IF(J165<=0,lookup!Y157+lookup!AA157,lookup!Y157))","v":""},{"$f":"IF(E165=\"\",\"\",lookup!Z156)","v":""},"","",{"$f":"IF(E165=\"\",\"\",IF(lookup!AA157<0,0,lookup!AA157))","v":""}]
[null,null,null,null,{"$f":"IF(J165=\"\",\"\",IF(J165<=0,\"\",lookup!X158))","v":""},{"$f":"IF(E166=\"\",\"\",IF(J166<=0,lookup!Y158+lookup!AA158,lookup!Y158))","v":""},{"$f":"IF(E166=\"\",\"\",lookup!Z157)","v":""},"","",{"$f":"IF(E166=\"\",\"\",IF(lookup!AA158<0,0,lookup!AA158))","v":""}]
[null,null,null,null,{"$f":"IF(J166=\"\",\"\",IF(J166<=0,\"\",lookup!X159))","v":""},{"$f":"IF(E167=\"\",\"\",IF(J167<=0,lookup!Y159+lookup!AA159,lookup!Y159))","v":""},{"$f":"IF(E167=\"\",\"\",lookup!Z158)","v":""},"","",{"$f":"IF(E167=\"\",\"\",IF(lookup!AA159<0,0,lookup!AA159))","v":""}]
[null,null,null,null,{"$f":"IF(J167=\"\",\"\",IF(J167<=0,\"\",lookup!X160))","v":""},{"$f":"IF(E168=\"\",\"\",IF(J168<=0,lookup!Y160+lookup!AA160,lookup!Y160))","v":""},{"$f":"IF(E168=\"\",\"\",lookup!Z159)","v":""},"","",{"$f":"IF(E168=\"\",\"\",IF(lookup!AA160<0,0,lookup!AA160))","v":""}]
[null,null,null,null,{"$f":"IF(J168=\"\",\"\",IF(J168<=0,\"\",lookup!X161))","v":""},{"$f":"IF(E169=\"\",\"\",IF(J169<=0,lookup!Y161+lookup!AA161,lookup!Y161))","v":""},{"$f":"IF(E169=\"\",\"\",lookup!Z160)","v":""},"","",{"$f":"IF(E169=\"\",\"\",IF(lookup!AA161<0,0,lookup!AA161))","v":""}]
[null,null,null,null,{"$f":"IF(J169=\"\",\"\",IF(J169<=0,\"\",lookup!X162))","v":""},{"$f":"IF(E170=\"\",\"\",IF(J170<=0,lookup!Y162+lookup!AA162,lookup!Y162))","v":""},{"$f":"IF(E170=\"\",\"\",lookup!Z161)","v":""},"","",{"$f":"IF(E170=\"\",\"\",IF(lookup!AA162<0,0,lookup!AA162))","v":""}]
[null,null,null,null,{"$f":"IF(J170=\"\",\"\",IF(J170<=0,\"\",lookup!X163))","v":""},{"$f":"IF(E171=\"\",\"\",IF(J171<=0,lookup!Y163+lookup!AA163,lookup!Y163))","v":""},{"$f":"IF(E171=\"\",\"\",lookup!Z162)","v":""},"","",{"$f":"IF(E171=\"\",\"\",IF(lookup!AA163<0,0,lookup!AA163))","v":""}]
[null,null,null,null,{"$f":"IF(J171=\"\",\"\",IF(J171<=0,\"\",lookup!X164))","v":""},{"$f":"IF(E172=\"\",\"\",IF(J172<=0,lookup!Y164+lookup!AA164,lookup!Y164))","v":""},{"$f":"IF(E172=\"\",\"\",lookup!Z163)","v":""},"","",{"$f":"IF(E172=\"\",\"\",IF(lookup!AA164<0,0,lookup!AA164))","v":""}]
[null,null,null,null,{"$f":"IF(J172=\"\",\"\",IF(J172<=0,\"\",lookup!X165))","v":""},{"$f":"IF(E173=\"\",\"\",IF(J173<=0,lookup!Y165+lookup!AA165,lookup!Y165))","v":""},{"$f":"IF(E173=\"\",\"\",lookup!Z164)","v":""},"","",{"$f":"IF(E173=\"\",\"\",IF(lookup!AA165<0,0,lookup!AA165))","v":""}]
[null,null,null,null,{"$f":"IF(J173=\"\",\"\",IF(J173<=0,\"\",lookup!X166))","v":""},{"$f":"IF(E174=\"\",\"\",IF(J174<=0,lookup!Y166+lookup!AA166,lookup!Y166))","v":""},{"$f":"IF(E174=\"\",\"\",lookup!Z165)","v":""},"","",{"$f":"IF(E174=\"\",\"\",IF(lookup!AA166<0,0,lookup!AA166))","v":""}]
[null,null,null,null,{"$f":"IF(J174=\"\",\"\",IF(J174<=0,\"\",lookup!X167))","v":""},{"$f":"IF(E175=\"\",\"\",IF(J175<=0,lookup!Y167+lookup!AA167,lookup!Y167))","v":""},{"$f":"IF(E175=\"\",\"\",lookup!Z166)","v":""},"","",{"$f":"IF(E175=\"\",\"\",IF(lookup!AA167<0,0,lookup!AA167))","v":""}]
[null,null,null,null,{"$f":"IF(J175=\"\",\"\",IF(J175<=0,\"\",lookup!X168))","v":""},{"$f":"IF(E176=\"\",\"\",IF(J176<=0,lookup!Y168+lookup!AA168,lookup!Y168))","v":""},{"$f":"IF(E176=\"\",\"\",lookup!Z167)","v":""},"","",{"$f":"IF(E176=\"\",\"\",IF(lookup!AA168<0,0,lookup!AA168))","v":""}]
[null,null,null,null,{"$f":"IF(J176=\"\",\"\",IF(J176<=0,\"\",lookup!X169))","v":""},{"$f":"IF(E177=\"\",\"\",IF(J177<=0,lookup!Y169+lookup!AA169,lookup!Y169))","v":""},{"$f":"IF(E177=\"\",\"\",lookup!Z168)","v":""},"","",{"$f":"IF(E177=\"\",\"\",IF(lookup!AA169<0,0,lookup!AA169))","v":""}]
[null,null,null,null,{"$f":"IF(J177=\"\",\"\",IF(J177<=0,\"\",lookup!X170))","v":""},{"$f":"IF(E178=\"\",\"\",IF(J178<=0,lookup!Y170+lookup!AA170,lookup!Y170))","v":""},{"$f":"IF(E178=\"\",\"\",lookup!Z169)","v":""},"","",{"$f":"IF(E178=\"\",\"\",IF(lookup!AA170<0,0,lookup!AA170))","v":""}]
[null,null,null,null,{"$f":"IF(J178=\"\",\"\",IF(J178<=0,\"\",lookup!X171))","v":""},{"$f":"IF(E179=\"\",\"\",IF(J179<=0,lookup!Y171+lookup!AA171,lookup!Y171))","v":""},{"$f":"IF(E179=\"\",\"\",lookup!Z170)","v":""},"","",{"$f":"IF(E179=\"\",\"\",IF(lookup!AA171<0,0,lookup!AA171))","v":""}]
[null,null,null,null,{"$f":"IF(J179=\"\",\"\",IF(J179<=0,\"\",lookup!X172))","v":""},{"$f":"IF(E180=\"\",\"\",IF(J180<=0,lookup!Y172+lookup!AA172,lookup!Y172))","v":""},{"$f":"IF(E180=\"\",\"\",lookup!Z171)","v":""},"","",{"$f":"IF(E180=\"\",\"\",IF(lookup!AA172<0,0,lookup!AA172))","v":""}]
[null,null,null,null,{"$f":"IF(J180=\"\",\"\",IF(J180<=0,\"\",lookup!X173))","v":""},{"$f":"IF(E181=\"\",\"\",IF(J181<=0,lookup!Y173+lookup!AA173,lookup!Y173))","v":""},{"$f":"IF(E181=\"\",\"\",lookup!Z172)","v":""},"","",{"$f":"IF(E181=\"\",\"\",IF(lookup!AA173<0,0,lookup!AA173))","v":""}]
[null,null,null,null,{"$f":"IF(J181=\"\",\"\",IF(J181<=0,\"\",lookup!X174))","v":""},{"$f":"IF(E182=\"\",\"\",IF(J182<=0,lookup!Y174+lookup!AA174,lookup!Y174))","v":""},{"$f":"IF(E182=\"\",\"\",lookup!Z173)","v":""},"","",{"$f":"IF(E182=\"\",\"\",IF(lookup!AA174<0,0,lookup!AA174))","v":""}]
[null,null,null,null,{"$f":"IF(J182=\"\",\"\",IF(J182<=0,\"\",lookup!X175))","v":""},{"$f":"IF(E183=\"\",\"\",IF(J183<=0,lookup!Y175+lookup!AA175,lookup!Y175))","v":""},{"$f":"IF(E183=\"\",\"\",lookup!Z174)","v":""},"","",{"$f":"IF(E183=\"\",\"\",IF(lookup!AA175<0,0,lookup!AA175))","v":""}]
[null,null,null,null,{"$f":"IF(J183=\"\",\"\",IF(J183<=0,\"\",lookup!X176))","v":""},{"$f":"IF(E184=\"\",\"\",IF(J184<=0,lookup!Y176+lookup!AA176,lookup!Y176))","v":""},{"$f":"IF(E184=\"\",\"\",lookup!Z175)","v":""},"","",{"$f":"IF(E184=\"\",\"\",IF(lookup!AA176<0,0,lookup!AA176))","v":""}]
[null,null,null,null,{"$f":"IF(J184=\"\",\"\",IF(J184<=0,\"\",lookup!X177))","v":""},{"$f":"IF(E185=\"\",\"\",IF(J185<=0,lookup!Y177+lookup!AA177,lookup!Y177))","v":""},{"$f":"IF(E185=\"\",\"\",lookup!Z176)","v":""},"","",{"$f":"IF(E185=\"\",\"\",IF(lookup!AA177<0,0,lookup!AA177))","v":""}]
[null,null,null,null,{"$f":"IF(J185=\"\",\"\",IF(J185<=0,\"\",lookup!X178))","v":""},{"$f":"IF(E186=\"\",\"\",IF(J186<=0,lookup!Y178+lookup!AA178,lookup!Y178))","v":""},{"$f":"IF(E186=\"\",\"\",lookup!Z177)","v":""},"","",{"$f":"IF(E186=\"\",\"\",IF(lookup!AA178<0,0,lookup!AA178))","v":""}]
[null,null,null,null,{"$f":"IF(J186=\"\",\"\",IF(J186<=0,\"\",lookup!X179))","v":""},{"$f":"IF(E187=\"\",\"\",IF(J187<=0,lookup!Y179+lookup!AA179,lookup!Y179))","v":""},{"$f":"IF(E187=\"\",\"\",lookup!Z178)","v":""},"","",{"$f":"IF(E187=\"\",\"\",IF(lookup!AA179<0,0,lookup!AA179))","v":""}]
[null,null,null,null,{"$f":"IF(J187=\"\",\"\",IF(J187<=0,\"\",lookup!X180))","v":""},{"$f":"IF(E188=\"\",\"\",IF(J188<=0,lookup!Y180+lookup!AA180,lookup!Y180))","v":""},{"$f":"IF(E188=\"\",\"\",lookup!Z179)","v":""},"","",{"$f":"IF(E188=\"\",\"\",IF(lookup!AA180<0,0,lookup!AA180))","v":""}]
[null,null,null,null,{"$f":"IF(J188=\"\",\"\",IF(J188<=0,\"\",lookup!X181))","v":""},{"$f":"IF(E189=\"\",\"\",IF(J189<=0,lookup!Y181+lookup!AA181,lookup!Y181))","v":""},{"$f":"IF(E189=\"\",\"\",lookup!Z180)","v":""},"","",{"$f":"IF(E189=\"\",\"\",IF(lookup!AA181<0,0,lookup!AA181))","v":""}]
[null,null,null,null,{"$f":"IF(J189=\"\",\"\",IF(J189<=0,\"\",lookup!X182))","v":""},{"$f":"IF(E190=\"\",\"\",IF(J190<=0,lookup!Y182+lookup!AA182,lookup!Y182))","v":""},{"$f":"IF(E190=\"\",\"\",lookup!Z181)","v":""},"","",{"$f":"IF(E190=\"\",\"\",IF(lookup!AA182<0,0,lookup!AA182))","v":""}]
[null,null,null,null,{"$f":"IF(J190=\"\",\"\",IF(J190<=0,\"\",lookup!X183))","v":""},{"$f":"IF(E191=\"\",\"\",IF(J191<=0,lookup!Y183+lookup!AA183,lookup!Y183))","v":""},{"$f":"IF(E191=\"\",\"\",lookup!Z182)","v":""},"","",{"$f":"IF(E191=\"\",\"\",IF(lookup!AA183<0,0,lookup!AA183))","v":""}]
[null,null,null,null,{"$f":"IF(J191=\"\",\"\",IF(J191<=0,\"\",lookup!X184))","v":""},{"$f":"IF(E192=\"\",\"\",IF(J192<=0,lookup!Y184+lookup!AA184,lookup!Y184))","v":""},{"$f":"IF(E192=\"\",\"\",lookup!Z183)","v":""},"","",{"$f":"IF(E192=\"\",\"\",IF(lookup!AA184<0,0,lookup!AA184))","v":""}]
[null,null,null,null,{"$f":"IF(J192=\"\",\"\",IF(J192<=0,\"\",lookup!X185))","v":""},{"$f":"IF(E193=\"\",\"\",IF(J193<=0,lookup!Y185+lookup!AA185,lookup!Y185))","v":""},{"$f":"IF(E193=\"\",\"\",lookup!Z184)","v":""},"","",{"$f":"IF(E193=\"\",\"\",IF(lookup!AA185<0,0,lookup!AA185))","v":""}]
[null,null,null,null,{"$f":"IF(J193=\"\",\"\",IF(J193<=0,\"\",lookup!X186))","v":""},{"$f":"IF(E194=\"\",\"\",IF(J194<=0,lookup!Y186+lookup!AA186,lookup!Y186))","v":""},{"$f":"IF(E194=\"\",\"\",lookup!Z185)","v":""},"","",{"$f":"IF(E194=\"\",\"\",IF(lookup!AA186<0,0,lookup!AA186))","v":""}]
[null,null,null,null,{"$f":"IF(J194=\"\",\"\",IF(J194<=0,\"\",lookup!X187))","v":""},{"$f":"IF(E195=\"\",\"\",IF(J195<=0,lookup!Y187+lookup!AA187,lookup!Y187))","v":""},{"$f":"IF(E195=\"\",\"\",lookup!Z186)","v":""},"","",{"$f":"IF(E195=\"\",\"\",IF(lookup!AA187<0,0,lookup!AA187))","v":""}]
[null,null,null,null,{"$f":"IF(J195=\"\",\"\",IF(J195<=0,\"\",lookup!X188))","v":""},{"$f":"IF(E196=\"\",\"\",IF(J196<=0,lookup!Y188+lookup!AA188,lookup!Y188))","v":""},{"$f":"IF(E196=\"\",\"\",lookup!Z187)","v":""},"","",{"$f":"IF(E196=\"\",\"\",IF(lookup!AA188<0,0,lookup!AA188))","v":""}]
[null,null,null,null,{"$f":"IF(J196=\"\",\"\",IF(J196<=0,\"\",lookup!X189))","v":""},{"$f":"IF(E197=\"\",\"\",IF(J197<=0,lookup!Y189+lookup!AA189,lookup!Y189))","v":""},{"$f":"IF(E197=\"\",\"\",lookup!Z188)","v":""},"","",{"$f":"IF(E197=\"\",\"\",IF(lookup!AA189<0,0,lookup!AA189))","v":""}]
[null,null,null,null,{"$f":"IF(J197=\"\",\"\",IF(J197<=0,\"\",lookup!X190))","v":""},{"$f":"IF(E198=\"\",\"\",IF(J198<=0,lookup!Y190+lookup!AA190,lookup!Y190))","v":""},{"$f":"IF(E198=\"\",\"\",lookup!Z189)","v":""},"","",{"$f":"IF(E198=\"\",\"\",IF(lookup!AA190<0,0,lookup!AA190))","v":""}]
[null,null,null,null,{"$f":"IF(J198=\"\",\"\",IF(J198<=0,\"\",lookup!X191))","v":""},{"$f":"IF(E199=\"\",\"\",IF(J199<=0,lookup!Y191+lookup!AA191,lookup!Y191))","v":""},{"$f":"IF(E199=\"\",\"\",lookup!Z190)","v":""},"","",{"$f":"IF(E199=\"\",\"\",IF(lookup!AA191<0,0,lookup!AA191))","v":""}]
[null,null,null,null,{"$f":"IF(J199=\"\",\"\",IF(J199<=0,\"\",lookup!X192))","v":""},{"$f":"IF(E200=\"\",\"\",IF(J200<=0,lookup!Y192+lookup!AA192,lookup!Y192))","v":""},{"$f":"IF(E200=\"\",\"\",lookup!Z191)","v":""},"","",{"$f":"IF(E200=\"\",\"\",IF(lookup!AA192<0,0,lookup!AA192))","v":""}]
[null,null,null,null,{"$f":"IF(J200=\"\",\"\",IF(J200<=0,\"\",lookup!X193))","v":""},{"$f":"IF(E201=\"\",\"\",IF(J201<=0,lookup!Y193+lookup!AA193,lookup!Y193))","v":""},{"$f":"IF(E201=\"\",\"\",lookup!Z192)","v":""},"","",{"$f":"IF(E201=\"\",\"\",IF(lookup!AA193<0,0,lookup!AA193))","v":""}]
[null,null,null,null,{"$f":"IF(J201=\"\",\"\",IF(J201<=0,\"\",lookup!X194))","v":""},{"$f":"IF(E202=\"\",\"\",IF(J202<=0,lookup!Y194+lookup!AA194,lookup!Y194))","v":""},{"$f":"IF(E202=\"\",\"\",lookup!Z193)","v":""},"","",{"$f":"IF(E202=\"\",\"\",IF(lookup!AA194<0,0,lookup!AA194))","v":""}]
[null,null,null,null,{"$f":"IF(J202=\"\",\"\",IF(J202<=0,\"\",lookup!X195))","v":""},{"$f":"IF(E203=\"\",\"\",IF(J203<=0,lookup!Y195+lookup!AA195,lookup!Y195))","v":""},{"$f":"IF(E203=\"\",\"\",lookup!Z194)","v":""},"","",{"$f":"IF(E203=\"\",\"\",IF(lookup!AA195<0,0,lookup!AA195))","v":""}]
[null,null,null,null,{"$f":"IF(J203=\"\",\"\",IF(J203<=0,\"\",lookup!X196))","v":""},{"$f":"IF(E204=\"\",\"\",IF(J204<=0,lookup!Y196+lookup!AA196,lookup!Y196))","v":""},{"$f":"IF(E204=\"\",\"\",lookup!Z195)","v":""},{"$f":"IF(E204=\"\",\"\",H203+G204)","v":""},{"$f":"IF(E204=\"\",\"\",F204-G204)","v":""},{"$f":"IF(E204=\"\",\"\",IF(lookup!AA196<0,0,lookup!AA196))","v":""}]
[null,null,null,null,{"$f":"IF(J204=\"\",\"\",IF(J204<=0,\"\",lookup!X197))","v":""},{"$f":"IF(E205=\"\",\"\",IF(J205<=0,lookup!Y197+lookup!AA197,lookup!Y197))","v":""},{"$f":"IF(E205=\"\",\"\",lookup!Z196)","v":""},"","",{"$f":"IF(E205=\"\",\"\",IF(lookup!AA197<0,0,lookup!AA197))","v":""}]
[null,null,null,null,{"$f":"IF(J205=\"\",\"\",IF(J205<=0,\"\",lookup!X198))","v":""},{"$f":"IF(E206=\"\",\"\",IF(J206<=0,lookup!Y198+lookup!AA198,lookup!Y198))","v":""},{"$f":"IF(E206=\"\",\"\",lookup!Z197)","v":""},"","",{"$f":"IF(E206=\"\",\"\",IF(lookup!AA198<0,0,lookup!AA198))","v":""}]
[null,null,null,null,{"$f":"IF(J206=\"\",\"\",IF(J206<=0,\"\",lookup!X199))","v":""},{"$f":"IF(E207=\"\",\"\",IF(J207<=0,lookup!Y199+lookup!AA199,lookup!Y199))","v":""},{"$f":"IF(E207=\"\",\"\",lookup!Z198)","v":""},"","",{"$f":"IF(E207=\"\",\"\",IF(lookup!AA199<0,0,lookup!AA199))","v":""}]
[null,null,null,null,{"$f":"IF(J207=\"\",\"\",IF(J207<=0,\"\",lookup!X200))","v":""},{"$f":"IF(E208=\"\",\"\",IF(J208<=0,lookup!Y200+lookup!AA200,lookup!Y200))","v":""},{"$f":"IF(E208=\"\",\"\",lookup!Z199)","v":""},"","",{"$f":"IF(E208=\"\",\"\",IF(lookup!AA200<0,0,lookup!AA200))","v":""}]
[null,null,null,null,{"$f":"IF(J208=\"\",\"\",IF(J208<=0,\"\",lookup!X201))","v":""},{"$f":"IF(E209=\"\",\"\",IF(J209<=0,lookup!Y201+lookup!AA201,lookup!Y201))","v":""},{"$f":"IF(E209=\"\",\"\",lookup!Z200)","v":""},"","",{"$f":"IF(E209=\"\",\"\",IF(lookup!AA201<0,0,lookup!AA201))","v":""}]
[null,null,null,null,{"$f":"IF(J209=\"\",\"\",IF(J209<=0,\"\",lookup!X202))","v":""},{"$f":"IF(E210=\"\",\"\",IF(J210<=0,lookup!Y202+lookup!AA202,lookup!Y202))","v":""},{"$f":"IF(E210=\"\",\"\",lookup!Z201)","v":""},"","",{"$f":"IF(E210=\"\",\"\",IF(lookup!AA202<0,0,lookup!AA202))","v":""}]
[null,null,null,null,{"$f":"IF(J210=\"\",\"\",IF(J210<=0,\"\",lookup!X203))","v":""},{"$f":"IF(E211=\"\",\"\",IF(J211<=0,lookup!Y203+lookup!AA203,lookup!Y203))","v":""},{"$f":"IF(E211=\"\",\"\",lookup!Z202)","v":""},"","",{"$f":"IF(E211=\"\",\"\",IF(lookup!AA203<0,0,lookup!AA203))","v":""}]
[null,null,null,null,{"$f":"IF(J211=\"\",\"\",IF(J211<=0,\"\",lookup!X204))","v":""},{"$f":"IF(E212=\"\",\"\",IF(J212<=0,lookup!Y204+lookup!AA204,lookup!Y204))","v":""},{"$f":"IF(E212=\"\",\"\",lookup!Z203)","v":""},"","",{"$f":"IF(E212=\"\",\"\",IF(lookup!AA204<0,0,lookup!AA204))","v":""}]
[null,null,null,null,{"$f":"IF(J212=\"\",\"\",IF(J212<=0,\"\",lookup!X205))","v":""},{"$f":"IF(E213=\"\",\"\",IF(J213<=0,lookup!Y205+lookup!AA205,lookup!Y205))","v":""},{"$f":"IF(E213=\"\",\"\",lookup!Z204)","v":""},"","",{"$f":"IF(E213=\"\",\"\",IF(lookup!AA205<0,0,lookup!AA205))","v":""}]
[null,null,null,null,{"$f":"IF(J213=\"\",\"\",IF(J213<=0,\"\",lookup!X206))","v":""},{"$f":"IF(E214=\"\",\"\",IF(J214<=0,lookup!Y206+lookup!AA206,lookup!Y206))","v":""},{"$f":"IF(E214=\"\",\"\",lookup!Z205)","v":""},"","",{"$f":"IF(E214=\"\",\"\",IF(lookup!AA206<0,0,lookup!AA206))","v":""}]
[null,null,null,null,{"$f":"IF(J214=\"\",\"\",IF(J214<=0,\"\",lookup!X207))","v":""},{"$f":"IF(E215=\"\",\"\",IF(J215<=0,lookup!Y207+lookup!AA207,lookup!Y207))","v":""},{"$f":"IF(E215=\"\",\"\",lookup!Z206)","v":""},"","",{"$f":"IF(E215=\"\",\"\",IF(lookup!AA207<0,0,lookup!AA207))","v":""}]
[null,null,null,null,{"$f":"IF(J215=\"\",\"\",IF(J215<=0,\"\",lookup!X208))","v":""},{"$f":"IF(E216=\"\",\"\",IF(J216<=0,lookup!Y208+lookup!AA208,lookup!Y208))","v":""},{"$f":"IF(E216=\"\",\"\",lookup!Z207)","v":""},"","",{"$f":"IF(E216=\"\",\"\",IF(lookup!AA208<0,0,lookup!AA208))","v":""}]
[null,null,null,null,{"$f":"IF(J216=\"\",\"\",IF(J216<=0,\"\",lookup!X209))","v":""},{"$f":"IF(E217=\"\",\"\",IF(J217<=0,lookup!Y209+lookup!AA209,lookup!Y209))","v":""},{"$f":"IF(E217=\"\",\"\",lookup!Z208)","v":""},"","",{"$f":"IF(E217=\"\",\"\",IF(lookup!AA209<0,0,lookup!AA209))","v":""}]
[null,null,null,null,{"$f":"IF(J217=\"\",\"\",IF(J217<=0,\"\",lookup!X210))","v":""},{"$f":"IF(E218=\"\",\"\",IF(J218<=0,lookup!Y210+lookup!AA210,lookup!Y210))","v":""},{"$f":"IF(E218=\"\",\"\",lookup!Z209)","v":""},"","",{"$f":"IF(E218=\"\",\"\",IF(lookup!AA210<0,0,lookup!AA210))","v":""}]
[null,null,null,null,{"$f":"IF(J218=\"\",\"\",IF(J218<=0,\"\",lookup!X211))","v":""},{"$f":"IF(E219=\"\",\"\",IF(J219<=0,lookup!Y211+lookup!AA211,lookup!Y211))","v":""},{"$f":"IF(E219=\"\",\"\",lookup!Z210)","v":""},"","",{"$f":"IF(E219=\"\",\"\",IF(lookup!AA211<0,0,lookup!AA211))","v":""}]
[null,null,null,null,{"$f":"IF(J219=\"\",\"\",IF(J219<=0,\"\",lookup!X212))","v":""},{"$f":"IF(E220=\"\",\"\",IF(J220<=0,lookup!Y212+lookup!AA212,lookup!Y212))","v":""},{"$f":"IF(E220=\"\",\"\",lookup!Z211)","v":""},"","",{"$f":"IF(E220=\"\",\"\",IF(lookup!AA212<0,0,lookup!AA212))","v":""}]
[null,null,null,null,{"$f":"IF(J220=\"\",\"\",IF(J220<=0,\"\",lookup!X213))","v":""},{"$f":"IF(E221=\"\",\"\",IF(J221<=0,lookup!Y213+lookup!AA213,lookup!Y213))","v":""},{"$f":"IF(E221=\"\",\"\",lookup!Z212)","v":""},"","",{"$f":"IF(E221=\"\",\"\",IF(lookup!AA213<0,0,lookup!AA213))","v":""}]
[null,null,null,null,{"$f":"IF(J221=\"\",\"\",IF(J221<=0,\"\",lookup!X214))","v":""},{"$f":"IF(E222=\"\",\"\",IF(J222<=0,lookup!Y214+lookup!AA214,lookup!Y214))","v":""},{"$f":"IF(E222=\"\",\"\",lookup!Z213)","v":""},"","",{"$f":"IF(E222=\"\",\"\",IF(lookup!AA214<0,0,lookup!AA214))","v":""}]
[null,null,null,null,{"$f":"IF(J222=\"\",\"\",IF(J222<=0,\"\",lookup!X215))","v":""},{"$f":"IF(E223=\"\",\"\",IF(J223<=0,lookup!Y215+lookup!AA215,lookup!Y215))","v":""},{"$f":"IF(E223=\"\",\"\",lookup!Z214)","v":""},"","",{"$f":"IF(E223=\"\",\"\",IF(lookup!AA215<0,0,lookup!AA215))","v":""}]
[null,null,null,null,{"$f":"IF(J223=\"\",\"\",IF(J223<=0,\"\",lookup!X216))","v":""},{"$f":"IF(E224=\"\",\"\",IF(J224<=0,lookup!Y216+lookup!AA216,lookup!Y216))","v":""},{"$f":"IF(E224=\"\",\"\",lookup!Z215)","v":""},"","",{"$f":"IF(E224=\"\",\"\",IF(lookup!AA216<0,0,lookup!AA216))","v":""}]
[null,null,null,null,{"$f":"IF(J224=\"\",\"\",IF(J224<=0,\"\",lookup!X217))","v":""},{"$f":"IF(E225=\"\",\"\",IF(J225<=0,lookup!Y217+lookup!AA217,lookup!Y217))","v":""},{"$f":"IF(E225=\"\",\"\",lookup!Z216)","v":""},"","",{"$f":"IF(E225=\"\",\"\",IF(lookup!AA217<0,0,lookup!AA217))","v":""}]
[null,null,null,null,{"$f":"IF(J225=\"\",\"\",IF(J225<=0,\"\",lookup!X218))","v":""},{"$f":"IF(E226=\"\",\"\",IF(J226<=0,lookup!Y218+lookup!AA218,lookup!Y218))","v":""},{"$f":"IF(E226=\"\",\"\",lookup!Z217)","v":""},"","",{"$f":"IF(E226=\"\",\"\",IF(lookup!AA218<0,0,lookup!AA218))","v":""}]
[null,null,null,null,{"$f":"IF(J226=\"\",\"\",IF(J226<=0,\"\",lookup!X219))","v":""},{"$f":"IF(E227=\"\",\"\",IF(J227<=0,lookup!Y219+lookup!AA219,lookup!Y219))","v":""},{"$f":"IF(E227=\"\",\"\",lookup!Z218)","v":""},"","",{"$f":"IF(E227=\"\",\"\",IF(lookup!AA219<0,0,lookup!AA219))","v":""}]
[null,null,null,null,{"$f":"IF(J227=\"\",\"\",IF(J227<=0,\"\",lookup!X220))","v":""},{"$f":"IF(E228=\"\",\"\",IF(J228<=0,lookup!Y220+lookup!AA220,lookup!Y220))","v":""},{"$f":"IF(E228=\"\",\"\",lookup!Z219)","v":""},"","",{"$f":"IF(E228=\"\",\"\",IF(lookup!AA220<0,0,lookup!AA220))","v":""}]
[null,null,null,null,{"$f":"IF(J228=\"\",\"\",IF(J228<=0,\"\",lookup!X221))","v":""},{"$f":"IF(E229=\"\",\"\",IF(J229<=0,lookup!Y221+lookup!AA221,lookup!Y221))","v":""},{"$f":"IF(E229=\"\",\"\",lookup!Z220)","v":""},"","",{"$f":"IF(E229=\"\",\"\",IF(lookup!AA221<0,0,lookup!AA221))","v":""}]
[null,null,null,null,{"$f":"IF(J229=\"\",\"\",IF(J229<=0,\"\",lookup!X222))","v":""},{"$f":"IF(E230=\"\",\"\",IF(J230<=0,lookup!Y222+lookup!AA222,lookup!Y222))","v":""},{"$f":"IF(E230=\"\",\"\",lookup!Z221)","v":""},"","",{"$f":"IF(E230=\"\",\"\",IF(lookup!AA222<0,0,lookup!AA222))","v":""}]
[null,null,null,null,{"$f":"IF(J230=\"\",\"\",IF(J230<=0,\"\",lookup!X223))","v":""},{"$f":"IF(E231=\"\",\"\",IF(J231<=0,lookup!Y223+lookup!AA223,lookup!Y223))","v":""},{"$f":"IF(E231=\"\",\"\",lookup!Z222)","v":""},"","",{"$f":"IF(E231=\"\",\"\",IF(lookup!AA223<0,0,lookup!AA223))","v":""}]
[null,null,null,null,{"$f":"IF(J231=\"\",\"\",IF(J231<=0,\"\",lookup!X224))","v":""},{"$f":"IF(E232=\"\",\"\",IF(J232<=0,lookup!Y224+lookup!AA224,lookup!Y224))","v":""},{"$f":"IF(E232=\"\",\"\",lookup!Z223)","v":""},"","",{"$f":"IF(E232=\"\",\"\",IF(lookup!AA224<0,0,lookup!AA224))","v":""}]
[null,null,null,null,{"$f":"IF(J232=\"\",\"\",IF(J232<=0,\"\",lookup!X225))","v":""},{"$f":"IF(E233=\"\",\"\",IF(J233<=0,lookup!Y225+lookup!AA225,lookup!Y225))","v":""},{"$f":"IF(E233=\"\",\"\",lookup!Z224)","v":""},"","",{"$f":"IF(E233=\"\",\"\",IF(lookup!AA225<0,0,lookup!AA225))","v":""}]
[null,null,null,null,{"$f":"IF(J233=\"\",\"\",IF(J233<=0,\"\",lookup!X226))","v":""},{"$f":"IF(E234=\"\",\"\",IF(J234<=0,lookup!Y226+lookup!AA226,lookup!Y226))","v":""},{"$f":"IF(E234=\"\",\"\",lookup!Z225)","v":""},"","",{"$f":"IF(E234=\"\",\"\",IF(lookup!AA226<0,0,lookup!AA226))","v":""}]
[null,null,null,null,{"$f":"IF(J234=\"\",\"\",IF(J234<=0,\"\",lookup!X227))","v":""},{"$f":"IF(E235=\"\",\"\",IF(J235<=0,lookup!Y227+lookup!AA227,lookup!Y227))","v":""},{"$f":"IF(E235=\"\",\"\",lookup!Z226)","v":""},"","",{"$f":"IF(E235=\"\",\"\",IF(lookup!AA227<0,0,lookup!AA227))","v":""}]
[null,null,null,null,{"$f":"IF(J235=\"\",\"\",IF(J235<=0,\"\",lookup!X228))","v":""},{"$f":"IF(E236=\"\",\"\",IF(J236<=0,lookup!Y228+lookup!AA228,lookup!Y228))","v":""},{"$f":"IF(E236=\"\",\"\",lookup!Z227)","v":""},"","",{"$f":"IF(E236=\"\",\"\",IF(lookup!AA228<0,0,lookup!AA228))","v":""}]
[null,null,null,null,{"$f":"IF(J236=\"\",\"\",IF(J236<=0,\"\",lookup!X229))","v":""},{"$f":"IF(E237=\"\",\"\",IF(J237<=0,lookup!Y229+lookup!AA229,lookup!Y229))","v":""},{"$f":"IF(E237=\"\",\"\",lookup!Z228)","v":""},"","",{"$f":"IF(E237=\"\",\"\",IF(lookup!AA229<0,0,lookup!AA229))","v":""}]
[null,null,null,null,{"$f":"IF(J237=\"\",\"\",IF(J237<=0,\"\",lookup!X230))","v":""},{"$f":"IF(E238=\"\",\"\",IF(J238<=0,lookup!Y230+lookup!AA230,lookup!Y230))","v":""},{"$f":"IF(E238=\"\",\"\",lookup!Z229)","v":""},"","",{"$f":"IF(E238=\"\",\"\",IF(lookup!AA230<0,0,lookup!AA230))","v":""}]
[null,null,null,null,{"$f":"IF(J238=\"\",\"\",IF(J238<=0,\"\",lookup!X231))","v":""},{"$f":"IF(E239=\"\",\"\",IF(J239<=0,lookup!Y231+lookup!AA231,lookup!Y231))","v":""},{"$f":"IF(E239=\"\",\"\",lookup!Z230)","v":""},"","",{"$f":"IF(E239=\"\",\"\",IF(lookup!AA231<0,0,lookup!AA231))","v":""}]
[null,null,null,null,{"$f":"IF(J239=\"\",\"\",IF(J239<=0,\"\",lookup!X232))","v":""},{"$f":"IF(E240=\"\",\"\",IF(J240<=0,lookup!Y232+lookup!AA232,lookup!Y232))","v":""},{"$f":"IF(E240=\"\",\"\",lookup!Z231)","v":""},"","",{"$f":"IF(E240=\"\",\"\",IF(lookup!AA232<0,0,lookup!AA232))","v":""}]
[null,null,null,null,{"$f":"IF(J240=\"\",\"\",IF(J240<=0,\"\",lookup!X233))","v":""},{"$f":"IF(E241=\"\",\"\",IF(J241<=0,lookup!Y233+lookup!AA233,lookup!Y233))","v":""},{"$f":"IF(E241=\"\",\"\",lookup!Z232)","v":""},"","",{"$f":"IF(E241=\"\",\"\",IF(lookup!AA233<0,0,lookup!AA233))","v":""}]
[null,null,null,null,{"$f":"IF(J241=\"\",\"\",IF(J241<=0,\"\",lookup!X234))","v":""},{"$f":"IF(E242=\"\",\"\",IF(J242<=0,lookup!Y234+lookup!AA234,lookup!Y234))","v":""},{"$f":"IF(E242=\"\",\"\",lookup!Z233)","v":""},"","",{"$f":"IF(E242=\"\",\"\",IF(lookup!AA234<0,0,lookup!AA234))","v":""}]
[null,null,null,null,{"$f":"IF(J242=\"\",\"\",IF(J242<=0,\"\",lookup!X235))","v":""},{"$f":"IF(E243=\"\",\"\",IF(J243<=0,lookup!Y235+lookup!AA235,lookup!Y235))","v":""},{"$f":"IF(E243=\"\",\"\",lookup!Z234)","v":""},"","",{"$f":"IF(E243=\"\",\"\",IF(lookup!AA235<0,0,lookup!AA235))","v":""}]
[null,null,null,null,{"$f":"IF(J243=\"\",\"\",IF(J243<=0,\"\",lookup!X236))","v":""},{"$f":"IF(E244=\"\",\"\",IF(J244<=0,lookup!Y236+lookup!AA236,lookup!Y236))","v":""},{"$f":"IF(E244=\"\",\"\",lookup!Z235)","v":""},"","",{"$f":"IF(E244=\"\",\"\",IF(lookup!AA236<0,0,lookup!AA236))","v":""}]
[null,null,null,null,{"$f":"IF(J244=\"\",\"\",IF(J244<=0,\"\",lookup!X237))","v":""},{"$f":"IF(E245=\"\",\"\",IF(J245<=0,lookup!Y237+lookup!AA237,lookup!Y237))","v":""},{"$f":"IF(E245=\"\",\"\",lookup!Z236)","v":""},"","",{"$f":"IF(E245=\"\",\"\",IF(lookup!AA237<0,0,lookup!AA237))","v":""}]
[null,null,null,null,{"$f":"IF(J245=\"\",\"\",IF(J245<=0,\"\",lookup!X238))","v":""},{"$f":"IF(E246=\"\",\"\",IF(J246<=0,lookup!Y238+lookup!AA238,lookup!Y238))","v":""},{"$f":"IF(E246=\"\",\"\",lookup!Z237)","v":""},"","",{"$f":"IF(E246=\"\",\"\",IF(lookup!AA238<0,0,lookup!AA238))","v":""}]
[null,null,null,null,{"$f":"IF(J246=\"\",\"\",IF(J246<=0,\"\",lookup!X239))","v":""},{"$f":"IF(E247=\"\",\"\",IF(J247<=0,lookup!Y239+lookup!AA239,lookup!Y239))","v":""},{"$f":"IF(E247=\"\",\"\",lookup!Z238)","v":""},"","",{"$f":"IF(E247=\"\",\"\",IF(lookup!AA239<0,0,lookup!AA239))","v":""}]
[null,null,null,null,{"$f":"IF(J247=\"\",\"\",IF(J247<=0,\"\",lookup!X240))","v":""},{"$f":"IF(E248=\"\",\"\",IF(J248<=0,lookup!Y240+lookup!AA240,lookup!Y240))","v":""},{"$f":"IF(E248=\"\",\"\",lookup!Z239)","v":""},"","",{"$f":"IF(E248=\"\",\"\",IF(lookup!AA240<0,0,lookup!AA240))","v":""}]
[null,null,null,null,{"$f":"IF(J248=\"\",\"\",IF(J248<=0,\"\",lookup!X241))","v":""},{"$f":"IF(E249=\"\",\"\",IF(J249<=0,lookup!Y241+lookup!AA241,lookup!Y241))","v":""},{"$f":"IF(E249=\"\",\"\",lookup!Z240)","v":""},"","",{"$f":"IF(E249=\"\",\"\",IF(lookup!AA241<0,0,lookup!AA241))","v":""}]
[null,null,null,null,{"$f":"IF(J249=\"\",\"\",IF(J249<=0,\"\",lookup!X242))","v":""},{"$f":"IF(E250=\"\",\"\",IF(J250<=0,lookup!Y242+lookup!AA242,lookup!Y242))","v":""},{"$f":"IF(E250=\"\",\"\",lookup!Z241)","v":""},"","",{"$f":"IF(E250=\"\",\"\",IF(lookup!AA242<0,0,lookup!AA242))","v":""}]
[null,null,null,null,{"$f":"IF(J250=\"\",\"\",IF(J250<=0,\"\",lookup!X243))","v":""},{"$f":"IF(E251=\"\",\"\",IF(J251<=0,lookup!Y243+lookup!AA243,lookup!Y243))","v":""},{"$f":"IF(E251=\"\",\"\",lookup!Z242)","v":""},"","",{"$f":"IF(E251=\"\",\"\",IF(lookup!AA243<0,0,lookup!AA243))","v":""}]
[null,null,null,null,{"$f":"IF(J251=\"\",\"\",IF(J251<=0,\"\",lookup!X244))","v":""},{"$f":"IF(E252=\"\",\"\",IF(J252<=0,lookup!Y244+lookup!AA244,lookup!Y244))","v":""},{"$f":"IF(E252=\"\",\"\",lookup!Z243)","v":""},"","",{"$f":"IF(E252=\"\",\"\",IF(lookup!AA244<0,0,lookup!AA244))","v":""}]
[null,null,null,null,{"$f":"IF(J252=\"\",\"\",IF(J252<=0,\"\",lookup!X245))","v":""},{"$f":"IF(E253=\"\",\"\",IF(J253<=0,lookup!Y245+lookup!AA245,lookup!Y245))","v":""},{"$f":"IF(E253=\"\",\"\",lookup!Z244)","v":""},"","",{"$f":"IF(E253=\"\",\"\",IF(lookup!AA245<0,0,lookup!AA245))","v":""}]
[null,null,null,null,{"$f":"IF(J253=\"\",\"\",IF(J253<=0,\"\",lookup!X246))","v":""},{"$f":"IF(E254=\"\",\"\",IF(J254<=0,lookup!Y246+lookup!AA246,lookup!Y246))","v":""},{"$f":"IF(E254=\"\",\"\",lookup!Z245)","v":""},"","",{"$f":"IF(E254=\"\",\"\",IF(lookup!AA246<0,0,lookup!AA246))","v":""}]
[null,null,null,null,{"$f":"IF(J254=\"\",\"\",IF(J254<=0,\"\",lookup!X247))","v":""},{"$f":"IF(E255=\"\",\"\",IF(J255<=0,lookup!Y247+lookup!AA247,lookup!Y247))","v":""},{"$f":"IF(E255=\"\",\"\",lookup!Z246)","v":""},"","",{"$f":"IF(E255=\"\",\"\",IF(lookup!AA247<0,0,lookup!AA247))","v":""}]
[null,null,null,null,{"$f":"IF(J255=\"\",\"\",IF(J255<=0,\"\",lookup!X248))","v":""},{"$f":"IF(E256=\"\",\"\",IF(J256<=0,lookup!Y248+lookup!AA248,lookup!Y248))","v":""},{"$f":"IF(E256=\"\",\"\",lookup!Z247)","v":""},"","",{"$f":"IF(E256=\"\",\"\",IF(lookup!AA248<0,0,lookup!AA248))","v":""}]
[null,null,null,null,{"$f":"IF(J256=\"\",\"\",IF(J256<=0,\"\",lookup!X249))","v":""},{"$f":"IF(E257=\"\",\"\",IF(J257<=0,lookup!Y249+lookup!AA249,lookup!Y249))","v":""},{"$f":"IF(E257=\"\",\"\",lookup!Z248)","v":""},"","",{"$f":"IF(E257=\"\",\"\",IF(lookup!AA249<0,0,lookup!AA249))","v":""}]
[null,null,null,null,{"$f":"IF(J257=\"\",\"\",IF(J257<=0,\"\",lookup!X250))","v":""},{"$f":"IF(E258=\"\",\"\",IF(J258<=0,lookup!Y250+lookup!AA250,lookup!Y250))","v":""},{"$f":"IF(E258=\"\",\"\",lookup!Z249)","v":""},"","",{"$f":"IF(E258=\"\",\"\",IF(lookup!AA250<0,0,lookup!AA250))","v":""}]
[null,null,null,null,{"$f":"IF(J258=\"\",\"\",IF(J258<=0,\"\",lookup!X251))","v":""},{"$f":"IF(E259=\"\",\"\",IF(J259<=0,lookup!Y251+lookup!AA251,lookup!Y251))","v":""},{"$f":"IF(E259=\"\",\"\",lookup!Z250)","v":""},"","",{"$f":"IF(E259=\"\",\"\",IF(lookup!AA251<0,0,lookup!AA251))","v":""}]
[null,null,null,null,{"$f":"IF(J259=\"\",\"\",IF(J259<=0,\"\",lookup!X252))","v":""},{"$f":"IF(E260=\"\",\"\",IF(J260<=0,lookup!Y252+lookup!AA252,lookup!Y252))","v":""},{"$f":"IF(E260=\"\",\"\",lookup!Z251)","v":""},"","",{"$f":"IF(E260=\"\",\"\",IF(lookup!AA252<0,0,lookup!AA252))","v":""}]
[null,null,null,null,{"$f":"IF(J260=\"\",\"\",IF(J260<=0,\"\",lookup!X253))","v":""},{"$f":"IF(E261=\"\",\"\",IF(J261<=0,lookup!Y253+lookup!AA253,lookup!Y253))","v":""},{"$f":"IF(E261=\"\",\"\",lookup!Z252)","v":""},"","",{"$f":"IF(E261=\"\",\"\",IF(lookup!AA253<0,0,lookup!AA253))","v":""}]
[null,null,null,null,{"$f":"IF(J261=\"\",\"\",IF(J261<=0,\"\",lookup!X254))","v":""},{"$f":"IF(E262=\"\",\"\",IF(J262<=0,lookup!Y254+lookup!AA254,lookup!Y254))","v":""},{"$f":"IF(E262=\"\",\"\",lookup!Z253)","v":""},"","",{"$f":"IF(E262=\"\",\"\",IF(lookup!AA254<0,0,lookup!AA254))","v":""}]
[null,null,null,null,{"$f":"IF(J262=\"\",\"\",IF(J262<=0,\"\",lookup!X255))","v":""},{"$f":"IF(E263=\"\",\"\",IF(J263<=0,lookup!Y255+lookup!AA255,lookup!Y255))","v":""},{"$f":"IF(E263=\"\",\"\",lookup!Z254)","v":""},"","",{"$f":"IF(E263=\"\",\"\",IF(lookup!AA255<0,0,lookup!AA255))","v":""}]
[null,null,null,null,{"$f":"IF(J263=\"\",\"\",IF(J263<=0,\"\",lookup!X256))","v":""},{"$f":"IF(E264=\"\",\"\",IF(J264<=0,lookup!Y256+lookup!AA256,lookup!Y256))","v":""},{"$f":"IF(E264=\"\",\"\",lookup!Z255)","v":""},"","",{"$f":"IF(E264=\"\",\"\",IF(lookup!AA256<0,0,lookup!AA256))","v":""}]
[null,null,null,null,{"$f":"IF(J264=\"\",\"\",IF(J264<=0,\"\",lookup!X257))","v":""},{"$f":"IF(E265=\"\",\"\",IF(J265<=0,lookup!Y257+lookup!AA257,lookup!Y257))","v":""},{"$f":"IF(E265=\"\",\"\",lookup!Z256)","v":""},"","",{"$f":"IF(E265=\"\",\"\",IF(lookup!AA257<0,0,lookup!AA257))","v":""}]
[null,null,null,null,{"$f":"IF(J265=\"\",\"\",IF(J265<=0,\"\",lookup!X258))","v":""},{"$f":"IF(E266=\"\",\"\",IF(J266<=0,lookup!Y258+lookup!AA258,lookup!Y258))","v":""},{"$f":"IF(E266=\"\",\"\",lookup!Z257)","v":""},"","",{"$f":"IF(E266=\"\",\"\",IF(lookup!AA258<0,0,lookup!AA258))","v":""}]
[null,null,null,null,{"$f":"IF(J266=\"\",\"\",IF(J266<=0,\"\",lookup!X259))","v":""},{"$f":"IF(E267=\"\",\"\",IF(J267<=0,lookup!Y259+lookup!AA259,lookup!Y259))","v":""},{"$f":"IF(E267=\"\",\"\",lookup!Z258)","v":""},"","",{"$f":"IF(E267=\"\",\"\",IF(lookup!AA259<0,0,lookup!AA259))","v":""}]
[null,null,null,null,{"$f":"IF(J267=\"\",\"\",IF(J267<=0,\"\",lookup!X260))","v":""},{"$f":"IF(E268=\"\",\"\",IF(J268<=0,lookup!Y260+lookup!AA260,lookup!Y260))","v":""},{"$f":"IF(E268=\"\",\"\",lookup!Z259)","v":""},{"$f":"IF(E268=\"\",\"\",H267+G268)","v":""},{"$f":"IF(E268=\"\",\"\",F268-G268)","v":""},{"$f":"IF(E268=\"\",\"\",IF(lookup!AA260<0,0,lookup!AA260))","v":""}]
[null,null,null,null,{"$f":"IF(J268=\"\",\"\",IF(J268<=0,\"\",lookup!X261))","v":""},{"$f":"IF(E269=\"\",\"\",IF(J269<=0,lookup!Y261+lookup!AA261,lookup!Y261))","v":""},{"$f":"IF(E269=\"\",\"\",lookup!Z260)","v":""},"","",{"$f":"IF(E269=\"\",\"\",IF(lookup!AA261<0,0,lookup!AA261))","v":""}]
[null,null,null,null,{"$f":"IF(J269=\"\",\"\",IF(J269<=0,\"\",lookup!X262))","v":""},{"$f":"IF(E270=\"\",\"\",IF(J270<=0,lookup!Y262+lookup!AA262,lookup!Y262))","v":""},{"$f":"IF(E270=\"\",\"\",lookup!Z261)","v":""},"","",{"$f":"IF(E270=\"\",\"\",IF(lookup!AA262<0,0,lookup!AA262))","v":""}]
[null,null,null,null,{"$f":"IF(J270=\"\",\"\",IF(J270<=0,\"\",lookup!X263))","v":""},{"$f":"IF(E271=\"\",\"\",IF(J271<=0,lookup!Y263+lookup!AA263,lookup!Y263))","v":""},{"$f":"IF(E271=\"\",\"\",lookup!Z262)","v":""},"","",{"$f":"IF(E271=\"\",\"\",IF(lookup!AA263<0,0,lookup!AA263))","v":""}]
[null,null,null,null,{"$f":"IF(J271=\"\",\"\",IF(J271<=0,\"\",lookup!X264))","v":""},{"$f":"IF(E272=\"\",\"\",IF(J272<=0,lookup!Y264+lookup!AA264,lookup!Y264))","v":""},{"$f":"IF(E272=\"\",\"\",lookup!Z263)","v":""},"","",{"$f":"IF(E272=\"\",\"\",IF(lookup!AA264<0,0,lookup!AA264))","v":""}]
[null,null,null,null,{"$f":"IF(J272=\"\",\"\",IF(J272<=0,\"\",lookup!X265))","v":""},{"$f":"IF(E273=\"\",\"\",IF(J273<=0,lookup!Y265+lookup!AA265,lookup!Y265))","v":""},{"$f":"IF(E273=\"\",\"\",lookup!Z264)","v":""},"","",{"$f":"IF(E273=\"\",\"\",IF(lookup!AA265<0,0,lookup!AA265))","v":""}]
[null,null,null,null,{"$f":"IF(J273=\"\",\"\",IF(J273<=0,\"\",lookup!X266))","v":""},{"$f":"IF(E274=\"\",\"\",IF(J274<=0,lookup!Y266+lookup!AA266,lookup!Y266))","v":""},{"$f":"IF(E274=\"\",\"\",lookup!Z265)","v":""},"","",{"$f":"IF(E274=\"\",\"\",IF(lookup!AA266<0,0,lookup!AA266))","v":""}]
[null,null,null,null,{"$f":"IF(J274=\"\",\"\",IF(J274<=0,\"\",lookup!X267))","v":""},{"$f":"IF(E275=\"\",\"\",IF(J275<=0,lookup!Y267+lookup!AA267,lookup!Y267))","v":""},{"$f":"IF(E275=\"\",\"\",lookup!Z266)","v":""},"","",{"$f":"IF(E275=\"\",\"\",IF(lookup!AA267<0,0,lookup!AA267))","v":""}]
[null,null,null,null,{"$f":"IF(J275=\"\",\"\",IF(J275<=0,\"\",lookup!X268))","v":""},{"$f":"IF(E276=\"\",\"\",IF(J276<=0,lookup!Y268+lookup!AA268,lookup!Y268))","v":""},{"$f":"IF(E276=\"\",\"\",lookup!Z267)","v":""},"","",{"$f":"IF(E276=\"\",\"\",IF(lookup!AA268<0,0,lookup!AA268))","v":""}]
[null,null,null,null,{"$f":"IF(J276=\"\",\"\",IF(J276<=0,\"\",lookup!X269))","v":""},{"$f":"IF(E277=\"\",\"\",IF(J277<=0,lookup!Y269+lookup!AA269,lookup!Y269))","v":""},{"$f":"IF(E277=\"\",\"\",lookup!Z268)","v":""},"","",{"$f":"IF(E277=\"\",\"\",IF(lookup!AA269<0,0,lookup!AA269))","v":""}]
[null,null,null,null,{"$f":"IF(J277=\"\",\"\",IF(J277<=0,\"\",lookup!X270))","v":""},{"$f":"IF(E278=\"\",\"\",IF(J278<=0,lookup!Y270+lookup!AA270,lookup!Y270))","v":""},{"$f":"IF(E278=\"\",\"\",lookup!Z269)","v":""},"","",{"$f":"IF(E278=\"\",\"\",IF(lookup!AA270<0,0,lookup!AA270))","v":""}]
[null,null,null,null,{"$f":"IF(J278=\"\",\"\",IF(J278<=0,\"\",lookup!X271))","v":""},{"$f":"IF(E279=\"\",\"\",IF(J279<=0,lookup!Y271+lookup!AA271,lookup!Y271))","v":""},{"$f":"IF(E279=\"\",\"\",lookup!Z270)","v":""},"","",{"$f":"IF(E279=\"\",\"\",IF(lookup!AA271<0,0,lookup!AA271))","v":""}]
[null,null,null,null,{"$f":"IF(J279=\"\",\"\",IF(J279<=0,\"\",lookup!X272))","v":""},{"$f":"IF(E280=\"\",\"\",IF(J280<=0,lookup!Y272+lookup!AA272,lookup!Y272))","v":""},{"$f":"IF(E280=\"\",\"\",lookup!Z271)","v":""},"","",{"$f":"IF(E280=\"\",\"\",IF(lookup!AA272<0,0,lookup!AA272))","v":""}]
[null,null,null,null,{"$f":"IF(J280=\"\",\"\",IF(J280<=0,\"\",lookup!X273))","v":""},{"$f":"IF(E281=\"\",\"\",IF(J281<=0,lookup!Y273+lookup!AA273,lookup!Y273))","v":""},{"$f":"IF(E281=\"\",\"\",lookup!Z272)","v":""},"","",{"$f":"IF(E281=\"\",\"\",IF(lookup!AA273<0,0,lookup!AA273))","v":""}]
[null,null,null,null,{"$f":"IF(J281=\"\",\"\",IF(J281<=0,\"\",lookup!X274))","v":""},{"$f":"IF(E282=\"\",\"\",IF(J282<=0,lookup!Y274+lookup!AA274,lookup!Y274))","v":""},{"$f":"IF(E282=\"\",\"\",lookup!Z273)","v":""},"","",{"$f":"IF(E282=\"\",\"\",IF(lookup!AA274<0,0,lookup!AA274))","v":""}]
[null,null,null,null,{"$f":"IF(J282=\"\",\"\",IF(J282<=0,\"\",lookup!X275))","v":""},{"$f":"IF(E283=\"\",\"\",IF(J283<=0,lookup!Y275+lookup!AA275,lookup!Y275))","v":""},{"$f":"IF(E283=\"\",\"\",lookup!Z274)","v":""},"","",{"$f":"IF(E283=\"\",\"\",IF(lookup!AA275<0,0,lookup!AA275))","v":""}]
[null,null,null,null,{"$f":"IF(J283=\"\",\"\",IF(J283<=0,\"\",lookup!X276))","v":""},{"$f":"IF(E284=\"\",\"\",IF(J284<=0,lookup!Y276+lookup!AA276,lookup!Y276))","v":""},{"$f":"IF(E284=\"\",\"\",lookup!Z275)","v":""},"","",{"$f":"IF(E284=\"\",\"\",IF(lookup!AA276<0,0,lookup!AA276))","v":""}]
[null,null,null,null,{"$f":"IF(J284=\"\",\"\",IF(J284<=0,\"\",lookup!X277))","v":""},{"$f":"IF(E285=\"\",\"\",IF(J285<=0,lookup!Y277+lookup!AA277,lookup!Y277))","v":""},{"$f":"IF(E285=\"\",\"\",lookup!Z276)","v":""},"","",{"$f":"IF(E285=\"\",\"\",IF(lookup!AA277<0,0,lookup!AA277))","v":""}]
[null,null,null,null,{"$f":"IF(J285=\"\",\"\",IF(J285<=0,\"\",lookup!X278))","v":""},{"$f":"IF(E286=\"\",\"\",IF(J286<=0,lookup!Y278+lookup!AA278,lookup!Y278))","v":""},{"$f":"IF(E286=\"\",\"\",lookup!Z277)","v":""},"","",{"$f":"IF(E286=\"\",\"\",IF(lookup!AA278<0,0,lookup!AA278))","v":""}]
[null,null,null,null,{"$f":"IF(J286=\"\",\"\",IF(J286<=0,\"\",lookup!X279))","v":""},{"$f":"IF(E287=\"\",\"\",IF(J287<=0,lookup!Y279+lookup!AA279,lookup!Y279))","v":""},{"$f":"IF(E287=\"\",\"\",lookup!Z278)","v":""},"","",{"$f":"IF(E287=\"\",\"\",IF(lookup!AA279<0,0,lookup!AA279))","v":""}]
[null,null,null,null,{"$f":"IF(J287=\"\",\"\",IF(J287<=0,\"\",lookup!X280))","v":""},{"$f":"IF(E288=\"\",\"\",IF(J288<=0,lookup!Y280+lookup!AA280,lookup!Y280))","v":""},{"$f":"IF(E288=\"\",\"\",lookup!Z279)","v":""},"","",{"$f":"IF(E288=\"\",\"\",IF(lookup!AA280<0,0,lookup!AA280))","v":""}]
[null,null,null,null,{"$f":"IF(J288=\"\",\"\",IF(J288<=0,\"\",lookup!X281))","v":""},{"$f":"IF(E289=\"\",\"\",IF(J289<=0,lookup!Y281+lookup!AA281,lookup!Y281))","v":""},{"$f":"IF(E289=\"\",\"\",lookup!Z280)","v":""},"","",{"$f":"IF(E289=\"\",\"\",IF(lookup!AA281<0,0,lookup!AA281))","v":""}]
[null,null,null,null,{"$f":"IF(J289=\"\",\"\",IF(J289<=0,\"\",lookup!X282))","v":""},{"$f":"IF(E290=\"\",\"\",IF(J290<=0,lookup!Y282+lookup!AA282,lookup!Y282))","v":""},{"$f":"IF(E290=\"\",\"\",lookup!Z281)","v":""},"","",{"$f":"IF(E290=\"\",\"\",IF(lookup!AA282<0,0,lookup!AA282))","v":""}]
[null,null,null,null,{"$f":"IF(J290=\"\",\"\",IF(J290<=0,\"\",lookup!X283))","v":""},{"$f":"IF(E291=\"\",\"\",IF(J291<=0,lookup!Y283+lookup!AA283,lookup!Y283))","v":""},{"$f":"IF(E291=\"\",\"\",lookup!Z282)","v":""},"","",{"$f":"IF(E291=\"\",\"\",IF(lookup!AA283<0,0,lookup!AA283))","v":""}]
[null,null,null,null,{"$f":"IF(J291=\"\",\"\",IF(J291<=0,\"\",lookup!X284))","v":""},{"$f":"IF(E292=\"\",\"\",IF(J292<=0,lookup!Y284+lookup!AA284,lookup!Y284))","v":""},{"$f":"IF(E292=\"\",\"\",lookup!Z283)","v":""},"","",{"$f":"IF(E292=\"\",\"\",IF(lookup!AA284<0,0,lookup!AA284))","v":""}]
[null,null,null,null,{"$f":"IF(J292=\"\",\"\",IF(J292<=0,\"\",lookup!X285))","v":""},{"$f":"IF(E293=\"\",\"\",IF(J293<=0,lookup!Y285+lookup!AA285,lookup!Y285))","v":""},{"$f":"IF(E293=\"\",\"\",lookup!Z284)","v":""},"","",{"$f":"IF(E293=\"\",\"\",IF(lookup!AA285<0,0,lookup!AA285))","v":""}]
[null,null,null,null,{"$f":"IF(J293=\"\",\"\",IF(J293<=0,\"\",lookup!X286))","v":""},{"$f":"IF(E294=\"\",\"\",IF(J294<=0,lookup!Y286+lookup!AA286,lookup!Y286))","v":""},{"$f":"IF(E294=\"\",\"\",lookup!Z285)","v":""},"","",{"$f":"IF(E294=\"\",\"\",IF(lookup!AA286<0,0,lookup!AA286))","v":""}]
[null,null,null,null,{"$f":"IF(J294=\"\",\"\",IF(J294<=0,\"\",lookup!X287))","v":""},{"$f":"IF(E295=\"\",\"\",IF(J295<=0,lookup!Y287+lookup!AA287,lookup!Y287))","v":""},{"$f":"IF(E295=\"\",\"\",lookup!Z286)","v":""},"","",{"$f":"IF(E295=\"\",\"\",IF(lookup!AA287<0,0,lookup!AA287))","v":""}]
[null,null,null,null,{"$f":"IF(J295=\"\",\"\",IF(J295<=0,\"\",lookup!X288))","v":""},{"$f":"IF(E296=\"\",\"\",IF(J296<=0,lookup!Y288+lookup!AA288,lookup!Y288))","v":""},{"$f":"IF(E296=\"\",\"\",lookup!Z287)","v":""},"","",{"$f":"IF(E296=\"\",\"\",IF(lookup!AA288<0,0,lookup!AA288))","v":""}]
[null,null,null,null,{"$f":"IF(J296=\"\",\"\",IF(J296<=0,\"\",lookup!X289))","v":""},{"$f":"IF(E297=\"\",\"\",IF(J297<=0,lookup!Y289+lookup!AA289,lookup!Y289))","v":""},{"$f":"IF(E297=\"\",\"\",lookup!Z288)","v":""},"","",{"$f":"IF(E297=\"\",\"\",IF(lookup!AA289<0,0,lookup!AA289))","v":""}]
[null,null,null,null,{"$f":"IF(J297=\"\",\"\",IF(J297<=0,\"\",lookup!X290))","v":""},{"$f":"IF(E298=\"\",\"\",IF(J298<=0,lookup!Y290+lookup!AA290,lookup!Y290))","v":""},{"$f":"IF(E298=\"\",\"\",lookup!Z289)","v":""},"","",{"$f":"IF(E298=\"\",\"\",IF(lookup!AA290<0,0,lookup!AA290))","v":""}]
[null,null,null,null,{"$f":"IF(J298=\"\",\"\",IF(J298<=0,\"\",lookup!X291))","v":""},{"$f":"IF(E299=\"\",\"\",IF(J299<=0,lookup!Y291+lookup!AA291,lookup!Y291))","v":""},{"$f":"IF(E299=\"\",\"\",lookup!Z290)","v":""},"","",{"$f":"IF(E299=\"\",\"\",IF(lookup!AA291<0,0,lookup!AA291))","v":""}]
[null,null,null,null,{"$f":"IF(J299=\"\",\"\",IF(J299<=0,\"\",lookup!X292))","v":""},{"$f":"IF(E300=\"\",\"\",IF(J300<=0,lookup!Y292+lookup!AA292,lookup!Y292))","v":""},{"$f":"IF(E300=\"\",\"\",lookup!Z291)","v":""},"","",{"$f":"IF(E300=\"\",\"\",IF(lookup!AA292<0,0,lookup!AA292))","v":""}]
[null,null,null,null,{"$f":"IF(J300=\"\",\"\",IF(J300<=0,\"\",lookup!X293))","v":""},{"$f":"IF(E301=\"\",\"\",IF(J301<=0,lookup!Y293+lookup!AA293,lookup!Y293))","v":""},{"$f":"IF(E301=\"\",\"\",lookup!Z292)","v":""},"","",{"$f":"IF(E301=\"\",\"\",IF(lookup!AA293<0,0,lookup!AA293))","v":""}]
[null,null,null,null,{"$f":"IF(J301=\"\",\"\",IF(J301<=0,\"\",lookup!X294))","v":""},{"$f":"IF(E302=\"\",\"\",IF(J302<=0,lookup!Y294+lookup!AA294,lookup!Y294))","v":""},{"$f":"IF(E302=\"\",\"\",lookup!Z293)","v":""},"","",{"$f":"IF(E302=\"\",\"\",IF(lookup!AA294<0,0,lookup!AA294))","v":""}]
[null,null,null,null,{"$f":"IF(J302=\"\",\"\",IF(J302<=0,\"\",lookup!X295))","v":""},{"$f":"IF(E303=\"\",\"\",IF(J303<=0,lookup!Y295+lookup!AA295,lookup!Y295))","v":""},{"$f":"IF(E303=\"\",\"\",lookup!Z294)","v":""},"","",{"$f":"IF(E303=\"\",\"\",IF(lookup!AA295<0,0,lookup!AA295))","v":""}]
[null,null,null,null,{"$f":"IF(J303=\"\",\"\",IF(J303<=0,\"\",lookup!X296))","v":""},{"$f":"IF(E304=\"\",\"\",IF(J304<=0,lookup!Y296+lookup!AA296,lookup!Y296))","v":""},{"$f":"IF(E304=\"\",\"\",lookup!Z295)","v":""},"","",{"$f":"IF(E304=\"\",\"\",IF(lookup!AA296<0,0,lookup!AA296))","v":""}]
[null,null,null,null,{"$f":"IF(J304=\"\",\"\",IF(J304<=0,\"\",lookup!X297))","v":""},{"$f":"IF(E305=\"\",\"\",IF(J305<=0,lookup!Y297+lookup!AA297,lookup!Y297))","v":""},{"$f":"IF(E305=\"\",\"\",lookup!Z296)","v":""},"","",{"$f":"IF(E305=\"\",\"\",IF(lookup!AA297<0,0,lookup!AA297))","v":""}]
[null,null,null,null,{"$f":"IF(J305=\"\",\"\",IF(J305<=0,\"\",lookup!X298))","v":""},{"$f":"IF(E306=\"\",\"\",IF(J306<=0,lookup!Y298+lookup!AA298,lookup!Y298))","v":""},{"$f":"IF(E306=\"\",\"\",lookup!Z297)","v":""},"","",{"$f":"IF(E306=\"\",\"\",IF(lookup!AA298<0,0,lookup!AA298))","v":""}]
[null,null,null,null,{"$f":"IF(J306=\"\",\"\",IF(J306<=0,\"\",lookup!X299))","v":""},{"$f":"IF(E307=\"\",\"\",IF(J307<=0,lookup!Y299+lookup!AA299,lookup!Y299))","v":""},{"$f":"IF(E307=\"\",\"\",lookup!Z298)","v":""},"","",{"$f":"IF(E307=\"\",\"\",IF(lookup!AA299<0,0,lookup!AA299))","v":""}]
[null,null,null,null,{"$f":"IF(J307=\"\",\"\",IF(J307<=0,\"\",lookup!X300))","v":""},{"$f":"IF(E308=\"\",\"\",IF(J308<=0,lookup!Y300+lookup!AA300,lookup!Y300))","v":""},{"$f":"IF(E308=\"\",\"\",lookup!Z299)","v":""},"","",{"$f":"IF(E308=\"\",\"\",IF(lookup!AA300<0,0,lookup!AA300))","v":""}]
[null,null,null,null,{"$f":"IF(J308=\"\",\"\",IF(J308<=0,\"\",lookup!X301))","v":""},{"$f":"IF(E309=\"\",\"\",IF(J309<=0,lookup!Y301+lookup!AA301,lookup!Y301))","v":""},{"$f":"IF(E309=\"\",\"\",lookup!Z300)","v":""},"","",{"$f":"IF(E309=\"\",\"\",IF(lookup!AA301<0,0,lookup!AA301))","v":""}]
[null,null,null,null,{"$f":"IF(J309=\"\",\"\",IF(J309<=0,\"\",lookup!X302))","v":""},{"$f":"IF(E310=\"\",\"\",IF(J310<=0,lookup!Y302+lookup!AA302,lookup!Y302))","v":""},{"$f":"IF(E310=\"\",\"\",lookup!Z301)","v":""},"","",{"$f":"IF(E310=\"\",\"\",IF(lookup!AA302<0,0,lookup!AA302))","v":""}]
[null,null,null,null,{"$f":"IF(J310=\"\",\"\",IF(J310<=0,\"\",lookup!X303))","v":""},{"$f":"IF(E311=\"\",\"\",IF(J311<=0,lookup!Y303+lookup!AA303,lookup!Y303))","v":""},{"$f":"IF(E311=\"\",\"\",lookup!Z302)","v":""},"","",{"$f":"IF(E311=\"\",\"\",IF(lookup!AA303<0,0,lookup!AA303))","v":""}]
[null,null,null,null,{"$f":"IF(J311=\"\",\"\",IF(J311<=0,\"\",lookup!X304))","v":""},{"$f":"IF(E312=\"\",\"\",IF(J312<=0,lookup!Y304+lookup!AA304,lookup!Y304))","v":""},{"$f":"IF(E312=\"\",\"\",lookup!Z303)","v":""},"","",{"$f":"IF(E312=\"\",\"\",IF(lookup!AA304<0,0,lookup!AA304))","v":""}]
[null,null,null,null,{"$f":"IF(J312=\"\",\"\",IF(J312<=0,\"\",lookup!X305))","v":""},{"$f":"IF(E313=\"\",\"\",IF(J313<=0,lookup!Y305+lookup!AA305,lookup!Y305))","v":""},{"$f":"IF(E313=\"\",\"\",lookup!Z304)","v":""},"","",{"$f":"IF(E313=\"\",\"\",IF(lookup!AA305<0,0,lookup!AA305))","v":""}]
[null,null,null,null,{"$f":"IF(J313=\"\",\"\",IF(J313<=0,\"\",lookup!X306))","v":""},{"$f":"IF(E314=\"\",\"\",IF(J314<=0,lookup!Y306+lookup!AA306,lookup!Y306))","v":""},{"$f":"IF(E314=\"\",\"\",lookup!Z305)","v":""},"","",{"$f":"IF(E314=\"\",\"\",IF(lookup!AA306<0,0,lookup!AA306))","v":""}]
[null,null,null,null,{"$f":"IF(J314=\"\",\"\",IF(J314<=0,\"\",lookup!X307))","v":""},{"$f":"IF(E315=\"\",\"\",IF(J315<=0,lookup!Y307+lookup!AA307,lookup!Y307))","v":""},{"$f":"IF(E315=\"\",\"\",lookup!Z306)","v":""},"","",{"$f":"IF(E315=\"\",\"\",IF(lookup!AA307<0,0,lookup!AA307))","v":""}]
[null,null,null,null,{"$f":"IF(J315=\"\",\"\",IF(J315<=0,\"\",lookup!X308))","v":""},{"$f":"IF(E316=\"\",\"\",IF(J316<=0,lookup!Y308+lookup!AA308,lookup!Y308))","v":""},{"$f":"IF(E316=\"\",\"\",lookup!Z307)","v":""},"","",{"$f":"IF(E316=\"\",\"\",IF(lookup!AA308<0,0,lookup!AA308))","v":""}]
[null,null,null,null,{"$f":"IF(J316=\"\",\"\",IF(J316<=0,\"\",lookup!X309))","v":""},{"$f":"IF(E317=\"\",\"\",IF(J317<=0,lookup!Y309+lookup!AA309,lookup!Y309))","v":""},{"$f":"IF(E317=\"\",\"\",lookup!Z308)","v":""},"","",{"$f":"IF(E317=\"\",\"\",IF(lookup!AA309<0,0,lookup!AA309))","v":""}]
[null,null,null,null,{"$f":"IF(J317=\"\",\"\",IF(J317<=0,\"\",lookup!X310))","v":""},{"$f":"IF(E318=\"\",\"\",IF(J318<=0,lookup!Y310+lookup!AA310,lookup!Y310))","v":""},{"$f":"IF(E318=\"\",\"\",lookup!Z309)","v":""},"","",{"$f":"IF(E318=\"\",\"\",IF(lookup!AA310<0,0,lookup!AA310))","v":""}]
[null,null,null,null,{"$f":"IF(J318=\"\",\"\",IF(J318<=0,\"\",lookup!X311))","v":""},{"$f":"IF(E319=\"\",\"\",IF(J319<=0,lookup!Y311+lookup!AA311,lookup!Y311))","v":""},{"$f":"IF(E319=\"\",\"\",lookup!Z310)","v":""},"","",{"$f":"IF(E319=\"\",\"\",IF(lookup!AA311<0,0,lookup!AA311))","v":""}]
[null,null,null,null,{"$f":"IF(J319=\"\",\"\",IF(J319<=0,\"\",lookup!X312))","v":""},{"$f":"IF(E320=\"\",\"\",IF(J320<=0,lookup!Y312+lookup!AA312,lookup!Y312))","v":""},{"$f":"IF(E320=\"\",\"\",lookup!Z311)","v":""},"","",{"$f":"IF(E320=\"\",\"\",IF(lookup!AA312<0,0,lookup!AA312))","v":""}]
[null,null,null,null,{"$f":"IF(J320=\"\",\"\",IF(J320<=0,\"\",lookup!X313))","v":""},{"$f":"IF(E321=\"\",\"\",IF(J321<=0,lookup!Y313+lookup!AA313,lookup!Y313))","v":""},{"$f":"IF(E321=\"\",\"\",lookup!Z312)","v":""},"","",{"$f":"IF(E321=\"\",\"\",IF(lookup!AA313<0,0,lookup!AA313))","v":""}]
[null,null,null,null,{"$f":"IF(J321=\"\",\"\",IF(J321<=0,\"\",lookup!X314))","v":""},{"$f":"IF(E322=\"\",\"\",IF(J322<=0,lookup!Y314+lookup!AA314,lookup!Y314))","v":""},{"$f":"IF(E322=\"\",\"\",lookup!Z313)","v":""},"","",{"$f":"IF(E322=\"\",\"\",IF(lookup!AA314<0,0,lookup!AA314))","v":""}]
[null,null,null,null,{"$f":"IF(J322=\"\",\"\",IF(J322<=0,\"\",lookup!X315))","v":""},{"$f":"IF(E323=\"\",\"\",IF(J323<=0,lookup!Y315+lookup!AA315,lookup!Y315))","v":""},{"$f":"IF(E323=\"\",\"\",lookup!Z314)","v":""},"","",{"$f":"IF(E323=\"\",\"\",IF(lookup!AA315<0,0,lookup!AA315))","v":""}]
[null,null,null,null,{"$f":"IF(J323=\"\",\"\",IF(J323<=0,\"\",lookup!X316))","v":""},{"$f":"IF(E324=\"\",\"\",IF(J324<=0,lookup!Y316+lookup!AA316,lookup!Y316))","v":""},{"$f":"IF(E324=\"\",\"\",lookup!Z315)","v":""},"","",{"$f":"IF(E324=\"\",\"\",IF(lookup!AA316<0,0,lookup!AA316))","v":""}]
[null,null,null,null,{"$f":"IF(J324=\"\",\"\",IF(J324<=0,\"\",lookup!X317))","v":""},{"$f":"IF(E325=\"\",\"\",IF(J325<=0,lookup!Y317+lookup!AA317,lookup!Y317))","v":""},{"$f":"IF(E325=\"\",\"\",lookup!Z316)","v":""},"","",{"$f":"IF(E325=\"\",\"\",IF(lookup!AA317<0,0,lookup!AA317))","v":""}]
[null,null,null,null,{"$f":"IF(J325=\"\",\"\",IF(J325<=0,\"\",lookup!X318))","v":""},{"$f":"IF(E326=\"\",\"\",IF(J326<=0,lookup!Y318+lookup!AA318,lookup!Y318))","v":""},{"$f":"IF(E326=\"\",\"\",lookup!Z317)","v":""},"","",{"$f":"IF(E326=\"\",\"\",IF(lookup!AA318<0,0,lookup!AA318))","v":""}]
[null,null,null,null,{"$f":"IF(J326=\"\",\"\",IF(J326<=0,\"\",lookup!X319))","v":""},{"$f":"IF(E327=\"\",\"\",IF(J327<=0,lookup!Y319+lookup!AA319,lookup!Y319))","v":""},{"$f":"IF(E327=\"\",\"\",lookup!Z318)","v":""},"","",{"$f":"IF(E327=\"\",\"\",IF(lookup!AA319<0,0,lookup!AA319))","v":""}]
[null,null,null,null,{"$f":"IF(J327=\"\",\"\",IF(J327<=0,\"\",lookup!X320))","v":""},{"$f":"IF(E328=\"\",\"\",IF(J328<=0,lookup!Y320+lookup!AA320,lookup!Y320))","v":""},{"$f":"IF(E328=\"\",\"\",lookup!Z319)","v":""},"","",{"$f":"IF(E328=\"\",\"\",IF(lookup!AA320<0,0,lookup!AA320))","v":""}]
[null,null,null,null,{"$f":"IF(J328=\"\",\"\",IF(J328<=0,\"\",lookup!X321))","v":""},{"$f":"IF(E329=\"\",\"\",IF(J329<=0,lookup!Y321+lookup!AA321,lookup!Y321))","v":""},{"$f":"IF(E329=\"\",\"\",lookup!Z320)","v":""},"","",{"$f":"IF(E329=\"\",\"\",IF(lookup!AA321<0,0,lookup!AA321))","v":""}]
[null,null,null,null,{"$f":"IF(J329=\"\",\"\",IF(J329<=0,\"\",lookup!X322))","v":""},{"$f":"IF(E330=\"\",\"\",IF(J330<=0,lookup!Y322+lookup!AA322,lookup!Y322))","v":""},{"$f":"IF(E330=\"\",\"\",lookup!Z321)","v":""},"","",{"$f":"IF(E330=\"\",\"\",IF(lookup!AA322<0,0,lookup!AA322))","v":""}]
[null,null,null,null,{"$f":"IF(J330=\"\",\"\",IF(J330<=0,\"\",lookup!X323))","v":""},{"$f":"IF(E331=\"\",\"\",IF(J331<=0,lookup!Y323+lookup!AA323,lookup!Y323))","v":""},{"$f":"IF(E331=\"\",\"\",lookup!Z322)","v":""},"","",{"$f":"IF(E331=\"\",\"\",IF(lookup!AA323<0,0,lookup!AA323))","v":""}]
[null,null,null,null,{"$f":"IF(J331=\"\",\"\",IF(J331<=0,\"\",lookup!X324))","v":""},{"$f":"IF(E332=\"\",\"\",IF(J332<=0,lookup!Y324+lookup!AA324,lookup!Y324))","v":""},{"$f":"IF(E332=\"\",\"\",lookup!Z323)","v":""},{"$f":"IF(E332=\"\",\"\",H331+G332)","v":""},{"$f":"IF(E332=\"\",\"\",F332-G332)","v":""},{"$f":"IF(E332=\"\",\"\",IF(lookup!AA324<0,0,lookup!AA324))","v":""}]
[null,null,null,null,{"$f":"IF(J332=\"\",\"\",IF(J332<=0,\"\",lookup!X325))","v":""},{"$f":"IF(E333=\"\",\"\",IF(J333<=0,lookup!Y325+lookup!AA325,lookup!Y325))","v":""},{"$f":"IF(E333=\"\",\"\",lookup!Z324)","v":""},"","",{"$f":"IF(E333=\"\",\"\",IF(lookup!AA325<0,0,lookup!AA325))","v":""}]
[null,null,null,null,{"$f":"IF(J333=\"\",\"\",IF(J333<=0,\"\",lookup!X326))","v":""},{"$f":"IF(E334=\"\",\"\",IF(J334<=0,lookup!Y326+lookup!AA326,lookup!Y326))","v":""},{"$f":"IF(E334=\"\",\"\",lookup!Z325)","v":""},"","",{"$f":"IF(E334=\"\",\"\",IF(lookup!AA326<0,0,lookup!AA326))","v":""}]
[null,null,null,null,{"$f":"IF(J334=\"\",\"\",IF(J334<=0,\"\",lookup!X327))","v":""},{"$f":"IF(E335=\"\",\"\",IF(J335<=0,lookup!Y327+lookup!AA327,lookup!Y327))","v":""},{"$f":"IF(E335=\"\",\"\",lookup!Z326)","v":""},"","",{"$f":"IF(E335=\"\",\"\",IF(lookup!AA327<0,0,lookup!AA327))","v":""}]
[null,null,null,null,{"$f":"IF(J335=\"\",\"\",IF(J335<=0,\"\",lookup!X328))","v":""},{"$f":"IF(E336=\"\",\"\",IF(J336<=0,lookup!Y328+lookup!AA328,lookup!Y328))","v":""},{"$f":"IF(E336=\"\",\"\",lookup!Z327)","v":""},"","",{"$f":"IF(E336=\"\",\"\",IF(lookup!AA328<0,0,lookup!AA328))","v":""}]
[null,null,null,null,{"$f":"IF(J336=\"\",\"\",IF(J336<=0,\"\",lookup!X329))","v":""},{"$f":"IF(E337=\"\",\"\",IF(J337<=0,lookup!Y329+lookup!AA329,lookup!Y329))","v":""},{"$f":"IF(E337=\"\",\"\",lookup!Z328)","v":""},"","",{"$f":"IF(E337=\"\",\"\",IF(lookup!AA329<0,0,lookup!AA329))","v":""}]
[null,null,null,null,{"$f":"IF(J337=\"\",\"\",IF(J337<=0,\"\",lookup!X330))","v":""},{"$f":"IF(E338=\"\",\"\",IF(J338<=0,lookup!Y330+lookup!AA330,lookup!Y330))","v":""},{"$f":"IF(E338=\"\",\"\",lookup!Z329)","v":""},"","",{"$f":"IF(E338=\"\",\"\",IF(lookup!AA330<0,0,lookup!AA330))","v":""}]
[null,null,null,null,{"$f":"IF(J338=\"\",\"\",IF(J338<=0,\"\",lookup!X331))","v":""},{"$f":"IF(E339=\"\",\"\",IF(J339<=0,lookup!Y331+lookup!AA331,lookup!Y331))","v":""},{"$f":"IF(E339=\"\",\"\",lookup!Z330)","v":""},"","",{"$f":"IF(E339=\"\",\"\",IF(lookup!AA331<0,0,lookup!AA331))","v":""}]
[null,null,null,null,{"$f":"IF(J339=\"\",\"\",IF(J339<=0,\"\",lookup!X332))","v":""},{"$f":"IF(E340=\"\",\"\",IF(J340<=0,lookup!Y332+lookup!AA332,lookup!Y332))","v":""},{"$f":"IF(E340=\"\",\"\",lookup!Z331)","v":""},"","",{"$f":"IF(E340=\"\",\"\",IF(lookup!AA332<0,0,lookup!AA332))","v":""}]
[null,null,null,null,{"$f":"IF(J340=\"\",\"\",IF(J340<=0,\"\",lookup!X333))","v":""},{"$f":"IF(E341=\"\",\"\",IF(J341<=0,lookup!Y333+lookup!AA333,lookup!Y333))","v":""},{"$f":"IF(E341=\"\",\"\",lookup!Z332)","v":""},"","",{"$f":"IF(E341=\"\",\"\",IF(lookup!AA333<0,0,lookup!AA333))","v":""}]
[null,null,null,null,{"$f":"IF(J341=\"\",\"\",IF(J341<=0,\"\",lookup!X334))","v":""},{"$f":"IF(E342=\"\",\"\",IF(J342<=0,lookup!Y334+lookup!AA334,lookup!Y334))","v":""},{"$f":"IF(E342=\"\",\"\",lookup!Z333)","v":""},"","",{"$f":"IF(E342=\"\",\"\",IF(lookup!AA334<0,0,lookup!AA334))","v":""}]
[null,null,null,null,{"$f":"IF(J342=\"\",\"\",IF(J342<=0,\"\",lookup!X335))","v":""},{"$f":"IF(E343=\"\",\"\",IF(J343<=0,lookup!Y335+lookup!AA335,lookup!Y335))","v":""},{"$f":"IF(E343=\"\",\"\",lookup!Z334)","v":""},"","",{"$f":"IF(E343=\"\",\"\",IF(lookup!AA335<0,0,lookup!AA335))","v":""}]
[null,null,null,null,{"$f":"IF(J343=\"\",\"\",IF(J343<=0,\"\",lookup!X336))","v":""},{"$f":"IF(E344=\"\",\"\",IF(J344<=0,lookup!Y336+lookup!AA336,lookup!Y336))","v":""},{"$f":"IF(E344=\"\",\"\",lookup!Z335)","v":""},"","",{"$f":"IF(E344=\"\",\"\",IF(lookup!AA336<0,0,lookup!AA336))","v":""}]
[null,null,null,null,{"$f":"IF(J344=\"\",\"\",IF(J344<=0,\"\",lookup!X337))","v":""},{"$f":"IF(E345=\"\",\"\",IF(J345<=0,lookup!Y337+lookup!AA337,lookup!Y337))","v":""},{"$f":"IF(E345=\"\",\"\",lookup!Z336)","v":""},"","",{"$f":"IF(E345=\"\",\"\",IF(lookup!AA337<0,0,lookup!AA337))","v":""}]
[null,null,null,null,{"$f":"IF(J345=\"\",\"\",IF(J345<=0,\"\",lookup!X338))","v":""},{"$f":"IF(E346=\"\",\"\",IF(J346<=0,lookup!Y338+lookup!AA338,lookup!Y338))","v":""},{"$f":"IF(E346=\"\",\"\",lookup!Z337)","v":""},"","",{"$f":"IF(E346=\"\",\"\",IF(lookup!AA338<0,0,lookup!AA338))","v":""}]
[null,null,null,null,{"$f":"IF(J346=\"\",\"\",IF(J346<=0,\"\",lookup!X339))","v":""},{"$f":"IF(E347=\"\",\"\",IF(J347<=0,lookup!Y339+lookup!AA339,lookup!Y339))","v":""},{"$f":"IF(E347=\"\",\"\",lookup!Z338)","v":""},"","",{"$f":"IF(E347=\"\",\"\",IF(lookup!AA339<0,0,lookup!AA339))","v":""}]
[null,null,null,null,{"$f":"IF(J347=\"\",\"\",IF(J347<=0,\"\",lookup!X340))","v":""},{"$f":"IF(E348=\"\",\"\",IF(J348<=0,lookup!Y340+lookup!AA340,lookup!Y340))","v":""},{"$f":"IF(E348=\"\",\"\",lookup!Z339)","v":""},"","",{"$f":"IF(E348=\"\",\"\",IF(lookup!AA340<0,0,lookup!AA340))","v":""}]
[null,null,null,null,{"$f":"IF(J348=\"\",\"\",IF(J348<=0,\"\",lookup!X341))","v":""},{"$f":"IF(E349=\"\",\"\",IF(J349<=0,lookup!Y341+lookup!AA341,lookup!Y341))","v":""},{"$f":"IF(E349=\"\",\"\",lookup!Z340)","v":""},"","",{"$f":"IF(E349=\"\",\"\",IF(lookup!AA341<0,0,lookup!AA341))","v":""}]
[null,null,null,null,{"$f":"IF(J349=\"\",\"\",IF(J349<=0,\"\",lookup!X342))","v":""},{"$f":"IF(E350=\"\",\"\",IF(J350<=0,lookup!Y342+lookup!AA342,lookup!Y342))","v":""},{"$f":"IF(E350=\"\",\"\",lookup!Z341)","v":""},"","",{"$f":"IF(E350=\"\",\"\",IF(lookup!AA342<0,0,lookup!AA342))","v":""}]
[null,null,null,null,{"$f":"IF(J350=\"\",\"\",IF(J350<=0,\"\",lookup!X343))","v":""},{"$f":"IF(E351=\"\",\"\",IF(J351<=0,lookup!Y343+lookup!AA343,lookup!Y343))","v":""},{"$f":"IF(E351=\"\",\"\",lookup!Z342)","v":""},"","",{"$f":"IF(E351=\"\",\"\",IF(lookup!AA343<0,0,lookup!AA343))","v":""}]
[null,null,null,null,{"$f":"IF(J351=\"\",\"\",IF(J351<=0,\"\",lookup!X344))","v":""},{"$f":"IF(E352=\"\",\"\",IF(J352<=0,lookup!Y344+lookup!AA344,lookup!Y344))","v":""},{"$f":"IF(E352=\"\",\"\",lookup!Z343)","v":""},"","",{"$f":"IF(E352=\"\",\"\",IF(lookup!AA344<0,0,lookup!AA344))","v":""}]
[null,null,null,null,{"$f":"IF(J352=\"\",\"\",IF(J352<=0,\"\",lookup!X345))","v":""},{"$f":"IF(E353=\"\",\"\",IF(J353<=0,lookup!Y345+lookup!AA345,lookup!Y345))","v":""},{"$f":"IF(E353=\"\",\"\",lookup!Z344)","v":""},"","",{"$f":"IF(E353=\"\",\"\",IF(lookup!AA345<0,0,lookup!AA345))","v":""}]
[null,null,null,null,{"$f":"IF(J353=\"\",\"\",IF(J353<=0,\"\",lookup!X346))","v":""},{"$f":"IF(E354=\"\",\"\",IF(J354<=0,lookup!Y346+lookup!AA346,lookup!Y346))","v":""},{"$f":"IF(E354=\"\",\"\",lookup!Z345)","v":""},"","",{"$f":"IF(E354=\"\",\"\",IF(lookup!AA346<0,0,lookup!AA346))","v":""}]
[null,null,null,null,{"$f":"IF(J354=\"\",\"\",IF(J354<=0,\"\",lookup!X347))","v":""},{"$f":"IF(E355=\"\",\"\",IF(J355<=0,lookup!Y347+lookup!AA347,lookup!Y347))","v":""},{"$f":"IF(E355=\"\",\"\",lookup!Z346)","v":""},"","",{"$f":"IF(E355=\"\",\"\",IF(lookup!AA347<0,0,lookup!AA347))","v":""}]
[null,null,null,null,{"$f":"IF(J355=\"\",\"\",IF(J355<=0,\"\",lookup!X348))","v":""},{"$f":"IF(E356=\"\",\"\",IF(J356<=0,lookup!Y348+lookup!AA348,lookup!Y348))","v":""},{"$f":"IF(E356=\"\",\"\",lookup!Z347)","v":""},"","",{"$f":"IF(E356=\"\",\"\",IF(lookup!AA348<0,0,lookup!AA348))","v":""}]
[null,null,null,null,{"$f":"IF(J356=\"\",\"\",IF(J356<=0,\"\",lookup!X349))","v":""},{"$f":"IF(E357=\"\",\"\",IF(J357<=0,lookup!Y349+lookup!AA349,lookup!Y349))","v":""},{"$f":"IF(E357=\"\",\"\",lookup!Z348)","v":""},"","",{"$f":"IF(E357=\"\",\"\",IF(lookup!AA349<0,0,lookup!AA349))","v":""}]
[null,null,null,null,{"$f":"IF(J357=\"\",\"\",IF(J357<=0,\"\",lookup!X350))","v":""},{"$f":"IF(E358=\"\",\"\",IF(J358<=0,lookup!Y350+lookup!AA350,lookup!Y350))","v":""},{"$f":"IF(E358=\"\",\"\",lookup!Z349)","v":""},"","",{"$f":"IF(E358=\"\",\"\",IF(lookup!AA350<0,0,lookup!AA350))","v":""}]
[null,null,null,null,{"$f":"IF(J358=\"\",\"\",IF(J358<=0,\"\",lookup!X351))","v":""},{"$f":"IF(E359=\"\",\"\",IF(J359<=0,lookup!Y351+lookup!AA351,lookup!Y351))","v":""},{"$f":"IF(E359=\"\",\"\",lookup!Z350)","v":""},"","",{"$f":"IF(E359=\"\",\"\",IF(lookup!AA351<0,0,lookup!AA351))","v":""}]
[null,null,null,null,{"$f":"IF(J359=\"\",\"\",IF(J359<=0,\"\",lookup!X352))","v":""},{"$f":"IF(E360=\"\",\"\",IF(J360<=0,lookup!Y352+lookup!AA352,lookup!Y352))","v":""},{"$f":"IF(E360=\"\",\"\",lookup!Z351)","v":""},"","",{"$f":"IF(E360=\"\",\"\",IF(lookup!AA352<0,0,lookup!AA352))","v":""}]
[null,null,null,null,{"$f":"IF(J360=\"\",\"\",IF(J360<=0,\"\",lookup!X353))","v":""},{"$f":"IF(E361=\"\",\"\",IF(J361<=0,lookup!Y353+lookup!AA353,lookup!Y353))","v":""},{"$f":"IF(E361=\"\",\"\",lookup!Z352)","v":""},"","",{"$f":"IF(E361=\"\",\"\",IF(lookup!AA353<0,0,lookup!AA353))","v":""}]
[null,null,null,null,{"$f":"IF(J361=\"\",\"\",IF(J361<=0,\"\",lookup!X354))","v":""},{"$f":"IF(E362=\"\",\"\",IF(J362<=0,lookup!Y354+lookup!AA354,lookup!Y354))","v":""},{"$f":"IF(E362=\"\",\"\",lookup!Z353)","v":""},"","",{"$f":"IF(E362=\"\",\"\",IF(lookup!AA354<0,0,lookup!AA354))","v":""}]
[null,null,null,null,{"$f":"IF(J362=\"\",\"\",IF(J362<=0,\"\",lookup!X355))","v":""},{"$f":"IF(E363=\"\",\"\",IF(J363<=0,lookup!Y355+lookup!AA355,lookup!Y355))","v":""},{"$f":"IF(E363=\"\",\"\",lookup!Z354)","v":""},"","",{"$f":"IF(E363=\"\",\"\",IF(lookup!AA355<0,0,lookup!AA355))","v":""}]
[null,null,null,null,{"$f":"IF(J363=\"\",\"\",IF(J363<=0,\"\",lookup!X356))","v":""},{"$f":"IF(E364=\"\",\"\",IF(J364<=0,lookup!Y356+lookup!AA356,lookup!Y356))","v":""},{"$f":"IF(E364=\"\",\"\",lookup!Z355)","v":""},"","",{"$f":"IF(E364=\"\",\"\",IF(lookup!AA356<0,0,lookup!AA356))","v":""}]
[null,null,null,null,{"$f":"IF(J364=\"\",\"\",IF(J364<=0,\"\",lookup!X357))","v":""},{"$f":"IF(E365=\"\",\"\",IF(J365<=0,lookup!Y357+lookup!AA357,lookup!Y357))","v":""},{"$f":"IF(E365=\"\",\"\",lookup!Z356)","v":""},"","",{"$f":"IF(E365=\"\",\"\",IF(lookup!AA357<0,0,lookup!AA357))","v":""}]
[null,null,null,null,{"$f":"IF(J365=\"\",\"\",IF(J365<=0,\"\",lookup!X358))","v":""},{"$f":"IF(E366=\"\",\"\",IF(J366<=0,lookup!Y358+lookup!AA358,lookup!Y358))","v":""},{"$f":"IF(E366=\"\",\"\",lookup!Z357)","v":""},"","",{"$f":"IF(E366=\"\",\"\",IF(lookup!AA358<0,0,lookup!AA358))","v":""}]
[null,null,null,null,{"$f":"IF(J366=\"\",\"\",IF(J366<=0,\"\",lookup!X359))","v":""},{"$f":"IF(E367=\"\",\"\",IF(J367<=0,lookup!Y359+lookup!AA359,lookup!Y359))","v":""},{"$f":"IF(E367=\"\",\"\",lookup!Z358)","v":""},"","",{"$f":"IF(E367=\"\",\"\",IF(lookup!AA359<0,0,lookup!AA359))","v":""}]
[null,null,null,null,{"$f":"IF(J367=\"\",\"\",IF(J367<=0,\"\",lookup!X360))","v":""},{"$f":"IF(E368=\"\",\"\",IF(J368<=0,lookup!Y360+lookup!AA360,lookup!Y360))","v":""},{"$f":"IF(E368=\"\",\"\",lookup!Z359)","v":""},"","",{"$f":"IF(E368=\"\",\"\",IF(lookup!AA360<0,0,lookup!AA360))","v":""}]
[null,null,null,null,{"$f":"IF(J368=\"\",\"\",IF(J368<=0,\"\",lookup!X361))","v":""},{"$f":"IF(E369=\"\",\"\",IF(J369<=0,lookup!Y361+lookup!AA361,lookup!Y361))","v":""},{"$f":"IF(E369=\"\",\"\",lookup!Z360)","v":""},"","",{"$f":"IF(E369=\"\",\"\",IF(lookup!AA361<0,0,lookup!AA361))","v":""}]
[null,null,null,null,{"$f":"IF(J369=\"\",\"\",IF(J369<=0,\"\",lookup!X362))","v":""},{"$f":"IF(E370=\"\",\"\",IF(J370<=0,lookup!Y362+lookup!AA362,lookup!Y362))","v":""},{"$f":"IF(E370=\"\",\"\",lookup!Z361)","v":""},"","",{"$f":"IF(E370=\"\",\"\",IF(lookup!AA362<0,0,lookup!AA362))","v":""}]
[null,null,null,null,{"$f":"IF(J370=\"\",\"\",IF(J370<=0,\"\",lookup!X363))","v":""},{"$f":"IF(E371=\"\",\"\",IF(J371<=0,lookup!Y363+lookup!AA363,lookup!Y363))","v":""},{"$f":"IF(E371=\"\",\"\",lookup!Z362)","v":""},{"$f":"IF(E371=\"\",\"\",H370+G371)","v":""},{"$f":"IF(E371=\"\",\"\",F371-G371)","v":""},{"$f":"IF(E371=\"\",\"\",IF(lookup!AA363<0,0,lookup!AA363))","v":""}]
[null,null,null,null,{"$f":"IF(J371=\"\",\"\",IF(J371<=0,\"\",lookup!X364))","v":""},{"$f":"IF(E372=\"\",\"\",IF(J372<=0,lookup!Y364+lookup!AA364,lookup!Y364))","v":""},{"$f":"IF(E372=\"\",\"\",lookup!Z363)","v":""},"","",{"$f":"IF(E372=\"\",\"\",IF(lookup!AA364<0,0,lookup!AA364))","v":""}]
[null,null,null,null,{"$f":"IF(J372=\"\",\"\",IF(J372<=0,\"\",lookup!X365))","v":""},{"$f":"IF(E373=\"\",\"\",IF(J373<=0,lookup!Y365+lookup!AA365,lookup!Y365))","v":""},{"$f":"IF(E373=\"\",\"\",lookup!Z364)","v":""},"","",{"$f":"IF(E373=\"\",\"\",IF(lookup!AA365<0,0,lookup!AA365))","v":""}]
[null,null,null,null,{"$f":"IF(J373=\"\",\"\",IF(J373<=0,\"\",lookup!X366))","v":""},{"$f":"IF(E374=\"\",\"\",IF(J374<=0,lookup!Y366+lookup!AA366,lookup!Y366))","v":""},{"$f":"IF(E374=\"\",\"\",lookup!Z365)","v":""},"","",{"$f":"IF(E374=\"\",\"\",IF(lookup!AA366<0,0,lookup!AA366))","v":""}]
[null,null,null,null,{"$f":"IF(J374=\"\",\"\",IF(J374<=0,\"\",lookup!X367))","v":""},{"$f":"IF(E375=\"\",\"\",IF(J375<=0,lookup!Y367+lookup!AA367,lookup!Y367))","v":""},{"$f":"IF(E375=\"\",\"\",lookup!Z366)","v":""},"","",{"$f":"IF(E375=\"\",\"\",IF(lookup!AA367<0,0,lookup!AA367))","v":""}]
[null,null,null,null,{"$f":"IF(J375=\"\",\"\",IF(J375<=0,\"\",lookup!X368))","v":""},{"$f":"IF(E376=\"\",\"\",IF(J376<=0,lookup!Y368+lookup!AA368,lookup!Y368))","v":""},{"$f":"IF(E376=\"\",\"\",lookup!Z367)","v":""},"","",{"$f":"IF(E376=\"\",\"\",IF(lookup!AA368<0,0,lookup!AA368))","v":""}]
[null,null,null,null,{"$f":"IF(J376=\"\",\"\",IF(J376<=0,\"\",lookup!X369))","v":""},{"$f":"IF(E377=\"\",\"\",IF(J377<=0,lookup!Y369+lookup!AA369,lookup!Y369))","v":""},{"$f":"IF(E377=\"\",\"\",lookup!Z368)","v":""},"","",{"$f":"IF(E377=\"\",\"\",IF(lookup!AA369<0,0,lookup!AA369))","v":""}]
[null,null,null,null,{"$f":"IF(J377=\"\",\"\",IF(J377<=0,\"\",lookup!X370))","v":""},{"$f":"IF(E378=\"\",\"\",IF(J378<=0,lookup!Y370+lookup!AA370,lookup!Y370))","v":""},{"$f":"IF(E378=\"\",\"\",lookup!Z369)","v":""},"","",{"$f":"IF(E378=\"\",\"\",IF(lookup!AA370<0,0,lookup!AA370))","v":""}]
[null,null,null,null,{"$f":"IF(J378=\"\",\"\",IF(J378<=0,\"\",lookup!X371))","v":""},{"$f":"IF(E379=\"\",\"\",IF(J379<=0,lookup!Y371+lookup!AA371,lookup!Y371))","v":""},{"$f":"IF(E379=\"\",\"\",lookup!Z370)","v":""},"","",{"$f":"IF(E379=\"\",\"\",IF(lookup!AA371<0,0,lookup!AA371))","v":""}]
[null,null,null,null,{"$f":"IF(J379=\"\",\"\",IF(J379<=0,\"\",lookup!X372))","v":""},{"$f":"IF(E380=\"\",\"\",IF(J380<=0,lookup!Y372+lookup!AA372,lookup!Y372))","v":""},{"$f":"IF(E380=\"\",\"\",lookup!Z371)","v":""},"","",{"$f":"IF(E380=\"\",\"\",IF(lookup!AA372<0,0,lookup!AA372))","v":""}]
[null,null,null,null,{"$f":"IF(J380=\"\",\"\",IF(J380<=0,\"\",lookup!X373))","v":""},{"$f":"IF(E381=\"\",\"\",IF(J381<=0,lookup!Y373+lookup!AA373,lookup!Y373))","v":""},{"$f":"IF(E381=\"\",\"\",lookup!Z372)","v":""},"","",{"$f":"IF(E381=\"\",\"\",IF(lookup!AA373<0,0,lookup!AA373))","v":""}]
[null,null,null,null,{"$f":"IF(J381=\"\",\"\",IF(J381<=0,\"\",lookup!X374))","v":""},{"$f":"IF(E382=\"\",\"\",IF(J382<=0,lookup!Y374+lookup!AA374,lookup!Y374))","v":""},{"$f":"IF(E382=\"\",\"\",lookup!Z373)","v":""},"","",{"$f":"IF(E382=\"\",\"\",IF(lookup!AA374<0,0,lookup!AA374))","v":""}]
[null,null,null,null,{"$f":"IF(J382=\"\",\"\",IF(J382<=0,\"\",lookup!X375))","v":""},{"$f":"IF(E383=\"\",\"\",IF(J383<=0,lookup!Y375+lookup!AA375,lookup!Y375))","v":""},{"$f":"IF(E383=\"\",\"\",lookup!Z374)","v":""},"","",{"$f":"IF(E383=\"\",\"\",IF(lookup!AA375<0,0,lookup!AA375))","v":""}]
[null,null,null,null,{"$f":"IF(J383=\"\",\"\",IF(J383<=0,\"\",lookup!X376))","v":""},{"$f":"IF(E384=\"\",\"\",IF(J384<=0,lookup!Y376+lookup!AA376,lookup!Y376))","v":""},{"$f":"IF(E384=\"\",\"\",lookup!Z375)","v":""},"","",{"$f":"IF(E384=\"\",\"\",IF(lookup!AA376<0,0,lookup!AA376))","v":""}]
[null,null,null,null,{"$f":"IF(J384=\"\",\"\",IF(J384<=0,\"\",lookup!X377))","v":""},{"$f":"IF(E385=\"\",\"\",IF(J385<=0,lookup!Y377+lookup!AA377,lookup!Y377))","v":""},{"$f":"IF(E385=\"\",\"\",lookup!Z376)","v":""},"","",{"$f":"IF(E385=\"\",\"\",IF(lookup!AA377<0,0,lookup!AA377))","v":""}]
[null,null,null,null,{"$f":"IF(J385=\"\",\"\",IF(J385<=0,\"\",lookup!X378))","v":""},{"$f":"IF(E386=\"\",\"\",IF(J386<=0,lookup!Y378+lookup!AA378,lookup!Y378))","v":""},{"$f":"IF(E386=\"\",\"\",lookup!Z377)","v":""},"","",{"$f":"IF(E386=\"\",\"\",IF(lookup!AA378<0,0,lookup!AA378))","v":""}]
[null,null,null,null,{"$f":"IF(J386=\"\",\"\",IF(J386<=0,\"\",lookup!X379))","v":""},{"$f":"IF(E387=\"\",\"\",IF(J387<=0,lookup!Y379+lookup!AA379,lookup!Y379))","v":""},{"$f":"IF(E387=\"\",\"\",lookup!Z378)","v":""},"","",{"$f":"IF(E387=\"\",\"\",IF(lookup!AA379<0,0,lookup!AA379))","v":""}]
[null,null,null,null,{"$f":"IF(J387=\"\",\"\",IF(J387<=0,\"\",lookup!X380))","v":""},{"$f":"IF(E388=\"\",\"\",IF(J388<=0,lookup!Y380+lookup!AA380,lookup!Y380))","v":""},{"$f":"IF(E388=\"\",\"\",lookup!Z379)","v":""},"","",{"$f":"IF(E388=\"\",\"\",IF(lookup!AA380<0,0,lookup!AA380))","v":""}]
[null,null,null,null,{"$f":"IF(J388=\"\",\"\",IF(J388<=0,\"\",lookup!X381))","v":""},{"$f":"IF(E389=\"\",\"\",IF(J389<=0,lookup!Y381+lookup!AA381,lookup!Y381))","v":""},{"$f":"IF(E389=\"\",\"\",lookup!Z380)","v":""},"","",{"$f":"IF(E389=\"\",\"\",IF(lookup!AA381<0,0,lookup!AA381))","v":""}]
[null,null,null,null,{"$f":"IF(J389=\"\",\"\",IF(J389<=0,\"\",lookup!X382))","v":""},{"$f":"IF(E390=\"\",\"\",IF(J390<=0,lookup!Y382+lookup!AA382,lookup!Y382))","v":""},{"$f":"IF(E390=\"\",\"\",lookup!Z381)","v":""},"","",{"$f":"IF(E390=\"\",\"\",IF(lookup!AA382<0,0,lookup!AA382))","v":""}]
[null,null,null,null,{"$f":"IF(J390=\"\",\"\",IF(J390<=0,\"\",lookup!X383))","v":""},{"$f":"IF(E391=\"\",\"\",IF(J391<=0,lookup!Y383+lookup!AA383,lookup!Y383))","v":""},{"$f":"IF(E391=\"\",\"\",lookup!Z382)","v":""},"","",{"$f":"IF(E391=\"\",\"\",IF(lookup!AA383<0,0,lookup!AA383))","v":""}]
[null,null,null,null,{"$f":"IF(J391=\"\",\"\",IF(J391<=0,\"\",lookup!X384))","v":""},{"$f":"IF(E392=\"\",\"\",IF(J392<=0,lookup!Y384+lookup!AA384,lookup!Y384))","v":""},{"$f":"IF(E392=\"\",\"\",lookup!Z383)","v":""},"","",{"$f":"IF(E392=\"\",\"\",IF(lookup!AA384<0,0,lookup!AA384))","v":""}]
[null,null,null,null,{"$f":"IF(J392=\"\",\"\",IF(J392<=0,\"\",lookup!X385))","v":""},{"$f":"IF(E393=\"\",\"\",IF(J393<=0,lookup!Y385+lookup!AA385,lookup!Y385))","v":""},{"$f":"IF(E393=\"\",\"\",lookup!Z384)","v":""},"","",{"$f":"IF(E393=\"\",\"\",IF(lookup!AA385<0,0,lookup!AA385))","v":""}]
[null,null,null,null,{"$f":"IF(J393=\"\",\"\",IF(J393<=0,\"\",lookup!X386))","v":""},{"$f":"IF(E394=\"\",\"\",IF(J394<=0,lookup!Y386+lookup!AA386,lookup!Y386))","v":""},{"$f":"IF(E394=\"\",\"\",lookup!Z385)","v":""},"","",{"$f":"IF(E394=\"\",\"\",IF(lookup!AA386<0,0,lookup!AA386))","v":""}]
[null,null,null,null,{"$f":"IF(J394=\"\",\"\",IF(J394<=0,\"\",lookup!X387))","v":""},{"$f":"IF(E395=\"\",\"\",IF(J395<=0,lookup!Y387+lookup!AA387,lookup!Y387))","v":""},{"$f":"IF(E395=\"\",\"\",lookup!Z386)","v":""},"","",{"$f":"IF(E395=\"\",\"\",IF(lookup!AA387<0,0,lookup!AA387))","v":""}]
[null,null,null,null,{"$f":"IF(J395=\"\",\"\",IF(J395<=0,\"\",lookup!X388))","v":""},{"$f":"IF(E396=\"\",\"\",IF(J396<=0,lookup!Y388+lookup!AA388,lookup!Y388))","v":""},{"$f":"IF(E396=\"\",\"\",lookup!Z387)","v":""},"","",{"$f":"IF(E396=\"\",\"\",IF(lookup!AA388<0,0,lookup!AA388))","v":""}]
[null,null,null,null,{"$f":"IF(J396=\"\",\"\",IF(J396<=0,\"\",lookup!X389))","v":""},{"$f":"IF(E397=\"\",\"\",IF(J397<=0,lookup!Y389+lookup!AA389,lookup!Y389))","v":""},{"$f":"IF(E397=\"\",\"\",lookup!Z388)","v":""},"","",{"$f":"IF(E397=\"\",\"\",IF(lookup!AA389<0,0,lookup!AA389))","v":""}]
[null,null,null,null,{"$f":"IF(J397=\"\",\"\",IF(J397<=0,\"\",lookup!X390))","v":""},{"$f":"IF(E398=\"\",\"\",IF(J398<=0,lookup!Y390+lookup!AA390,lookup!Y390))","v":""},{"$f":"IF(E398=\"\",\"\",lookup!Z389)","v":""},"","",{"$f":"IF(E398=\"\",\"\",IF(lookup!AA390<0,0,lookup!AA390))","v":""}]
[null,null,null,null,{"$f":"IF(J398=\"\",\"\",IF(J398<=0,\"\",lookup!X391))","v":""},{"$f":"IF(E399=\"\",\"\",IF(J399<=0,lookup!Y391+lookup!AA391,lookup!Y391))","v":""},{"$f":"IF(E399=\"\",\"\",lookup!Z390)","v":""},"","",{"$f":"IF(E399=\"\",\"\",IF(lookup!AA391<0,0,lookup!AA391))","v":""}]
[null,null,null,null,{"$f":"IF(J399=\"\",\"\",IF(J399<=0,\"\",lookup!X392))","v":""},{"$f":"IF(E400=\"\",\"\",IF(J400<=0,lookup!Y392+lookup!AA392,lookup!Y392))","v":""},{"$f":"IF(E400=\"\",\"\",lookup!Z391)","v":""},"","",{"$f":"IF(E400=\"\",\"\",IF(lookup!AA392<0,0,lookup!AA392))","v":""}]
[null,null,null,null,{"$f":"IF(J400=\"\",\"\",IF(J400<=0,\"\",lookup!X393))","v":""},{"$f":"IF(E401=\"\",\"\",IF(J401<=0,lookup!Y393+lookup!AA393,lookup!Y393))","v":""},{"$f":"IF(E401=\"\",\"\",lookup!Z392)","v":""},"","",{"$f":"IF(E401=\"\",\"\",IF(lookup!AA393<0,0,lookup!AA393))","v":""}]
[null,null,null,null,{"$f":"IF(J401=\"\",\"\",IF(J401<=0,\"\",lookup!X394))","v":""},{"$f":"IF(E402=\"\",\"\",IF(J402<=0,lookup!Y394+lookup!AA394,lookup!Y394))","v":""},{"$f":"IF(E402=\"\",\"\",lookup!Z393)","v":""},"","",{"$f":"IF(E402=\"\",\"\",IF(lookup!AA394<0,0,lookup!AA394))","v":""}]
[null,null,null,null,{"$f":"IF(J402=\"\",\"\",IF(J402<=0,\"\",lookup!X395))","v":""},{"$f":"IF(E403=\"\",\"\",IF(J403<=0,lookup!Y395+lookup!AA395,lookup!Y395))","v":""},{"$f":"IF(E403=\"\",\"\",lookup!Z394)","v":""},"","",{"$f":"IF(E403=\"\",\"\",IF(lookup!AA395<0,0,lookup!AA395))","v":""}]
[null,null,null,null,{"$f":"IF(J403=\"\",\"\",IF(J403<=0,\"\",lookup!X396))","v":""},{"$f":"IF(E404=\"\",\"\",IF(J404<=0,lookup!Y396+lookup!AA396,lookup!Y396))","v":""},{"$f":"IF(E404=\"\",\"\",lookup!Z395)","v":""},"","",{"$f":"IF(E404=\"\",\"\",IF(lookup!AA396<0,0,lookup!AA396))","v":""}]
[null,null,null,null,{"$f":"IF(J404=\"\",\"\",IF(J404<=0,\"\",lookup!X397))","v":""},{"$f":"IF(E405=\"\",\"\",IF(J405<=0,lookup!Y397+lookup!AA397,lookup!Y397))","v":""},{"$f":"IF(E405=\"\",\"\",lookup!Z396)","v":""},"","",{"$f":"IF(E405=\"\",\"\",IF(lookup!AA397<0,0,lookup!AA397))","v":""}]
[null,null,null,null,{"$f":"IF(J405=\"\",\"\",IF(J405<=0,\"\",lookup!X398))","v":""},{"$f":"IF(E406=\"\",\"\",IF(J406<=0,lookup!Y398+lookup!AA398,lookup!Y398))","v":""},{"$f":"IF(E406=\"\",\"\",lookup!Z397)","v":""},"","",{"$f":"IF(E406=\"\",\"\",IF(lookup!AA398<0,0,lookup!AA398))","v":""}]
[null,null,null,null,{"$f":"IF(J406=\"\",\"\",IF(J406<=0,\"\",lookup!X399))","v":""},{"$f":"IF(E407=\"\",\"\",IF(J407<=0,lookup!Y399+lookup!AA399,lookup!Y399))","v":""},{"$f":"IF(E407=\"\",\"\",lookup!Z398)","v":""},"","",{"$f":"IF(E407=\"\",\"\",IF(lookup!AA399<0,0,lookup!AA399))","v":""}]
[null,null,null,null,{"$f":"IF(J407=\"\",\"\",IF(J407<=0,\"\",lookup!X400))","v":""},{"$f":"IF(E408=\"\",\"\",IF(J408<=0,lookup!Y400+lookup!AA400,lookup!Y400))","v":""},{"$f":"IF(E408=\"\",\"\",lookup!Z399)","v":""},"","",{"$f":"IF(E408=\"\",\"\",IF(lookup!AA400<0,0,lookup!AA400))","v":""}]
[null,null,null,null,{"$f":"IF(J408=\"\",\"\",IF(J408<=0,\"\",lookup!X401))","v":""},{"$f":"IF(E409=\"\",\"\",IF(J409<=0,lookup!Y401+lookup!AA401,lookup!Y401))","v":""},{"$f":"IF(E409=\"\",\"\",lookup!Z400)","v":""},"","",{"$f":"IF(E409=\"\",\"\",IF(lookup!AA401<0,0,lookup!AA401))","v":""}]
[null,null,null,null,{"$f":"IF(J409=\"\",\"\",IF(J409<=0,\"\",lookup!X402))","v":""},{"$f":"IF(E410=\"\",\"\",IF(J410<=0,lookup!Y402+lookup!AA402,lookup!Y402))","v":""},{"$f":"IF(E410=\"\",\"\",lookup!Z401)","v":""},"","",{"$f":"IF(E410=\"\",\"\",IF(lookup!AA402<0,0,lookup!AA402))","v":""}]
[null,null,null,null,{"$f":"IF(J410=\"\",\"\",IF(J410<=0,\"\",lookup!X403))","v":""},{"$f":"IF(E411=\"\",\"\",IF(J411<=0,lookup!Y403+lookup!AA403,lookup!Y403))","v":""},{"$f":"IF(E411=\"\",\"\",lookup!Z402)","v":""},"","",{"$f":"IF(E411=\"\",\"\",IF(lookup!AA403<0,0,lookup!AA403))","v":""}]
[null,null,null,null,{"$f":"IF(J411=\"\",\"\",IF(J411<=0,\"\",lookup!X404))","v":""},{"$f":"IF(E412=\"\",\"\",IF(J412<=0,lookup!Y404+lookup!AA404,lookup!Y404))","v":""},{"$f":"IF(E412=\"\",\"\",lookup!Z403)","v":""},"","",{"$f":"IF(E412=\"\",\"\",IF(lookup!AA404<0,0,lookup!AA404))","v":""}]
[null,null,null,null,{"$f":"IF(J412=\"\",\"\",IF(J412<=0,\"\",lookup!X405))","v":""},{"$f":"IF(E413=\"\",\"\",IF(J413<=0,lookup!Y405+lookup!AA405,lookup!Y405))","v":""},{"$f":"IF(E413=\"\",\"\",lookup!Z404)","v":""},"","",{"$f":"IF(E413=\"\",\"\",IF(lookup!AA405<0,0,lookup!AA405))","v":""}]
[null,null,null,null,{"$f":"IF(J413=\"\",\"\",IF(J413<=0,\"\",lookup!X406))","v":""},{"$f":"IF(E414=\"\",\"\",IF(J414<=0,lookup!Y406+lookup!AA406,lookup!Y406))","v":""},{"$f":"IF(E414=\"\",\"\",lookup!Z405)","v":""},"","",{"$f":"IF(E414=\"\",\"\",IF(lookup!AA406<0,0,lookup!AA406))","v":""}]
[null,null,null,null,{"$f":"IF(J414=\"\",\"\",IF(J414<=0,\"\",lookup!X407))","v":""},{"$f":"IF(E415=\"\",\"\",IF(J415<=0,lookup!Y407+lookup!AA407,lookup!Y407))","v":""},{"$f":"IF(E415=\"\",\"\",lookup!Z406)","v":""},"","",{"$f":"IF(E415=\"\",\"\",IF(lookup!AA407<0,0,lookup!AA407))","v":""}]
[null,null,null,null,{"$f":"IF(J415=\"\",\"\",IF(J415<=0,\"\",lookup!X408))","v":""},{"$f":"IF(E416=\"\",\"\",IF(J416<=0,lookup!Y408+lookup!AA408,lookup!Y408))","v":""},{"$f":"IF(E416=\"\",\"\",lookup!Z407)","v":""},"","",{"$f":"IF(E416=\"\",\"\",IF(lookup!AA408<0,0,lookup!AA408))","v":""}]
[null,null,null,null,{"$f":"IF(J416=\"\",\"\",IF(J416<=0,\"\",lookup!X409))","v":""},{"$f":"IF(E417=\"\",\"\",IF(J417<=0,lookup!Y409+lookup!AA409,lookup!Y409))","v":""},{"$f":"IF(E417=\"\",\"\",lookup!Z408)","v":""},"","",{"$f":"IF(E417=\"\",\"\",IF(lookup!AA409<0,0,lookup!AA409))","v":""}]
[null,null,null,null,{"$f":"IF(J417=\"\",\"\",IF(J417<=0,\"\",lookup!X410))","v":""},{"$f":"IF(E418=\"\",\"\",IF(J418<=0,lookup!Y410+lookup!AA410,lookup!Y410))","v":""},{"$f":"IF(E418=\"\",\"\",lookup!Z409)","v":""},"","",{"$f":"IF(E418=\"\",\"\",IF(lookup!AA410<0,0,lookup!AA410))","v":""}]
[null,null,null,null,{"$f":"IF(J418=\"\",\"\",IF(J418<=0,\"\",lookup!X411))","v":""},{"$f":"IF(E419=\"\",\"\",IF(J419<=0,lookup!Y411+lookup!AA411,lookup!Y411))","v":""},{"$f":"IF(E419=\"\",\"\",lookup!Z410)","v":""},"","",{"$f":"IF(E419=\"\",\"\",IF(lookup!AA411<0,0,lookup!AA411))","v":""}]
[null,null,null,null,{"$f":"IF(J419=\"\",\"\",IF(J419<=0,\"\",lookup!X412))","v":""},{"$f":"IF(E420=\"\",\"\",IF(J420<=0,lookup!Y412+lookup!AA412,lookup!Y412))","v":""},{"$f":"IF(E420=\"\",\"\",lookup!Z411)","v":""},"","",{"$f":"IF(E420=\"\",\"\",IF(lookup!AA412<0,0,lookup!AA412))","v":""}]
[null,null,null,null,{"$f":"IF(J420=\"\",\"\",IF(J420<=0,\"\",lookup!X413))","v":""},{"$f":"IF(E421=\"\",\"\",IF(J421<=0,lookup!Y413+lookup!AA413,lookup!Y413))","v":""},{"$f":"IF(E421=\"\",\"\",lookup!Z412)","v":""},"","",{"$f":"IF(E421=\"\",\"\",IF(lookup!AA413<0,0,lookup!AA413))","v":""}]
[null,null,null,null,{"$f":"IF(J421=\"\",\"\",IF(J421<=0,\"\",lookup!X414))","v":""},{"$f":"IF(E422=\"\",\"\",IF(J422<=0,lookup!Y414+lookup!AA414,lookup!Y414))","v":""},{"$f":"IF(E422=\"\",\"\",lookup!Z413)","v":""},"","",{"$f":"IF(E422=\"\",\"\",IF(lookup!AA414<0,0,lookup!AA414))","v":""}]
[null,null,null,null,{"$f":"IF(J422=\"\",\"\",IF(J422<=0,\"\",lookup!X415))","v":""},{"$f":"IF(E423=\"\",\"\",IF(J423<=0,lookup!Y415+lookup!AA415,lookup!Y415))","v":""},{"$f":"IF(E423=\"\",\"\",lookup!Z414)","v":""},"","",{"$f":"IF(E423=\"\",\"\",IF(lookup!AA415<0,0,lookup!AA415))","v":""}]
[null,null,null,null,{"$f":"IF(J423=\"\",\"\",IF(J423<=0,\"\",lookup!X416))","v":""},{"$f":"IF(E424=\"\",\"\",IF(J424<=0,lookup!Y416+lookup!AA416,lookup!Y416))","v":""},{"$f":"IF(E424=\"\",\"\",lookup!Z415)","v":""},"","",{"$f":"IF(E424=\"\",\"\",IF(lookup!AA416<0,0,lookup!AA416))","v":""}]
[null,null,null,null,{"$f":"IF(J424=\"\",\"\",IF(J424<=0,\"\",lookup!X417))","v":""},{"$f":"IF(E425=\"\",\"\",IF(J425<=0,lookup!Y417+lookup!AA417,lookup!Y417))","v":""},{"$f":"IF(E425=\"\",\"\",lookup!Z416)","v":""},"","",{"$f":"IF(E425=\"\",\"\",IF(lookup!AA417<0,0,lookup!AA417))","v":""}]
[null,null,null,null,{"$f":"IF(J425=\"\",\"\",IF(J425<=0,\"\",lookup!X418))","v":""},{"$f":"IF(E426=\"\",\"\",IF(J426<=0,lookup!Y418+lookup!AA418,lookup!Y418))","v":""},{"$f":"IF(E426=\"\",\"\",lookup!Z417)","v":""},"","",{"$f":"IF(E426=\"\",\"\",IF(lookup!AA418<0,0,lookup!AA418))","v":""}]
[null,null,null,null,{"$f":"IF(J426=\"\",\"\",IF(J426<=0,\"\",lookup!X419))","v":""},{"$f":"IF(E427=\"\",\"\",IF(J427<=0,lookup!Y419+lookup!AA419,lookup!Y419))","v":""},{"$f":"IF(E427=\"\",\"\",lookup!Z418)","v":""},"","",{"$f":"IF(E427=\"\",\"\",IF(lookup!AA419<0,0,lookup!AA419))","v":""}]
[null,null,null,null,{"$f":"IF(J427=\"\",\"\",IF(J427<=0,\"\",lookup!X420))","v":""},{"$f":"IF(E428=\"\",\"\",IF(J428<=0,lookup!Y420+lookup!AA420,lookup!Y420))","v":""},{"$f":"IF(E428=\"\",\"\",lookup!Z419)","v":""},"","",{"$f":"IF(E428=\"\",\"\",IF(lookup!AA420<0,0,lookup!AA420))","v":""}]
[null,null,null,null,{"$f":"IF(J428=\"\",\"\",IF(J428<=0,\"\",lookup!X421))","v":""},{"$f":"IF(E429=\"\",\"\",IF(J429<=0,lookup!Y421+lookup!AA421,lookup!Y421))","v":""},{"$f":"IF(E429=\"\",\"\",lookup!Z420)","v":""},"","",{"$f":"IF(E429=\"\",\"\",IF(lookup!AA421<0,0,lookup!AA421))","v":""}]
[null,null,null,null,{"$f":"IF(J429=\"\",\"\",IF(J429<=0,\"\",lookup!X422))","v":""},{"$f":"IF(E430=\"\",\"\",IF(J430<=0,lookup!Y422+lookup!AA422,lookup!Y422))","v":""},{"$f":"IF(E430=\"\",\"\",lookup!Z421)","v":""},"","",{"$f":"IF(E430=\"\",\"\",IF(lookup!AA422<0,0,lookup!AA422))","v":""}]
[null,null,null,null,{"$f":"IF(J430=\"\",\"\",IF(J430<=0,\"\",lookup!X423))","v":""},{"$f":"IF(E431=\"\",\"\",IF(J431<=0,lookup!Y423+lookup!AA423,lookup!Y423))","v":""},{"$f":"IF(E431=\"\",\"\",lookup!Z422)","v":""},"","",{"$f":"IF(E431=\"\",\"\",IF(lookup!AA423<0,0,lookup!AA423))","v":""}]
[null,null,null,null,{"$f":"IF(J431=\"\",\"\",IF(J431<=0,\"\",lookup!X424))","v":""},{"$f":"IF(E432=\"\",\"\",IF(J432<=0,lookup!Y424+lookup!AA424,lookup!Y424))","v":""},{"$f":"IF(E432=\"\",\"\",lookup!Z423)","v":""},"","",{"$f":"IF(E432=\"\",\"\",IF(lookup!AA424<0,0,lookup!AA424))","v":""}]
[null,null,null,null,{"$f":"IF(J432=\"\",\"\",IF(J432<=0,\"\",lookup!X425))","v":""},{"$f":"IF(E433=\"\",\"\",IF(J433<=0,lookup!Y425+lookup!AA425,lookup!Y425))","v":""},{"$f":"IF(E433=\"\",\"\",lookup!Z424)","v":""},"","",{"$f":"IF(E433=\"\",\"\",IF(lookup!AA425<0,0,lookup!AA425))","v":""}]
[null,null,null,null,{"$f":"IF(J433=\"\",\"\",IF(J433<=0,\"\",lookup!X426))","v":""},{"$f":"IF(E434=\"\",\"\",IF(J434<=0,lookup!Y426+lookup!AA426,lookup!Y426))","v":""},{"$f":"IF(E434=\"\",\"\",lookup!Z425)","v":""},"","",{"$f":"IF(E434=\"\",\"\",IF(lookup!AA426<0,0,lookup!AA426))","v":""}]
[null,null,null,null,{"$f":"IF(J434=\"\",\"\",IF(J434<=0,\"\",lookup!X427))","v":""},{"$f":"IF(E435=\"\",\"\",IF(J435<=0,lookup!Y427+lookup!AA427,lookup!Y427))","v":""},{"$f":"IF(E435=\"\",\"\",lookup!Z426)","v":""},{"$f":"IF(E435=\"\",\"\",H434+G435)","v":""},{"$f":"IF(E435=\"\",\"\",F435-G435)","v":""},{"$f":"IF(E435=\"\",\"\",IF(lookup!AA427<0,0,lookup!AA427))","v":""}]
[null,null,null,null,{"$f":"IF(J435=\"\",\"\",IF(J435<=0,\"\",lookup!X428))","v":""},{"$f":"IF(E436=\"\",\"\",IF(J436<=0,lookup!Y428+lookup!AA428,lookup!Y428))","v":""},{"$f":"IF(E436=\"\",\"\",lookup!Z427)","v":""},"","",{"$f":"IF(E436=\"\",\"\",IF(lookup!AA428<0,0,lookup!AA428))","v":""}]
[null,null,null,null,{"$f":"IF(J436=\"\",\"\",IF(J436<=0,\"\",lookup!X429))","v":""},{"$f":"IF(E437=\"\",\"\",IF(J437<=0,lookup!Y429+lookup!AA429,lookup!Y429))","v":""},{"$f":"IF(E437=\"\",\"\",lookup!Z428)","v":""},"","",{"$f":"IF(E437=\"\",\"\",IF(lookup!AA429<0,0,lookup!AA429))","v":""}]
[null,null,null,null,{"$f":"IF(J437=\"\",\"\",IF(J437<=0,\"\",lookup!X430))","v":""},{"$f":"IF(E438=\"\",\"\",IF(J438<=0,lookup!Y430+lookup!AA430,lookup!Y430))","v":""},{"$f":"IF(E438=\"\",\"\",lookup!Z429)","v":""},"","",{"$f":"IF(E438=\"\",\"\",IF(lookup!AA430<0,0,lookup!AA430))","v":""}]
[null,null,null,null,{"$f":"IF(J438=\"\",\"\",IF(J438<=0,\"\",lookup!X431))","v":""},{"$f":"IF(E439=\"\",\"\",IF(J439<=0,lookup!Y431+lookup!AA431,lookup!Y431))","v":""},{"$f":"IF(E439=\"\",\"\",lookup!Z430)","v":""},"","",{"$f":"IF(E439=\"\",\"\",IF(lookup!AA431<0,0,lookup!AA431))","v":""}]
[null,null,null,null,{"$f":"IF(J439=\"\",\"\",IF(J439<=0,\"\",lookup!X432))","v":""},{"$f":"IF(E440=\"\",\"\",IF(J440<=0,lookup!Y432+lookup!AA432,lookup!Y432))","v":""},{"$f":"IF(E440=\"\",\"\",lookup!Z431)","v":""},"","",{"$f":"IF(E440=\"\",\"\",IF(lookup!AA432<0,0,lookup!AA432))","v":""}]
[null,null,null,null,{"$f":"IF(J440=\"\",\"\",IF(J440<=0,\"\",lookup!X433))","v":""},{"$f":"IF(E441=\"\",\"\",IF(J441<=0,lookup!Y433+lookup!AA433,lookup!Y433))","v":""},{"$f":"IF(E441=\"\",\"\",lookup!Z432)","v":""},"","",{"$f":"IF(E441=\"\",\"\",IF(lookup!AA433<0,0,lookup!AA433))","v":""}]
[null,null,null,null,{"$f":"IF(J441=\"\",\"\",IF(J441<=0,\"\",lookup!X434))","v":""},{"$f":"IF(E442=\"\",\"\",IF(J442<=0,lookup!Y434+lookup!AA434,lookup!Y434))","v":""},{"$f":"IF(E442=\"\",\"\",lookup!Z433)","v":""},"","",{"$f":"IF(E442=\"\",\"\",IF(lookup!AA434<0,0,lookup!AA434))","v":""}]
[null,null,null,null,{"$f":"IF(J442=\"\",\"\",IF(J442<=0,\"\",lookup!X435))","v":""},{"$f":"IF(E443=\"\",\"\",IF(J443<=0,lookup!Y435+lookup!AA435,lookup!Y435))","v":""},{"$f":"IF(E443=\"\",\"\",lookup!Z434)","v":""},"","",{"$f":"IF(E443=\"\",\"\",IF(lookup!AA435<0,0,lookup!AA435))","v":""}]
[null,null,null,null,{"$f":"IF(J443=\"\",\"\",IF(J443<=0,\"\",lookup!X436))","v":""},{"$f":"IF(E444=\"\",\"\",IF(J444<=0,lookup!Y436+lookup!AA436,lookup!Y436))","v":""},{"$f":"IF(E444=\"\",\"\",lookup!Z435)","v":""},"","",{"$f":"IF(E444=\"\",\"\",IF(lookup!AA436<0,0,lookup!AA436))","v":""}]
[null,null,null,null,{"$f":"IF(J444=\"\",\"\",IF(J444<=0,\"\",lookup!X437))","v":""},{"$f":"IF(E445=\"\",\"\",IF(J445<=0,lookup!Y437+lookup!AA437,lookup!Y437))","v":""},{"$f":"IF(E445=\"\",\"\",lookup!Z436)","v":""},"","",{"$f":"IF(E445=\"\",\"\",IF(lookup!AA437<0,0,lookup!AA437))","v":""}]
[null,null,null,null,{"$f":"IF(J445=\"\",\"\",IF(J445<=0,\"\",lookup!X438))","v":""},{"$f":"IF(E446=\"\",\"\",IF(J446<=0,lookup!Y438+lookup!AA438,lookup!Y438))","v":""},{"$f":"IF(E446=\"\",\"\",lookup!Z437)","v":""},"","",{"$f":"IF(E446=\"\",\"\",IF(lookup!AA438<0,0,lookup!AA438))","v":""}]
[null,null,null,null,{"$f":"IF(J446=\"\",\"\",IF(J446<=0,\"\",lookup!X439))","v":""},{"$f":"IF(E447=\"\",\"\",IF(J447<=0,lookup!Y439+lookup!AA439,lookup!Y439))","v":""},{"$f":"IF(E447=\"\",\"\",lookup!Z438)","v":""},"","",{"$f":"IF(E447=\"\",\"\",IF(lookup!AA439<0,0,lookup!AA439))","v":""}]
[null,null,null,null,{"$f":"IF(J447=\"\",\"\",IF(J447<=0,\"\",lookup!X440))","v":""},{"$f":"IF(E448=\"\",\"\",IF(J448<=0,lookup!Y440+lookup!AA440,lookup!Y440))","v":""},{"$f":"IF(E448=\"\",\"\",lookup!Z439)","v":""},"","",{"$f":"IF(E448=\"\",\"\",IF(lookup!AA440<0,0,lookup!AA440))","v":""}]
[null,null,null,null,{"$f":"IF(J448=\"\",\"\",IF(J448<=0,\"\",lookup!X441))","v":""},{"$f":"IF(E449=\"\",\"\",IF(J449<=0,lookup!Y441+lookup!AA441,lookup!Y441))","v":""},{"$f":"IF(E449=\"\",\"\",lookup!Z440)","v":""},"","",{"$f":"IF(E449=\"\",\"\",IF(lookup!AA441<0,0,lookup!AA441))","v":""}]
[null,null,null,null,{"$f":"IF(J449=\"\",\"\",IF(J449<=0,\"\",lookup!X442))","v":""},{"$f":"IF(E450=\"\",\"\",IF(J450<=0,lookup!Y442+lookup!AA442,lookup!Y442))","v":""},{"$f":"IF(E450=\"\",\"\",lookup!Z441)","v":""},"","",{"$f":"IF(E450=\"\",\"\",IF(lookup!AA442<0,0,lookup!AA442))","v":""}]
[null,null,null,null,{"$f":"IF(J450=\"\",\"\",IF(J450<=0,\"\",lookup!X443))","v":""},{"$f":"IF(E451=\"\",\"\",IF(J451<=0,lookup!Y443+lookup!AA443,lookup!Y443))","v":""},{"$f":"IF(E451=\"\",\"\",lookup!Z442)","v":""},"","",{"$f":"IF(E451=\"\",\"\",IF(lookup!AA443<0,0,lookup!AA443))","v":""}]
[null,null,null,null,{"$f":"IF(J451=\"\",\"\",IF(J451<=0,\"\",lookup!X444))","v":""},{"$f":"IF(E452=\"\",\"\",IF(J452<=0,lookup!Y444+lookup!AA444,lookup!Y444))","v":""},{"$f":"IF(E452=\"\",\"\",lookup!Z443)","v":""},"","",{"$f":"IF(E452=\"\",\"\",IF(lookup!AA444<0,0,lookup!AA444))","v":""}]
[null,null,null,null,{"$f":"IF(J452=\"\",\"\",IF(J452<=0,\"\",lookup!X445))","v":""},{"$f":"IF(E453=\"\",\"\",IF(J453<=0,lookup!Y445+lookup!AA445,lookup!Y445))","v":""},{"$f":"IF(E453=\"\",\"\",lookup!Z444)","v":""},"","",{"$f":"IF(E453=\"\",\"\",IF(lookup!AA445<0,0,lookup!AA445))","v":""}]
[null,null,null,null,{"$f":"IF(J453=\"\",\"\",IF(J453<=0,\"\",lookup!X446))","v":""},{"$f":"IF(E454=\"\",\"\",IF(J454<=0,lookup!Y446+lookup!AA446,lookup!Y446))","v":""},{"$f":"IF(E454=\"\",\"\",lookup!Z445)","v":""},"","",{"$f":"IF(E454=\"\",\"\",IF(lookup!AA446<0,0,lookup!AA446))","v":""}]
[null,null,null,null,{"$f":"IF(J454=\"\",\"\",IF(J454<=0,\"\",lookup!X447))","v":""},{"$f":"IF(E455=\"\",\"\",IF(J455<=0,lookup!Y447+lookup!AA447,lookup!Y447))","v":""},{"$f":"IF(E455=\"\",\"\",lookup!Z446)","v":""},"","",{"$f":"IF(E455=\"\",\"\",IF(lookup!AA447<0,0,lookup!AA447))","v":""}]
[null,null,null,null,{"$f":"IF(J455=\"\",\"\",IF(J455<=0,\"\",lookup!X448))","v":""},{"$f":"IF(E456=\"\",\"\",IF(J456<=0,lookup!Y448+lookup!AA448,lookup!Y448))","v":""},{"$f":"IF(E456=\"\",\"\",lookup!Z447)","v":""},"","",{"$f":"IF(E456=\"\",\"\",IF(lookup!AA448<0,0,lookup!AA448))","v":""}]
[null,null,null,null,{"$f":"IF(J456=\"\",\"\",IF(J456<=0,\"\",lookup!X449))","v":""},{"$f":"IF(E457=\"\",\"\",IF(J457<=0,lookup!Y449+lookup!AA449,lookup!Y449))","v":""},{"$f":"IF(E457=\"\",\"\",lookup!Z448)","v":""},"","",{"$f":"IF(E457=\"\",\"\",IF(lookup!AA449<0,0,lookup!AA449))","v":""}]
[null,null,null,null,{"$f":"IF(J457=\"\",\"\",IF(J457<=0,\"\",lookup!X450))","v":""},{"$f":"IF(E458=\"\",\"\",IF(J458<=0,lookup!Y450+lookup!AA450,lookup!Y450))","v":""},{"$f":"IF(E458=\"\",\"\",lookup!Z449)","v":""},"","",{"$f":"IF(E458=\"\",\"\",IF(lookup!AA450<0,0,lookup!AA450))","v":""}]
[null,null,null,null,{"$f":"IF(J458=\"\",\"\",IF(J458<=0,\"\",lookup!X451))","v":""},{"$f":"IF(E459=\"\",\"\",IF(J459<=0,lookup!Y451+lookup!AA451,lookup!Y451))","v":""},{"$f":"IF(E459=\"\",\"\",lookup!Z450)","v":""},"","",{"$f":"IF(E459=\"\",\"\",IF(lookup!AA451<0,0,lookup!AA451))","v":""}]
[null,null,null,null,{"$f":"IF(J459=\"\",\"\",IF(J459<=0,\"\",lookup!X452))","v":""},{"$f":"IF(E460=\"\",\"\",IF(J460<=0,lookup!Y452+lookup!AA452,lookup!Y452))","v":""},{"$f":"IF(E460=\"\",\"\",lookup!Z451)","v":""},"","",{"$f":"IF(E460=\"\",\"\",IF(lookup!AA452<0,0,lookup!AA452))","v":""}]
[null,null,null,null,{"$f":"IF(J460=\"\",\"\",IF(J460<=0,\"\",lookup!X453))","v":""},{"$f":"IF(E461=\"\",\"\",IF(J461<=0,lookup!Y453+lookup!AA453,lookup!Y453))","v":""},{"$f":"IF(E461=\"\",\"\",lookup!Z452)","v":""},"","",{"$f":"IF(E461=\"\",\"\",IF(lookup!AA453<0,0,lookup!AA453))","v":""}]
[null,null,null,null,{"$f":"IF(J461=\"\",\"\",IF(J461<=0,\"\",lookup!X454))","v":""},{"$f":"IF(E462=\"\",\"\",IF(J462<=0,lookup!Y454+lookup!AA454,lookup!Y454))","v":""},{"$f":"IF(E462=\"\",\"\",lookup!Z453)","v":""},"","",{"$f":"IF(E462=\"\",\"\",IF(lookup!AA454<0,0,lookup!AA454))","v":""}]
[null,null,null,null,{"$f":"IF(J462=\"\",\"\",IF(J462<=0,\"\",lookup!X455))","v":""},{"$f":"IF(E463=\"\",\"\",IF(J463<=0,lookup!Y455+lookup!AA455,lookup!Y455))","v":""},{"$f":"IF(E463=\"\",\"\",lookup!Z454)","v":""},"","",{"$f":"IF(E463=\"\",\"\",IF(lookup!AA455<0,0,lookup!AA455))","v":""}]
[null,null,null,null,{"$f":"IF(J463=\"\",\"\",IF(J463<=0,\"\",lookup!X456))","v":""},{"$f":"IF(E464=\"\",\"\",IF(J464<=0,lookup!Y456+lookup!AA456,lookup!Y456))","v":""},{"$f":"IF(E464=\"\",\"\",lookup!Z455)","v":""},"","",{"$f":"IF(E464=\"\",\"\",IF(lookup!AA456<0,0,lookup!AA456))","v":""}]
[null,null,null,null,{"$f":"IF(J464=\"\",\"\",IF(J464<=0,\"\",lookup!X457))","v":""},{"$f":"IF(E465=\"\",\"\",IF(J465<=0,lookup!Y457+lookup!AA457,lookup!Y457))","v":""},{"$f":"IF(E465=\"\",\"\",lookup!Z456)","v":""},"","",{"$f":"IF(E465=\"\",\"\",IF(lookup!AA457<0,0,lookup!AA457))","v":""}]
[null,null,null,null,{"$f":"IF(J465=\"\",\"\",IF(J465<=0,\"\",lookup!X458))","v":""},{"$f":"IF(E466=\"\",\"\",IF(J466<=0,lookup!Y458+lookup!AA458,lookup!Y458))","v":""},{"$f":"IF(E466=\"\",\"\",lookup!Z457)","v":""},"","",{"$f":"IF(E466=\"\",\"\",IF(lookup!AA458<0,0,lookup!AA458))","v":""}]
[null,null,null,null,{"$f":"IF(J466=\"\",\"\",IF(J466<=0,\"\",lookup!X459))","v":""},{"$f":"IF(E467=\"\",\"\",IF(J467<=0,lookup!Y459+lookup!AA459,lookup!Y459))","v":""},{"$f":"IF(E467=\"\",\"\",lookup!Z458)","v":""},"","",{"$f":"IF(E467=\"\",\"\",IF(lookup!AA459<0,0,lookup!AA459))","v":""}]
[null,null,null,null,{"$f":"IF(J467=\"\",\"\",IF(J467<=0,\"\",lookup!X460))","v":""},{"$f":"IF(E468=\"\",\"\",IF(J468<=0,lookup!Y460+lookup!AA460,lookup!Y460))","v":""},{"$f":"IF(E468=\"\",\"\",lookup!Z459)","v":""},"","",{"$f":"IF(E468=\"\",\"\",IF(lookup!AA460<0,0,lookup!AA460))","v":""}]
[null,null,null,null,{"$f":"IF(J468=\"\",\"\",IF(J468<=0,\"\",lookup!X461))","v":""},{"$f":"IF(E469=\"\",\"\",IF(J469<=0,lookup!Y461+lookup!AA461,lookup!Y461))","v":""},{"$f":"IF(E469=\"\",\"\",lookup!Z460)","v":""},"","",{"$f":"IF(E469=\"\",\"\",IF(lookup!AA461<0,0,lookup!AA461))","v":""}]
[null,null,null,null,{"$f":"IF(J469=\"\",\"\",IF(J469<=0,\"\",lookup!X462))","v":""},{"$f":"IF(E470=\"\",\"\",IF(J470<=0,lookup!Y462+lookup!AA462,lookup!Y462))","v":""},{"$f":"IF(E470=\"\",\"\",lookup!Z461)","v":""},"","",{"$f":"IF(E470=\"\",\"\",IF(lookup!AA462<0,0,lookup!AA462))","v":""}]
[null,null,null,null,{"$f":"IF(J470=\"\",\"\",IF(J470<=0,\"\",lookup!X463))","v":""},{"$f":"IF(E471=\"\",\"\",IF(J471<=0,lookup!Y463+lookup!AA463,lookup!Y463))","v":""},{"$f":"IF(E471=\"\",\"\",lookup!Z462)","v":""},"","",{"$f":"IF(E471=\"\",\"\",IF(lookup!AA463<0,0,lookup!AA463))","v":""}]
[null,null,null,null,{"$f":"IF(J471=\"\",\"\",IF(J471<=0,\"\",lookup!X464))","v":""},{"$f":"IF(E472=\"\",\"\",IF(J472<=0,lookup!Y464+lookup!AA464,lookup!Y464))","v":""},{"$f":"IF(E472=\"\",\"\",lookup!Z463)","v":""},"","",{"$f":"IF(E472=\"\",\"\",IF(lookup!AA464<0,0,lookup!AA464))","v":""}]
[null,null,null,null,{"$f":"IF(J472=\"\",\"\",IF(J472<=0,\"\",lookup!X465))","v":""},{"$f":"IF(E473=\"\",\"\",IF(J473<=0,lookup!Y465+lookup!AA465,lookup!Y465))","v":""},{"$f":"IF(E473=\"\",\"\",lookup!Z464)","v":""},"","",{"$f":"IF(E473=\"\",\"\",IF(lookup!AA465<0,0,lookup!AA465))","v":""}]
[null,null,null,null,{"$f":"IF(J473=\"\",\"\",IF(J473<=0,\"\",lookup!X466))","v":""},{"$f":"IF(E474=\"\",\"\",IF(J474<=0,lookup!Y466+lookup!AA466,lookup!Y466))","v":""},{"$f":"IF(E474=\"\",\"\",lookup!Z465)","v":""},"","",{"$f":"IF(E474=\"\",\"\",IF(lookup!AA466<0,0,lookup!AA466))","v":""}]
[null,null,null,null,{"$f":"IF(J474=\"\",\"\",IF(J474<=0,\"\",lookup!X467))","v":""},{"$f":"IF(E475=\"\",\"\",IF(J475<=0,lookup!Y467+lookup!AA467,lookup!Y467))","v":""},{"$f":"IF(E475=\"\",\"\",lookup!Z466)","v":""},"","",{"$f":"IF(E475=\"\",\"\",IF(lookup!AA467<0,0,lookup!AA467))","v":""}]
[null,null,null,null,{"$f":"IF(J475=\"\",\"\",IF(J475<=0,\"\",lookup!X468))","v":""},{"$f":"IF(E476=\"\",\"\",IF(J476<=0,lookup!Y468+lookup!AA468,lookup!Y468))","v":""},{"$f":"IF(E476=\"\",\"\",lookup!Z467)","v":""},"","",{"$f":"IF(E476=\"\",\"\",IF(lookup!AA468<0,0,lookup!AA468))","v":""}]
[null,null,null,null,{"$f":"IF(J476=\"\",\"\",IF(J476<=0,\"\",lookup!X469))","v":""},{"$f":"IF(E477=\"\",\"\",IF(J477<=0,lookup!Y469+lookup!AA469,lookup!Y469))","v":""},{"$f":"IF(E477=\"\",\"\",lookup!Z468)","v":""},"","",{"$f":"IF(E477=\"\",\"\",IF(lookup!AA469<0,0,lookup!AA469))","v":""}]
[null,null,null,null,{"$f":"IF(J477=\"\",\"\",IF(J477<=0,\"\",lookup!X470))","v":""},{"$f":"IF(E478=\"\",\"\",IF(J478<=0,lookup!Y470+lookup!AA470,lookup!Y470))","v":""},{"$f":"IF(E478=\"\",\"\",lookup!Z469)","v":""},"","",{"$f":"IF(E478=\"\",\"\",IF(lookup!AA470<0,0,lookup!AA470))","v":""}]
[null,null,null,null,{"$f":"IF(J478=\"\",\"\",IF(J478<=0,\"\",lookup!X471))","v":""},{"$f":"IF(E479=\"\",\"\",IF(J479<=0,lookup!Y471+lookup!AA471,lookup!Y471))","v":""},{"$f":"IF(E479=\"\",\"\",lookup!Z470)","v":""},"","",{"$f":"IF(E479=\"\",\"\",IF(lookup!AA471<0,0,lookup!AA471))","v":""}]
[null,null,null,null,{"$f":"IF(J479=\"\",\"\",IF(J479<=0,\"\",lookup!X472))","v":""},{"$f":"IF(E480=\"\",\"\",IF(J480<=0,lookup!Y472+lookup!AA472,lookup!Y472))","v":""},{"$f":"IF(E480=\"\",\"\",lookup!Z471)","v":""},"","",{"$f":"IF(E480=\"\",\"\",IF(lookup!AA472<0,0,lookup!AA472))","v":""}]
[null,null,null,null,{"$f":"IF(J480=\"\",\"\",IF(J480<=0,\"\",lookup!X473))","v":""},{"$f":"IF(E481=\"\",\"\",IF(J481<=0,lookup!Y473+lookup!AA473,lookup!Y473))","v":""},{"$f":"IF(E481=\"\",\"\",lookup!Z472)","v":""},"","",{"$f":"IF(E481=\"\",\"\",IF(lookup!AA473<0,0,lookup!AA473))","v":""}]
[null,null,null,null,{"$f":"IF(J481=\"\",\"\",IF(J481<=0,\"\",lookup!X474))","v":""},{"$f":"IF(E482=\"\",\"\",IF(J482<=0,lookup!Y474+lookup!AA474,lookup!Y474))","v":""},{"$f":"IF(E482=\"\",\"\",lookup!Z473)","v":""},"","",{"$f":"IF(E482=\"\",\"\",IF(lookup!AA474<0,0,lookup!AA474))","v":""}]
[null,null,null,null,{"$f":"IF(J482=\"\",\"\",IF(J482<=0,\"\",lookup!X475))","v":""},{"$f":"IF(E483=\"\",\"\",IF(J483<=0,lookup!Y475+lookup!AA475,lookup!Y475))","v":""},{"$f":"IF(E483=\"\",\"\",lookup!Z474)","v":""},"","",{"$f":"IF(E483=\"\",\"\",IF(lookup!AA475<0,0,lookup!AA475))","v":""}]
[null,null,null,null,{"$f":"IF(J483=\"\",\"\",IF(J483<=0,\"\",lookup!X476))","v":""},{"$f":"IF(E484=\"\",\"\",IF(J484<=0,lookup!Y476+lookup!AA476,lookup!Y476))","v":""},{"$f":"IF(E484=\"\",\"\",lookup!Z475)","v":""},"","",{"$f":"IF(E484=\"\",\"\",IF(lookup!AA476<0,0,lookup!AA476))","v":""}]
[null,null,null,null,{"$f":"IF(J484=\"\",\"\",IF(J484<=0,\"\",lookup!X477))","v":""},{"$f":"IF(E485=\"\",\"\",IF(J485<=0,lookup!Y477+lookup!AA477,lookup!Y477))","v":""},{"$f":"IF(E485=\"\",\"\",lookup!Z476)","v":""},"","",{"$f":"IF(E485=\"\",\"\",IF(lookup!AA477<0,0,lookup!AA477))","v":""}]
[null,null,null,null,{"$f":"IF(J485=\"\",\"\",IF(J485<=0,\"\",lookup!X478))","v":""},{"$f":"IF(E486=\"\",\"\",IF(J486<=0,lookup!Y478+lookup!AA478,lookup!Y478))","v":""},{"$f":"IF(E486=\"\",\"\",lookup!Z477)","v":""},"","",{"$f":"IF(E486=\"\",\"\",IF(lookup!AA478<0,0,lookup!AA478))","v":""}]
[null,null,null,null,{"$f":"IF(J486=\"\",\"\",IF(J486<=0,\"\",lookup!X479))","v":""},{"$f":"IF(E487=\"\",\"\",IF(J487<=0,lookup!Y479+lookup!AA479,lookup!Y479))","v":""},{"$f":"IF(E487=\"\",\"\",lookup!Z478)","v":""},"","",{"$f":"IF(E487=\"\",\"\",IF(lookup!AA479<0,0,lookup!AA479))","v":""}]
[null,null,null,null,{"$f":"IF(J487=\"\",\"\",IF(J487<=0,\"\",lookup!X480))","v":""},{"$f":"IF(E488=\"\",\"\",IF(J488<=0,lookup!Y480+lookup!AA480,lookup!Y480))","v":""},{"$f":"IF(E488=\"\",\"\",lookup!Z479)","v":""},"","",{"$f":"IF(E488=\"\",\"\",IF(lookup!AA480<0,0,lookup!AA480))","v":""}]
[null,null,null,null,{"$f":"IF(J488=\"\",\"\",IF(J488<=0,\"\",lookup!X481))","v":""},{"$f":"IF(E489=\"\",\"\",IF(J489<=0,lookup!Y481+lookup!AA481,lookup!Y481))","v":""},{"$f":"IF(E489=\"\",\"\",lookup!Z480)","v":""},"","",{"$f":"IF(E489=\"\",\"\",IF(lookup!AA481<0,0,lookup!AA481))","v":""}]
[null,null,null,null,{"$f":"IF(J489=\"\",\"\",IF(J489<=0,\"\",lookup!X482))","v":""},{"$f":"IF(E490=\"\",\"\",IF(J490<=0,lookup!Y482+lookup!AA482,lookup!Y482))","v":""},{"$f":"IF(E490=\"\",\"\",lookup!Z481)","v":""},"","",{"$f":"IF(E490=\"\",\"\",IF(lookup!AA482<0,0,lookup!AA482))","v":""}]
[null,null,null,null,{"$f":"IF(J490=\"\",\"\",IF(J490<=0,\"\",lookup!X483))","v":""},{"$f":"IF(E491=\"\",\"\",IF(J491<=0,lookup!Y483+lookup!AA483,lookup!Y483))","v":""},{"$f":"IF(E491=\"\",\"\",lookup!Z482)","v":""},"","",{"$f":"IF(E491=\"\",\"\",IF(lookup!AA483<0,0,lookup!AA483))","v":""}]
[null,null,null,null,{"$f":"IF(J491=\"\",\"\",IF(J491<=0,\"\",lookup!X484))","v":""},{"$f":"IF(E492=\"\",\"\",IF(J492<=0,lookup!Y484+lookup!AA484,lookup!Y484))","v":""},{"$f":"IF(E492=\"\",\"\",lookup!Z483)","v":""},"","",{"$f":"IF(E492=\"\",\"\",IF(lookup!AA484<0,0,lookup!AA484))","v":""}]
[null,null,null,null,{"$f":"IF(J492=\"\",\"\",IF(J492<=0,\"\",lookup!X485))","v":""},{"$f":"IF(E493=\"\",\"\",IF(J493<=0,lookup!Y485+lookup!AA485,lookup!Y485))","v":""},{"$f":"IF(E493=\"\",\"\",lookup!Z484)","v":""},"","",{"$f":"IF(E493=\"\",\"\",IF(lookup!AA485<0,0,lookup!AA485))","v":""}]
[null,null,null,null,{"$f":"IF(J493=\"\",\"\",IF(J493<=0,\"\",lookup!X486))","v":""},{"$f":"IF(E494=\"\",\"\",IF(J494<=0,lookup!Y486+lookup!AA486,lookup!Y486))","v":""},{"$f":"IF(E494=\"\",\"\",lookup!Z485)","v":""},"","",{"$f":"IF(E494=\"\",\"\",IF(lookup!AA486<0,0,lookup!AA486))","v":""}]
[null,null,null,null,{"$f":"IF(J494=\"\",\"\",IF(J494<=0,\"\",lookup!X487))","v":""},{"$f":"IF(E495=\"\",\"\",IF(J495<=0,lookup!Y487+lookup!AA487,lookup!Y487))","v":""},{"$f":"IF(E495=\"\",\"\",lookup!Z486)","v":""},"","",{"$f":"IF(E495=\"\",\"\",IF(lookup!AA487<0,0,lookup!AA487))","v":""}]
[null,null,null,null,{"$f":"IF(J495=\"\",\"\",IF(J495<=0,\"\",lookup!X488))","v":""},{"$f":"IF(E496=\"\",\"\",IF(J496<=0,lookup!Y488+lookup!AA488,lookup!Y488))","v":""},{"$f":"IF(E496=\"\",\"\",lookup!Z487)","v":""},"","",{"$f":"IF(E496=\"\",\"\",IF(lookup!AA488<0,0,lookup!AA488))","v":""}]
[null,null,null,null,{"$f":"IF(J496=\"\",\"\",IF(J496<=0,\"\",lookup!X489))","v":""},{"$f":"IF(E497=\"\",\"\",IF(J497<=0,lookup!Y489+lookup!AA489,lookup!Y489))","v":""},{"$f":"IF(E497=\"\",\"\",lookup!Z488)","v":""},"","",{"$f":"IF(E497=\"\",\"\",IF(lookup!AA489<0,0,lookup!AA489))","v":""}]
[null,null,null,null,{"$f":"IF(J497=\"\",\"\",IF(J497<=0,\"\",lookup!X490))","v":""},{"$f":"IF(E498=\"\",\"\",IF(J498<=0,lookup!Y490+lookup!AA490,lookup!Y490))","v":""},{"$f":"IF(E498=\"\",\"\",lookup!Z489)","v":""},"","",{"$f":"IF(E498=\"\",\"\",IF(lookup!AA490<0,0,lookup!AA490))","v":""}]
[null,null,null,null,{"$f":"IF(J498=\"\",\"\",IF(J498<=0,\"\",lookup!X491))","v":""},{"$f":"IF(E499=\"\",\"\",IF(J499<=0,lookup!Y491+lookup!AA491,lookup!Y491))","v":""},{"$f":"IF(E499=\"\",\"\",lookup!Z490)","v":""},{"$f":"IF(E499=\"\",\"\",H498+G499)","v":""},{"$f":"IF(E499=\"\",\"\",F499-G499)","v":""},{"$f":"IF(E499=\"\",\"\",IF(lookup!AA491<0,0,lookup!AA491))","v":""}]
[null,null,null,null,{"$f":"IF(J499=\"\",\"\",IF(J499<=0,\"\",lookup!X492))","v":""},{"$f":"IF(E500=\"\",\"\",IF(J500<=0,lookup!Y492+lookup!AA492,lookup!Y492))","v":""},{"$f":"IF(E500=\"\",\"\",lookup!Z491)","v":""},"","",{"$f":"IF(E500=\"\",\"\",IF(lookup!AA492<0,0,lookup!AA492))","v":""}]
[null,null,null,null,{"$f":"IF(J500=\"\",\"\",IF(J500<=0,\"\",lookup!X493))","v":""},{"$f":"IF(E501=\"\",\"\",IF(J501<=0,lookup!Y493+lookup!AA493,lookup!Y493))","v":""},{"$f":"IF(E501=\"\",\"\",lookup!Z492)","v":""},"","",{"$f":"IF(E501=\"\",\"\",IF(lookup!AA493<0,0,lookup!AA493))","v":""}]
[null,null,null,null,{"$f":"IF(J501=\"\",\"\",IF(J501<=0,\"\",lookup!X494))","v":""},{"$f":"IF(E502=\"\",\"\",IF(J502<=0,lookup!Y494+lookup!AA494,lookup!Y494))","v":""},{"$f":"IF(E502=\"\",\"\",lookup!Z493)","v":""},"","",{"$f":"IF(E502=\"\",\"\",IF(lookup!AA494<0,0,lookup!AA494))","v":""}]
[null,null,null,null,{"$f":"IF(J502=\"\",\"\",IF(J502<=0,\"\",lookup!X495))","v":""},{"$f":"IF(E503=\"\",\"\",IF(J503<=0,lookup!Y495+lookup!AA495,lookup!Y495))","v":""},{"$f":"IF(E503=\"\",\"\",lookup!Z494)","v":""},"","",{"$f":"IF(E503=\"\",\"\",IF(lookup!AA495<0,0,lookup!AA495))","v":""}]
[null,null,null,null,{"$f":"IF(J503=\"\",\"\",IF(J503<=0,\"\",lookup!X496))","v":""},{"$f":"IF(E504=\"\",\"\",IF(J504<=0,lookup!Y496+lookup!AA496,lookup!Y496))","v":""},{"$f":"IF(E504=\"\",\"\",lookup!Z495)","v":""},"","",{"$f":"IF(E504=\"\",\"\",IF(lookup!AA496<0,0,lookup!AA496))","v":""}]
[null,null,null,null,{"$f":"IF(J504=\"\",\"\",IF(J504<=0,\"\",lookup!X497))","v":""},{"$f":"IF(E505=\"\",\"\",IF(J505<=0,lookup!Y497+lookup!AA497,lookup!Y497))","v":""},{"$f":"IF(E505=\"\",\"\",lookup!Z496)","v":""},"","",{"$f":"IF(E505=\"\",\"\",IF(lookup!AA497<0,0,lookup!AA497))","v":""}]
[null,null,null,null,{"$f":"IF(J505=\"\",\"\",IF(J505<=0,\"\",lookup!X498))","v":""},{"$f":"IF(E506=\"\",\"\",IF(J506<=0,lookup!Y498+lookup!AA498,lookup!Y498))","v":""},{"$f":"IF(E506=\"\",\"\",lookup!Z497)","v":""},"","",{"$f":"IF(E506=\"\",\"\",IF(lookup!AA498<0,0,lookup!AA498))","v":""}]
[null,null,null,null,{"$f":"IF(J506=\"\",\"\",IF(J506<=0,\"\",lookup!X499))","v":""},{"$f":"IF(E507=\"\",\"\",IF(J507<=0,lookup!Y499+lookup!AA499,lookup!Y499))","v":""},{"$f":"IF(E507=\"\",\"\",lookup!Z498)","v":""},"","",{"$f":"IF(E507=\"\",\"\",IF(lookup!AA499<0,0,lookup!AA499))","v":""}]
[null,null,null,null,{"$f":"IF(J507=\"\",\"\",IF(J507<=0,\"\",lookup!X500))","v":""},{"$f":"IF(E508=\"\",\"\",IF(J508<=0,lookup!Y500+lookup!AA500,lookup!Y500))","v":""},{"$f":"IF(E508=\"\",\"\",lookup!Z499)","v":""},"","",{"$f":"IF(E508=\"\",\"\",IF(lookup!AA500<0,0,lookup!AA500))","v":""}]
[null,null,null,null,{"$f":"IF(J508=\"\",\"\",IF(J508<=0,\"\",lookup!X501))","v":""},{"$f":"IF(E509=\"\",\"\",IF(J509<=0,lookup!Y501+lookup!AA501,lookup!Y501))","v":""},{"$f":"IF(E509=\"\",\"\",lookup!Z500)","v":""},"","",{"$f":"IF(E509=\"\",\"\",IF(lookup!AA501<0,0,lookup!AA501))","v":""}]
[null,null,null,null,{"$f":"IF(J509=\"\",\"\",IF(J509<=0,\"\",lookup!X502))","v":""},{"$f":"IF(E510=\"\",\"\",IF(J510<=0,lookup!Y502+lookup!AA502,lookup!Y502))","v":""},{"$f":"IF(E510=\"\",\"\",lookup!Z501)","v":""},"","",{"$f":"IF(E510=\"\",\"\",IF(lookup!AA502<0,0,lookup!AA502))","v":""}]
[null,null,null,null,{"$f":"IF(J510=\"\",\"\",IF(J510<=0,\"\",lookup!X503))","v":""},{"$f":"IF(E511=\"\",\"\",IF(J511<=0,lookup!Y503+lookup!AA503,lookup!Y503))","v":""},{"$f":"IF(E511=\"\",\"\",lookup!Z502)","v":""},"","",{"$f":"IF(E511=\"\",\"\",IF(lookup!AA503<0,0,lookup!AA503))","v":""}]
[null,null,null,null,{"$f":"IF(J511=\"\",\"\",IF(J511<=0,\"\",lookup!X504))","v":""},{"$f":"IF(E512=\"\",\"\",IF(J512<=0,lookup!Y504+lookup!AA504,lookup!Y504))","v":""},{"$f":"IF(E512=\"\",\"\",lookup!Z503)","v":""},"","",{"$f":"IF(E512=\"\",\"\",IF(lookup!AA504<0,0,lookup!AA504))","v":""}]
[null,null,null,null,{"$f":"IF(J512=\"\",\"\",IF(J512<=0,\"\",lookup!X505))","v":""},{"$f":"IF(E513=\"\",\"\",IF(J513<=0,lookup!Y505+lookup!AA505,lookup!Y505))","v":""},{"$f":"IF(E513=\"\",\"\",lookup!Z504)","v":""},"","",{"$f":"IF(E513=\"\",\"\",IF(lookup!AA505<0,0,lookup!AA505))","v":""}]
[null,null,null,null,{"$f":"IF(J513=\"\",\"\",IF(J513<=0,\"\",lookup!X506))","v":""},{"$f":"IF(E514=\"\",\"\",IF(J514<=0,lookup!Y506+lookup!AA506,lookup!Y506))","v":""},{"$f":"IF(E514=\"\",\"\",lookup!Z505)","v":""},"","",{"$f":"IF(E514=\"\",\"\",IF(lookup!AA506<0,0,lookup!AA506))","v":""}]
[null,null,null,null,{"$f":"IF(J514=\"\",\"\",IF(J514<=0,\"\",lookup!X507))","v":""},{"$f":"IF(E515=\"\",\"\",IF(J515<=0,lookup!Y507+lookup!AA507,lookup!Y507))","v":""},{"$f":"IF(E515=\"\",\"\",lookup!Z506)","v":""},"","",{"$f":"IF(E515=\"\",\"\",IF(lookup!AA507<0,0,lookup!AA507))","v":""}]
[null,null,null,null,{"$f":"IF(J515=\"\",\"\",IF(J515<=0,\"\",lookup!X508))","v":""},{"$f":"IF(E516=\"\",\"\",IF(J516<=0,lookup!Y508+lookup!AA508,lookup!Y508))","v":""},{"$f":"IF(E516=\"\",\"\",lookup!Z507)","v":""},"","",{"$f":"IF(E516=\"\",\"\",IF(lookup!AA508<0,0,lookup!AA508))","v":""}]
[null,null,null,null,{"$f":"IF(J516=\"\",\"\",IF(J516<=0,\"\",lookup!X509))","v":""},{"$f":"IF(E517=\"\",\"\",IF(J517<=0,lookup!Y509+lookup!AA509,lookup!Y509))","v":""},{"$f":"IF(E517=\"\",\"\",lookup!Z508)","v":""},"","",{"$f":"IF(E517=\"\",\"\",IF(lookup!AA509<0,0,lookup!AA509))","v":""}]
[null,null,null,null,{"$f":"IF(J517=\"\",\"\",IF(J517<=0,\"\",lookup!X510))","v":""},{"$f":"IF(E518=\"\",\"\",IF(J518<=0,lookup!Y510+lookup!AA510,lookup!Y510))","v":""},{"$f":"IF(E518=\"\",\"\",lookup!Z509)","v":""},"","",{"$f":"IF(E518=\"\",\"\",IF(lookup!AA510<0,0,lookup!AA510))","v":""}]
[null,null,null,null,{"$f":"IF(J518=\"\",\"\",IF(J518<=0,\"\",lookup!X511))","v":""},{"$f":"IF(E519=\"\",\"\",IF(J519<=0,lookup!Y511+lookup!AA511,lookup!Y511))","v":""},{"$f":"IF(E519=\"\",\"\",lookup!Z510)","v":""},"","",{"$f":"IF(E519=\"\",\"\",IF(lookup!AA511<0,0,lookup!AA511))","v":""}]
[null,null,null,null,{"$f":"IF(J519=\"\",\"\",IF(J519<=0,\"\",lookup!X512))","v":""},{"$f":"IF(E520=\"\",\"\",IF(J520<=0,lookup!Y512+lookup!AA512,lookup!Y512))","v":""},{"$f":"IF(E520=\"\",\"\",lookup!Z511)","v":""},"","",{"$f":"IF(E520=\"\",\"\",IF(lookup!AA512<0,0,lookup!AA512))","v":""}]
[null,null,null,null,{"$f":"IF(J520=\"\",\"\",IF(J520<=0,\"\",lookup!X513))","v":""},{"$f":"IF(E521=\"\",\"\",IF(J521<=0,lookup!Y513+lookup!AA513,lookup!Y513))","v":""},{"$f":"IF(E521=\"\",\"\",lookup!Z512)","v":""},"","",{"$f":"IF(E521=\"\",\"\",IF(lookup!AA513<0,0,lookup!AA513))","v":""}]
[null,null,null,null,{"$f":"IF(J521=\"\",\"\",IF(J521<=0,\"\",lookup!X514))","v":""},{"$f":"IF(E522=\"\",\"\",IF(J522<=0,lookup!Y514+lookup!AA514,lookup!Y514))","v":""},{"$f":"IF(E522=\"\",\"\",lookup!Z513)","v":""},"","",{"$f":"IF(E522=\"\",\"\",IF(lookup!AA514<0,0,lookup!AA514))","v":""}]
[null,null,null,null,{"$f":"IF(J522=\"\",\"\",IF(J522<=0,\"\",lookup!X515))","v":""},{"$f":"IF(E523=\"\",\"\",IF(J523<=0,lookup!Y515+lookup!AA515,lookup!Y515))","v":""},{"$f":"IF(E523=\"\",\"\",lookup!Z514)","v":""},"","",{"$f":"IF(E523=\"\",\"\",IF(lookup!AA515<0,0,lookup!AA515))","v":""}]
[null,null,null,null,{"$f":"IF(J523=\"\",\"\",IF(J523<=0,\"\",lookup!X516))","v":""},{"$f":"IF(E524=\"\",\"\",IF(J524<=0,lookup!Y516+lookup!AA516,lookup!Y516))","v":""},{"$f":"IF(E524=\"\",\"\",lookup!Z515)","v":""},"","",{"$f":"IF(E524=\"\",\"\",IF(lookup!AA516<0,0,lookup!AA516))","v":""}]
[null,null,null,null,{"$f":"IF(J524=\"\",\"\",IF(J524<=0,\"\",lookup!X517))","v":""},{"$f":"IF(E525=\"\",\"\",IF(J525<=0,lookup!Y517+lookup!AA517,lookup!Y517))","v":""},{"$f":"IF(E525=\"\",\"\",lookup!Z516)","v":""},"","",{"$f":"IF(E525=\"\",\"\",IF(lookup!AA517<0,0,lookup!AA517))","v":""}]
[null,null,null,null,{"$f":"IF(J525=\"\",\"\",IF(J525<=0,\"\",lookup!X518))","v":""},{"$f":"IF(E526=\"\",\"\",IF(J526<=0,lookup!Y518+lookup!AA518,lookup!Y518))","v":""},{"$f":"IF(E526=\"\",\"\",lookup!Z517)","v":""},"","",{"$f":"IF(E526=\"\",\"\",IF(lookup!AA518<0,0,lookup!AA518))","v":""}]
[null,null,null,null,{"$f":"IF(J526=\"\",\"\",IF(J526<=0,\"\",lookup!X519))","v":""},{"$f":"IF(E527=\"\",\"\",IF(J527<=0,lookup!Y519+lookup!AA519,lookup!Y519))","v":""},{"$f":"IF(E527=\"\",\"\",lookup!Z518)","v":""},"","",{"$f":"IF(E527=\"\",\"\",IF(lookup!AA519<0,0,lookup!AA519))","v":""}]
[null,null,null,null,{"$f":"IF(J527=\"\",\"\",IF(J527<=0,\"\",lookup!X520))","v":""},{"$f":"IF(E528=\"\",\"\",IF(J528<=0,lookup!Y520+lookup!AA520,lookup!Y520))","v":""},{"$f":"IF(E528=\"\",\"\",lookup!Z519)","v":""},"","",{"$f":"IF(E528=\"\",\"\",IF(lookup!AA520<0,0,lookup!AA520))","v":""}]
[null,null,null,null,{"$f":"IF(J528=\"\",\"\",IF(J528<=0,\"\",lookup!X521))","v":""},{"$f":"IF(E529=\"\",\"\",IF(J529<=0,lookup!Y521+lookup!AA521,lookup!Y521))","v":""},{"$f":"IF(E529=\"\",\"\",lookup!Z520)","v":""},"","",{"$f":"IF(E529=\"\",\"\",IF(lookup!AA521<0,0,lookup!AA521))","v":""}]
[null,null,null,null,{"$f":"IF(J529=\"\",\"\",IF(J529<=0,\"\",lookup!X522))","v":""},{"$f":"IF(E530=\"\",\"\",IF(J530<=0,lookup!Y522+lookup!AA522,lookup!Y522))","v":""},{"$f":"IF(E530=\"\",\"\",lookup!Z521)","v":""},"","",{"$f":"IF(E530=\"\",\"\",IF(lookup!AA522<0,0,lookup!AA522))","v":""}]
[null,null,null,null,{"$f":"IF(J530=\"\",\"\",IF(J530<=0,\"\",lookup!X523))","v":""},{"$f":"IF(E531=\"\",\"\",IF(J531<=0,lookup!Y523+lookup!AA523,lookup!Y523))","v":""},{"$f":"IF(E531=\"\",\"\",lookup!Z522)","v":""},"","",{"$f":"IF(E531=\"\",\"\",IF(lookup!AA523<0,0,lookup!AA523))","v":""}]
[null,null,null,null,{"$f":"IF(J531=\"\",\"\",IF(J531<=0,\"\",lookup!X524))","v":""},{"$f":"IF(E532=\"\",\"\",IF(J532<=0,lookup!Y524+lookup!AA524,lookup!Y524))","v":""},{"$f":"IF(E532=\"\",\"\",lookup!Z523)","v":""},"","",{"$f":"IF(E532=\"\",\"\",IF(lookup!AA524<0,0,lookup!AA524))","v":""}]
[null,null,null,null,{"$f":"IF(J532=\"\",\"\",IF(J532<=0,\"\",lookup!X525))","v":""},{"$f":"IF(E533=\"\",\"\",IF(J533<=0,lookup!Y525+lookup!AA525,lookup!Y525))","v":""},{"$f":"IF(E533=\"\",\"\",lookup!Z524)","v":""},"","",{"$f":"IF(E533=\"\",\"\",IF(lookup!AA525<0,0,lookup!AA525))","v":""}]
[null,null,null,null,{"$f":"IF(J533=\"\",\"\",IF(J533<=0,\"\",lookup!X526))","v":""},{"$f":"IF(E534=\"\",\"\",IF(J534<=0,lookup!Y526+lookup!AA526,lookup!Y526))","v":""},{"$f":"IF(E534=\"\",\"\",lookup!Z525)","v":""},"","",{"$f":"IF(E534=\"\",\"\",IF(lookup!AA526<0,0,lookup!AA526))","v":""}]
[null,null,null,null,{"$f":"IF(J534=\"\",\"\",IF(J534<=0,\"\",lookup!X527))","v":""},{"$f":"IF(E535=\"\",\"\",IF(J535<=0,lookup!Y527+lookup!AA527,lookup!Y527))","v":""},{"$f":"IF(E535=\"\",\"\",lookup!Z526)","v":""},"","",{"$f":"IF(E535=\"\",\"\",IF(lookup!AA527<0,0,lookup!AA527))","v":""}]
[null,null,null,null,{"$f":"IF(J535=\"\",\"\",IF(J535<=0,\"\",lookup!X528))","v":""},{"$f":"IF(E536=\"\",\"\",IF(J536<=0,lookup!Y528+lookup!AA528,lookup!Y528))","v":""},{"$f":"IF(E536=\"\",\"\",lookup!Z527)","v":""},"","",{"$f":"IF(E536=\"\",\"\",IF(lookup!AA528<0,0,lookup!AA528))","v":""}]
[null,null,null,null,{"$f":"IF(J536=\"\",\"\",IF(J536<=0,\"\",lookup!X529))","v":""},{"$f":"IF(E537=\"\",\"\",IF(J537<=0,lookup!Y529+lookup!AA529,lookup!Y529))","v":""},{"$f":"IF(E537=\"\",\"\",lookup!Z528)","v":""},"","",{"$f":"IF(E537=\"\",\"\",IF(lookup!AA529<0,0,lookup!AA529))","v":""}]
[null,null,null,null,{"$f":"IF(J537=\"\",\"\",IF(J537<=0,\"\",lookup!X530))","v":""},{"$f":"IF(E538=\"\",\"\",IF(J538<=0,lookup!Y530+lookup!AA530,lookup!Y530))","v":""},{"$f":"IF(E538=\"\",\"\",lookup!Z529)","v":""},"","",{"$f":"IF(E538=\"\",\"\",IF(lookup!AA530<0,0,lookup!AA530))","v":""}]
[null,null,null,null,{"$f":"IF(J538=\"\",\"\",IF(J538<=0,\"\",lookup!X531))","v":""},{"$f":"IF(E539=\"\",\"\",IF(J539<=0,lookup!Y531+lookup!AA531,lookup!Y531))","v":""},{"$f":"IF(E539=\"\",\"\",lookup!Z530)","v":""},"","",{"$f":"IF(E539=\"\",\"\",IF(lookup!AA531<0,0,lookup!AA531))","v":""}]
[null,null,null,null,{"$f":"IF(J539=\"\",\"\",IF(J539<=0,\"\",lookup!X532))","v":""},{"$f":"IF(E540=\"\",\"\",IF(J540<=0,lookup!Y532+lookup!AA532,lookup!Y532))","v":""},{"$f":"IF(E540=\"\",\"\",lookup!Z531)","v":""},"","",{"$f":"IF(E540=\"\",\"\",IF(lookup!AA532<0,0,lookup!AA532))","v":""}]
[null,null,null,null,{"$f":"IF(J540=\"\",\"\",IF(J540<=0,\"\",lookup!X533))","v":""},{"$f":"IF(E541=\"\",\"\",IF(J541<=0,lookup!Y533+lookup!AA533,lookup!Y533))","v":""},{"$f":"IF(E541=\"\",\"\",lookup!Z532)","v":""},"","",{"$f":"IF(E541=\"\",\"\",IF(lookup!AA533<0,0,lookup!AA533))","v":""}]
[null,null,null,null,{"$f":"IF(J541=\"\",\"\",IF(J541<=0,\"\",lookup!X534))","v":""},{"$f":"IF(E542=\"\",\"\",IF(J542<=0,lookup!Y534+lookup!AA534,lookup!Y534))","v":""},{"$f":"IF(E542=\"\",\"\",lookup!Z533)","v":""},"","",{"$f":"IF(E542=\"\",\"\",IF(lookup!AA534<0,0,lookup!AA534))","v":""}]
[null,null,null,null,{"$f":"IF(J542=\"\",\"\",IF(J542<=0,\"\",lookup!X535))","v":""},{"$f":"IF(E543=\"\",\"\",IF(J543<=0,lookup!Y535+lookup!AA535,lookup!Y535))","v":""},{"$f":"IF(E543=\"\",\"\",lookup!Z534)","v":""},"","",{"$f":"IF(E543=\"\",\"\",IF(lookup!AA535<0,0,lookup!AA535))","v":""}]
[null,null,null,null,{"$f":"IF(J543=\"\",\"\",IF(J543<=0,\"\",lookup!X536))","v":""},{"$f":"IF(E544=\"\",\"\",IF(J544<=0,lookup!Y536+lookup!AA536,lookup!Y536))","v":""},{"$f":"IF(E544=\"\",\"\",lookup!Z535)","v":""},"","",{"$f":"IF(E544=\"\",\"\",IF(lookup!AA536<0,0,lookup!AA536))","v":""}]
[null,null,null,null,{"$f":"IF(J544=\"\",\"\",IF(J544<=0,\"\",lookup!X537))","v":""},{"$f":"IF(E545=\"\",\"\",IF(J545<=0,lookup!Y537+lookup!AA537,lookup!Y537))","v":""},{"$f":"IF(E545=\"\",\"\",lookup!Z536)","v":""},"","",{"$f":"IF(E545=\"\",\"\",IF(lookup!AA537<0,0,lookup!AA537))","v":""}]
[null,null,null,null,{"$f":"IF(J545=\"\",\"\",IF(J545<=0,\"\",lookup!X538))","v":""},{"$f":"IF(E546=\"\",\"\",IF(J546<=0,lookup!Y538+lookup!AA538,lookup!Y538))","v":""},{"$f":"IF(E546=\"\",\"\",lookup!Z537)","v":""},"","",{"$f":"IF(E546=\"\",\"\",IF(lookup!AA538<0,0,lookup!AA538))","v":""}]
[null,null,null,null,{"$f":"IF(J546=\"\",\"\",IF(J546<=0,\"\",lookup!X539))","v":""},{"$f":"IF(E547=\"\",\"\",IF(J547<=0,lookup!Y539+lookup!AA539,lookup!Y539))","v":""},{"$f":"IF(E547=\"\",\"\",lookup!Z538)","v":""},"","",{"$f":"IF(E547=\"\",\"\",IF(lookup!AA539<0,0,lookup!AA539))","v":""}]
[null,null,null,null,{"$f":"IF(J547=\"\",\"\",IF(J547<=0,\"\",lookup!X540))","v":""},{"$f":"IF(E548=\"\",\"\",IF(J548<=0,lookup!Y540+lookup!AA540,lookup!Y540))","v":""},{"$f":"IF(E548=\"\",\"\",lookup!Z539)","v":""},"","",{"$f":"IF(E548=\"\",\"\",IF(lookup!AA540<0,0,lookup!AA540))","v":""}]
[null,null,null,null,{"$f":"IF(J548=\"\",\"\",IF(J548<=0,\"\",lookup!X541))","v":""},{"$f":"IF(E549=\"\",\"\",IF(J549<=0,lookup!Y541+lookup!AA541,lookup!Y541))","v":""},{"$f":"IF(E549=\"\",\"\",lookup!Z540)","v":""},"","",{"$f":"IF(E549=\"\",\"\",IF(lookup!AA541<0,0,lookup!AA541))","v":""}]
[null,null,null,null,{"$f":"IF(J549=\"\",\"\",IF(J549<=0,\"\",lookup!X542))","v":""},{"$f":"IF(E550=\"\",\"\",IF(J550<=0,lookup!Y542+lookup!AA542,lookup!Y542))","v":""},{"$f":"IF(E550=\"\",\"\",lookup!Z541)","v":""},"","",{"$f":"IF(E550=\"\",\"\",IF(lookup!AA542<0,0,lookup!AA542))","v":""}]
[null,null,null,null,{"$f":"IF(J550=\"\",\"\",IF(J550<=0,\"\",lookup!X543))","v":""},{"$f":"IF(E551=\"\",\"\",IF(J551<=0,lookup!Y543+lookup!AA543,lookup!Y543))","v":""},{"$f":"IF(E551=\"\",\"\",lookup!Z542)","v":""},"","",{"$f":"IF(E551=\"\",\"\",IF(lookup!AA543<0,0,lookup!AA543))","v":""}]
[null,null,null,null,{"$f":"IF(J551=\"\",\"\",IF(J551<=0,\"\",lookup!X544))","v":""},{"$f":"IF(E552=\"\",\"\",IF(J552<=0,lookup!Y544+lookup!AA544,lookup!Y544))","v":""},{"$f":"IF(E552=\"\",\"\",lookup!Z543)","v":""},"","",{"$f":"IF(E552=\"\",\"\",IF(lookup!AA544<0,0,lookup!AA544))","v":""}]
[null,null,null,null,{"$f":"IF(J552=\"\",\"\",IF(J552<=0,\"\",lookup!X545))","v":""},{"$f":"IF(E553=\"\",\"\",IF(J553<=0,lookup!Y545+lookup!AA545,lookup!Y545))","v":""},{"$f":"IF(E553=\"\",\"\",lookup!Z544)","v":""},"","",{"$f":"IF(E553=\"\",\"\",IF(lookup!AA545<0,0,lookup!AA545))","v":""}]
[null,null,null,null,{"$f":"IF(J553=\"\",\"\",IF(J553<=0,\"\",lookup!X546))","v":""},{"$f":"IF(E554=\"\",\"\",IF(J554<=0,lookup!Y546+lookup!AA546,lookup!Y546))","v":""},{"$f":"IF(E554=\"\",\"\",lookup!Z545)","v":""},"","",{"$f":"IF(E554=\"\",\"\",IF(lookup!AA546<0,0,lookup!AA546))","v":""}]
[null,null,null,null,{"$f":"IF(J554=\"\",\"\",IF(J554<=0,\"\",lookup!X547))","v":""},{"$f":"IF(E555=\"\",\"\",IF(J555<=0,lookup!Y547+lookup!AA547,lookup!Y547))","v":""},{"$f":"IF(E555=\"\",\"\",lookup!Z546)","v":""},"","",{"$f":"IF(E555=\"\",\"\",IF(lookup!AA547<0,0,lookup!AA547))","v":""}]
[null,null,null,null,{"$f":"IF(J555=\"\",\"\",IF(J555<=0,\"\",lookup!X548))","v":""},{"$f":"IF(E556=\"\",\"\",IF(J556<=0,lookup!Y548+lookup!AA548,lookup!Y548))","v":""},{"$f":"IF(E556=\"\",\"\",lookup!Z547)","v":""},"","",{"$f":"IF(E556=\"\",\"\",IF(lookup!AA548<0,0,lookup!AA548))","v":""}]
[null,null,null,null,{"$f":"IF(J556=\"\",\"\",IF(J556<=0,\"\",lookup!X549))","v":""},{"$f":"IF(E557=\"\",\"\",IF(J557<=0,lookup!Y549+lookup!AA549,lookup!Y549))","v":""},{"$f":"IF(E557=\"\",\"\",lookup!Z548)","v":""},"","",{"$f":"IF(E557=\"\",\"\",IF(lookup!AA549<0,0,lookup!AA549))","v":""}]
[null,null,null,null,{"$f":"IF(J557=\"\",\"\",IF(J557<=0,\"\",lookup!X550))","v":""},{"$f":"IF(E558=\"\",\"\",IF(J558<=0,lookup!Y550+lookup!AA550,lookup!Y550))","v":""},{"$f":"IF(E558=\"\",\"\",lookup!Z549)","v":""},"","",{"$f":"IF(E558=\"\",\"\",IF(lookup!AA550<0,0,lookup!AA550))","v":""}]
[null,null,null,null,{"$f":"IF(J558=\"\",\"\",IF(J558<=0,\"\",lookup!X551))","v":""},{"$f":"IF(E559=\"\",\"\",IF(J559<=0,lookup!Y551+lookup!AA551,lookup!Y551))","v":""},{"$f":"IF(E559=\"\",\"\",lookup!Z550)","v":""},"","",{"$f":"IF(E559=\"\",\"\",IF(lookup!AA551<0,0,lookup!AA551))","v":""}]
[null,null,null,null,{"$f":"IF(J559=\"\",\"\",IF(J559<=0,\"\",lookup!X552))","v":""},{"$f":"IF(E560=\"\",\"\",IF(J560<=0,lookup!Y552+lookup!AA552,lookup!Y552))","v":""},{"$f":"IF(E560=\"\",\"\",lookup!Z551)","v":""},"","",{"$f":"IF(E560=\"\",\"\",IF(lookup!AA552<0,0,lookup!AA552))","v":""}]
[null,null,null,null,{"$f":"IF(J560=\"\",\"\",IF(J560<=0,\"\",lookup!X553))","v":""},{"$f":"IF(E561=\"\",\"\",IF(J561<=0,lookup!Y553+lookup!AA553,lookup!Y553))","v":""},{"$f":"IF(E561=\"\",\"\",lookup!Z552)","v":""},"","",{"$f":"IF(E561=\"\",\"\",IF(lookup!AA553<0,0,lookup!AA553))","v":""}]
[null,null,null,null,{"$f":"IF(J561=\"\",\"\",IF(J561<=0,\"\",lookup!X554))","v":""},{"$f":"IF(E562=\"\",\"\",IF(J562<=0,lookup!Y554+lookup!AA554,lookup!Y554))","v":""},{"$f":"IF(E562=\"\",\"\",lookup!Z553)","v":""},"","",{"$f":"IF(E562=\"\",\"\",IF(lookup!AA554<0,0,lookup!AA554))","v":""}]
[null,null,null,null,{"$f":"IF(J562=\"\",\"\",IF(J562<=0,\"\",lookup!X555))","v":""},{"$f":"IF(E563=\"\",\"\",IF(J563<=0,lookup!Y555+lookup!AA555,lookup!Y555))","v":""},{"$f":"IF(E563=\"\",\"\",lookup!Z554)","v":""},{"$f":"IF(E563=\"\",\"\",H562+G563)","v":""},{"$f":"IF(E563=\"\",\"\",F563-G563)","v":""},{"$f":"IF(E563=\"\",\"\",IF(lookup!AA555<0,0,lookup!AA555))","v":""}]
[null,null,null,null,{"$f":"IF(J563=\"\",\"\",IF(J563<=0,\"\",lookup!X556))","v":""},{"$f":"IF(E564=\"\",\"\",IF(J564<=0,lookup!Y556+lookup!AA556,lookup!Y556))","v":""},{"$f":"IF(E564=\"\",\"\",lookup!Z555)","v":""},"","",{"$f":"IF(E564=\"\",\"\",IF(lookup!AA556<0,0,lookup!AA556))","v":""}]
[null,null,null,null,{"$f":"IF(J564=\"\",\"\",IF(J564<=0,\"\",lookup!X557))","v":""},{"$f":"IF(E565=\"\",\"\",IF(J565<=0,lookup!Y557+lookup!AA557,lookup!Y557))","v":""},{"$f":"IF(E565=\"\",\"\",lookup!Z556)","v":""},"","",{"$f":"IF(E565=\"\",\"\",IF(lookup!AA557<0,0,lookup!AA557))","v":""}]
[null,null,null,null,{"$f":"IF(J565=\"\",\"\",IF(J565<=0,\"\",lookup!X558))","v":""},{"$f":"IF(E566=\"\",\"\",IF(J566<=0,lookup!Y558+lookup!AA558,lookup!Y558))","v":""},{"$f":"IF(E566=\"\",\"\",lookup!Z557)","v":""},"","",{"$f":"IF(E566=\"\",\"\",IF(lookup!AA558<0,0,lookup!AA558))","v":""}]
[null,null,null,null,{"$f":"IF(J566=\"\",\"\",IF(J566<=0,\"\",lookup!X559))","v":""},{"$f":"IF(E567=\"\",\"\",IF(J567<=0,lookup!Y559+lookup!AA559,lookup!Y559))","v":""},{"$f":"IF(E567=\"\",\"\",lookup!Z558)","v":""},"","",{"$f":"IF(E567=\"\",\"\",IF(lookup!AA559<0,0,lookup!AA559))","v":""}]
[null,null,null,null,{"$f":"IF(J567=\"\",\"\",IF(J567<=0,\"\",lookup!X560))","v":""},{"$f":"IF(E568=\"\",\"\",IF(J568<=0,lookup!Y560+lookup!AA560,lookup!Y560))","v":""},{"$f":"IF(E568=\"\",\"\",lookup!Z559)","v":""},"","",{"$f":"IF(E568=\"\",\"\",IF(lookup!AA560<0,0,lookup!AA560))","v":""}]
[null,null,null,null,{"$f":"IF(J568=\"\",\"\",IF(J568<=0,\"\",lookup!X561))","v":""},{"$f":"IF(E569=\"\",\"\",IF(J569<=0,lookup!Y561+lookup!AA561,lookup!Y561))","v":""},{"$f":"IF(E569=\"\",\"\",lookup!Z560)","v":""},"","",{"$f":"IF(E569=\"\",\"\",IF(lookup!AA561<0,0,lookup!AA561))","v":""}]
[null,null,null,null,{"$f":"IF(J569=\"\",\"\",IF(J569<=0,\"\",lookup!X562))","v":""},{"$f":"IF(E570=\"\",\"\",IF(J570<=0,lookup!Y562+lookup!AA562,lookup!Y562))","v":""},{"$f":"IF(E570=\"\",\"\",lookup!Z561)","v":""},"","",{"$f":"IF(E570=\"\",\"\",IF(lookup!AA562<0,0,lookup!AA562))","v":""}]
[null,null,null,null,{"$f":"IF(J570=\"\",\"\",IF(J570<=0,\"\",lookup!X563))","v":""},{"$f":"IF(E571=\"\",\"\",IF(J571<=0,lookup!Y563+lookup!AA563,lookup!Y563))","v":""},{"$f":"IF(E571=\"\",\"\",lookup!Z562)","v":""},"","",{"$f":"IF(E571=\"\",\"\",IF(lookup!AA563<0,0,lookup!AA563))","v":""}]
[null,null,null,null,{"$f":"IF(J571=\"\",\"\",IF(J571<=0,\"\",lookup!X564))","v":""},{"$f":"IF(E572=\"\",\"\",IF(J572<=0,lookup!Y564+lookup!AA564,lookup!Y564))","v":""},{"$f":"IF(E572=\"\",\"\",lookup!Z563)","v":""},"","",{"$f":"IF(E572=\"\",\"\",IF(lookup!AA564<0,0,lookup!AA564))","v":""}]
[null,null,null,null,{"$f":"IF(J572=\"\",\"\",IF(J572<=0,\"\",lookup!X565))","v":""},{"$f":"IF(E573=\"\",\"\",IF(J573<=0,lookup!Y565+lookup!AA565,lookup!Y565))","v":""},{"$f":"IF(E573=\"\",\"\",lookup!Z564)","v":""},"","",{"$f":"IF(E573=\"\",\"\",IF(lookup!AA565<0,0,lookup!AA565))","v":""}]
[null,null,null,null,{"$f":"IF(J573=\"\",\"\",IF(J573<=0,\"\",lookup!X566))","v":""},{"$f":"IF(E574=\"\",\"\",IF(J574<=0,lookup!Y566+lookup!AA566,lookup!Y566))","v":""},{"$f":"IF(E574=\"\",\"\",lookup!Z565)","v":""},"","",{"$f":"IF(E574=\"\",\"\",IF(lookup!AA566<0,0,lookup!AA566))","v":""}]
[null,null,null,null,{"$f":"IF(J574=\"\",\"\",IF(J574<=0,\"\",lookup!X567))","v":""},{"$f":"IF(E575=\"\",\"\",IF(J575<=0,lookup!Y567+lookup!AA567,lookup!Y567))","v":""},{"$f":"IF(E575=\"\",\"\",lookup!Z566)","v":""},"","",{"$f":"IF(E575=\"\",\"\",IF(lookup!AA567<0,0,lookup!AA567))","v":""}]
[null,null,null,null,{"$f":"IF(J575=\"\",\"\",IF(J575<=0,\"\",lookup!X568))","v":""},{"$f":"IF(E576=\"\",\"\",IF(J576<=0,lookup!Y568+lookup!AA568,lookup!Y568))","v":""},{"$f":"IF(E576=\"\",\"\",lookup!Z567)","v":""},"","",{"$f":"IF(E576=\"\",\"\",IF(lookup!AA568<0,0,lookup!AA568))","v":""}]
[null,null,null,null,{"$f":"IF(J576=\"\",\"\",IF(J576<=0,\"\",lookup!X569))","v":""},{"$f":"IF(E577=\"\",\"\",IF(J577<=0,lookup!Y569+lookup!AA569,lookup!Y569))","v":""},{"$f":"IF(E577=\"\",\"\",lookup!Z568)","v":""},"","",{"$f":"IF(E577=\"\",\"\",IF(lookup!AA569<0,0,lookup!AA569))","v":""}]
[null,null,null,null,{"$f":"IF(J577=\"\",\"\",IF(J577<=0,\"\",lookup!X570))","v":""},{"$f":"IF(E578=\"\",\"\",IF(J578<=0,lookup!Y570+lookup!AA570,lookup!Y570))","v":""},{"$f":"IF(E578=\"\",\"\",lookup!Z569)","v":""},"","",{"$f":"IF(E578=\"\",\"\",IF(lookup!AA570<0,0,lookup!AA570))","v":""}]
[null,null,null,null,{"$f":"IF(J578=\"\",\"\",IF(J578<=0,\"\",lookup!X571))","v":""},{"$f":"IF(E579=\"\",\"\",IF(J579<=0,lookup!Y571+lookup!AA571,lookup!Y571))","v":""},{"$f":"IF(E579=\"\",\"\",lookup!Z570)","v":""},"","",{"$f":"IF(E579=\"\",\"\",IF(lookup!AA571<0,0,lookup!AA571))","v":""}]
[null,null,null,null,{"$f":"IF(J579=\"\",\"\",IF(J579<=0,\"\",lookup!X572))","v":""},{"$f":"IF(E580=\"\",\"\",IF(J580<=0,lookup!Y572+lookup!AA572,lookup!Y572))","v":""},{"$f":"IF(E580=\"\",\"\",lookup!Z571)","v":""},"","",{"$f":"IF(E580=\"\",\"\",IF(lookup!AA572<0,0,lookup!AA572))","v":""}]
[null,null,null,null,{"$f":"IF(J580=\"\",\"\",IF(J580<=0,\"\",lookup!X573))","v":""},{"$f":"IF(E581=\"\",\"\",IF(J581<=0,lookup!Y573+lookup!AA573,lookup!Y573))","v":""},{"$f":"IF(E581=\"\",\"\",lookup!Z572)","v":""},"","",{"$f":"IF(E581=\"\",\"\",IF(lookup!AA573<0,0,lookup!AA573))","v":""}]
[null,null,null,null,{"$f":"IF(J581=\"\",\"\",IF(J581<=0,\"\",lookup!X574))","v":""},{"$f":"IF(E582=\"\",\"\",IF(J582<=0,lookup!Y574+lookup!AA574,lookup!Y574))","v":""},{"$f":"IF(E582=\"\",\"\",lookup!Z573)","v":""},"","",{"$f":"IF(E582=\"\",\"\",IF(lookup!AA574<0,0,lookup!AA574))","v":""}]
[null,null,null,null,{"$f":"IF(J582=\"\",\"\",IF(J582<=0,\"\",lookup!X575))","v":""},{"$f":"IF(E583=\"\",\"\",IF(J583<=0,lookup!Y575+lookup!AA575,lookup!Y575))","v":""},{"$f":"IF(E583=\"\",\"\",lookup!Z574)","v":""},"","",{"$f":"IF(E583=\"\",\"\",IF(lookup!AA575<0,0,lookup!AA575))","v":""}]
[null,null,null,null,{"$f":"IF(J583=\"\",\"\",IF(J583<=0,\"\",lookup!X576))","v":""},{"$f":"IF(E584=\"\",\"\",IF(J584<=0,lookup!Y576+lookup!AA576,lookup!Y576))","v":""},{"$f":"IF(E584=\"\",\"\",lookup!Z575)","v":""},"","",{"$f":"IF(E584=\"\",\"\",IF(lookup!AA576<0,0,lookup!AA576))","v":""}]
[null,null,null,null,{"$f":"IF(J584=\"\",\"\",IF(J584<=0,\"\",lookup!X577))","v":""},{"$f":"IF(E585=\"\",\"\",IF(J585<=0,lookup!Y577+lookup!AA577,lookup!Y577))","v":""},{"$f":"IF(E585=\"\",\"\",lookup!Z576)","v":""},"","",{"$f":"IF(E585=\"\",\"\",IF(lookup!AA577<0,0,lookup!AA577))","v":""}]
[null,null,null,null,{"$f":"IF(J585=\"\",\"\",IF(J585<=0,\"\",lookup!X578))","v":""},{"$f":"IF(E586=\"\",\"\",IF(J586<=0,lookup!Y578+lookup!AA578,lookup!Y578))","v":""},{"$f":"IF(E586=\"\",\"\",lookup!Z577)","v":""},"","",{"$f":"IF(E586=\"\",\"\",IF(lookup!AA578<0,0,lookup!AA578))","v":""}]
[null,null,null,null,{"$f":"IF(J586=\"\",\"\",IF(J586<=0,\"\",lookup!X579))","v":""},{"$f":"IF(E587=\"\",\"\",IF(J587<=0,lookup!Y579+lookup!AA579,lookup!Y579))","v":""},{"$f":"IF(E587=\"\",\"\",lookup!Z578)","v":""},"","",{"$f":"IF(E587=\"\",\"\",IF(lookup!AA579<0,0,lookup!AA579))","v":""}]
[null,null,null,null,{"$f":"IF(J587=\"\",\"\",IF(J587<=0,\"\",lookup!X580))","v":""},{"$f":"IF(E588=\"\",\"\",IF(J588<=0,lookup!Y580+lookup!AA580,lookup!Y580))","v":""},{"$f":"IF(E588=\"\",\"\",lookup!Z579)","v":""},"","",{"$f":"IF(E588=\"\",\"\",IF(lookup!AA580<0,0,lookup!AA580))","v":""}]
[null,null,null,null,{"$f":"IF(J588=\"\",\"\",IF(J588<=0,\"\",lookup!X581))","v":""},{"$f":"IF(E589=\"\",\"\",IF(J589<=0,lookup!Y581+lookup!AA581,lookup!Y581))","v":""},{"$f":"IF(E589=\"\",\"\",lookup!Z580)","v":""},"","",{"$f":"IF(E589=\"\",\"\",IF(lookup!AA581<0,0,lookup!AA581))","v":""}]
[null,null,null,null,{"$f":"IF(J589=\"\",\"\",IF(J589<=0,\"\",lookup!X582))","v":""},{"$f":"IF(E590=\"\",\"\",IF(J590<=0,lookup!Y582+lookup!AA582,lookup!Y582))","v":""},{"$f":"IF(E590=\"\",\"\",lookup!Z581)","v":""},"","",{"$f":"IF(E590=\"\",\"\",IF(lookup!AA582<0,0,lookup!AA582))","v":""}]
[null,null,null,null,{"$f":"IF(J590=\"\",\"\",IF(J590<=0,\"\",lookup!X583))","v":""},{"$f":"IF(E591=\"\",\"\",IF(J591<=0,lookup!Y583+lookup!AA583,lookup!Y583))","v":""},{"$f":"IF(E591=\"\",\"\",lookup!Z582)","v":""},"","",{"$f":"IF(E591=\"\",\"\",IF(lookup!AA583<0,0,lookup!AA583))","v":""}]
[null,null,null,null,{"$f":"IF(J591=\"\",\"\",IF(J591<=0,\"\",lookup!X584))","v":""},{"$f":"IF(E592=\"\",\"\",IF(J592<=0,lookup!Y584+lookup!AA584,lookup!Y584))","v":""},{"$f":"IF(E592=\"\",\"\",lookup!Z583)","v":""},"","",{"$f":"IF(E592=\"\",\"\",IF(lookup!AA584<0,0,lookup!AA584))","v":""}]
[null,null,null,null,{"$f":"IF(J592=\"\",\"\",IF(J592<=0,\"\",lookup!X585))","v":""},{"$f":"IF(E593=\"\",\"\",IF(J593<=0,lookup!Y585+lookup!AA585,lookup!Y585))","v":""},{"$f":"IF(E593=\"\",\"\",lookup!Z584)","v":""},"","",{"$f":"IF(E593=\"\",\"\",IF(lookup!AA585<0,0,lookup!AA585))","v":""}]
[null,null,null,null,{"$f":"IF(J593=\"\",\"\",IF(J593<=0,\"\",lookup!X586))","v":""},{"$f":"IF(E594=\"\",\"\",IF(J594<=0,lookup!Y586+lookup!AA586,lookup!Y586))","v":""},{"$f":"IF(E594=\"\",\"\",lookup!Z585)","v":""},"","",{"$f":"IF(E594=\"\",\"\",IF(lookup!AA586<0,0,lookup!AA586))","v":""}]
[null,null,null,null,{"$f":"IF(J594=\"\",\"\",IF(J594<=0,\"\",lookup!X587))","v":""},{"$f":"IF(E595=\"\",\"\",IF(J595<=0,lookup!Y587+lookup!AA587,lookup!Y587))","v":""},{"$f":"IF(E595=\"\",\"\",lookup!Z586)","v":""},"","",{"$f":"IF(E595=\"\",\"\",IF(lookup!AA587<0,0,lookup!AA587))","v":""}]
[null,null,null,null,{"$f":"IF(J595=\"\",\"\",IF(J595<=0,\"\",lookup!X588))","v":""},{"$f":"IF(E596=\"\",\"\",IF(J596<=0,lookup!Y588+lookup!AA588,lookup!Y588))","v":""},{"$f":"IF(E596=\"\",\"\",lookup!Z587)","v":""},"","",{"$f":"IF(E596=\"\",\"\",IF(lookup!AA588<0,0,lookup!AA588))","v":""}]
[null,null,null,null,{"$f":"IF(J596=\"\",\"\",IF(J596<=0,\"\",lookup!X589))","v":""},{"$f":"IF(E597=\"\",\"\",IF(J597<=0,lookup!Y589+lookup!AA589,lookup!Y589))","v":""},{"$f":"IF(E597=\"\",\"\",lookup!Z588)","v":""},"","",{"$f":"IF(E597=\"\",\"\",IF(lookup!AA589<0,0,lookup!AA589))","v":""}]
[null,null,null,null,{"$f":"IF(J597=\"\",\"\",IF(J597<=0,\"\",lookup!X590))","v":""},{"$f":"IF(E598=\"\",\"\",IF(J598<=0,lookup!Y590+lookup!AA590,lookup!Y590))","v":""},{"$f":"IF(E598=\"\",\"\",lookup!Z589)","v":""},"","",{"$f":"IF(E598=\"\",\"\",IF(lookup!AA590<0,0,lookup!AA590))","v":""}]
[null,null,null,null,{"$f":"IF(J598=\"\",\"\",IF(J598<=0,\"\",lookup!X591))","v":""},{"$f":"IF(E599=\"\",\"\",IF(J599<=0,lookup!Y591+lookup!AA591,lookup!Y591))","v":""},{"$f":"IF(E599=\"\",\"\",lookup!Z590)","v":""},"","",{"$f":"IF(E599=\"\",\"\",IF(lookup!AA591<0,0,lookup!AA591))","v":""}]
[null,null,null,null,{"$f":"IF(J599=\"\",\"\",IF(J599<=0,\"\",lookup!X592))","v":""},{"$f":"IF(E600=\"\",\"\",IF(J600<=0,lookup!Y592+lookup!AA592,lookup!Y592))","v":""},{"$f":"IF(E600=\"\",\"\",lookup!Z591)","v":""},"","",{"$f":"IF(E600=\"\",\"\",IF(lookup!AA592<0,0,lookup!AA592))","v":""}]
[null,null,null,null,{"$f":"IF(J600=\"\",\"\",IF(J600<=0,\"\",lookup!X593))","v":""},{"$f":"IF(E601=\"\",\"\",IF(J601<=0,lookup!Y593+lookup!AA593,lookup!Y593))","v":""},{"$f":"IF(E601=\"\",\"\",lookup!Z592)","v":""},"","",{"$f":"IF(E601=\"\",\"\",IF(lookup!AA593<0,0,lookup!AA593))","v":""}]
[null,null,null,null,{"$f":"IF(J601=\"\",\"\",IF(J601<=0,\"\",lookup!X594))","v":""},{"$f":"IF(E602=\"\",\"\",IF(J602<=0,lookup!Y594+lookup!AA594,lookup!Y594))","v":""},{"$f":"IF(E602=\"\",\"\",lookup!Z593)","v":""},"","",{"$f":"IF(E602=\"\",\"\",IF(lookup!AA594<0,0,lookup!AA594))","v":""}]
[null,null,null,null,{"$f":"IF(J602=\"\",\"\",IF(J602<=0,\"\",lookup!X595))","v":""},{"$f":"IF(E603=\"\",\"\",IF(J603<=0,lookup!Y595+lookup!AA595,lookup!Y595))","v":""},{"$f":"IF(E603=\"\",\"\",lookup!Z594)","v":""},"","",{"$f":"IF(E603=\"\",\"\",IF(lookup!AA595<0,0,lookup!AA595))","v":""}]
[null,null,null,null,{"$f":"IF(J603=\"\",\"\",IF(J603<=0,\"\",lookup!X596))","v":""},{"$f":"IF(E604=\"\",\"\",IF(J604<=0,lookup!Y596+lookup!AA596,lookup!Y596))","v":""},{"$f":"IF(E604=\"\",\"\",lookup!Z595)","v":""},"","",{"$f":"IF(E604=\"\",\"\",IF(lookup!AA596<0,0,lookup!AA596))","v":""}]
[null,null,null,null,{"$f":"IF(J604=\"\",\"\",IF(J604<=0,\"\",lookup!X597))","v":""},{"$f":"IF(E605=\"\",\"\",IF(J605<=0,lookup!Y597+lookup!AA597,lookup!Y597))","v":""},{"$f":"IF(E605=\"\",\"\",lookup!Z596)","v":""},"","",{"$f":"IF(E605=\"\",\"\",IF(lookup!AA597<0,0,lookup!AA597))","v":""}]
[null,null,null,null,{"$f":"IF(J605=\"\",\"\",IF(J605<=0,\"\",lookup!X598))","v":""},{"$f":"IF(E606=\"\",\"\",IF(J606<=0,lookup!Y598+lookup!AA598,lookup!Y598))","v":""},{"$f":"IF(E606=\"\",\"\",lookup!Z597)","v":""},"","",{"$f":"IF(E606=\"\",\"\",IF(lookup!AA598<0,0,lookup!AA598))","v":""}]
[null,null,null,null,{"$f":"IF(J606=\"\",\"\",IF(J606<=0,\"\",lookup!X599))","v":""},{"$f":"IF(E607=\"\",\"\",IF(J607<=0,lookup!Y599+lookup!AA599,lookup!Y599))","v":""},{"$f":"IF(E607=\"\",\"\",lookup!Z598)","v":""},"","",{"$f":"IF(E607=\"\",\"\",IF(lookup!AA599<0,0,lookup!AA599))","v":""}]
[null,null,null,null,{"$f":"IF(J607=\"\",\"\",IF(J607<=0,\"\",lookup!X600))","v":""},{"$f":"IF(E608=\"\",\"\",IF(J608<=0,lookup!Y600+lookup!AA600,lookup!Y600))","v":""},{"$f":"IF(E608=\"\",\"\",lookup!Z599)","v":""},"","",{"$f":"IF(E608=\"\",\"\",IF(lookup!AA600<0,0,lookup!AA600))","v":""}]
[null,null,null,null,{"$f":"IF(J608=\"\",\"\",IF(J608<=0,\"\",lookup!X601))","v":""},{"$f":"IF(E609=\"\",\"\",IF(J609<=0,lookup!Y601+lookup!AA601,lookup!Y601))","v":""},{"$f":"IF(E609=\"\",\"\",lookup!Z600)","v":""},"","",{"$f":"IF(E609=\"\",\"\",IF(lookup!AA601<0,0,lookup!AA601))","v":""}]
[null,null,null,null,{"$f":"IF(J609=\"\",\"\",IF(J609<=0,\"\",lookup!X602))","v":""},{"$f":"IF(E610=\"\",\"\",IF(J610<=0,lookup!Y602+lookup!AA602,lookup!Y602))","v":""},{"$f":"IF(E610=\"\",\"\",lookup!Z601)","v":""},"","",{"$f":"IF(E610=\"\",\"\",IF(lookup!AA602<0,0,lookup!AA602))","v":""}]

{"sheet":"Loan (by loan terms)","index":7,"n_rows":610,"n_cols":10,"rows_kept":610,"cut":false,"hidden":true,"merged":[]}
[]
[]
[]
[]
[]
[]
[]
[]
["LOAN (by loan terms)  (Max 50 years) ",null,null,null,"Month","Payment","Interest paid","Total interest","Principal paid","Balance"]
[null,null,null,null,0,null,null,null,null,{"$f":"B12","v":10000}]
["APR",15,null,null,{"$f":"lookup!AC3","v":1},{"$f":"lookup!AD3","v":237.89930086358751},{"$f":"lookup!AE$1","v":125},{"$f":"G11","v":125},{"$f":"F11-G11","v":112.89930086358751},{"$f":"lookup!AF3","v":9887.100699136412}]
["Loan Amount",10000,null,null,{"$f":"IF(J11=\"\",\"\",IF(J11<=0,\"\",lookup!AC4))","v":2},{"$f":"IF(E12=\"\",\"\",IF(J12<=0,lookup!AD4+lookup!AF4,lookup!AD4))","v":237.89930086358751},{"$f":"IF(E12=\"\",\"\",lookup!AE3)","v":123.59},{"$f":"IF(E12=\"\",\"\",H11+G12)","v":248.59},{"$f":"IF(E12=\"\",\"\",F12-G12)","v":114.30930086358751},{"$f":"IF(E12=\"\",\"\",IF(lookup!AF4<0,0,lookup!AF4))","v":9772.7901570120321}]
["Loan term (months)",60,null,null,{"$f":"IF(J12=\"\",\"\",IF(J12<=0,\"\",lookup!AC5))","v":3},{"$f":"IF(E13=\"\",\"\",IF(J13<=0,lookup!AD5+lookup!AF5,lookup!AD5))","v":237.89930086358751},{"$f":"IF(E13=\"\",\"\",lookup!AE4)","v":122.16},370.75,115.73930086358752,{"$f":"IF(E13=\"\",\"\",IF(lookup!AF5<0,0,lookup!AF5))","v":9657.050733111093}]
["Monthly payment",{"$f":"B12*(B11/12/100)/(1-(1+(B11/12/100))^(-B13))","v":237.89930086358751},null,null,{"$f":"IF(J13=\"\",\"\",IF(J13<=0,\"\",lookup!AC6))","v":4},{"$f":"IF(E14=\"\",\"\",IF(J14<=0,lookup!AD6+lookup!AF6,lookup!AD6))","v":237.89930086358751},{"$f":"IF(E14=\"\",\"\",lookup!AE5)","v":120.71},491.46,117.18930086358752,{"$f":"IF(E14=\"\",\"\",IF(lookup!AF6<0,0,lookup!AF6))","v":9539.8645664113938}]
[null,null,null,null,{"$f":"IF(J14=\"\",\"\",IF(J14<=0,\"\",lookup!AC7))","v":5},{"$f":"IF(E15=\"\",\"\",IF(J15<=0,lookup!AD7+lookup!AF7,lookup!AD7))","v":237.89930086358751},{"$f":"IF(E15=\"\",\"\",lookup!AE6)","v":119.25},610.71,118.64930086358751,{"$f":"IF(E15=\"\",\"\",IF(lookup!AF7<0,0,lookup!AF7))","v":9421.2135726279485}]
[null,null,null,null,{"$f":"IF(J15=\"\",\"\",IF(J15<=0,\"\",lookup!AC8))","v":6},{"$f":"IF(E16=\"\",\"\",IF(J16<=0,lookup!AD8+lookup!AF8,lookup!AD8))","v":237.89930086358751},{"$f":"IF(E16=\"\",\"\",lookup!AE7)","v":117.77},728.48,120.12930086358752,{"$f":"IF(E16=\"\",\"\",IF(lookup!AF8<0,0,lookup!AF8))","v":9301.0794414222128}]
[null,null,null,null,{"$f":"IF(J16=\"\",\"\",IF(J16<=0,\"\",lookup!AC9))","v":7},{"$f":"IF(E17=\"\",\"\",IF(J17<=0,lookup!AD9+lookup!AF9,lookup!AD9))","v":237.89930086358751},{"$f":"IF(E17=\"\",\"\",lookup!AE8)","v":116.26},844.74,121.63930086358751,{"$f":"IF(E17=\"\",\"\",IF(lookup!AF9<0,0,lookup!AF9))","v":9179.4436335764003}]
[null,null,null,null,{"$f":"IF(J17=\"\",\"\",IF(J17<=0,\"\",lookup!AC10))","v":8},{"$f":"IF(E18=\"\",\"\",IF(J18<=0,lookup!AD10+lookup!AF10,lookup!AD10))","v":237.89930086358751},{"$f":"IF(E18=\"\",\"\",lookup!AE9)","v":114.74},959.48,123.15930086358752,{"$f":"IF(E18=\"\",\"\",IF(lookup!AF10<0,0,lookup!AF10))","v":9056.2873781325197}]
[null,null,null,null,{"$f":"IF(J18=\"\",\"\",IF(J18<=0,\"\",lookup!AC11))","v":9},{"$f":"IF(E19=\"\",\"\",IF(J19<=0,lookup!AD11+lookup!AF11,lookup!AD11))","v":237.89930086358751},{"$f":"IF(E19=\"\",\"\",lookup!AE10)","v":113.2},1072.68,124.69930086358751,{"$f":"IF(E19=\"\",\"\",IF(lookup!AF11<0,0,lookup!AF11))","v":8931.5916694955886}]
[null,null,null,null,{"$f":"IF(J19=\"\",\"\",IF(J19<=0,\"\",lookup!AC12))","v":10},{"$f":"IF(E20=\"\",\"\",IF(J20<=0,lookup!AD12+lookup!AF12,lookup!AD12))","v":237.89930086358751},{"$f":"IF(E20=\"\",\"\",lookup!AE11)","v":111.64},1184.3200000000002,126.25930086358751,{"$f":"IF(E20=\"\",\"\",IF(lookup!AF12<0,0,lookup!AF12))","v":8805.3372645007003}]
[null,null,null,null,{"$f":"IF(J20=\"\",\"\",IF(J20<=0,\"\",lookup!AC13))","v":11},{"$f":"IF(E21=\"\",\"\",IF(J21<=0,lookup!AD13+lookup!AF13,lookup!AD13))","v":237.89930086358751},{"$f":"IF(E21=\"\",\"\",lookup!AE12)","v":110.07},1294.3900000000001,127.82930086358752,{"$f":"IF(E21=\"\",\"\",IF(lookup!AF13<0,0,lookup!AF13))","v":8677.5046794433674}]
[null,null,null,null,{"$f":"IF(J21=\"\",\"\",IF(J21<=0,\"\",lookup!AC14))","v":12},{"$f":"IF(E22=\"\",\"\",IF(J22<=0,lookup!AD14+lookup!AF14,lookup!AD14))","v":237.89930086358751},{"$f":"IF(E22=\"\",\"\",lookup!AE13)","v":108.47},1402.8600000000001,129.42930086358751,{"$f":"IF(E22=\"\",\"\",IF(lookup!AF14<0,0,lookup!AF14))","v":8548.0741870728234}]
[null,null,null,null,{"$f":"IF(J22=\"\",\"\",IF(J22<=0,\"\",lookup!AC15))","v":13},{"$f":"IF(E23=\"\",\"\",IF(J23<=0,lookup!AD15+lookup!AF15,lookup!AD15))","v":237.89930086358751},{"$f":"IF(E23=\"\",\"\",lookup!AE14)","v":106.85},1509.71,131.04930086358752,{"$f":"IF(E23=\"\",\"\",IF(lookup!AF15<0,0,lookup!AF15))","v":8417.0258135476433}]
[null,null,null,null,{"$f":"IF(J23=\"\",\"\",IF(J23<=0,\"\",lookup!AC16))","v":14},{"$f":"IF(E24=\"\",\"\",IF(J24<=0,lookup!AD16+lookup!AF16,lookup!AD16))","v":237.89930086358751},{"$f":"IF(E24=\"\",\"\",lookup!AE15)","v":105.21},1614.92,132.6893008635875,{"$f":"IF(E24=\"\",\"\",IF(lookup!AF16<0,0,lookup!AF16))","v":8284.3393353534047}]
[null,null,null,null,{"$f":"IF(J24=\"\",\"\",IF(J24<=0,\"\",lookup!AC17))","v":15},{"$f":"IF(E25=\"\",\"\",IF(J25<=0,lookup!AD17+lookup!AF17,lookup!AD17))","v":237.89930086358751},{"$f":"IF(E25=\"\",\"\",lookup!AE16)","v":103.55},1718.47,134.34930086358753,{"$f":"IF(E25=\"\",\"\",IF(lookup!AF17<0,0,lookup!AF17))","v":8149.9942761817319}]
[null,null,null,null,{"$f":"IF(J25=\"\",\"\",IF(J25<=0,\"\",lookup!AC18))","v":16},{"$f":"IF(E26=\"\",\"\",IF(J26<=0,lookup!AD18+lookup!AF18,lookup!AD18))","v":237.89930086358751},{"$f":"IF(E26=\"\",\"\",lookup!AE17)","v":101.87},1820.3400000000001,136.02930086358751,{"$f":"IF(E26=\"\",\"\",IF(lookup!AF18<0,0,lookup!AF18))","v":8013.9699037704204}]
[null,null,null,null,{"$f":"IF(J26=\"\",\"\",IF(J26<=0,\"\",lookup!AC19))","v":17},{"$f":"IF(E27=\"\",\"\",IF(J27<=0,lookup!AD19+lookup!AF19,lookup!AD19))","v":237.89930086358751},{"$f":"IF(E27=\"\",\"\",lookup!AE18)","v":100.17},1920.5100000000002,137.72930086358753,{"$f":"IF(E27=\"\",\"\",IF(lookup!AF19<0,0,lookup!AF19))","v":7876.2452267039616}]
[null,null,null,null,{"$f":"IF(J27=\"\",\"\",IF(J27<=0,\"\",lookup!AC20))","v":18},{"$f":"IF(E28=\"\",\"\",IF(J28<=0,lookup!AD20+lookup!AF20,lookup!AD20))","v":237.89930086358751},{"$f":"IF(E28=\"\",\"\",lookup!AE19)","v":98.45},2018.9600000000003,139.4493008635875,{"$f":"IF(E28=\"\",\"\",IF(lookup!AF20<0,0,lookup!AF20))","v":7736.7989911741752}]
[null,null,null,null,{"$f":"IF(J28=\"\",\"\",IF(J28<=0,\"\",lookup!AC21))","v":19},{"$f":"IF(E29=\"\",\"\",IF(J29<=0,lookup!AD21+lookup!AF21,lookup!AD21))","v":237.89930086358751},{"$f":"IF(E29=\"\",\"\",lookup!AE20)","v":96.71},2115.67,141.1893008635875,{"$f":"IF(E29=\"\",\"\",IF(lookup!AF21<0,0,lookup!AF21))","v":7595.6096777002631}]
[null,null,null,null,{"$f":"IF(J29=\"\",\"\",IF(J29<=0,\"\",lookup!AC22))","v":20},{"$f":"IF(E30=\"\",\"\",IF(J30<=0,lookup!AD22+lookup!AF22,lookup!AD22))","v":237.89930086358751},{"$f":"IF(E30=\"\",\"\",lookup!AE21)","v":94.95},2210.62,142.9493008635875,{"$f":"IF(E30=\"\",\"\",IF(lookup!AF22<0,0,lookup!AF22))","v":7452.6554978079284}]
[null,null,null,null,{"$f":"IF(J30=\"\",\"\",IF(J30<=0,\"\",lookup!AC23))","v":21},{"$f":"IF(E31=\"\",\"\",IF(J31<=0,lookup!AD23+lookup!AF23,lookup!AD23))","v":237.89930086358751},{"$f":"IF(E31=\"\",\"\",lookup!AE22)","v":93.16},2303.7799999999997,144.73930086358752,{"$f":"IF(E31=\"\",\"\",IF(lookup!AF23<0,0,lookup!AF23))","v":7307.9143906669387}]
[null,null,null,null,{"$f":"IF(J31=\"\",\"\",IF(J31<=0,\"\",lookup!AC24))","v":22},{"$f":"IF(E32=\"\",\"\",IF(J32<=0,lookup!AD24+lookup!AF24,lookup!AD24))","v":237.89930086358751},{"$f":"IF(E32=\"\",\"\",lookup!AE23)","v":91.35},2395.1299999999997,146.54930086358752,{"$f":"IF(E32=\"\",\"\",IF(lookup!AF24<0,0,lookup!AF24))","v":7161.36401968669}]
[null,null,null,null,{"$f":"IF(J32=\"\",\"\",IF(J32<=0,\"\",lookup!AC25))","v":23},{"$f":"IF(E33=\"\",\"\",IF(J33<=0,lookup!AD25+lookup!AF25,lookup!AD25))","v":237.89930086358751},{"$f":"IF(E33=\"\",\"\",lookup!AE24)","v":89.52},2484.6499999999996,148.3793008635875,{"$f":"IF(E33=\"\",\"\",IF(lookup!AF25<0,0,lookup!AF25))","v":7012.9817690691871}]
[null,null,null,null,{"$f":"IF(J33=\"\",\"\",IF(J33<=0,\"\",lookup!AC26))","v":24},{"$f":"IF(E34=\"\",\"\",IF(J34<=0,lookup!AD26+lookup!AF26,lookup!AD26))","v":237.89930086358751},{"$f":"IF(E34=\"\",\"\",lookup!AE25)","v":87.66},2572.3099999999995,150.23930086358752,{"$f":"IF(E34=\"\",\"\",IF(lookup!AF26<0,0,lookup!AF26))","v":6862.7447403189635}]
[null,null,null,null,{"$f":"IF(J34=\"\",\"\",IF(J34<=0,\"\",lookup!AC27))","v":25},{"$f":"IF(E35=\"\",\"\",IF(J35<=0,lookup!AD27+lookup!AF27,lookup!AD27))","v":237.89930086358751},{"$f":"IF(E35=\"\",\"\",lookup!AE26)","v":85.78},2658.0899999999997,152.11930086358751,{"$f":"IF(E35=\"\",\"\",IF(lookup!AF27<0,0,lookup!AF27))","v":6710.6297487093634}]
[null,null,null,null,{"$f":"IF(J35=\"\",\"\",IF(J35<=0,\"\",lookup!AC28))","v":26},{"$f":"IF(E36=\"\",\"\",IF(J36<=0,lookup!AD28+lookup!AF28,lookup!AD28))","v":237.89930086358751},{"$f":"IF(E36=\"\",\"\",lookup!AE27)","v":83.88},2741.97,154.01930086358752,{"$f":"IF(E36=\"\",\"\",IF(lookup!AF28<0,0,lookup!AF28))","v":6556.6133197046447}]
[null,null,null,null,{"$f":"IF(J36=\"\",\"\",IF(J36<=0,\"\",lookup!AC29))","v":27},{"$f":"IF(E37=\"\",\"\",IF(J37<=0,lookup!AD29+lookup!AF29,lookup!AD29))","v":237.89930086358751},{"$f":"IF(E37=\"\",\"\",lookup!AE28)","v":81.96},2823.93,155.9393008635875,{"$f":"IF(E37=\"\",\"\",IF(lookup!AF29<0,0,lookup!AF29))","v":6400.6716853373646}]
[null,null,null,null,{"$f":"IF(J37=\"\",\"\",IF(J37<=0,\"\",lookup!AC30))","v":28},{"$f":"IF(E38=\"\",\"\",IF(J38<=0,lookup!AD30+lookup!AF30,lookup!AD30))","v":237.89930086358751},{"$f":"IF(E38=\"\",\"\",lookup!AE29)","v":80.010000000000005},2903.94,157.88930086358749,{"$f":"IF(E38=\"\",\"\",IF(lookup!AF30<0,0,lookup!AF30))","v":6242.7807805404946}]
[null,null,null,null,{"$f":"IF(J38=\"\",\"\",IF(J38<=0,\"\",lookup!AC31))","v":29},{"$f":"IF(E39=\"\",\"\",IF(J39<=0,lookup!AD31+lookup!AF31,lookup!AD31))","v":237.89930086358751},{"$f":"IF(E39=\"\",\"\",lookup!AE30)","v":78.03},2981.9700000000003,159.86930086358751,{"$f":"IF(E39=\"\",\"\",IF(lookup!AF31<0,0,lookup!AF31))","v":6082.9162394336608}]
[null,null,null,null,{"$f":"IF(J39=\"\",\"\",IF(J39<=0,\"\",lookup!AC32))","v":30},{"$f":"IF(E40=\"\",\"\",IF(J40<=0,lookup!AD32+lookup!AF32,lookup!AD32))","v":237.89930086358751},{"$f":"IF(E40=\"\",\"\",lookup!AE31)","v":76.040000000000006},3058.01,161.85930086358752,{"$f":"IF(E40=\"\",\"\",IF(lookup!AF32<0,0,lookup!AF32))","v":5921.0533915629985}]
[null,null,null,null,{"$f":"IF(J40=\"\",\"\",IF(J40<=0,\"\",lookup!AC33))","v":31},{"$f":"IF(E41=\"\",\"\",IF(J41<=0,lookup!AD33+lookup!AF33,lookup!AD33))","v":237.89930086358751},{"$f":"IF(E41=\"\",\"\",lookup!AE32)","v":74.010000000000005},3132.0200000000004,163.88930086358749,{"$f":"IF(E41=\"\",\"\",IF(lookup!AF33<0,0,lookup!AF33))","v":5757.1672580939448}]
[null,null,null,null,{"$f":"IF(J41=\"\",\"\",IF(J41<=0,\"\",lookup!AC34))","v":32},{"$f":"IF(E42=\"\",\"\",IF(J42<=0,lookup!AD34+lookup!AF34,lookup!AD34))","v":237.89930086358751},{"$f":"IF(E42=\"\",\"\",lookup!AE33)","v":71.959999999999994},3203.9800000000005,165.9393008635875,{"$f":"IF(E42=\"\",\"\",IF(lookup!AF34<0,0,lookup!AF34))","v":5591.2325479565334}]
[null,null,null,null,{"$f":"IF(J42=\"\",\"\",IF(J42<=0,\"\",lookup!AC35))","v":33},{"$f":"IF(E43=\"\",\"\",IF(J43<=0,lookup!AD35+lookup!AF35,lookup!AD35))","v":237.89930086358751},{"$f":"IF(E43=\"\",\"\",lookup!AE34)","v":69.89},3273.8700000000003,168.0093008635875,{"$f":"IF(E43=\"\",\"\",IF(lookup!AF35<0,0,lookup!AF35))","v":5423.2236539424011}]
[null,null,null,null,{"$f":"IF(J43=\"\",\"\",IF(J43<=0,\"\",lookup!AC36))","v":34},{"$f":"IF(E44=\"\",\"\",IF(J44<=0,lookup!AD36+lookup!AF36,lookup!AD36))","v":237.89930086358751},{"$f":"IF(E44=\"\",\"\",lookup!AE35)","v":67.790000000000006},3341.6600000000003,170.10930086358752,{"$f":"IF(E44=\"\",\"\",IF(lookup!AF36<0,0,lookup!AF36))","v":5253.1146487530978}]
[null,null,null,null,{"$f":"IF(J44=\"\",\"\",IF(J44<=0,\"\",lookup!AC37))","v":35},{"$f":"IF(E45=\"\",\"\",IF(J45<=0,lookup!AD37+lookup!AF37,lookup!AD37))","v":237.89930086358751},{"$f":"IF(E45=\"\",\"\",lookup!AE36)","v":65.66},3407.32,172.23930086358752,{"$f":"IF(E45=\"\",\"\",IF(lookup!AF37<0,0,lookup!AF37))","v":5080.87928099892}]
[null,null,null,null,{"$f":"IF(J45=\"\",\"\",IF(J45<=0,\"\",lookup!AC38))","v":36},{"$f":"IF(E46=\"\",\"\",IF(J46<=0,lookup!AD38+lookup!AF38,lookup!AD38))","v":237.89930086358751},{"$f":"IF(E46=\"\",\"\",lookup!AE37)","v":63.51},3470.8300000000004,174.38930086358752,{"$f":"IF(E46=\"\",\"\",IF(lookup!AF38<0,0,lookup!AF38))","v":4906.4909711478213}]
[null,null,null,null,{"$f":"IF(J46=\"\",\"\",IF(J46<=0,\"\",lookup!AC39))","v":37},{"$f":"IF(E47=\"\",\"\",IF(J47<=0,lookup!AD39+lookup!AF39,lookup!AD39))","v":237.89930086358751},{"$f":"IF(E47=\"\",\"\",lookup!AE38)","v":61.33},3532.1600000000003,176.5693008635875,{"$f":"IF(E47=\"\",\"\",IF(lookup!AF39<0,0,lookup!AF39))","v":4729.9228074235789}]
[null,null,null,null,{"$f":"IF(J47=\"\",\"\",IF(J47<=0,\"\",lookup!AC40))","v":38},{"$f":"IF(E48=\"\",\"\",IF(J48<=0,lookup!AD40+lookup!AF40,lookup!AD40))","v":237.89930086358751},{"$f":"IF(E48=\"\",\"\",lookup!AE39)","v":59.12},3591.28,178.77930086358751,{"$f":"IF(E48=\"\",\"\",IF(lookup!AF40<0,0,lookup!AF40))","v":4551.1475416527865}]
[null,null,null,null,{"$f":"IF(J48=\"\",\"\",IF(J48<=0,\"\",lookup!AC41))","v":39},{"$f":"IF(E49=\"\",\"\",IF(J49<=0,lookup!AD41+lookup!AF41,lookup!AD41))","v":237.89930086358751},{"$f":"IF(E49=\"\",\"\",lookup!AE40)","v":56.89},3648.17,181.0093008635875,{"$f":"IF(E49=\"\",\"\",IF(lookup!AF41<0,0,lookup!AF41))","v":4370.1375850598588}]
[null,null,null,null,{"$f":"IF(J49=\"\",\"\",IF(J49<=0,\"\",lookup!AC42))","v":40},{"$f":"IF(E50=\"\",\"\",IF(J50<=0,lookup!AD42+lookup!AF42,lookup!AD42))","v":237.89930086358751},{"$f":"IF(E50=\"\",\"\",lookup!AE41)","v":54.63},3702.8,183.26930086358752,{"$f":"IF(E50=\"\",\"\",IF(lookup!AF42<0,0,lookup!AF42))","v":4186.8650040095226}]
[null,null,null,null,{"$f":"IF(J50=\"\",\"\",IF(J50<=0,\"\",lookup!AC43))","v":41},{"$f":"IF(E51=\"\",\"\",IF(J51<=0,lookup!AD43+lookup!AF43,lookup!AD43))","v":237.89930086358751},{"$f":"IF(E51=\"\",\"\",lookup!AE42)","v":52.34},3755.1400000000003,185.55930086358751,{"$f":"IF(E51=\"\",\"\",IF(lookup!AF43<0,0,lookup!AF43))","v":4001.3015156960532}]
[null,null,null,null,{"$f":"IF(J51=\"\",\"\",IF(J51<=0,\"\",lookup!AC44))","v":42},{"$f":"IF(E52=\"\",\"\",IF(J52<=0,lookup!AD44+lookup!AF44,lookup!AD44))","v":237.89930086358751},{"$f":"IF(E52=\"\",\"\",lookup!AE43)","v":50.02},3805.1600000000003,187.8793008635875,{"$f":"IF(E52=\"\",\"\",IF(lookup!AF44<0,0,lookup!AF44))","v":3813.4184837786702}]
[null,null,null,null,{"$f":"IF(J52=\"\",\"\",IF(J52<=0,\"\",lookup!AC45))","v":43},{"$f":"IF(E53=\"\",\"\",IF(J53<=0,lookup!AD45+lookup!AF45,lookup!AD45))","v":237.89930086358751},{"$f":"IF(E53=\"\",\"\",lookup!AE44)","v":47.67},3852.8300000000004,190.22930086358753,{"$f":"IF(E53=\"\",\"\",IF(lookup!AF45<0,0,lookup!AF45))","v":3623.1869139623127}]
[null,null,null,null,{"$f":"IF(J53=\"\",\"\",IF(J53<=0,\"\",lookup!AC46))","v":44},{"$f":"IF(E54=\"\",\"\",IF(J54<=0,lookup!AD46+lookup!AF46,lookup!AD46))","v":237.89930086358751},{"$f":"IF(E54=\"\",\"\",lookup!AE45)","v":45.29},3898.1200000000003,192.60930086358752,{"$f":"IF(E54=\"\",\"\",IF(lookup!AF46<0,0,lookup!AF46))","v":3430.5774495232554}]
[null,null,null,null,{"$f":"IF(J54=\"\",\"\",IF(J54<=0,\"\",lookup!AC47))","v":45},{"$f":"IF(E55=\"\",\"\",IF(J55<=0,lookup!AD47+lookup!AF47,lookup!AD47))","v":237.89930086358751},{"$f":"IF(E55=\"\",\"\",lookup!AE46)","v":42.88},3941.0000000000005,195.01930086358752,{"$f":"IF(E55=\"\",\"\",IF(lookup!AF47<0,0,lookup!AF47))","v":3235.5603667787045}]
[null,null,null,null,{"$f":"IF(J55=\"\",\"\",IF(J55<=0,\"\",lookup!AC48))","v":46},{"$f":"IF(E56=\"\",\"\",IF(J56<=0,lookup!AD48+lookup!AF48,lookup!AD48))","v":237.89930086358751},{"$f":"IF(E56=\"\",\"\",lookup!AE47)","v":40.44},3981.4400000000005,197.45930086358752,{"$f":"IF(E56=\"\",\"\",IF(lookup!AF48<0,0,lookup!AF48))","v":3038.1055704998557}]
[null,null,null,null,{"$f":"IF(J56=\"\",\"\",IF(J56<=0,\"\",lookup!AC49))","v":47},{"$f":"IF(E57=\"\",\"\",IF(J57<=0,lookup!AD49+lookup!AF49,lookup!AD49))","v":237.89930086358751},{"$f":"IF(E57=\"\",\"\",lookup!AE48)","v":37.979999999999997},4019.4200000000005,199.91930086358752,{"$f":"IF(E57=\"\",\"\",IF(lookup!AF49<0,0,lookup!AF49))","v":2838.1825892675129}]
[null,null,null,null,{"$f":"IF(J57=\"\",\"\",IF(J57<=0,\"\",lookup!AC50))","v":48},{"$f":"IF(E58=\"\",\"\",IF(J58<=0,lookup!AD50+lookup!AF50,lookup!AD50))","v":237.89930086358751},{"$f":"IF(E58=\"\",\"\",lookup!AE49)","v":35.479999999999997},4054.9000000000005,202.41930086358752,{"$f":"IF(E58=\"\",\"\",IF(lookup!AF50<0,0,lookup!AF50))","v":2635.7605707697735}]
[null,null,null,null,{"$f":"IF(J58=\"\",\"\",IF(J58<=0,\"\",lookup!AC51))","v":49},{"$f":"IF(E59=\"\",\"\",IF(J59<=0,lookup!AD51+lookup!AF51,lookup!AD51))","v":237.89930086358751},{"$f":"IF(E59=\"\",\"\",lookup!AE50)","v":32.950000000000003},4087.8500000000004,204.9493008635875,{"$f":"IF(E59=\"\",\"\",IF(lookup!AF51<0,0,lookup!AF51))","v":2430.8082770408055}]
[null,null,null,null,{"$f":"IF(J59=\"\",\"\",IF(J59<=0,\"\",lookup!AC52))","v":50},{"$f":"IF(E60=\"\",\"\",IF(J60<=0,lookup!AD52+lookup!AF52,lookup!AD52))","v":237.89930086358751},{"$f":"IF(E60=\"\",\"\",lookup!AE51)","v":30.39},4118.2400000000007,207.5093008635875,{"$f":"IF(E60=\"\",\"\",IF(lookup!AF52<0,0,lookup!AF52))","v":2223.2940796402331}]
[null,null,null,null,{"$f":"IF(J60=\"\",\"\",IF(J60<=0,\"\",lookup!AC53))","v":51},{"$f":"IF(E61=\"\",\"\",IF(J61<=0,lookup!AD53+lookup!AF53,lookup!AD53))","v":237.89930086358751},{"$f":"IF(E61=\"\",\"\",lookup!AE52)","v":27.79},4146.0300000000007,210.10930086358752,{"$f":"IF(E61=\"\",\"\",IF(lookup!AF53<0,0,lookup!AF53))","v":2013.1859547721449}]
[null,null,null,null,{"$f":"IF(J61=\"\",\"\",IF(J61<=0,\"\",lookup!AC54))","v":52},{"$f":"IF(E62=\"\",\"\",IF(J62<=0,lookup!AD54+lookup!AF54,lookup!AD54))","v":237.89930086358751},{"$f":"IF(E62=\"\",\"\",lookup!AE53)","v":25.16},4171.1900000000005,212.73930086358752,{"$f":"IF(E62=\"\",\"\",IF(lookup!AF54<0,0,lookup!AF54))","v":1800.4514783432112}]
[null,null,null,null,{"$f":"IF(J62=\"\",\"\",IF(J62<=0,\"\",lookup!AC55))","v":53},{"$f":"IF(E63=\"\",\"\",IF(J63<=0,lookup!AD55+lookup!AF55,lookup!AD55))","v":237.89930086358751},{"$f":"IF(E63=\"\",\"\",lookup!AE54)","v":22.51},4193.7000000000007,215.38930086358752,{"$f":"IF(E63=\"\",\"\",IF(lookup!AF55<0,0,lookup!AF55))","v":1585.0578209589096}]
[null,null,null,null,{"$f":"IF(J63=\"\",\"\",IF(J63<=0,\"\",lookup!AC56))","v":54},{"$f":"IF(E64=\"\",\"\",IF(J64<=0,lookup!AD56+lookup!AF56,lookup!AD56))","v":237.89930086358751},{"$f":"IF(E64=\"\",\"\",lookup!AE55)","v":19.809999999999999},4213.5100000000011,218.08930086358751,{"$f":"IF(E64=\"\",\"\",IF(lookup!AF56<0,0,lookup!AF56))","v":1366.9717428573119}]
[null,null,null,null,{"$f":"IF(J64=\"\",\"\",IF(J64<=0,\"\",lookup!AC57))","v":55},{"$f":"IF(E65=\"\",\"\",IF(J65<=0,lookup!AD57+lookup!AF57,lookup!AD57))","v":237.89930086358751},{"$f":"IF(E65=\"\",\"\",lookup!AE56)","v":17.09},4230.6000000000013,220.80930086358751,{"$f":"IF(E65=\"\",\"\",IF(lookup!AF57<0,0,lookup!AF57))","v":1146.1595887794392}]
[null,null,null,null,{"$f":"IF(J65=\"\",\"\",IF(J65<=0,\"\",lookup!AC58))","v":56},{"$f":"IF(E66=\"\",\"\",IF(J66<=0,lookup!AD58+lookup!AF58,lookup!AD58))","v":237.89930086358751},{"$f":"IF(E66=\"\",\"\",lookup!AE57)","v":14.33},4244.9300000000012,223.5693008635875,{"$f":"IF(E66=\"\",\"\",IF(lookup!AF58<0,0,lookup!AF58))","v":922.58728277559669}]
[null,null,null,null,{"$f":"IF(J66=\"\",\"\",IF(J66<=0,\"\",lookup!AC59))","v":57},{"$f":"IF(E67=\"\",\"\",IF(J67<=0,lookup!AD59+lookup!AF59,lookup!AD59))","v":237.89930086358751},{"$f":"IF(E67=\"\",\"\",lookup!AE58)","v":11.53},4256.4600000000009,226.36930086358751,{"$f":"IF(E67=\"\",\"\",IF(lookup!AF59<0,0,lookup!AF59))","v":696.22032294670373}]
[null,null,null,null,{"$f":"IF(J67=\"\",\"\",IF(J67<=0,\"\",lookup!AC60))","v":58},{"$f":"IF(E68=\"\",\"\",IF(J68<=0,lookup!AD60+lookup!AF60,lookup!AD60))","v":237.89930086358751},{"$f":"IF(E68=\"\",\"\",lookup!AE59)","v":8.6999999999999993},4265.1600000000008,229.19930086358752,{"$f":"IF(E68=\"\",\"\",IF(lookup!AF60<0,0,lookup!AF60))","v":467.02377611995138}]
[null,null,null,null,{"$f":"IF(J68=\"\",\"\",IF(J68<=0,\"\",lookup!AC61))","v":59},{"$f":"IF(E69=\"\",\"\",IF(J69<=0,lookup!AD61+lookup!AF61,lookup!AD61))","v":237.89930086358751},{"$f":"IF(E69=\"\",\"\",lookup!AE60)","v":5.84},4271.0000000000009,232.05930086358751,{"$f":"IF(E69=\"\",\"\",IF(lookup!AF61<0,0,lookup!AF61))","v":234.96227245786312}]
[null,null,null,null,{"$f":"IF(J69=\"\",\"\",IF(J69<=0,\"\",lookup!AC62))","v":60},{"$f":"IF(E70=\"\",\"\",IF(J70<=0,lookup!AD62+lookup!AF62,lookup!AD62))","v":237.89930086358751},{"$f":"IF(E70=\"\",\"\",lookup!AE61)","v":2.94},4273.9400000000005,234.95930086358752,{"$f":"IF(E70=\"\",\"\",IF(lookup!AF62<0,0,lookup!AF62))","v":0}]
[null,null,null,null,{"$f":"IF(J70=\"\",\"\",IF(J70<=0,\"\",lookup!AC63))","v":""},{"$f":"IF(E71=\"\",\"\",IF(J71<=0,lookup!AD63+lookup!AF63,lookup!AD63))","v":""},{"$f":"IF(E71=\"\",\"\",lookup!AE62)","v":""},"","",{"$f":"IF(E71=\"\",\"\",IF(lookup!AF63<0,0,lookup!AF63))","v":""}]
[null,null,null,null,{"$f":"IF(J71=\"\",\"\",IF(J71<=0,\"\",lookup!AC64))","v":""},{"$f":"IF(E72=\"\",\"\",IF(J72<=0,lookup!AD64+lookup!AF64,lookup!AD64))","v":""},{"$f":"IF(E72=\"\",\"\",lookup!AE63)","v":""},"","",{"$f":"IF(E72=\"\",\"\",IF(lookup!AF64<0,0,lookup!AF64))","v":""}]
[null,null,null,null,{"$f":"IF(J72=\"\",\"\",IF(J72<=0,\"\",lookup!AC65))","v":""},{"$f":"IF(E73=\"\",\"\",IF(J73<=0,lookup!AD65+lookup!AF65,lookup!AD65))","v":""},{"$f":"IF(E73=\"\",\"\",lookup!AE64)","v":""},"","",{"$f":"IF(E73=\"\",\"\",IF(lookup!AF65<0,0,lookup!AF65))","v":""}]
[null,null,null,null,{"$f":"IF(J73=\"\",\"\",IF(J73<=0,\"\",lookup!AC66))","v":""},{"$f":"IF(E74=\"\",\"\",IF(J74<=0,lookup!AD66+lookup!AF66,lookup!AD66))","v":""},{"$f":"IF(E74=\"\",\"\",lookup!AE65)","v":""},"","",{"$f":"IF(E74=\"\",\"\",IF(lookup!AF66<0,0,lookup!AF66))","v":""}]
[null,null,null,null,{"$f":"IF(J74=\"\",\"\",IF(J74<=0,\"\",lookup!AC67))","v":""},{"$f":"IF(E75=\"\",\"\",IF(J75<=0,lookup!AD67+lookup!AF67,lookup!AD67))","v":""},{"$f":"IF(E75=\"\",\"\",lookup!AE66)","v":""},"","",{"$f":"IF(E75=\"\",\"\",IF(lookup!AF67<0,0,lookup!AF67))","v":""}]
[null,null,null,null,{"$f":"IF(J75=\"\",\"\",IF(J75<=0,\"\",lookup!AC68))","v":""},{"$f":"IF(E76=\"\",\"\",IF(J76<=0,lookup!AD68+lookup!AF68,lookup!AD68))","v":""},{"$f":"IF(E76=\"\",\"\",lookup!AE67)","v":""},{"$f":"IF(E76=\"\",\"\",H75+G76)","v":""},{"$f":"IF(E76=\"\",\"\",F76-G76)","v":""},{"$f":"IF(E76=\"\",\"\",IF(lookup!AF68<0,0,lookup!AF68))","v":""}]
[null,null,null,null,{"$f":"IF(J76=\"\",\"\",IF(J76<=0,\"\",lookup!AC69))","v":""},{"$f":"IF(E77=\"\",\"\",IF(J77<=0,lookup!AD69+lookup!AF69,lookup!AD69))","v":""},{"$f":"IF(E77=\"\",\"\",lookup!AE68)","v":""},"","",{"$f":"IF(E77=\"\",\"\",IF(lookup!AF69<0,0,lookup!AF69))","v":""}]
[null,null,null,null,{"$f":"IF(J77=\"\",\"\",IF(J77<=0,\"\",lookup!AC70))","v":""},{"$f":"IF(E78=\"\",\"\",IF(J78<=0,lookup!AD70+lookup!AF70,lookup!AD70))","v":""},{"$f":"IF(E78=\"\",\"\",lookup!AE69)","v":""},"","",{"$f":"IF(E78=\"\",\"\",IF(lookup!AF70<0,0,lookup!AF70))","v":""}]
[null,null,null,null,{"$f":"IF(J78=\"\",\"\",IF(J78<=0,\"\",lookup!AC71))","v":""},{"$f":"IF(E79=\"\",\"\",IF(J79<=0,lookup!AD71+lookup!AF71,lookup!AD71))","v":""},{"$f":"IF(E79=\"\",\"\",lookup!AE70)","v":""},"","",{"$f":"IF(E79=\"\",\"\",IF(lookup!AF71<0,0,lookup!AF71))","v":""}]
[null,null,null,null,{"$f":"IF(J79=\"\",\"\",IF(J79<=0,\"\",lookup!AC72))","v":""},{"$f":"IF(E80=\"\",\"\",IF(J80<=0,lookup!AD72+lookup!AF72,lookup!AD72))","v":""},{"$f":"IF(E80=\"\",\"\",lookup!AE71)","v":""},"","",{"$f":"IF(E80=\"\",\"\",IF(lookup!AF72<0,0,lookup!AF72))","v":""}]
[null,null,null,null,{"$f":"IF(J80=\"\",\"\",IF(J80<=0,\"\",lookup!AC73))","v":""},{"$f":"IF(E81=\"\",\"\",IF(J81<=0,lookup!AD73+lookup!AF73,lookup!AD73))","v":""},{"$f":"IF(E81=\"\",\"\",lookup!AE72)","v":""},"","",{"$f":"IF(E81=\"\",\"\",IF(lookup!AF73<0,0,lookup!AF73))","v":""}]
[null,null,null,null,{"$f":"IF(J81=\"\",\"\",IF(J81<=0,\"\",lookup!AC74))","v":""},{"$f":"IF(E82=\"\",\"\",IF(J82<=0,lookup!AD74+lookup!AF74,lookup!AD74))","v":""},{"$f":"IF(E82=\"\",\"\",lookup!AE73)","v":""},"","",{"$f":"IF(E82=\"\",\"\",IF(lookup!AF74<0,0,lookup!AF74))","v":""}]
[null,null,null,null,{"$f":"IF(J82=\"\",\"\",IF(J82<=0,\"\",lookup!AC75))","v":""},{"$f":"IF(E83=\"\",\"\",IF(J83<=0,lookup!AD75+lookup!AF75,lookup!AD75))","v":""},{"$f":"IF(E83=\"\",\"\",lookup!AE74)","v":""},"","",{"$f":"IF(E83=\"\",\"\",IF(lookup!AF75<0,0,lookup!AF75))","v":""}]
[null,null,null,null,{"$f":"IF(J83=\"\",\"\",IF(J83<=0,\"\",lookup!AC76))","v":""},{"$f":"IF(E84=\"\",\"\",IF(J84<=0,lookup!AD76+lookup!AF76,lookup!AD76))","v":""},{"$f":"IF(E84=\"\",\"\",lookup!AE75)","v":""},"","",{"$f":"IF(E84=\"\",\"\",IF(lookup!AF76<0,0,lookup!AF76))","v":""}]
[null,null,null,null,{"$f":"IF(J84=\"\",\"\",IF(J84<=0,\"\",lookup!AC77))","v":""},{"$f":"IF(E85=\"\",\"\",IF(J85<=0,lookup!AD77+lookup!AF77,lookup!AD77))","v":""},{"$f":"IF(E85=\"\",\"\",lookup!AE76)","v":""},"","",{"$f":"IF(E85=\"\",\"\",IF(lookup!AF77<0,0,lookup!AF77))","v":""}]
[null,null,null,null,{"$f":"IF(J85=\"\",\"\",IF(J85<=0,\"\",lookup!AC78))","v":""},{"$f":"IF(E86=\"\",\"\",IF(J86<=0,lookup!AD78+lookup!AF78,lookup!AD78))","v":""},{"$f":"IF(E86=\"\",\"\",lookup!AE77)","v":""},"","",{"$f":"IF(E86=\"\",\"\",IF(lookup!AF78<0,0,lookup!AF78))","v":""}]
[null,null,null,null,{"$f":"IF(J86=\"\",\"\",IF(J86<=0,\"\",lookup!AC79))","v":""},{"$f":"IF(E87=\"\",\"\",IF(J87<=0,lookup!AD79+lookup!AF79,lookup!AD79))","v":""},{"$f":"IF(E87=\"\",\"\",lookup!AE78)","v":""},"","",{"$f":"IF(E87=\"\",\"\",IF(lookup!AF79<0,0,lookup!AF79))","v":""}]
[null,null,null,null,{"$f":"IF(J87=\"\",\"\",IF(J87<=0,\"\",lookup!AC80))","v":""},{"$f":"IF(E88=\"\",\"\",IF(J88<=0,lookup!AD80+lookup!AF80,lookup!AD80))","v":""},{"$f":"IF(E88=\"\",\"\",lookup!AE79)","v":""},"","",{"$f":"IF(E88=\"\",\"\",IF(lookup!AF80<0,0,lookup!AF80))","v":""}]
[null,null,null,null,{"$f":"IF(J88=\"\",\"\",IF(J88<=0,\"\",lookup!AC81))","v":""},{"$f":"IF(E89=\"\",\"\",IF(J89<=0,lookup!AD81+lookup!AF81,lookup!AD81))","v":""},{"$f":"IF(E89=\"\",\"\",lookup!AE80)","v":""},"","",{"$f":"IF(E89=\"\",\"\",IF(lookup!AF81<0,0,lookup!AF81))","v":""}]
[null,null,null,null,{"$f":"IF(J89=\"\",\"\",IF(J89<=0,\"\",lookup!AC82))","v":""},{"$f":"IF(E90=\"\",\"\",IF(J90<=0,lookup!AD82+lookup!AF82,lookup!AD82))","v":""},{"$f":"IF(E90=\"\",\"\",lookup!AE81)","v":""},"","",{"$f":"IF(E90=\"\",\"\",IF(lookup!AF82<0,0,lookup!AF82))","v":""}]
[null,null,null,null,{"$f":"IF(J90=\"\",\"\",IF(J90<=0,\"\",lookup!AC83))","v":""},{"$f":"IF(E91=\"\",\"\",IF(J91<=0,lookup!AD83+lookup!AF83,lookup!AD83))","v":""},{"$f":"IF(E91=\"\",\"\",lookup!AE82)","v":""},"","",{"$f":"IF(E91=\"\",\"\",IF(lookup!AF83<0,0,lookup!AF83))","v":""}]
[null,null,null,null,{"$f":"IF(J91=\"\",\"\",IF(J91<=0,\"\",lookup!AC84))","v":""},{"$f":"IF(E92=\"\",\"\",IF(J92<=0,lookup!AD84+lookup!AF84,lookup!AD84))","v":""},{"$f":"IF(E92=\"\",\"\",lookup!AE83)","v":""},"","",{"$f":"IF(E92=\"\",\"\",IF(lookup!AF84<0,0,lookup!AF84))","v":""}]
[null,null,null,null,{"$f":"IF(J92=\"\",\"\",IF(J92<=0,\"\",lookup!AC85))","v":""},{"$f":"IF(E93=\"\",\"\",IF(J93<=0,lookup!AD85+lookup!AF85,lookup!AD85))","v":""},{"$f":"IF(E93=\"\",\"\",lookup!AE84)","v":""},"","",{"$f":"IF(E93=\"\",\"\",IF(lookup!AF85<0,0,lookup!AF85))","v":""}]
[null,null,null,null,{"$f":"IF(J93=\"\",\"\",IF(J93<=0,\"\",lookup!AC86))","v":""},{"$f":"IF(E94=\"\",\"\",IF(J94<=0,lookup!AD86+lookup!AF86,lookup!AD86))","v":""},{"$f":"IF(E94=\"\",\"\",lookup!AE85)","v":""},"","",{"$f":"IF(E94=\"\",\"\",IF(lookup!AF86<0,0,lookup!AF86))","v":""}]
[null,null,null,null,{"$f":"IF(J94=\"\",\"\",IF(J94<=0,\"\",lookup!AC87))","v":""},{"$f":"IF(E95=\"\",\"\",IF(J95<=0,lookup!AD87+lookup!AF87,lookup!AD87))","v":""},{"$f":"IF(E95=\"\",\"\",lookup!AE86)","v":""},"","",{"$f":"IF(E95=\"\",\"\",IF(lookup!AF87<0,0,lookup!AF87))","v":""}]
[null,null,null,null,{"$f":"IF(J95=\"\",\"\",IF(J95<=0,\"\",lookup!AC88))","v":""},{"$f":"IF(E96=\"\",\"\",IF(J96<=0,lookup!AD88+lookup!AF88,lookup!AD88))","v":""},{"$f":"IF(E96=\"\",\"\",lookup!AE87)","v":""},"","",{"$f":"IF(E96=\"\",\"\",IF(lookup!AF88<0,0,lookup!AF88))","v":""}]
[null,null,null,null,{"$f":"IF(J96=\"\",\"\",IF(J96<=0,\"\",lookup!AC89))","v":""},{"$f":"IF(E97=\"\",\"\",IF(J97<=0,lookup!AD89+lookup!AF89,lookup!AD89))","v":""},{"$f":"IF(E97=\"\",\"\",lookup!AE88)","v":""},"","",{"$f":"IF(E97=\"\",\"\",IF(lookup!AF89<0,0,lookup!AF89))","v":""}]
[null,null,null,null,{"$f":"IF(J97=\"\",\"\",IF(J97<=0,\"\",lookup!AC90))","v":""},{"$f":"IF(E98=\"\",\"\",IF(J98<=0,lookup!AD90+lookup!AF90,lookup!AD90))","v":""},{"$f":"IF(E98=\"\",\"\",lookup!AE89)","v":""},"","",{"$f":"IF(E98=\"\",\"\",IF(lookup!AF90<0,0,lookup!AF90))","v":""}]
[null,null,null,null,{"$f":"IF(J98=\"\",\"\",IF(J98<=0,\"\",lookup!AC91))","v":""},{"$f":"IF(E99=\"\",\"\",IF(J99<=0,lookup!AD91+lookup!AF91,lookup!AD91))","v":""},{"$f":"IF(E99=\"\",\"\",lookup!AE90)","v":""},"","",{"$f":"IF(E99=\"\",\"\",IF(lookup!AF91<0,0,lookup!AF91))","v":""}]
[null,null,null,null,{"$f":"IF(J99=\"\",\"\",IF(J99<=0,\"\",lookup!AC92))","v":""},{"$f":"IF(E100=\"\",\"\",IF(J100<=0,lookup!AD92+lookup!AF92,lookup!AD92))","v":""},{"$f":"IF(E100=\"\",\"\",lookup!AE91)","v":""},"","",{"$f":"IF(E100=\"\",\"\",IF(lookup!AF92<0,0,lookup!AF92))","v":""}]
[null,null,null,null,{"$f":"IF(J100=\"\",\"\",IF(J100<=0,\"\",lookup!AC93))","v":""},{"$f":"IF(E101=\"\",\"\",IF(J101<=0,lookup!AD93+lookup!AF93,lookup!AD93))","v":""},{"$f":"IF(E101=\"\",\"\",lookup!AE92)","v":""},"","",{"$f":"IF(E101=\"\",\"\",IF(lookup!AF93<0,0,lookup!AF93))","v":""}]
[null,null,null,null,{"$f":"IF(J101=\"\",\"\",IF(J101<=0,\"\",lookup!AC94))","v":""},{"$f":"IF(E102=\"\",\"\",IF(J102<=0,lookup!AD94+lookup!AF94,lookup!AD94))","v":""},{"$f":"IF(E102=\"\",\"\",lookup!AE93)","v":""},"","",{"$f":"IF(E102=\"\",\"\",IF(lookup!AF94<0,0,lookup!AF94))","v":""}]
[null,null,null,null,{"$f":"IF(J102=\"\",\"\",IF(J102<=0,\"\",lookup!AC95))","v":""},{"$f":"IF(E103=\"\",\"\",IF(J103<=0,lookup!AD95+lookup!AF95,lookup!AD95))","v":""},{"$f":"IF(E103=\"\",\"\",lookup!AE94)","v":""},"","",{"$f":"IF(E103=\"\",\"\",IF(lookup!AF95<0,0,lookup!AF95))","v":""}]
[null,null,null,null,{"$f":"IF(J103=\"\",\"\",IF(J103<=0,\"\",lookup!AC96))","v":""},{"$f":"IF(E104=\"\",\"\",IF(J104<=0,lookup!AD96+lookup!AF96,lookup!AD96))","v":""},{"$f":"IF(E104=\"\",\"\",lookup!AE95)","v":""},"","",{"$f":"IF(E104=\"\",\"\",IF(lookup!AF96<0,0,lookup!AF96))","v":""}]
[null,null,null,null,{"$f":"IF(J104=\"\",\"\",IF(J104<=0,\"\",lookup!AC97))","v":""},{"$f":"IF(E105=\"\",\"\",IF(J105<=0,lookup!AD97+lookup!AF97,lookup!AD97))","v":""},{"$f":"IF(E105=\"\",\"\",lookup!AE96)","v":""},"","",{"$f":"IF(E105=\"\",\"\",IF(lookup!AF97<0,0,lookup!AF97))","v":""}]
[null,null,null,null,{"$f":"IF(J105=\"\",\"\",IF(J105<=0,\"\",lookup!AC98))","v":""},{"$f":"IF(E106=\"\",\"\",IF(J106<=0,lookup!AD98+lookup!AF98,lookup!AD98))","v":""},{"$f":"IF(E106=\"\",\"\",lookup!AE97)","v":""},"","",{"$f":"IF(E106=\"\",\"\",IF(lookup!AF98<0,0,lookup!AF98))","v":""}]
[null,null,null,null,{"$f":"IF(J106=\"\",\"\",IF(J106<=0,\"\",lookup!AC99))","v":""},{"$f":"IF(E107=\"\",\"\",IF(J107<=0,lookup!AD99+lookup!AF99,lookup!AD99))","v":""},{"$f":"IF(E107=\"\",\"\",lookup!AE98)","v":""},"","",{"$f":"IF(E107=\"\",\"\",IF(lookup!AF99<0,0,lookup!AF99))","v":""}]
[null,null,null,null,{"$f":"IF(J107=\"\",\"\",IF(J107<=0,\"\",lookup!AC100))","v":""},{"$f":"IF(E108=\"\",\"\",IF(J108<=0,lookup!AD100+lookup!AF100,lookup!AD100))","v":""},{"$f":"IF(E108=\"\",\"\",lookup!AE99)","v":""},"","",{"$f":"IF(E108=\"\",\"\",IF(lookup!AF100<0,0,lookup!AF100))","v":""}]
[null,null,null,null,{"$f":"IF(J108=\"\",\"\",IF(J108<=0,\"\",lookup!AC101))","v":""},{"$f":"IF(E109=\"\",\"\",IF(J109<=0,lookup!AD101+lookup!AF101,lookup!AD101))","v":""},{"$f":"IF(E109=\"\",\"\",lookup!AE100)","v":""},"","",{"$f":"IF(E109=\"\",\"\",IF(lookup!AF101<0,0,lookup!AF101))","v":""}]
[null,null,null,null,{"$f":"IF(J109=\"\",\"\",IF(J109<=0,\"\",lookup!AC102))","v":""},{"$f":"IF(E110=\"\",\"\",IF(J110<=0,lookup!AD102+lookup!AF102,lookup!AD102))","v":""},{"$f":"IF(E110=\"\",\"\",lookup!AE101)","v":""},"","",{"$f":"IF(E110=\"\",\"\",IF(lookup!AF102<0,0,lookup!AF102))","v":""}]
[null,null,null,null,{"$f":"IF(J110=\"\",\"\",IF(J110<=0,\"\",lookup!AC103))","v":""},{"$f":"IF(E111=\"\",\"\",IF(J111<=0,lookup!AD103+lookup!AF103,lookup!AD103))","v":""},{"$f":"IF(E111=\"\",\"\",lookup!AE102)","v":""},"","",{"$f":"IF(E111=\"\",\"\",IF(lookup!AF103<0,0,lookup!AF103))","v":""}]
[null,null,null,null,{"$f":"IF(J111=\"\",\"\",IF(J111<=0,\"\",lookup!AC104))","v":""},{"$f":"IF(E112=\"\",\"\",IF(J112<=0,lookup!AD104+lookup!AF104,lookup!AD104))","v":""},{"$f":"IF(E112=\"\",\"\",lookup!AE103)","v":""},"","",{"$f":"IF(E112=\"\",\"\",IF(lookup!AF104<0,0,lookup!AF104))","v":""}]
[null,null,null,null,{"$f":"IF(J112=\"\",\"\",IF(J112<=0,\"\",lookup!AC105))","v":""},{"$f":"IF(E113=\"\",\"\",IF(J113<=0,lookup!AD105+lookup!AF105,lookup!AD105))","v":""},{"$f":"IF(E113=\"\",\"\",lookup!AE104)","v":""},"","",{"$f":"IF(E113=\"\",\"\",IF(lookup!AF105<0,0,lookup!AF105))","v":""}]
[null,null,null,null,{"$f":"IF(J113=\"\",\"\",IF(J113<=0,\"\",lookup!AC106))","v":""},{"$f":"IF(E114=\"\",\"\",IF(J114<=0,lookup!AD106+lookup!AF106,lookup!AD106))","v":""},{"$f":"IF(E114=\"\",\"\",lookup!AE105)","v":""},"","",{"$f":"IF(E114=\"\",\"\",IF(lookup!AF106<0,0,lookup!AF106))","v":""}]
[null,null,null,null,{"$f":"IF(J114=\"\",\"\",IF(J114<=0,\"\",lookup!AC107))","v":""},{"$f":"IF(E115=\"\",\"\",IF(J115<=0,lookup!AD107+lookup!AF107,lookup!AD107))","v":""},{"$f":"IF(E115=\"\",\"\",lookup!AE106)","v":""},"","",{"$f":"IF(E115=\"\",\"\",IF(lookup!AF107<0,0,lookup!AF107))","v":""}]
[null,null,null,null,{"$f":"IF(J115=\"\",\"\",IF(J115<=0,\"\",lookup!AC108))","v":""},{"$f":"IF(E116=\"\",\"\",IF(J116<=0,lookup!AD108+lookup!AF108,lookup!AD108))","v":""},{"$f":"IF(E116=\"\",\"\",lookup!AE107)","v":""},"","",{"$f":"IF(E116=\"\",\"\",IF(lookup!AF108<0,0,lookup!AF108))","v":""}]
[null,null,null,null,{"$f":"IF(J116=\"\",\"\",IF(J116<=0,\"\",lookup!AC109))","v":""},{"$f":"IF(E117=\"\",\"\",IF(J117<=0,lookup!AD109+lookup!AF109,lookup!AD109))","v":""},{"$f":"IF(E117=\"\",\"\",lookup!AE108)","v":""},"","",{"$f":"IF(E117=\"\",\"\",IF(lookup!AF109<0,0,lookup!AF109))","v":""}]
[null,null,null,null,{"$f":"IF(J117=\"\",\"\",IF(J117<=0,\"\",lookup!AC110))","v":""},{"$f":"IF(E118=\"\",\"\",IF(J118<=0,lookup!AD110+lookup!AF110,lookup!AD110))","v":""},{"$f":"IF(E118=\"\",\"\",lookup!AE109)","v":""},"","",{"$f":"IF(E118=\"\",\"\",IF(lookup!AF110<0,0,lookup!AF110))","v":""}]
[null,null,null,null,{"$f":"IF(J118=\"\",\"\",IF(J118<=0,\"\",lookup!AC111))","v":""},{"$f":"IF(E119=\"\",\"\",IF(J119<=0,lookup!AD111+lookup!AF111,lookup!AD111))","v":""},{"$f":"IF(E119=\"\",\"\",lookup!AE110)","v":""},"","",{"$f":"IF(E119=\"\",\"\",IF(lookup!AF111<0,0,lookup!AF111))","v":""}]
[null,null,null,null,{"$f":"IF(J119=\"\",\"\",IF(J119<=0,\"\",lookup!AC112))","v":""},{"$f":"IF(E120=\"\",\"\",IF(J120<=0,lookup!AD112+lookup!AF112,lookup!AD112))","v":""},{"$f":"IF(E120=\"\",\"\",lookup!AE111)","v":""},"","",{"$f":"IF(E120=\"\",\"\",IF(lookup!AF112<0,0,lookup!AF112))","v":""}]
[null,null,null,null,{"$f":"IF(J120=\"\",\"\",IF(J120<=0,\"\",lookup!AC113))","v":""},{"$f":"IF(E121=\"\",\"\",IF(J121<=0,lookup!AD113+lookup!AF113,lookup!AD113))","v":""},{"$f":"IF(E121=\"\",\"\",lookup!AE112)","v":""},"","",{"$f":"IF(E121=\"\",\"\",IF(lookup!AF113<0,0,lookup!AF113))","v":""}]
[null,null,null,null,{"$f":"IF(J121=\"\",\"\",IF(J121<=0,\"\",lookup!AC114))","v":""},{"$f":"IF(E122=\"\",\"\",IF(J122<=0,lookup!AD114+lookup!AF114,lookup!AD114))","v":""},{"$f":"IF(E122=\"\",\"\",lookup!AE113)","v":""},"","",{"$f":"IF(E122=\"\",\"\",IF(lookup!AF114<0,0,lookup!AF114))","v":""}]
[null,null,null,null,{"$f":"IF(J122=\"\",\"\",IF(J122<=0,\"\",lookup!AC115))","v":""},{"$f":"IF(E123=\"\",\"\",IF(J123<=0,lookup!AD115+lookup!AF115,lookup!AD115))","v":""},{"$f":"IF(E123=\"\",\"\",lookup!AE114)","v":""},"","",{"$f":"IF(E123=\"\",\"\",IF(lookup!AF115<0,0,lookup!AF115))","v":""}]
[null,null,null,null,{"$f":"IF(J123=\"\",\"\",IF(J123<=0,\"\",lookup!AC116))","v":""},{"$f":"IF(E124=\"\",\"\",IF(J124<=0,lookup!AD116+lookup!AF116,lookup!AD116))","v":""},{"$f":"IF(E124=\"\",\"\",lookup!AE115)","v":""},"","",{"$f":"IF(E124=\"\",\"\",IF(lookup!AF116<0,0,lookup!AF116))","v":""}]
[null,null,null,null,{"$f":"IF(J124=\"\",\"\",IF(J124<=0,\"\",lookup!AC117))","v":""},{"$f":"IF(E125=\"\",\"\",IF(J125<=0,lookup!AD117+lookup!AF117,lookup!AD117))","v":""},{"$f":"IF(E125=\"\",\"\",lookup!AE116)","v":""},"","",{"$f":"IF(E125=\"\",\"\",IF(lookup!AF117<0,0,lookup!AF117))","v":""}]
[null,null,null,null,{"$f":"IF(J125=\"\",\"\",IF(J125<=0,\"\",lookup!AC118))","v":""},{"$f":"IF(E126=\"\",\"\",IF(J126<=0,lookup!AD118+lookup!AF118,lookup!AD118))","v":""},{"$f":"IF(E126=\"\",\"\",lookup!AE117)","v":""},"","",{"$f":"IF(E126=\"\",\"\",IF(lookup!AF118<0,0,lookup!AF118))","v":""}]
[null,null,null,null,{"$f":"IF(J126=\"\",\"\",IF(J126<=0,\"\",lookup!AC119))","v":""},{"$f":"IF(E127=\"\",\"\",IF(J127<=0,lookup!AD119+lookup!AF119,lookup!AD119))","v":""},{"$f":"IF(E127=\"\",\"\",lookup!AE118)","v":""},"","",{"$f":"IF(E127=\"\",\"\",IF(lookup!AF119<0,0,lookup!AF119))","v":""}]
[null,null,null,null,{"$f":"IF(J127=\"\",\"\",IF(J127<=0,\"\",lookup!AC120))","v":""},{"$f":"IF(E128=\"\",\"\",IF(J128<=0,lookup!AD120+lookup!AF120,lookup!AD120))","v":""},{"$f":"IF(E128=\"\",\"\",lookup!AE119)","v":""},"","",{"$f":"IF(E128=\"\",\"\",IF(lookup!AF120<0,0,lookup!AF120))","v":""}]
[null,null,null,null,{"$f":"IF(J128=\"\",\"\",IF(J128<=0,\"\",lookup!AC121))","v":""},{"$f":"IF(E129=\"\",\"\",IF(J129<=0,lookup!AD121+lookup!AF121,lookup!AD121))","v":""},{"$f":"IF(E129=\"\",\"\",lookup!AE120)","v":""},"","",{"$f":"IF(E129=\"\",\"\",IF(lookup!AF121<0,0,lookup!AF121))","v":""}]
[null,null,null,null,{"$f":"IF(J129=\"\",\"\",IF(J129<=0,\"\",lookup!AC122))","v":""},{"$f":"IF(E130=\"\",\"\",IF(J130<=0,lookup!AD122+lookup!AF122,lookup!AD122))","v":""},{"$f":"IF(E130=\"\",\"\",lookup!AE121)","v":""},"","",{"$f":"IF(E130=\"\",\"\",IF(lookup!AF122<0,0,lookup!AF122))","v":""}]
[null,null,null,null,{"$f":"IF(J130=\"\",\"\",IF(J130<=0,\"\",lookup!AC123))","v":""},{"$f":"IF(E131=\"\",\"\",IF(J131<=0,lookup!AD123+lookup!AF123,lookup!AD123))","v":""},{"$f":"IF(E131=\"\",\"\",lookup!AE122)","v":""},"","",{"$f":"IF(E131=\"\",\"\",IF(lookup!AF123<0,0,lookup!AF123))","v":""}]
[null,null,null,null,{"$f":"IF(J131=\"\",\"\",IF(J131<=0,\"\",lookup!AC124))","v":""},{"$f":"IF(E132=\"\",\"\",IF(J132<=0,lookup!AD124+lookup!AF124,lookup!AD124))","v":""},{"$f":"IF(E132=\"\",\"\",lookup!AE123)","v":""},"","",{"$f":"IF(E132=\"\",\"\",IF(lookup!AF124<0,0,lookup!AF124))","v":""}]
[null,null,null,null,{"$f":"IF(J132=\"\",\"\",IF(J132<=0,\"\",lookup!AC125))","v":""},{"$f":"IF(E133=\"\",\"\",IF(J133<=0,lookup!AD125+lookup!AF125,lookup!AD125))","v":""},{"$f":"IF(E133=\"\",\"\",lookup!AE124)","v":""},"","",{"$f":"IF(E133=\"\",\"\",IF(lookup!AF125<0,0,lookup!AF125))","v":""}]
[null,null,null,null,{"$f":"IF(J133=\"\",\"\",IF(J133<=0,\"\",lookup!AC126))","v":""},{"$f":"IF(E134=\"\",\"\",IF(J134<=0,lookup!AD126+lookup!AF126,lookup!AD126))","v":""},{"$f":"IF(E134=\"\",\"\",lookup!AE125)","v":""},"","",{"$f":"IF(E134=\"\",\"\",IF(lookup!AF126<0,0,lookup!AF126))","v":""}]
[null,null,null,null,{"$f":"IF(J134=\"\",\"\",IF(J134<=0,\"\",lookup!AC127))","v":""},{"$f":"IF(E135=\"\",\"\",IF(J135<=0,lookup!AD127+lookup!AF127,lookup!AD127))","v":""},{"$f":"IF(E135=\"\",\"\",lookup!AE126)","v":""},"","",{"$f":"IF(E135=\"\",\"\",IF(lookup!AF127<0,0,lookup!AF127))","v":""}]
[null,null,null,null,{"$f":"IF(J135=\"\",\"\",IF(J135<=0,\"\",lookup!AC128))","v":""},{"$f":"IF(E136=\"\",\"\",IF(J136<=0,lookup!AD128+lookup!AF128,lookup!AD128))","v":""},{"$f":"IF(E136=\"\",\"\",lookup!AE127)","v":""},"","",{"$f":"IF(E136=\"\",\"\",IF(lookup!AF128<0,0,lookup!AF128))","v":""}]
[null,null,null,null,{"$f":"IF(J136=\"\",\"\",IF(J136<=0,\"\",lookup!AC129))","v":""},{"$f":"IF(E137=\"\",\"\",IF(J137<=0,lookup!AD129+lookup!AF129,lookup!AD129))","v":""},{"$f":"IF(E137=\"\",\"\",lookup!AE128)","v":""},"","",{"$f":"IF(E137=\"\",\"\",IF(lookup!AF129<0,0,lookup!AF129))","v":""}]
[null,null,null,null,{"$f":"IF(J137=\"\",\"\",IF(J137<=0,\"\",lookup!AC130))","v":""},{"$f":"IF(E138=\"\",\"\",IF(J138<=0,lookup!AD130+lookup!AF130,lookup!AD130))","v":""},{"$f":"IF(E138=\"\",\"\",lookup!AE129)","v":""},"","",{"$f":"IF(E138=\"\",\"\",IF(lookup!AF130<0,0,lookup!AF130))","v":""}]
[null,null,null,null,{"$f":"IF(J138=\"\",\"\",IF(J138<=0,\"\",lookup!AC131))","v":""},{"$f":"IF(E139=\"\",\"\",IF(J139<=0,lookup!AD131+lookup!AF131,lookup!AD131))","v":""},{"$f":"IF(E139=\"\",\"\",lookup!AE130)","v":""},"","",{"$f":"IF(E139=\"\",\"\",IF(lookup!AF131<0,0,lookup!AF131))","v":""}]
[null,null,null,null,{"$f":"IF(J139=\"\",\"\",IF(J139<=0,\"\",lookup!AC132))","v":""},{"$f":"IF(E140=\"\",\"\",IF(J140<=0,lookup!AD132+lookup!AF132,lookup!AD132))","v":""},{"$f":"IF(E140=\"\",\"\",lookup!AE131)","v":""},{"$f":"IF(E140=\"\",\"\",H139+G140)","v":""},{"$f":"IF(E140=\"\",\"\",F140-G140)","v":""},{"$f":"IF(E140=\"\",\"\",IF(lookup!AF132<0,0,lookup!AF132))","v":""}]
[null,null,null,null,{"$f":"IF(J140=\"\",\"\",IF(J140<=0,\"\",lookup!AC133))","v":""},{"$f":"IF(E141=\"\",\"\",IF(J141<=0,lookup!AD133+lookup!AF133,lookup!AD133))","v":""},{"$f":"IF(E141=\"\",\"\",lookup!AE132)","v":""},"","",{"$f":"IF(E141=\"\",\"\",IF(lookup!AF133<0,0,lookup!AF133))","v":""}]
[null,null,null,null,{"$f":"IF(J141=\"\",\"\",IF(J141<=0,\"\",lookup!AC134))","v":""},{"$f":"IF(E142=\"\",\"\",IF(J142<=0,lookup!AD134+lookup!AF134,lookup!AD134))","v":""},{"$f":"IF(E142=\"\",\"\",lookup!AE133)","v":""},"","",{"$f":"IF(E142=\"\",\"\",IF(lookup!AF134<0,0,lookup!AF134))","v":""}]
[null,null,null,null,{"$f":"IF(J142=\"\",\"\",IF(J142<=0,\"\",lookup!AC135))","v":""},{"$f":"IF(E143=\"\",\"\",IF(J143<=0,lookup!AD135+lookup!AF135,lookup!AD135))","v":""},{"$f":"IF(E143=\"\",\"\",lookup!AE134)","v":""},"","",{"$f":"IF(E143=\"\",\"\",IF(lookup!AF135<0,0,lookup!AF135))","v":""}]
[null,null,null,null,{"$f":"IF(J143=\"\",\"\",IF(J143<=0,\"\",lookup!AC136))","v":""},{"$f":"IF(E144=\"\",\"\",IF(J144<=0,lookup!AD136+lookup!AF136,lookup!AD136))","v":""},{"$f":"IF(E144=\"\",\"\",lookup!AE135)","v":""},"","",{"$f":"IF(E144=\"\",\"\",IF(lookup!AF136<0,0,lookup!AF136))","v":""}]
[null,null,null,null,{"$f":"IF(J144=\"\",\"\",IF(J144<=0,\"\",lookup!AC137))","v":""},{"$f":"IF(E145=\"\",\"\",IF(J145<=0,lookup!AD137+lookup!AF137,lookup!AD137))","v":""},{"$f":"IF(E145=\"\",\"\",lookup!AE136)","v":""},"","",{"$f":"IF(E145=\"\",\"\",IF(lookup!AF137<0,0,lookup!AF137))","v":""}]
[null,null,null,null,{"$f":"IF(J145=\"\",\"\",IF(J145<=0,\"\",lookup!AC138))","v":""},{"$f":"IF(E146=\"\",\"\",IF(J146<=0,lookup!AD138+lookup!AF138,lookup!AD138))","v":""},{"$f":"IF(E146=\"\",\"\",lookup!AE137)","v":""},"","",{"$f":"IF(E146=\"\",\"\",IF(lookup!AF138<0,0,lookup!AF138))","v":""}]
[null,null,null,null,{"$f":"IF(J146=\"\",\"\",IF(J146<=0,\"\",lookup!AC139))","v":""},{"$f":"IF(E147=\"\",\"\",IF(J147<=0,lookup!AD139+lookup!AF139,lookup!AD139))","v":""},{"$f":"IF(E147=\"\",\"\",lookup!AE138)","v":""},"","",{"$f":"IF(E147=\"\",\"\",IF(lookup!AF139<0,0,lookup!AF139))","v":""}]
[null,null,null,null,{"$f":"IF(J147=\"\",\"\",IF(J147<=0,\"\",lookup!AC140))","v":""},{"$f":"IF(E148=\"\",\"\",IF(J148<=0,lookup!AD140+lookup!AF140,lookup!AD140))","v":""},{"$f":"IF(E148=\"\",\"\",lookup!AE139)","v":""},"","",{"$f":"IF(E148=\"\",\"\",IF(lookup!AF140<0,0,lookup!AF140))","v":""}]
[null,null,null,null,{"$f":"IF(J148=\"\",\"\",IF(J148<=0,\"\",lookup!AC141))","v":""},{"$f":"IF(E149=\"\",\"\",IF(J149<=0,lookup!AD141+lookup!AF141,lookup!AD141))","v":""},{"$f":"IF(E149=\"\",\"\",lookup!AE140)","v":""},"","",{"$f":"IF(E149=\"\",\"\",IF(lookup!AF141<0,0,lookup!AF141))","v":""}]
[null,null,null,null,{"$f":"IF(J149=\"\",\"\",IF(J149<=0,\"\",lookup!AC142))","v":""},{"$f":"IF(E150=\"\",\"\",IF(J150<=0,lookup!AD142+lookup!AF142,lookup!AD142))","v":""},{"$f":"IF(E150=\"\",\"\",lookup!AE141)","v":""},"","",{"$f":"IF(E150=\"\",\"\",IF(lookup!AF142<0,0,lookup!AF142))","v":""}]
[null,null,null,null,{"$f":"IF(J150=\"\",\"\",IF(J150<=0,\"\",lookup!AC143))","v":""},{"$f":"IF(E151=\"\",\"\",IF(J151<=0,lookup!AD143+lookup!AF143,lookup!AD143))","v":""},{"$f":"IF(E151=\"\",\"\",lookup!AE142)","v":""},"","",{"$f":"IF(E151=\"\",\"\",IF(lookup!AF143<0,0,lookup!AF143))","v":""}]
[null,null,null,null,{"$f":"IF(J151=\"\",\"\",IF(J151<=0,\"\",lookup!AC144))","v":""},{"$f":"IF(E152=\"\",\"\",IF(J152<=0,lookup!AD144+lookup!AF144,lookup!AD144))","v":""},{"$f":"IF(E152=\"\",\"\",lookup!AE143)","v":""},"","",{"$f":"IF(E152=\"\",\"\",IF(lookup!AF144<0,0,lookup!AF144))","v":""}]
[null,null,null,null,{"$f":"IF(J152=\"\",\"\",IF(J152<=0,\"\",lookup!AC145))","v":""},{"$f":"IF(E153=\"\",\"\",IF(J153<=0,lookup!AD145+lookup!AF145,lookup!AD145))","v":""},{"$f":"IF(E153=\"\",\"\",lookup!AE144)","v":""},"","",{"$f":"IF(E153=\"\",\"\",IF(lookup!AF145<0,0,lookup!AF145))","v":""}]
[null,null,null,null,{"$f":"IF(J153=\"\",\"\",IF(J153<=0,\"\",lookup!AC146))","v":""},{"$f":"IF(E154=\"\",\"\",IF(J154<=0,lookup!AD146+lookup!AF146,lookup!AD146))","v":""},{"$f":"IF(E154=\"\",\"\",lookup!AE145)","v":""},"","",{"$f":"IF(E154=\"\",\"\",IF(lookup!AF146<0,0,lookup!AF146))","v":""}]
[null,null,null,null,{"$f":"IF(J154=\"\",\"\",IF(J154<=0,\"\",lookup!AC147))","v":""},{"$f":"IF(E155=\"\",\"\",IF(J155<=0,lookup!AD147+lookup!AF147,lookup!AD147))","v":""},{"$f":"IF(E155=\"\",\"\",lookup!AE146)","v":""},"","",{"$f":"IF(E155=\"\",\"\",IF(lookup!AF147<0,0,lookup!AF147))","v":""}]
[null,null,null,null,{"$f":"IF(J155=\"\",\"\",IF(J155<=0,\"\",lookup!AC148))","v":""},{"$f":"IF(E156=\"\",\"\",IF(J156<=0,lookup!AD148+lookup!AF148,lookup!AD148))","v":""},{"$f":"IF(E156=\"\",\"\",lookup!AE147)","v":""},"","",{"$f":"IF(E156=\"\",\"\",IF(lookup!AF148<0,0,lookup!AF148))","v":""}]
[null,null,null,null,{"$f":"IF(J156=\"\",\"\",IF(J156<=0,\"\",lookup!AC149))","v":""},{"$f":"IF(E157=\"\",\"\",IF(J157<=0,lookup!AD149+lookup!AF149,lookup!AD149))","v":""},{"$f":"IF(E157=\"\",\"\",lookup!AE148)","v":""},"","",{"$f":"IF(E157=\"\",\"\",IF(lookup!AF149<0,0,lookup!AF149))","v":""}]
[null,null,null,null,{"$f":"IF(J157=\"\",\"\",IF(J157<=0,\"\",lookup!AC150))","v":""},{"$f":"IF(E158=\"\",\"\",IF(J158<=0,lookup!AD150+lookup!AF150,lookup!AD150))","v":""},{"$f":"IF(E158=\"\",\"\",lookup!AE149)","v":""},"","",{"$f":"IF(E158=\"\",\"\",IF(lookup!AF150<0,0,lookup!AF150))","v":""}]
[null,null,null,null,{"$f":"IF(J158=\"\",\"\",IF(J158<=0,\"\",lookup!AC151))","v":""},{"$f":"IF(E159=\"\",\"\",IF(J159<=0,lookup!AD151+lookup!AF151,lookup!AD151))","v":""},{"$f":"IF(E159=\"\",\"\",lookup!AE150)","v":""},"","",{"$f":"IF(E159=\"\",\"\",IF(lookup!AF151<0,0,lookup!AF151))","v":""}]
[null,null,null,null,{"$f":"IF(J159=\"\",\"\",IF(J159<=0,\"\",lookup!AC152))","v":""},{"$f":"IF(E160=\"\",\"\",IF(J160<=0,lookup!AD152+lookup!AF152,lookup!AD152))","v":""},{"$f":"IF(E160=\"\",\"\",lookup!AE151)","v":""},"","",{"$f":"IF(E160=\"\",\"\",IF(lookup!AF152<0,0,lookup!AF152))","v":""}]
[null,null,null,null,{"$f":"IF(J160=\"\",\"\",IF(J160<=0,\"\",lookup!AC153))","v":""},{"$f":"IF(E161=\"\",\"\",IF(J161<=0,lookup!AD153+lookup!AF153,lookup!AD153))","v":""},{"$f":"IF(E161=\"\",\"\",lookup!AE152)","v":""},"","",{"$f":"IF(E161=\"\",\"\",IF(lookup!AF153<0,0,lookup!AF153))","v":""}]
[null,null,null,null,{"$f":"IF(J161=\"\",\"\",IF(J161<=0,\"\",lookup!AC154))","v":""},{"$f":"IF(E162=\"\",\"\",IF(J162<=0,lookup!AD154+lookup!AF154,lookup!AD154))","v":""},{"$f":"IF(E162=\"\",\"\",lookup!AE153)","v":""},"","",{"$f":"IF(E162=\"\",\"\",IF(lookup!AF154<0,0,lookup!AF154))","v":""}]
[null,null,null,null,{"$f":"IF(J162=\"\",\"\",IF(J162<=0,\"\",lookup!AC155))","v":""},{"$f":"IF(E163=\"\",\"\",IF(J163<=0,lookup!AD155+lookup!AF155,lookup!AD155))","v":""},{"$f":"IF(E163=\"\",\"\",lookup!AE154)","v":""},"","",{"$f":"IF(E163=\"\",\"\",IF(lookup!AF155<0,0,lookup!AF155))","v":""}]
[null,null,null,null,{"$f":"IF(J163=\"\",\"\",IF(J163<=0,\"\",lookup!AC156))","v":""},{"$f":"IF(E164=\"\",\"\",IF(J164<=0,lookup!AD156+lookup!AF156,lookup!AD156))","v":""},{"$f":"IF(E164=\"\",\"\",lookup!AE155)","v":""},"","",{"$f":"IF(E164=\"\",\"\",IF(lookup!AF156<0,0,lookup!AF156))","v":""}]
[null,null,null,null,{"$f":"IF(J164=\"\",\"\",IF(J164<=0,\"\",lookup!AC157))","v":""},{"$f":"IF(E165=\"\",\"\",IF(J165<=0,lookup!AD157+lookup!AF157,lookup!AD157))","v":""},{"$f":"IF(E165=\"\",\"\",lookup!AE156)","v":""},"","",{"$f":"IF(E165=\"\",\"\",IF(lookup!AF157<0,0,lookup!AF157))","v":""}]
[null,null,null,null,{"$f":"IF(J165=\"\",\"\",IF(J165<=0,\"\",lookup!AC158))","v":""},{"$f":"IF(E166=\"\",\"\",IF(J166<=0,lookup!AD158+lookup!AF158,lookup!AD158))","v":""},{"$f":"IF(E166=\"\",\"\",lookup!AE157)","v":""},"","",{"$f":"IF(E166=\"\",\"\",IF(lookup!AF158<0,0,lookup!AF158))","v":""}]
[null,null,null,null,{"$f":"IF(J166=\"\",\"\",IF(J166<=0,\"\",lookup!AC159))","v":""},{"$f":"IF(E167=\"\",\"\",IF(J167<=0,lookup!AD159+lookup!AF159,lookup!AD159))","v":""},{"$f":"IF(E167=\"\",\"\",lookup!AE158)","v":""},"","",{"$f":"IF(E167=\"\",\"\",IF(lookup!AF159<0,0,lookup!AF159))","v":""}]
[null,null,null,null,{"$f":"IF(J167=\"\",\"\",IF(J167<=0,\"\",lookup!AC160))","v":""},{"$f":"IF(E168=\"\",\"\",IF(J168<=0,lookup!AD160+lookup!AF160,lookup!AD160))","v":""},{"$f":"IF(E168=\"\",\"\",lookup!AE159)","v":""},"","",{"$f":"IF(E168=\"\",\"\",IF(lookup!AF160<0,0,lookup!AF160))","v":""}]
[null,null,null,null,{"$f":"IF(J168=\"\",\"\",IF(J168<=0,\"\",lookup!AC161))","v":""},{"$f":"IF(E169=\"\",\"\",IF(J169<=0,lookup!AD161+lookup!AF161,lookup!AD161))","v":""},{"$f":"IF(E169=\"\",\"\",lookup!AE160)","v":""},"","",{"$f":"IF(E169=\"\",\"\",IF(lookup!AF161<0,0,lookup!AF161))","v":""}]
[null,null,null,null,{"$f":"IF(J169=\"\",\"\",IF(J169<=0,\"\",lookup!AC162))","v":""},{"$f":"IF(E170=\"\",\"\",IF(J170<=0,lookup!AD162+lookup!AF162,lookup!AD162))","v":""},{"$f":"IF(E170=\"\",\"\",lookup!AE161)","v":""},"","",{"$f":"IF(E170=\"\",\"\",IF(lookup!AF162<0,0,lookup!AF162))","v":""}]
[null,null,null,null,{"$f":"IF(J170=\"\",\"\",IF(J170<=0,\"\",lookup!AC163))","v":""},{"$f":"IF(E171=\"\",\"\",IF(J171<=0,lookup!AD163+lookup!AF163,lookup!AD163))","v":""},{"$f":"IF(E171=\"\",\"\",lookup!AE162)","v":""},"","",{"$f":"IF(E171=\"\",\"\",IF(lookup!AF163<0,0,lookup!AF163))","v":""}]
[null,null,null,null,{"$f":"IF(J171=\"\",\"\",IF(J171<=0,\"\",lookup!AC164))","v":""},{"$f":"IF(E172=\"\",\"\",IF(J172<=0,lookup!AD164+lookup!AF164,lookup!AD164))","v":""},{"$f":"IF(E172=\"\",\"\",lookup!AE163)","v":""},"","",{"$f":"IF(E172=\"\",\"\",IF(lookup!AF164<0,0,lookup!AF164))","v":""}]
[null,null,null,null,{"$f":"IF(J172=\"\",\"\",IF(J172<=0,\"\",lookup!AC165))","v":""},{"$f":"IF(E173=\"\",\"\",IF(J173<=0,lookup!AD165+lookup!AF165,lookup!AD165))","v":""},{"$f":"IF(E173=\"\",\"\",lookup!AE164)","v":""},"","",{"$f":"IF(E173=\"\",\"\",IF(lookup!AF165<0,0,lookup!AF165))","v":""}]
[null,null,null,null,{"$f":"IF(J173=\"\",\"\",IF(J173<=0,\"\",lookup!AC166))","v":""},{"$f":"IF(E174=\"\",\"\",IF(J174<=0,lookup!AD166+lookup!AF166,lookup!AD166))","v":""},{"$f":"IF(E174=\"\",\"\",lookup!AE165)","v":""},"","",{"$f":"IF(E174=\"\",\"\",IF(lookup!AF166<0,0,lookup!AF166))","v":""}]
[null,null,null,null,{"$f":"IF(J174=\"\",\"\",IF(J174<=0,\"\",lookup!AC167))","v":""},{"$f":"IF(E175=\"\",\"\",IF(J175<=0,lookup!AD167+lookup!AF167,lookup!AD167))","v":""},{"$f":"IF(E175=\"\",\"\",lookup!AE166)","v":""},"","",{"$f":"IF(E175=\"\",\"\",IF(lookup!AF167<0,0,lookup!AF167))","v":""}]
[null,null,null,null,{"$f":"IF(J175=\"\",\"\",IF(J175<=0,\"\",lookup!AC168))","v":""},{"$f":"IF(E176=\"\",\"\",IF(J176<=0,lookup!AD168+lookup!AF168,lookup!AD168))","v":""},{"$f":"IF(E176=\"\",\"\",lookup!AE167)","v":""},"","",{"$f":"IF(E176=\"\",\"\",IF(lookup!AF168<0,0,lookup!AF168))","v":""}]
[null,null,null,null,{"$f":"IF(J176=\"\",\"\",IF(J176<=0,\"\",lookup!AC169))","v":""},{"$f":"IF(E177=\"\",\"\",IF(J177<=0,lookup!AD169+lookup!AF169,lookup!AD169))","v":""},{"$f":"IF(E177=\"\",\"\",lookup!AE168)","v":""},"","",{"$f":"IF(E177=\"\",\"\",IF(lookup!AF169<0,0,lookup!AF169))","v":""}]
[null,null,null,null,{"$f":"IF(J177=\"\",\"\",IF(J177<=0,\"\",lookup!AC170))","v":""},{"$f":"IF(E178=\"\",\"\",IF(J178<=0,lookup!AD170+lookup!AF170,lookup!AD170))","v":""},{"$f":"IF(E178=\"\",\"\",lookup!AE169)","v":""},"","",{"$f":"IF(E178=\"\",\"\",IF(lookup!AF170<0,0,lookup!AF170))","v":""}]
[null,null,null,null,{"$f":"IF(J178=\"\",\"\",IF(J178<=0,\"\",lookup!AC171))","v":""},{"$f":"IF(E179=\"\",\"\",IF(J179<=0,lookup!AD171+lookup!AF171,lookup!AD171))","v":""},{"$f":"IF(E179=\"\",\"\",lookup!AE170)","v":""},"","",{"$f":"IF(E179=\"\",\"\",IF(lookup!AF171<0,0,lookup!AF171))","v":""}]
[null,null,null,null,{"$f":"IF(J179=\"\",\"\",IF(J179<=0,\"\",lookup!AC172))","v":""},{"$f":"IF(E180=\"\",\"\",IF(J180<=0,lookup!AD172+lookup!AF172,lookup!AD172))","v":""},{"$f":"IF(E180=\"\",\"\",lookup!AE171)","v":""},"","",{"$f":"IF(E180=\"\",\"\",IF(lookup!AF172<0,0,lookup!AF172))","v":""}]
[null,null,null,null,{"$f":"IF(J180=\"\",\"\",IF(J180<=0,\"\",lookup!AC173))","v":""},{"$f":"IF(E181=\"\",\"\",IF(J181<=0,lookup!AD173+lookup!AF173,lookup!AD173))","v":""},{"$f":"IF(E181=\"\",\"\",lookup!AE172)","v":""},"","",{"$f":"IF(E181=\"\",\"\",IF(lookup!AF173<0,0,lookup!AF173))","v":""}]
[null,null,null,null,{"$f":"IF(J181=\"\",\"\",IF(J181<=0,\"\",lookup!AC174))","v":""},{"$f":"IF(E182=\"\",\"\",IF(J182<=0,lookup!AD174+lookup!AF174,lookup!AD174))","v":""},{"$f":"IF(E182=\"\",\"\",lookup!AE173)","v":""},"","",{"$f":"IF(E182=\"\",\"\",IF(lookup!AF174<0,0,lookup!AF174))","v":""}]
[null,null,null,null,{"$f":"IF(J182=\"\",\"\",IF(J182<=0,\"\",lookup!AC175))","v":""},{"$f":"IF(E183=\"\",\"\",IF(J183<=0,lookup!AD175+lookup!AF175,lookup!AD175))","v":""},{"$f":"IF(E183=\"\",\"\",lookup!AE174)","v":""},"","",{"$f":"IF(E183=\"\",\"\",IF(lookup!AF175<0,0,lookup!AF175))","v":""}]
[null,null,null,null,{"$f":"IF(J183=\"\",\"\",IF(J183<=0,\"\",lookup!AC176))","v":""},{"$f":"IF(E184=\"\",\"\",IF(J184<=0,lookup!AD176+lookup!AF176,lookup!AD176))","v":""},{"$f":"IF(E184=\"\",\"\",lookup!AE175)","v":""},"","",{"$f":"IF(E184=\"\",\"\",IF(lookup!AF176<0,0,lookup!AF176))","v":""}]
[null,null,null,null,{"$f":"IF(J184=\"\",\"\",IF(J184<=0,\"\",lookup!AC177))","v":""},{"$f":"IF(E185=\"\",\"\",IF(J185<=0,lookup!AD177+lookup!AF177,lookup!AD177))","v":""},{"$f":"IF(E185=\"\",\"\",lookup!AE176)","v":""},"","",{"$f":"IF(E185=\"\",\"\",IF(lookup!AF177<0,0,lookup!AF177))","v":""}]
[null,null,null,null,{"$f":"IF(J185=\"\",\"\",IF(J185<=0,\"\",lookup!AC178))","v":""},{"$f":"IF(E186=\"\",\"\",IF(J186<=0,lookup!AD178+lookup!AF178,lookup!AD178))","v":""},{"$f":"IF(E186=\"\",\"\",lookup!AE177)","v":""},"","",{"$f":"IF(E186=\"\",\"\",IF(lookup!AF178<0,0,lookup!AF178))","v":""}]
[null,null,null,null,{"$f":"IF(J186=\"\",\"\",IF(J186<=0,\"\",lookup!AC179))","v":""},{"$f":"IF(E187=\"\",\"\",IF(J187<=0,lookup!AD179+lookup!AF179,lookup!AD179))","v":""},{"$f":"IF(E187=\"\",\"\",lookup!AE178)","v":""},"","",{"$f":"IF(E187=\"\",\"\",IF(lookup!AF179<0,0,lookup!AF179))","v":""}]
[null,null,null,null,{"$f":"IF(J187=\"\",\"\",IF(J187<=0,\"\",lookup!AC180))","v":""},{"$f":"IF(E188=\"\",\"\",IF(J188<=0,lookup!AD180+lookup!AF180,lookup!AD180))","v":""},{"$f":"IF(E188=\"\",\"\",lookup!AE179)","v":""},"","",{"$f":"IF(E188=\"\",\"\",IF(lookup!AF180<0,0,lookup!AF180))","v":""}]
[null,null,null,null,{"$f":"IF(J188=\"\",\"\",IF(J188<=0,\"\",lookup!AC181))","v":""},{"$f":"IF(E189=\"\",\"\",IF(J189<=0,lookup!AD181+lookup!AF181,lookup!AD181))","v":""},{"$f":"IF(E189=\"\",\"\",lookup!AE180)","v":""},"","",{"$f":"IF(E189=\"\",\"\",IF(lookup!AF181<0,0,lookup!AF181))","v":""}]
[null,null,null,null,{"$f":"IF(J189=\"\",\"\",IF(J189<=0,\"\",lookup!AC182))","v":""},{"$f":"IF(E190=\"\",\"\",IF(J190<=0,lookup!AD182+lookup!AF182,lookup!AD182))","v":""},{"$f":"IF(E190=\"\",\"\",lookup!AE181)","v":""},"","",{"$f":"IF(E190=\"\",\"\",IF(lookup!AF182<0,0,lookup!AF182))","v":""}]
[null,null,null,null,{"$f":"IF(J190=\"\",\"\",IF(J190<=0,\"\",lookup!AC183))","v":""},{"$f":"IF(E191=\"\",\"\",IF(J191<=0,lookup!AD183+lookup!AF183,lookup!AD183))","v":""},{"$f":"IF(E191=\"\",\"\",lookup!AE182)","v":""},"","",{"$f":"IF(E191=\"\",\"\",IF(lookup!AF183<0,0,lookup!AF183))","v":""}]
[null,null,null,null,{"$f":"IF(J191=\"\",\"\",IF(J191<=0,\"\",lookup!AC184))","v":""},{"$f":"IF(E192=\"\",\"\",IF(J192<=0,lookup!AD184+lookup!AF184,lookup!AD184))","v":""},{"$f":"IF(E192=\"\",\"\",lookup!AE183)","v":""},"","",{"$f":"IF(E192=\"\",\"\",IF(lookup!AF184<0,0,lookup!AF184))","v":""}]
[null,null,null,null,{"$f":"IF(J192=\"\",\"\",IF(J192<=0,\"\",lookup!AC185))","v":""},{"$f":"IF(E193=\"\",\"\",IF(J193<=0,lookup!AD185+lookup!AF185,lookup!AD185))","v":""},{"$f":"IF(E193=\"\",\"\",lookup!AE184)","v":""},"","",{"$f":"IF(E193=\"\",\"\",IF(lookup!AF185<0,0,lookup!AF185))","v":""}]
[null,null,null,null,{"$f":"IF(J193=\"\",\"\",IF(J193<=0,\"\",lookup!AC186))","v":""},{"$f":"IF(E194=\"\",\"\",IF(J194<=0,lookup!AD186+lookup!AF186,lookup!AD186))","v":""},{"$f":"IF(E194=\"\",\"\",lookup!AE185)","v":""},"","",{"$f":"IF(E194=\"\",\"\",IF(lookup!AF186<0,0,lookup!AF186))","v":""}]
[null,null,null,null,{"$f":"IF(J194=\"\",\"\",IF(J194<=0,\"\",lookup!AC187))","v":""},{"$f":"IF(E195=\"\",\"\",IF(J195<=0,lookup!AD187+lookup!AF187,lookup!AD187))","v":""},{"$f":"IF(E195=\"\",\"\",lookup!AE186)","v":""},"","",{"$f":"IF(E195=\"\",\"\",IF(lookup!AF187<0,0,lookup!AF187))","v":""}]
[null,null,null,null,{"$f":"IF(J195=\"\",\"\",IF(J195<=0,\"\",lookup!AC188))","v":""},{"$f":"IF(E196=\"\",\"\",IF(J196<=0,lookup!AD188+lookup!AF188,lookup!AD188))","v":""},{"$f":"IF(E196=\"\",\"\",lookup!AE187)","v":""},"","",{"$f":"IF(E196=\"\",\"\",IF(lookup!AF188<0,0,lookup!AF188))","v":""}]
[null,null,null,null,{"$f":"IF(J196=\"\",\"\",IF(J196<=0,\"\",lookup!AC189))","v":""},{"$f":"IF(E197=\"\",\"\",IF(J197<=0,lookup!AD189+lookup!AF189,lookup!AD189))","v":""},{"$f":"IF(E197=\"\",\"\",lookup!AE188)","v":""},"","",{"$f":"IF(E197=\"\",\"\",IF(lookup!AF189<0,0,lookup!AF189))","v":""}]
[null,null,null,null,{"$f":"IF(J197=\"\",\"\",IF(J197<=0,\"\",lookup!AC190))","v":""},{"$f":"IF(E198=\"\",\"\",IF(J198<=0,lookup!AD190+lookup!AF190,lookup!AD190))","v":""},{"$f":"IF(E198=\"\",\"\",lookup!AE189)","v":""},"","",{"$f":"IF(E198=\"\",\"\",IF(lookup!AF190<0,0,lookup!AF190))","v":""}]
[null,null,null,null,{"$f":"IF(J198=\"\",\"\",IF(J198<=0,\"\",lookup!AC191))","v":""},{"$f":"IF(E199=\"\",\"\",IF(J199<=0,lookup!AD191+lookup!AF191,lookup!AD191))","v":""},{"$f":"IF(E199=\"\",\"\",lookup!AE190)","v":""},"","",{"$f":"IF(E199=\"\",\"\",IF(lookup!AF191<0,0,lookup!AF191))","v":""}]
[null,null,null,null,{"$f":"IF(J199=\"\",\"\",IF(J199<=0,\"\",lookup!AC192))","v":""},{"$f":"IF(E200=\"\",\"\",IF(J200<=0,lookup!AD192+lookup!AF192,lookup!AD192))","v":""},{"$f":"IF(E200=\"\",\"\",lookup!AE191)","v":""},"","",{"$f":"IF(E200=\"\",\"\",IF(lookup!AF192<0,0,lookup!AF192))","v":""}]
[null,null,null,null,{"$f":"IF(J200=\"\",\"\",IF(J200<=0,\"\",lookup!AC193))","v":""},{"$f":"IF(E201=\"\",\"\",IF(J201<=0,lookup!AD193+lookup!AF193,lookup!AD193))","v":""},{"$f":"IF(E201=\"\",\"\",lookup!AE192)","v":""},"","",{"$f":"IF(E201=\"\",\"\",IF(lookup!AF193<0,0,lookup!AF193))","v":""}]
[null,null,null,null,{"$f":"IF(J201=\"\",\"\",IF(J201<=0,\"\",lookup!AC194))","v":""},{"$f":"IF(E202=\"\",\"\",IF(J202<=0,lookup!AD194+lookup!AF194,lookup!AD194))","v":""},{"$f":"IF(E202=\"\",\"\",lookup!AE193)","v":""},"","",{"$f":"IF(E202=\"\",\"\",IF(lookup!AF194<0,0,lookup!AF194))","v":""}]
[null,null,null,null,{"$f":"IF(J202=\"\",\"\",IF(J202<=0,\"\",lookup!AC195))","v":""},{"$f":"IF(E203=\"\",\"\",IF(J203<=0,lookup!AD195+lookup!AF195,lookup!AD195))","v":""},{"$f":"IF(E203=\"\",\"\",lookup!AE194)","v":""},"","",{"$f":"IF(E203=\"\",\"\",IF(lookup!AF195<0,0,lookup!AF195))","v":""}]
[null,null,null,null,{"$f":"IF(J203=\"\",\"\",IF(J203<=0,\"\",lookup!AC196))","v":""},{"$f":"IF(E204=\"\",\"\",IF(J204<=0,lookup!AD196+lookup!AF196,lookup!AD196))","v":""},{"$f":"IF(E204=\"\",\"\",lookup!AE195)","v":""},{"$f":"IF(E204=\"\",\"\",H203+G204)","v":""},{"$f":"IF(E204=\"\",\"\",F204-G204)","v":""},{"$f":"IF(E204=\"\",\"\",IF(lookup!AF196<0,0,lookup!AF196))","v":""}]
[null,null,null,null,{"$f":"IF(J204=\"\",\"\",IF(J204<=0,\"\",lookup!AC197))","v":""},{"$f":"IF(E205=\"\",\"\",IF(J205<=0,lookup!AD197+lookup!AF197,lookup!AD197))","v":""},{"$f":"IF(E205=\"\",\"\",lookup!AE196)","v":""},"","",{"$f":"IF(E205=\"\",\"\",IF(lookup!AF197<0,0,lookup!AF197))","v":""}]
[null,null,null,null,{"$f":"IF(J205=\"\",\"\",IF(J205<=0,\"\",lookup!AC198))","v":""},{"$f":"IF(E206=\"\",\"\",IF(J206<=0,lookup!AD198+lookup!AF198,lookup!AD198))","v":""},{"$f":"IF(E206=\"\",\"\",lookup!AE197)","v":""},"","",{"$f":"IF(E206=\"\",\"\",IF(lookup!AF198<0,0,lookup!AF198))","v":""}]
[null,null,null,null,{"$f":"IF(J206=\"\",\"\",IF(J206<=0,\"\",lookup!AC199))","v":""},{"$f":"IF(E207=\"\",\"\",IF(J207<=0,lookup!AD199+lookup!AF199,lookup!AD199))","v":""},{"$f":"IF(E207=\"\",\"\",lookup!AE198)","v":""},"","",{"$f":"IF(E207=\"\",\"\",IF(lookup!AF199<0,0,lookup!AF199))","v":""}]
[null,null,null,null,{"$f":"IF(J207=\"\",\"\",IF(J207<=0,\"\",lookup!AC200))","v":""},{"$f":"IF(E208=\"\",\"\",IF(J208<=0,lookup!AD200+lookup!AF200,lookup!AD200))","v":""},{"$f":"IF(E208=\"\",\"\",lookup!AE199)","v":""},"","",{"$f":"IF(E208=\"\",\"\",IF(lookup!AF200<0,0,lookup!AF200))","v":""}]
[null,null,null,null,{"$f":"IF(J208=\"\",\"\",IF(J208<=0,\"\",lookup!AC201))","v":""},{"$f":"IF(E209=\"\",\"\",IF(J209<=0,lookup!AD201+lookup!AF201,lookup!AD201))","v":""},{"$f":"IF(E209=\"\",\"\",lookup!AE200)","v":""},"","",{"$f":"IF(E209=\"\",\"\",IF(lookup!AF201<0,0,lookup!AF201))","v":""}]
[null,null,null,null,{"$f":"IF(J209=\"\",\"\",IF(J209<=0,\"\",lookup!AC202))","v":""},{"$f":"IF(E210=\"\",\"\",IF(J210<=0,lookup!AD202+lookup!AF202,lookup!AD202))","v":""},{"$f":"IF(E210=\"\",\"\",lookup!AE201)","v":""},"","",{"$f":"IF(E210=\"\",\"\",IF(lookup!AF202<0,0,lookup!AF202))","v":""}]
[null,null,null,null,{"$f":"IF(J210=\"\",\"\",IF(J210<=0,\"\",lookup!AC203))","v":""},{"$f":"IF(E211=\"\",\"\",IF(J211<=0,lookup!AD203+lookup!AF203,lookup!AD203))","v":""},{"$f":"IF(E211=\"\",\"\",lookup!AE202)","v":""},"","",{"$f":"IF(E211=\"\",\"\",IF(lookup!AF203<0,0,lookup!AF203))","v":""}]
[null,null,null,null,{"$f":"IF(J211=\"\",\"\",IF(J211<=0,\"\",lookup!AC204))","v":""},{"$f":"IF(E212=\"\",\"\",IF(J212<=0,lookup!AD204+lookup!AF204,lookup!AD204))","v":""},{"$f":"IF(E212=\"\",\"\",lookup!AE203)","v":""},"","",{"$f":"IF(E212=\"\",\"\",IF(lookup!AF204<0,0,lookup!AF204))","v":""}]
[null,null,null,null,{"$f":"IF(J212=\"\",\"\",IF(J212<=0,\"\",lookup!AC205))","v":""},{"$f":"IF(E213=\"\",\"\",IF(J213<=0,lookup!AD205+lookup!AF205,lookup!AD205))","v":""},{"$f":"IF(E213=\"\",\"\",lookup!AE204)","v":""},"","",{"$f":"IF(E213=\"\",\"\",IF(lookup!AF205<0,0,lookup!AF205))","v":""}]
[null,null,null,null,{"$f":"IF(J213=\"\",\"\",IF(J213<=0,\"\",lookup!AC206))","v":""},{"$f":"IF(E214=\"\",\"\",IF(J214<=0,lookup!AD206+lookup!AF206,lookup!AD206))","v":""},{"$f":"IF(E214=\"\",\"\",lookup!AE205)","v":""},"","",{"$f":"IF(E214=\"\",\"\",IF(lookup!AF206<0,0,lookup!AF206))","v":""}]
[null,null,null,null,{"$f":"IF(J214=\"\",\"\",IF(J214<=0,\"\",lookup!AC207))","v":""},{"$f":"IF(E215=\"\",\"\",IF(J215<=0,lookup!AD207+lookup!AF207,lookup!AD207))","v":""},{"$f":"IF(E215=\"\",\"\",lookup!AE206)","v":""},"","",{"$f":"IF(E215=\"\",\"\",IF(lookup!AF207<0,0,lookup!AF207))","v":""}]
[null,null,null,null,{"$f":"IF(J215=\"\",\"\",IF(J215<=0,\"\",lookup!AC208))","v":""},{"$f":"IF(E216=\"\",\"\",IF(J216<=0,lookup!AD208+lookup!AF208,lookup!AD208))","v":""},{"$f":"IF(E216=\"\",\"\",lookup!AE207)","v":""},"","",{"$f":"IF(E216=\"\",\"\",IF(lookup!AF208<0,0,lookup!AF208))","v":""}]
[null,null,null,null,{"$f":"IF(J216=\"\",\"\",IF(J216<=0,\"\",lookup!AC209))","v":""},{"$f":"IF(E217=\"\",\"\",IF(J217<=0,lookup!AD209+lookup!AF209,lookup!AD209))","v":""},{"$f":"IF(E217=\"\",\"\",lookup!AE208)","v":""},"","",{"$f":"IF(E217=\"\",\"\",IF(lookup!AF209<0,0,lookup!AF209))","v":""}]
[null,null,null,null,{"$f":"IF(J217=\"\",\"\",IF(J217<=0,\"\",lookup!AC210))","v":""},{"$f":"IF(E218=\"\",\"\",IF(J218<=0,lookup!AD210+lookup!AF210,lookup!AD210))","v":""},{"$f":"IF(E218=\"\",\"\",lookup!AE209)","v":""},"","",{"$f":"IF(E218=\"\",\"\",IF(lookup!AF210<0,0,lookup!AF210))","v":""}]
[null,null,null,null,{"$f":"IF(J218=\"\",\"\",IF(J218<=0,\"\",lookup!AC211))","v":""},{"$f":"IF(E219=\"\",\"\",IF(J219<=0,lookup!AD211+lookup!AF211,lookup!AD211))","v":""},{"$f":"IF(E219=\"\",\"\",lookup!AE210)","v":""},"","",{"$f":"IF(E219=\"\",\"\",IF(lookup!AF211<0,0,lookup!AF211))","v":""}]
[null,null,null,null,{"$f":"IF(J219=\"\",\"\",IF(J219<=0,\"\",lookup!AC212))","v":""},{"$f":"IF(E220=\"\",\"\",IF(J220<=0,lookup!AD212+lookup!AF212,lookup!AD212))","v":""},{"$f":"IF(E220=\"\",\"\",lookup!AE211)","v":""},"","",{"$f":"IF(E220=\"\",\"\",IF(lookup!AF212<0,0,lookup!AF212))","v":""}]
[null,null,null,null,{"$f":"IF(J220=\"\",\"\",IF(J220<=0,\"\",lookup!AC213))","v":""},{"$f":"IF(E221=\"\",\"\",IF(J221<=0,lookup!AD213+lookup!AF213,lookup!AD213))","v":""},{"$f":"IF(E221=\"\",\"\",lookup!AE212)","v":""},"","",{"$f":"IF(E221=\"\",\"\",IF(lookup!AF213<0,0,lookup!AF213))","v":""}]
[null,null,null,null,{"$f":"IF(J221=\"\",\"\",IF(J221<=0,\"\",lookup!AC214))","v":""},{"$f":"IF(E222=\"\",\"\",IF(J222<=0,lookup!AD214+lookup!AF214,lookup!AD214))","v":""},{"$f":"IF(E222=\"\",\"\",lookup!AE213)","v":""},"","",{"$f":"IF(E222=\"\",\"\",IF(lookup!AF214<0,0,lookup!AF214))","v":""}]
[null,null,null,null,{"$f":"IF(J222=\"\",\"\",IF(J222<=0,\"\",lookup!AC215))","v":""},{"$f":"IF(E223=\"\",\"\",IF(J223<=0,lookup!AD215+lookup!AF215,lookup!AD215))","v":""},{"$f":"IF(E223=\"\",\"\",lookup!AE214)","v":""},"","",{"$f":"IF(E223=\"\",\"\",IF(lookup!AF215<0,0,lookup!AF215))","v":""}]
[null,null,null,null,{"$f":"IF(J223=\"\",\"\",IF(J223<=0,\"\",lookup!AC216))","v":""},{"$f":"IF(E224=\"\",\"\",IF(J224<=0,lookup!AD216+lookup!AF216,lookup!AD216))","v":""},{"$f":"IF(E224=\"\",\"\",lookup!AE215)","v":""},"","",{"$f":"IF(E224=\"\",\"\",IF(lookup!AF216<0,0,lookup!AF216))","v":""}]
[null,null,null,null,{"$f":"IF(J224=\"\",\"\",IF(J224<=0,\"\",lookup!AC217))","v":""},{"$f":"IF(E225=\"\",\"\",IF(J225<=0,lookup!AD217+lookup!AF217,lookup!AD217))","v":""},{"$f":"IF(E225=\"\",\"\",lookup!AE216)","v":""},"","",{"$f":"IF(E225=\"\",\"\",IF(lookup!AF217<0,0,lookup!AF217))","v":""}]
[null,null,null,null,{"$f":"IF(J225=\"\",\"\",IF(J225<=0,\"\",lookup!AC218))","v":""},{"$f":"IF(E226=\"\",\"\",IF(J226<=0,lookup!AD218+lookup!AF218,lookup!AD218))","v":""},{"$f":"IF(E226=\"\",\"\",lookup!AE217)","v":""},"","",{"$f":"IF(E226=\"\",\"\",IF(lookup!AF218<0,0,lookup!AF218))","v":""}]
[null,null,null,null,{"$f":"IF(J226=\"\",\"\",IF(J226<=0,\"\",lookup!AC219))","v":""},{"$f":"IF(E227=\"\",\"\",IF(J227<=0,lookup!AD219+lookup!AF219,lookup!AD219))","v":""},{"$f":"IF(E227=\"\",\"\",lookup!AE218)","v":""},"","",{"$f":"IF(E227=\"\",\"\",IF(lookup!AF219<0,0,lookup!AF219))","v":""}]
[null,null,null,null,{"$f":"IF(J227=\"\",\"\",IF(J227<=0,\"\",lookup!AC220))","v":""},{"$f":"IF(E228=\"\",\"\",IF(J228<=0,lookup!AD220+lookup!AF220,lookup!AD220))","v":""},{"$f":"IF(E228=\"\",\"\",lookup!AE219)","v":""},"","",{"$f":"IF(E228=\"\",\"\",IF(lookup!AF220<0,0,lookup!AF220))","v":""}]
[null,null,null,null,{"$f":"IF(J228=\"\",\"\",IF(J228<=0,\"\",lookup!AC221))","v":""},{"$f":"IF(E229=\"\",\"\",IF(J229<=0,lookup!AD221+lookup!AF221,lookup!AD221))","v":""},{"$f":"IF(E229=\"\",\"\",lookup!AE220)","v":""},"","",{"$f":"IF(E229=\"\",\"\",IF(lookup!AF221<0,0,lookup!AF221))","v":""}]
[null,null,null,null,{"$f":"IF(J229=\"\",\"\",IF(J229<=0,\"\",lookup!AC222))","v":""},{"$f":"IF(E230=\"\",\"\",IF(J230<=0,lookup!AD222+lookup!AF222,lookup!AD222))","v":""},{"$f":"IF(E230=\"\",\"\",lookup!AE221)","v":""},"","",{"$f":"IF(E230=\"\",\"\",IF(lookup!AF222<0,0,lookup!AF222))","v":""}]
[null,null,null,null,{"$f":"IF(J230=\"\",\"\",IF(J230<=0,\"\",lookup!AC223))","v":""},{"$f":"IF(E231=\"\",\"\",IF(J231<=0,lookup!AD223+lookup!AF223,lookup!AD223))","v":""},{"$f":"IF(E231=\"\",\"\",lookup!AE222)","v":""},"","",{"$f":"IF(E231=\"\",\"\",IF(lookup!AF223<0,0,lookup!AF223))","v":""}]
[null,null,null,null,{"$f":"IF(J231=\"\",\"\",IF(J231<=0,\"\",lookup!AC224))","v":""},{"$f":"IF(E232=\"\",\"\",IF(J232<=0,lookup!AD224+lookup!AF224,lookup!AD224))","v":""},{"$f":"IF(E232=\"\",\"\",lookup!AE223)","v":""},"","",{"$f":"IF(E232=\"\",\"\",IF(lookup!AF224<0,0,lookup!AF224))","v":""}]
[null,null,null,null,{"$f":"IF(J232=\"\",\"\",IF(J232<=0,\"\",lookup!AC225))","v":""},{"$f":"IF(E233=\"\",\"\",IF(J233<=0,lookup!AD225+lookup!AF225,lookup!AD225))","v":""},{"$f":"IF(E233=\"\",\"\",lookup!AE224)","v":""},"","",{"$f":"IF(E233=\"\",\"\",IF(lookup!AF225<0,0,lookup!AF225))","v":""}]
[null,null,null,null,{"$f":"IF(J233=\"\",\"\",IF(J233<=0,\"\",lookup!AC226))","v":""},{"$f":"IF(E234=\"\",\"\",IF(J234<=0,lookup!AD226+lookup!AF226,lookup!AD226))","v":""},{"$f":"IF(E234=\"\",\"\",lookup!AE225)","v":""},"","",{"$f":"IF(E234=\"\",\"\",IF(lookup!AF226<0,0,lookup!AF226))","v":""}]
[null,null,null,null,{"$f":"IF(J234=\"\",\"\",IF(J234<=0,\"\",lookup!AC227))","v":""},{"$f":"IF(E235=\"\",\"\",IF(J235<=0,lookup!AD227+lookup!AF227,lookup!AD227))","v":""},{"$f":"IF(E235=\"\",\"\",lookup!AE226)","v":""},"","",{"$f":"IF(E235=\"\",\"\",IF(lookup!AF227<0,0,lookup!AF227))","v":""}]
[null,null,null,null,{"$f":"IF(J235=\"\",\"\",IF(J235<=0,\"\",lookup!AC228))","v":""},{"$f":"IF(E236=\"\",\"\",IF(J236<=0,lookup!AD228+lookup!AF228,lookup!AD228))","v":""},{"$f":"IF(E236=\"\",\"\",lookup!AE227)","v":""},"","",{"$f":"IF(E236=\"\",\"\",IF(lookup!AF228<0,0,lookup!AF228))","v":""}]
[null,null,null,null,{"$f":"IF(J236=\"\",\"\",IF(J236<=0,\"\",lookup!AC229))","v":""},{"$f":"IF(E237=\"\",\"\",IF(J237<=0,lookup!AD229+lookup!AF229,lookup!AD229))","v":""},{"$f":"IF(E237=\"\",\"\",lookup!AE228)","v":""},"","",{"$f":"IF(E237=\"\",\"\",IF(lookup!AF229<0,0,lookup!AF229))","v":""}]
[null,null,null,null,{"$f":"IF(J237=\"\",\"\",IF(J237<=0,\"\",lookup!AC230))","v":""},{"$f":"IF(E238=\"\",\"\",IF(J238<=0,lookup!AD230+lookup!AF230,lookup!AD230))","v":""},{"$f":"IF(E238=\"\",\"\",lookup!AE229)","v":""},"","",{"$f":"IF(E238=\"\",\"\",IF(lookup!AF230<0,0,lookup!AF230))","v":""}]
[null,null,null,null,{"$f":"IF(J238=\"\",\"\",IF(J238<=0,\"\",lookup!AC231))","v":""},{"$f":"IF(E239=\"\",\"\",IF(J239<=0,lookup!AD231+lookup!AF231,lookup!AD231))","v":""},{"$f":"IF(E239=\"\",\"\",lookup!AE230)","v":""},"","",{"$f":"IF(E239=\"\",\"\",IF(lookup!AF231<0,0,lookup!AF231))","v":""}]
[null,null,null,null,{"$f":"IF(J239=\"\",\"\",IF(J239<=0,\"\",lookup!AC232))","v":""},{"$f":"IF(E240=\"\",\"\",IF(J240<=0,lookup!AD232+lookup!AF232,lookup!AD232))","v":""},{"$f":"IF(E240=\"\",\"\",lookup!AE231)","v":""},"","",{"$f":"IF(E240=\"\",\"\",IF(lookup!AF232<0,0,lookup!AF232))","v":""}]
[null,null,null,null,{"$f":"IF(J240=\"\",\"\",IF(J240<=0,\"\",lookup!AC233))","v":""},{"$f":"IF(E241=\"\",\"\",IF(J241<=0,lookup!AD233+lookup!AF233,lookup!AD233))","v":""},{"$f":"IF(E241=\"\",\"\",lookup!AE232)","v":""},"","",{"$f":"IF(E241=\"\",\"\",IF(lookup!AF233<0,0,lookup!AF233))","v":""}]
[null,null,null,null,{"$f":"IF(J241=\"\",\"\",IF(J241<=0,\"\",lookup!AC234))","v":""},{"$f":"IF(E242=\"\",\"\",IF(J242<=0,lookup!AD234+lookup!AF234,lookup!AD234))","v":""},{"$f":"IF(E242=\"\",\"\",lookup!AE233)","v":""},"","",{"$f":"IF(E242=\"\",\"\",IF(lookup!AF234<0,0,lookup!AF234))","v":""}]
[null,null,null,null,{"$f":"IF(J242=\"\",\"\",IF(J242<=0,\"\",lookup!AC235))","v":""},{"$f":"IF(E243=\"\",\"\",IF(J243<=0,lookup!AD235+lookup!AF235,lookup!AD235))","v":""},{"$f":"IF(E243=\"\",\"\",lookup!AE234)","v":""},"","",{"$f":"IF(E243=\"\",\"\",IF(lookup!AF235<0,0,lookup!AF235))","v":""}]
[null,null,null,null,{"$f":"IF(J243=\"\",\"\",IF(J243<=0,\"\",lookup!AC236))","v":""},{"$f":"IF(E244=\"\",\"\",IF(J244<=0,lookup!AD236+lookup!AF236,lookup!AD236))","v":""},{"$f":"IF(E244=\"\",\"\",lookup!AE235)","v":""},"","",{"$f":"IF(E244=\"\",\"\",IF(lookup!AF236<0,0,lookup!AF236))","v":""}]
[null,null,null,null,{"$f":"IF(J244=\"\",\"\",IF(J244<=0,\"\",lookup!AC237))","v":""},{"$f":"IF(E245=\"\",\"\",IF(J245<=0,lookup!AD237+lookup!AF237,lookup!AD237))","v":""},{"$f":"IF(E245=\"\",\"\",lookup!AE236)","v":""},"","",{"$f":"IF(E245=\"\",\"\",IF(lookup!AF237<0,0,lookup!AF237))","v":""}]
[null,null,null,null,{"$f":"IF(J245=\"\",\"\",IF(J245<=0,\"\",lookup!AC238))","v":""},{"$f":"IF(E246=\"\",\"\",IF(J246<=0,lookup!AD238+lookup!AF238,lookup!AD238))","v":""},{"$f":"IF(E246=\"\",\"\",lookup!AE237)","v":""},"","",{"$f":"IF(E246=\"\",\"\",IF(lookup!AF238<0,0,lookup!AF238))","v":""}]
[null,null,null,null,{"$f":"IF(J246=\"\",\"\",IF(J246<=0,\"\",lookup!AC239))","v":""},{"$f":"IF(E247=\"\",\"\",IF(J247<=0,lookup!AD239+lookup!AF239,lookup!AD239))","v":""},{"$f":"IF(E247=\"\",\"\",lookup!AE238)","v":""},"","",{"$f":"IF(E247=\"\",\"\",IF(lookup!AF239<0,0,lookup!AF239))","v":""}]
[null,null,null,null,{"$f":"IF(J247=\"\",\"\",IF(J247<=0,\"\",lookup!AC240))","v":""},{"$f":"IF(E248=\"\",\"\",IF(J248<=0,lookup!AD240+lookup!AF240,lookup!AD240))","v":""},{"$f":"IF(E248=\"\",\"\",lookup!AE239)","v":""},"","",{"$f":"IF(E248=\"\",\"\",IF(lookup!AF240<0,0,lookup!AF240))","v":""}]
[null,null,null,null,{"$f":"IF(J248=\"\",\"\",IF(J248<=0,\"\",lookup!AC241))","v":""},{"$f":"IF(E249=\"\",\"\",IF(J249<=0,lookup!AD241+lookup!AF241,lookup!AD241))","v":""},{"$f":"IF(E249=\"\",\"\",lookup!AE240)","v":""},"","",{"$f":"IF(E249=\"\",\"\",IF(lookup!AF241<0,0,lookup!AF241))","v":""}]
[null,null,null,null,{"$f":"IF(J249=\"\",\"\",IF(J249<=0,\"\",lookup!AC242))","v":""},{"$f":"IF(E250=\"\",\"\",IF(J250<=0,lookup!AD242+lookup!AF242,lookup!AD242))","v":""},{"$f":"IF(E250=\"\",\"\",lookup!AE241)","v":""},"","",{"$f":"IF(E250=\"\",\"\",IF(lookup!AF242<0,0,lookup!AF242))","v":""}]
[null,null,null,null,{"$f":"IF(J250=\"\",\"\",IF(J250<=0,\"\",lookup!AC243))","v":""},{"$f":"IF(E251=\"\",\"\",IF(J251<=0,lookup!AD243+lookup!AF243,lookup!AD243))","v":""},{"$f":"IF(E251=\"\",\"\",lookup!AE242)","v":""},"","",{"$f":"IF(E251=\"\",\"\",IF(lookup!AF243<0,0,lookup!AF243))","v":""}]
[null,null,null,null,{"$f":"IF(J251=\"\",\"\",IF(J251<=0,\"\",lookup!AC244))","v":""},{"$f":"IF(E252=\"\",\"\",IF(J252<=0,lookup!AD244+lookup!AF244,lookup!AD244))","v":""},{"$f":"IF(E252=\"\",\"\",lookup!AE243)","v":""},"","",{"$f":"IF(E252=\"\",\"\",IF(lookup!AF244<0,0,lookup!AF244))","v":""}]
[null,null,null,null,{"$f":"IF(J252=\"\",\"\",IF(J252<=0,\"\",lookup!AC245))","v":""},{"$f":"IF(E253=\"\",\"\",IF(J253<=0,lookup!AD245+lookup!AF245,lookup!AD245))","v":""},{"$f":"IF(E253=\"\",\"\",lookup!AE244)","v":""},"","",{"$f":"IF(E253=\"\",\"\",IF(lookup!AF245<0,0,lookup!AF245))","v":""}]
[null,null,null,null,{"$f":"IF(J253=\"\",\"\",IF(J253<=0,\"\",lookup!AC246))","v":""},{"$f":"IF(E254=\"\",\"\",IF(J254<=0,lookup!AD246+lookup!AF246,lookup!AD246))","v":""},{"$f":"IF(E254=\"\",\"\",lookup!AE245)","v":""},"","",{"$f":"IF(E254=\"\",\"\",IF(lookup!AF246<0,0,lookup!AF246))","v":""}]
[null,null,null,null,{"$f":"IF(J254=\"\",\"\",IF(J254<=0,\"\",lookup!AC247))","v":""},{"$f":"IF(E255=\"\",\"\",IF(J255<=0,lookup!AD247+lookup!AF247,lookup!AD247))","v":""},{"$f":"IF(E255=\"\",\"\",lookup!AE246)","v":""},"","",{"$f":"IF(E255=\"\",\"\",IF(lookup!AF247<0,0,lookup!AF247))","v":""}]
[null,null,null,null,{"$f":"IF(J255=\"\",\"\",IF(J255<=0,\"\",lookup!AC248))","v":""},{"$f":"IF(E256=\"\",\"\",IF(J256<=0,lookup!AD248+lookup!AF248,lookup!AD248))","v":""},{"$f":"IF(E256=\"\",\"\",lookup!AE247)","v":""},"","",{"$f":"IF(E256=\"\",\"\",IF(lookup!AF248<0,0,lookup!AF248))","v":""}]
[null,null,null,null,{"$f":"IF(J256=\"\",\"\",IF(J256<=0,\"\",lookup!AC249))","v":""},{"$f":"IF(E257=\"\",\"\",IF(J257<=0,lookup!AD249+lookup!AF249,lookup!AD249))","v":""},{"$f":"IF(E257=\"\",\"\",lookup!AE248)","v":""},"","",{"$f":"IF(E257=\"\",\"\",IF(lookup!AF249<0,0,lookup!AF249))","v":""}]
[null,null,null,null,{"$f":"IF(J257=\"\",\"\",IF(J257<=0,\"\",lookup!AC250))","v":""},{"$f":"IF(E258=\"\",\"\",IF(J258<=0,lookup!AD250+lookup!AF250,lookup!AD250))","v":""},{"$f":"IF(E258=\"\",\"\",lookup!AE249)","v":""},"","",{"$f":"IF(E258=\"\",\"\",IF(lookup!AF250<0,0,lookup!AF250))","v":""}]
[null,null,null,null,{"$f":"IF(J258=\"\",\"\",IF(J258<=0,\"\",lookup!AC251))","v":""},{"$f":"IF(E259=\"\",\"\",IF(J259<=0,lookup!AD251+lookup!AF251,lookup!AD251))","v":""},{"$f":"IF(E259=\"\",\"\",lookup!AE250)","v":""},"","",{"$f":"IF(E259=\"\",\"\",IF(lookup!AF251<0,0,lookup!AF251))","v":""}]
[null,null,null,null,{"$f":"IF(J259=\"\",\"\",IF(J259<=0,\"\",lookup!AC252))","v":""},{"$f":"IF(E260=\"\",\"\",IF(J260<=0,lookup!AD252+lookup!AF252,lookup!AD252))","v":""},{"$f":"IF(E260=\"\",\"\",lookup!AE251)","v":""},"","",{"$f":"IF(E260=\"\",\"\",IF(lookup!AF252<0,0,lookup!AF252))","v":""}]
[null,null,null,null,{"$f":"IF(J260=\"\",\"\",IF(J260<=0,\"\",lookup!AC253))","v":""},{"$f":"IF(E261=\"\",\"\",IF(J261<=0,lookup!AD253+lookup!AF253,lookup!AD253))","v":""},{"$f":"IF(E261=\"\",\"\",lookup!AE252)","v":""},"","",{"$f":"IF(E261=\"\",\"\",IF(lookup!AF253<0,0,lookup!AF253))","v":""}]
[null,null,null,null,{"$f":"IF(J261=\"\",\"\",IF(J261<=0,\"\",lookup!AC254))","v":""},{"$f":"IF(E262=\"\",\"\",IF(J262<=0,lookup!AD254+lookup!AF254,lookup!AD254))","v":""},{"$f":"IF(E262=\"\",\"\",lookup!AE253)","v":""},"","",{"$f":"IF(E262=\"\",\"\",IF(lookup!AF254<0,0,lookup!AF254))","v":""}]
[null,null,null,null,{"$f":"IF(J262=\"\",\"\",IF(J262<=0,\"\",lookup!AC255))","v":""},{"$f":"IF(E263=\"\",\"\",IF(J263<=0,lookup!AD255+lookup!AF255,lookup!AD255))","v":""},{"$f":"IF(E263=\"\",\"\",lookup!AE254)","v":""},"","",{"$f":"IF(E263=\"\",\"\",IF(lookup!AF255<0,0,lookup!AF255))","v":""}]
[null,null,null,null,{"$f":"IF(J263=\"\",\"\",IF(J263<=0,\"\",lookup!AC256))","v":""},{"$f":"IF(E264=\"\",\"\",IF(J264<=0,lookup!AD256+lookup!AF256,lookup!AD256))","v":""},{"$f":"IF(E264=\"\",\"\",lookup!AE255)","v":""},"","",{"$f":"IF(E264=\"\",\"\",IF(lookup!AF256<0,0,lookup!AF256))","v":""}]
[null,null,null,null,{"$f":"IF(J264=\"\",\"\",IF(J264<=0,\"\",lookup!AC257))","v":""},{"$f":"IF(E265=\"\",\"\",IF(J265<=0,lookup!AD257+lookup!AF257,lookup!AD257))","v":""},{"$f":"IF(E265=\"\",\"\",lookup!AE256)","v":""},"","",{"$f":"IF(E265=\"\",\"\",IF(lookup!AF257<0,0,lookup!AF257))","v":""}]
[null,null,null,null,{"$f":"IF(J265=\"\",\"\",IF(J265<=0,\"\",lookup!AC258))","v":""},{"$f":"IF(E266=\"\",\"\",IF(J266<=0,lookup!AD258+lookup!AF258,lookup!AD258))","v":""},{"$f":"IF(E266=\"\",\"\",lookup!AE257)","v":""},"","",{"$f":"IF(E266=\"\",\"\",IF(lookup!AF258<0,0,lookup!AF258))","v":""}]
[null,null,null,null,{"$f":"IF(J266=\"\",\"\",IF(J266<=0,\"\",lookup!AC259))","v":""},{"$f":"IF(E267=\"\",\"\",IF(J267<=0,lookup!AD259+lookup!AF259,lookup!AD259))","v":""},{"$f":"IF(E267=\"\",\"\",lookup!AE258)","v":""},"","",{"$f":"IF(E267=\"\",\"\",IF(lookup!AF259<0,0,lookup!AF259))","v":""}]
[null,null,null,null,{"$f":"IF(J267=\"\",\"\",IF(J267<=0,\"\",lookup!AC260))","v":""},{"$f":"IF(E268=\"\",\"\",IF(J268<=0,lookup!AD260+lookup!AF260,lookup!AD260))","v":""},{"$f":"IF(E268=\"\",\"\",lookup!AE259)","v":""},{"$f":"IF(E268=\"\",\"\",H267+G268)","v":""},{"$f":"IF(E268=\"\",\"\",F268-G268)","v":""},{"$f":"IF(E268=\"\",\"\",IF(lookup!AF260<0,0,lookup!AF260))","v":""}]
[null,null,null,null,{"$f":"IF(J268=\"\",\"\",IF(J268<=0,\"\",lookup!AC261))","v":""},{"$f":"IF(E269=\"\",\"\",IF(J269<=0,lookup!AD261+lookup!AF261,lookup!AD261))","v":""},{"$f":"IF(E269=\"\",\"\",lookup!AE260)","v":""},"","",{"$f":"IF(E269=\"\",\"\",IF(lookup!AF261<0,0,lookup!AF261))","v":""}]
[null,null,null,null,{"$f":"IF(J269=\"\",\"\",IF(J269<=0,\"\",lookup!AC262))","v":""},{"$f":"IF(E270=\"\",\"\",IF(J270<=0,lookup!AD262+lookup!AF262,lookup!AD262))","v":""},{"$f":"IF(E270=\"\",\"\",lookup!AE261)","v":""},"","",{"$f":"IF(E270=\"\",\"\",IF(lookup!AF262<0,0,lookup!AF262))","v":""}]
[null,null,null,null,{"$f":"IF(J270=\"\",\"\",IF(J270<=0,\"\",lookup!AC263))","v":""},{"$f":"IF(E271=\"\",\"\",IF(J271<=0,lookup!AD263+lookup!AF263,lookup!AD263))","v":""},{"$f":"IF(E271=\"\",\"\",lookup!AE262)","v":""},"","",{"$f":"IF(E271=\"\",\"\",IF(lookup!AF263<0,0,lookup!AF263))","v":""}]
[null,null,null,null,{"$f":"IF(J271=\"\",\"\",IF(J271<=0,\"\",lookup!AC264))","v":""},{"$f":"IF(E272=\"\",\"\",IF(J272<=0,lookup!AD264+lookup!AF264,lookup!AD264))","v":""},{"$f":"IF(E272=\"\",\"\",lookup!AE263)","v":""},"","",{"$f":"IF(E272=\"\",\"\",IF(lookup!AF264<0,0,lookup!AF264))","v":""}]
[null,null,null,null,{"$f":"IF(J272=\"\",\"\",IF(J272<=0,\"\",lookup!AC265))","v":""},{"$f":"IF(E273=\"\",\"\",IF(J273<=0,lookup!AD265+lookup!AF265,lookup!AD265))","v":""},{"$f":"IF(E273=\"\",\"\",lookup!AE264)","v":""},"","",{"$f":"IF(E273=\"\",\"\",IF(lookup!AF265<0,0,lookup!AF265))","v":""}]
[null,null,null,null,{"$f":"IF(J273=\"\",\"\",IF(J273<=0,\"\",lookup!AC266))","v":""},{"$f":"IF(E274=\"\",\"\",IF(J274<=0,lookup!AD266+lookup!AF266,lookup!AD266))","v":""},{"$f":"IF(E274=\"\",\"\",lookup!AE265)","v":""},"","",{"$f":"IF(E274=\"\",\"\",IF(lookup!AF266<0,0,lookup!AF266))","v":""}]
[null,null,null,null,{"$f":"IF(J274=\"\",\"\",IF(J274<=0,\"\",lookup!AC267))","v":""},{"$f":"IF(E275=\"\",\"\",IF(J275<=0,lookup!AD267+lookup!AF267,lookup!AD267))","v":""},{"$f":"IF(E275=\"\",\"\",lookup!AE266)","v":""},"","",{"$f":"IF(E275=\"\",\"\",IF(lookup!AF267<0,0,lookup!AF267))","v":""}]
[null,null,null,null,{"$f":"IF(J275=\"\",\"\",IF(J275<=0,\"\",lookup!AC268))","v":""},{"$f":"IF(E276=\"\",\"\",IF(J276<=0,lookup!AD268+lookup!AF268,lookup!AD268))","v":""},{"$f":"IF(E276=\"\",\"\",lookup!AE267)","v":""},"","",{"$f":"IF(E276=\"\",\"\",IF(lookup!AF268<0,0,lookup!AF268))","v":""}]
[null,null,null,null,{"$f":"IF(J276=\"\",\"\",IF(J276<=0,\"\",lookup!AC269))","v":""},{"$f":"IF(E277=\"\",\"\",IF(J277<=0,lookup!AD269+lookup!AF269,lookup!AD269))","v":""},{"$f":"IF(E277=\"\",\"\",lookup!AE268)","v":""},"","",{"$f":"IF(E277=\"\",\"\",IF(lookup!AF269<0,0,lookup!AF269))","v":""}]
[null,null,null,null,{"$f":"IF(J277=\"\",\"\",IF(J277<=0,\"\",lookup!AC270))","v":""},{"$f":"IF(E278=\"\",\"\",IF(J278<=0,lookup!AD270+lookup!AF270,lookup!AD270))","v":""},{"$f":"IF(E278=\"\",\"\",lookup!AE269)","v":""},"","",{"$f":"IF(E278=\"\",\"\",IF(lookup!AF270<0,0,lookup!AF270))","v":""}]
[null,null,null,null,{"$f":"IF(J278=\"\",\"\",IF(J278<=0,\"\",lookup!AC271))","v":""},{"$f":"IF(E279=\"\",\"\",IF(J279<=0,lookup!AD271+lookup!AF271,lookup!AD271))","v":""},{"$f":"IF(E279=\"\",\"\",lookup!AE270)","v":""},"","",{"$f":"IF(E279=\"\",\"\",IF(lookup!AF271<0,0,lookup!AF271))","v":""}]
[null,null,null,null,{"$f":"IF(J279=\"\",\"\",IF(J279<=0,\"\",lookup!AC272))","v":""},{"$f":"IF(E280=\"\",\"\",IF(J280<=0,lookup!AD272+lookup!AF272,lookup!AD272))","v":""},{"$f":"IF(E280=\"\",\"\",lookup!AE271)","v":""},"","",{"$f":"IF(E280=\"\",\"\",IF(lookup!AF272<0,0,lookup!AF272))","v":""}]
[null,null,null,null,{"$f":"IF(J280=\"\",\"\",IF(J280<=0,\"\",lookup!AC273))","v":""},{"$f":"IF(E281=\"\",\"\",IF(J281<=0,lookup!AD273+lookup!AF273,lookup!AD273))","v":""},{"$f":"IF(E281=\"\",\"\",lookup!AE272)","v":""},"","",{"$f":"IF(E281=\"\",\"\",IF(lookup!AF273<0,0,lookup!AF273))","v":""}]
[null,null,null,null,{"$f":"IF(J281=\"\",\"\",IF(J281<=0,\"\",lookup!AC274))","v":""},{"$f":"IF(E282=\"\",\"\",IF(J282<=0,lookup!AD274+lookup!AF274,lookup!AD274))","v":""},{"$f":"IF(E282=\"\",\"\",lookup!AE273)","v":""},"","",{"$f":"IF(E282=\"\",\"\",IF(lookup!AF274<0,0,lookup!AF274))","v":""}]
[null,null,null,null,{"$f":"IF(J282=\"\",\"\",IF(J282<=0,\"\",lookup!AC275))","v":""},{"$f":"IF(E283=\"\",\"\",IF(J283<=0,lookup!AD275+lookup!AF275,lookup!AD275))","v":""},{"$f":"IF(E283=\"\",\"\",lookup!AE274)","v":""},"","",{"$f":"IF(E283=\"\",\"\",IF(lookup!AF275<0,0,lookup!AF275))","v":""}]
[null,null,null,null,{"$f":"IF(J283=\"\",\"\",IF(J283<=0,\"\",lookup!AC276))","v":""},{"$f":"IF(E284=\"\",\"\",IF(J284<=0,lookup!AD276+lookup!AF276,lookup!AD276))","v":""},{"$f":"IF(E284=\"\",\"\",lookup!AE275)","v":""},"","",{"$f":"IF(E284=\"\",\"\",IF(lookup!AF276<0,0,lookup!AF276))","v":""}]
[null,null,null,null,{"$f":"IF(J284=\"\",\"\",IF(J284<=0,\"\",lookup!AC277))","v":""},{"$f":"IF(E285=\"\",\"\",IF(J285<=0,lookup!AD277+lookup!AF277,lookup!AD277))","v":""},{"$f":"IF(E285=\"\",\"\",lookup!AE276)","v":""},"","",{"$f":"IF(E285=\"\",\"\",IF(lookup!AF277<0,0,lookup!AF277))","v":""}]
[null,null,null,null,{"$f":"IF(J285=\"\",\"\",IF(J285<=0,\"\",lookup!AC278))","v":""},{"$f":"IF(E286=\"\",\"\",IF(J286<=0,lookup!AD278+lookup!AF278,lookup!AD278))","v":""},{"$f":"IF(E286=\"\",\"\",lookup!AE277)","v":""},"","",{"$f":"IF(E286=\"\",\"\",IF(lookup!AF278<0,0,lookup!AF278))","v":""}]
[null,null,null,null,{"$f":"IF(J286=\"\",\"\",IF(J286<=0,\"\",lookup!AC279))","v":""},{"$f":"IF(E287=\"\",\"\",IF(J287<=0,lookup!AD279+lookup!AF279,lookup!AD279))","v":""},{"$f":"IF(E287=\"\",\"\",lookup!AE278)","v":""},"","",{"$f":"IF(E287=\"\",\"\",IF(lookup!AF279<0,0,lookup!AF279))","v":""}]
[null,null,null,null,{"$f":"IF(J287=\"\",\"\",IF(J287<=0,\"\",lookup!AC280))","v":""},{"$f":"IF(E288=\"\",\"\",IF(J288<=0,lookup!AD280+lookup!AF280,lookup!AD280))","v":""},{"$f":"IF(E288=\"\",\"\",lookup!AE279)","v":""},"","",{"$f":"IF(E288=\"\",\"\",IF(lookup!AF280<0,0,lookup!AF280))","v":""}]
[null,null,null,null,{"$f":"IF(J288=\"\",\"\",IF(J288<=0,\"\",lookup!AC281))","v":""},{"$f":"IF(E289=\"\",\"\",IF(J289<=0,lookup!AD281+lookup!AF281,lookup!AD281))","v":""},{"$f":"IF(E289=\"\",\"\",lookup!AE280)","v":""},"","",{"$f":"IF(E289=\"\",\"\",IF(lookup!AF281<0,0,lookup!AF281))","v":""}]
[null,null,null,null,{"$f":"IF(J289=\"\",\"\",IF(J289<=0,\"\",lookup!AC282))","v":""},{"$f":"IF(E290=\"\",\"\",IF(J290<=0,lookup!AD282+lookup!AF282,lookup!AD282))","v":""},{"$f":"IF(E290=\"\",\"\",lookup!AE281)","v":""},"","",{"$f":"IF(E290=\"\",\"\",IF(lookup!AF282<0,0,lookup!AF282))","v":""}]
[null,null,null,null,{"$f":"IF(J290=\"\",\"\",IF(J290<=0,\"\",lookup!AC283))","v":""},{"$f":"IF(E291=\"\",\"\",IF(J291<=0,lookup!AD283+lookup!AF283,lookup!AD283))","v":""},{"$f":"IF(E291=\"\",\"\",lookup!AE282)","v":""},"","",{"$f":"IF(E291=\"\",\"\",IF(lookup!AF283<0,0,lookup!AF283))","v":""}]
[null,null,null,null,{"$f":"IF(J291=\"\",\"\",IF(J291<=0,\"\",lookup!AC284))","v":""},{"$f":"IF(E292=\"\",\"\",IF(J292<=0,lookup!AD284+lookup!AF284,lookup!AD284))","v":""},{"$f":"IF(E292=\"\",\"\",lookup!AE283)","v":""},"","",{"$f":"IF(E292=\"\",\"\",IF(lookup!AF284<0,0,lookup!AF284))","v":""}]
[null,null,null,null,{"$f":"IF(J292=\"\",\"\",IF(J292<=0,\"\",lookup!AC285))","v":""},{"$f":"IF(E293=\"\",\"\",IF(J293<=0,lookup!AD285+lookup!AF285,lookup!AD285))","v":""},{"$f":"IF(E293=\"\",\"\",lookup!AE284)","v":""},"","",{"$f":"IF(E293=\"\",\"\",IF(lookup!AF285<0,0,lookup!AF285))","v":""}]
[null,null,null,null,{"$f":"IF(J293=\"\",\"\",IF(J293<=0,\"\",lookup!AC286))","v":""},{"$f":"IF(E294=\"\",\"\",IF(J294<=0,lookup!AD286+lookup!AF286,lookup!AD286))","v":""},{"$f":"IF(E294=\"\",\"\",lookup!AE285)","v":""},"","",{"$f":"IF(E294=\"\",\"\",IF(lookup!AF286<0,0,lookup!AF286))","v":""}]
[null,null,null,null,{"$f":"IF(J294=\"\",\"\",IF(J294<=0,\"\",lookup!AC287))","v":""},{"$f":"IF(E295=\"\",\"\",IF(J295<=0,lookup!AD287+lookup!AF287,lookup!AD287))","v":""},{"$f":"IF(E295=\"\",\"\",lookup!AE286)","v":""},"","",{"$f":"IF(E295=\"\",\"\",IF(lookup!AF287<0,0,lookup!AF287))","v":""}]
[null,null,null,null,{"$f":"IF(J295=\"\",\"\",IF(J295<=0,\"\",lookup!AC288))","v":""},{"$f":"IF(E296=\"\",\"\",IF(J296<=0,lookup!AD288+lookup!AF288,lookup!AD288))","v":""},{"$f":"IF(E296=\"\",\"\",lookup!AE287)","v":""},"","",{"$f":"IF(E296=\"\",\"\",IF(lookup!AF288<0,0,lookup!AF288))","v":""}]
[null,null,null,null,{"$f":"IF(J296=\"\",\"\",IF(J296<=0,\"\",lookup!AC289))","v":""},{"$f":"IF(E297=\"\",\"\",IF(J297<=0,lookup!AD289+lookup!AF289,lookup!AD289))","v":""},{"$f":"IF(E297=\"\",\"\",lookup!AE288)","v":""},"","",{"$f":"IF(E297=\"\",\"\",IF(lookup!AF289<0,0,lookup!AF289))","v":""}]
[null,null,null,null,{"$f":"IF(J297=\"\",\"\",IF(J297<=0,\"\",lookup!AC290))","v":""},{"$f":"IF(E298=\"\",\"\",IF(J298<=0,lookup!AD290+lookup!AF290,lookup!AD290))","v":""},{"$f":"IF(E298=\"\",\"\",lookup!AE289)","v":""},"","",{"$f":"IF(E298=\"\",\"\",IF(lookup!AF290<0,0,lookup!AF290))","v":""}]
[null,null,null,null,{"$f":"IF(J298=\"\",\"\",IF(J298<=0,\"\",lookup!AC291))","v":""},{"$f":"IF(E299=\"\",\"\",IF(J299<=0,lookup!AD291+lookup!AF291,lookup!AD291))","v":""},{"$f":"IF(E299=\"\",\"\",lookup!AE290)","v":""},"","",{"$f":"IF(E299=\"\",\"\",IF(lookup!AF291<0,0,lookup!AF291))","v":""}]
[null,null,null,null,{"$f":"IF(J299=\"\",\"\",IF(J299<=0,\"\",lookup!AC292))","v":""},{"$f":"IF(E300=\"\",\"\",IF(J300<=0,lookup!AD292+lookup!AF292,lookup!AD292))","v":""},{"$f":"IF(E300=\"\",\"\",lookup!AE291)","v":""},"","",{"$f":"IF(E300=\"\",\"\",IF(lookup!AF292<0,0,lookup!AF292))","v":""}]
[null,null,null,null,{"$f":"IF(J300=\"\",\"\",IF(J300<=0,\"\",lookup!AC293))","v":""},{"$f":"IF(E301=\"\",\"\",IF(J301<=0,lookup!AD293+lookup!AF293,lookup!AD293))","v":""},{"$f":"IF(E301=\"\",\"\",lookup!AE292)","v":""},"","",{"$f":"IF(E301=\"\",\"\",IF(lookup!AF293<0,0,lookup!AF293))","v":""}]
[null,null,null,null,{"$f":"IF(J301=\"\",\"\",IF(J301<=0,\"\",lookup!AC294))","v":""},{"$f":"IF(E302=\"\",\"\",IF(J302<=0,lookup!AD294+lookup!AF294,lookup!AD294))","v":""},{"$f":"IF(E302=\"\",\"\",lookup!AE293)","v":""},"","",{"$f":"IF(E302=\"\",\"\",IF(lookup!AF294<0,0,lookup!AF294))","v":""}]
[null,null,null,null,{"$f":"IF(J302=\"\",\"\",IF(J302<=0,\"\",lookup!AC295))","v":""},{"$f":"IF(E303=\"\",\"\",IF(J303<=0,lookup!AD295+lookup!AF295,lookup!AD295))","v":""},{"$f":"IF(E303=\"\",\"\",lookup!AE294)","v":""},"","",{"$f":"IF(E303=\"\",\"\",IF(lookup!AF295<0,0,lookup!AF295))","v":""}]
[null,null,null,null,{"$f":"IF(J303=\"\",\"\",IF(J303<=0,\"\",lookup!AC296))","v":""},{"$f":"IF(E304=\"\",\"\",IF(J304<=0,lookup!AD296+lookup!AF296,lookup!AD296))","v":""},{"$f":"IF(E304=\"\",\"\",lookup!AE295)","v":""},"","",{"$f":"IF(E304=\"\",\"\",IF(lookup!AF296<0,0,lookup!AF296))","v":""}]
[null,null,null,null,{"$f":"IF(J304=\"\",\"\",IF(J304<=0,\"\",lookup!AC297))","v":""},{"$f":"IF(E305=\"\",\"\",IF(J305<=0,lookup!AD297+lookup!AF297,lookup!AD297))","v":""},{"$f":"IF(E305=\"\",\"\",lookup!AE296)","v":""},"","",{"$f":"IF(E305=\"\",\"\",IF(lookup!AF297<0,0,lookup!AF297))","v":""}]
[null,null,null,null,{"$f":"IF(J305=\"\",\"\",IF(J305<=0,\"\",lookup!AC298))","v":""},{"$f":"IF(E306=\"\",\"\",IF(J306<=0,lookup!AD298+lookup!AF298,lookup!AD298))","v":""},{"$f":"IF(E306=\"\",\"\",lookup!AE297)","v":""},"","",{"$f":"IF(E306=\"\",\"\",IF(lookup!AF298<0,0,lookup!AF298))","v":""}]
[null,null,null,null,{"$f":"IF(J306=\"\",\"\",IF(J306<=0,\"\",lookup!AC299))","v":""},{"$f":"IF(E307=\"\",\"\",IF(J307<=0,lookup!AD299+lookup!AF299,lookup!AD299))","v":""},{"$f":"IF(E307=\"\",\"\",lookup!AE298)","v":""},"","",{"$f":"IF(E307=\"\",\"\",IF(lookup!AF299<0,0,lookup!AF299))","v":""}]
[null,null,null,null,{"$f":"IF(J307=\"\",\"\",IF(J307<=0,\"\",lookup!AC300))","v":""},{"$f":"IF(E308=\"\",\"\",IF(J308<=0,lookup!AD300+lookup!AF300,lookup!AD300))","v":""},{"$f":"IF(E308=\"\",\"\",lookup!AE299)","v":""},"","",{"$f":"IF(E308=\"\",\"\",IF(lookup!AF300<0,0,lookup!AF300))","v":""}]
[null,null,null,null,{"$f":"IF(J308=\"\",\"\",IF(J308<=0,\"\",lookup!AC301))","v":""},{"$f":"IF(E309=\"\",\"\",IF(J309<=0,lookup!AD301+lookup!AF301,lookup!AD301))","v":""},{"$f":"IF(E309=\"\",\"\",lookup!AE300)","v":""},"","",{"$f":"IF(E309=\"\",\"\",IF(lookup!AF301<0,0,lookup!AF301))","v":""}]
[null,null,null,null,{"$f":"IF(J309=\"\",\"\",IF(J309<=0,\"\",lookup!AC302))","v":""},{"$f":"IF(E310=\"\",\"\",IF(J310<=0,lookup!AD302+lookup!AF302,lookup!AD302))","v":""},{"$f":"IF(E310=\"\",\"\",lookup!AE301)","v":""},"","",{"$f":"IF(E310=\"\",\"\",IF(lookup!AF302<0,0,lookup!AF302))","v":""}]
[null,null,null,null,{"$f":"IF(J310=\"\",\"\",IF(J310<=0,\"\",lookup!AC303))","v":""},{"$f":"IF(E311=\"\",\"\",IF(J311<=0,lookup!AD303+lookup!AF303,lookup!AD303))","v":""},{"$f":"IF(E311=\"\",\"\",lookup!AE302)","v":""},"","",{"$f":"IF(E311=\"\",\"\",IF(lookup!AF303<0,0,lookup!AF303))","v":""}]
[null,null,null,null,{"$f":"IF(J311=\"\",\"\",IF(J311<=0,\"\",lookup!AC304))","v":""},{"$f":"IF(E312=\"\",\"\",IF(J312<=0,lookup!AD304+lookup!AF304,lookup!AD304))","v":""},{"$f":"IF(E312=\"\",\"\",lookup!AE303)","v":""},"","",{"$f":"IF(E312=\"\",\"\",IF(lookup!AF304<0,0,lookup!AF304))","v":""}]
[null,null,null,null,{"$f":"IF(J312=\"\",\"\",IF(J312<=0,\"\",lookup!AC305))","v":""},{"$f":"IF(E313=\"\",\"\",IF(J313<=0,lookup!AD305+lookup!AF305,lookup!AD305))","v":""},{"$f":"IF(E313=\"\",\"\",lookup!AE304)","v":""},"","",{"$f":"IF(E313=\"\",\"\",IF(lookup!AF305<0,0,lookup!AF305))","v":""}]
[null,null,null,null,{"$f":"IF(J313=\"\",\"\",IF(J313<=0,\"\",lookup!AC306))","v":""},{"$f":"IF(E314=\"\",\"\",IF(J314<=0,lookup!AD306+lookup!AF306,lookup!AD306))","v":""},{"$f":"IF(E314=\"\",\"\",lookup!AE305)","v":""},"","",{"$f":"IF(E314=\"\",\"\",IF(lookup!AF306<0,0,lookup!AF306))","v":""}]
[null,null,null,null,{"$f":"IF(J314=\"\",\"\",IF(J314<=0,\"\",lookup!AC307))","v":""},{"$f":"IF(E315=\"\",\"\",IF(J315<=0,lookup!AD307+lookup!AF307,lookup!AD307))","v":""},{"$f":"IF(E315=\"\",\"\",lookup!AE306)","v":""},"","",{"$f":"IF(E315=\"\",\"\",IF(lookup!AF307<0,0,lookup!AF307))","v":""}]
[null,null,null,null,{"$f":"IF(J315=\"\",\"\",IF(J315<=0,\"\",lookup!AC308))","v":""},{"$f":"IF(E316=\"\",\"\",IF(J316<=0,lookup!AD308+lookup!AF308,lookup!AD308))","v":""},{"$f":"IF(E316=\"\",\"\",lookup!AE307)","v":""},"","",{"$f":"IF(E316=\"\",\"\",IF(lookup!AF308<0,0,lookup!AF308))","v":""}]
[null,null,null,null,{"$f":"IF(J316=\"\",\"\",IF(J316<=0,\"\",lookup!AC309))","v":""},{"$f":"IF(E317=\"\",\"\",IF(J317<=0,lookup!AD309+lookup!AF309,lookup!AD309))","v":""},{"$f":"IF(E317=\"\",\"\",lookup!AE308)","v":""},"","",{"$f":"IF(E317=\"\",\"\",IF(lookup!AF309<0,0,lookup!AF309))","v":""}]
[null,null,null,null,{"$f":"IF(J317=\"\",\"\",IF(J317<=0,\"\",lookup!AC310))","v":""},{"$f":"IF(E318=\"\",\"\",IF(J318<=0,lookup!AD310+lookup!AF310,lookup!AD310))","v":""},{"$f":"IF(E318=\"\",\"\",lookup!AE309)","v":""},"","",{"$f":"IF(E318=\"\",\"\",IF(lookup!AF310<0,0,lookup!AF310))","v":""}]
[null,null,null,null,{"$f":"IF(J318=\"\",\"\",IF(J318<=0,\"\",lookup!AC311))","v":""},{"$f":"IF(E319=\"\",\"\",IF(J319<=0,lookup!AD311+lookup!AF311,lookup!AD311))","v":""},{"$f":"IF(E319=\"\",\"\",lookup!AE310)","v":""},"","",{"$f":"IF(E319=\"\",\"\",IF(lookup!AF311<0,0,lookup!AF311))","v":""}]
[null,null,null,null,{"$f":"IF(J319=\"\",\"\",IF(J319<=0,\"\",lookup!AC312))","v":""},{"$f":"IF(E320=\"\",\"\",IF(J320<=0,lookup!AD312+lookup!AF312,lookup!AD312))","v":""},{"$f":"IF(E320=\"\",\"\",lookup!AE311)","v":""},"","",{"$f":"IF(E320=\"\",\"\",IF(lookup!AF312<0,0,lookup!AF312))","v":""}]
[null,null,null,null,{"$f":"IF(J320=\"\",\"\",IF(J320<=0,\"\",lookup!AC313))","v":""},{"$f":"IF(E321=\"\",\"\",IF(J321<=0,lookup!AD313+lookup!AF313,lookup!AD313))","v":""},{"$f":"IF(E321=\"\",\"\",lookup!AE312)","v":""},"","",{"$f":"IF(E321=\"\",\"\",IF(lookup!AF313<0,0,lookup!AF313))","v":""}]
[null,null,null,null,{"$f":"IF(J321=\"\",\"\",IF(J321<=0,\"\",lookup!AC314))","v":""},{"$f":"IF(E322=\"\",\"\",IF(J322<=0,lookup!AD314+lookup!AF314,lookup!AD314))","v":""},{"$f":"IF(E322=\"\",\"\",lookup!AE313)","v":""},"","",{"$f":"IF(E322=\"\",\"\",IF(lookup!AF314<0,0,lookup!AF314))","v":""}]
[null,null,null,null,{"$f":"IF(J322=\"\",\"\",IF(J322<=0,\"\",lookup!AC315))","v":""},{"$f":"IF(E323=\"\",\"\",IF(J323<=0,lookup!AD315+lookup!AF315,lookup!AD315))","v":""},{"$f":"IF(E323=\"\",\"\",lookup!AE314)","v":""},"","",{"$f":"IF(E323=\"\",\"\",IF(lookup!AF315<0,0,lookup!AF315))","v":""}]
[null,null,null,null,{"$f":"IF(J323=\"\",\"\",IF(J323<=0,\"\",lookup!AC316))","v":""},{"$f":"IF(E324=\"\",\"\",IF(J324<=0,lookup!AD316+lookup!AF316,lookup!AD316))","v":""},{"$f":"IF(E324=\"\",\"\",lookup!AE315)","v":""},"","",{"$f":"IF(E324=\"\",\"\",IF(lookup!AF316<0,0,lookup!AF316))","v":""}]
[null,null,null,null,{"$f":"IF(J324=\"\",\"\",IF(J324<=0,\"\",lookup!AC317))","v":""},{"$f":"IF(E325=\"\",\"\",IF(J325<=0,lookup!AD317+lookup!AF317,lookup!AD317))","v":""},{"$f":"IF(E325=\"\",\"\",lookup!AE316)","v":""},"","",{"$f":"IF(E325=\"\",\"\",IF(lookup!AF317<0,0,lookup!AF317))","v":""}]
[null,null,null,null,{"$f":"IF(J325=\"\",\"\",IF(J325<=0,\"\",lookup!AC318))","v":""},{"$f":"IF(E326=\"\",\"\",IF(J326<=0,lookup!AD318+lookup!AF318,lookup!AD318))","v":""},{"$f":"IF(E326=\"\",\"\",lookup!AE317)","v":""},"","",{"$f":"IF(E326=\"\",\"\",IF(lookup!AF318<0,0,lookup!AF318))","v":""}]
[null,null,null,null,{"$f":"IF(J326=\"\",\"\",IF(J326<=0,\"\",lookup!AC319))","v":""},{"$f":"IF(E327=\"\",\"\",IF(J327<=0,lookup!AD319+lookup!AF319,lookup!AD319))","v":""},{"$f":"IF(E327=\"\",\"\",lookup!AE318)","v":""},"","",{"$f":"IF(E327=\"\",\"\",IF(lookup!AF319<0,0,lookup!AF319))","v":""}]
[null,null,null,null,{"$f":"IF(J327=\"\",\"\",IF(J327<=0,\"\",lookup!AC320))","v":""},{"$f":"IF(E328=\"\",\"\",IF(J328<=0,lookup!AD320+lookup!AF320,lookup!AD320))","v":""},{"$f":"IF(E328=\"\",\"\",lookup!AE319)","v":""},"","",{"$f":"IF(E328=\"\",\"\",IF(lookup!AF320<0,0,lookup!AF320))","v":""}]
[null,null,null,null,{"$f":"IF(J328=\"\",\"\",IF(J328<=0,\"\",lookup!AC321))","v":""},{"$f":"IF(E329=\"\",\"\",IF(J329<=0,lookup!AD321+lookup!AF321,lookup!AD321))","v":""},{"$f":"IF(E329=\"\",\"\",lookup!AE320)","v":""},"","",{"$f":"IF(E329=\"\",\"\",IF(lookup!AF321<0,0,lookup!AF321))","v":""}]
[null,null,null,null,{"$f":"IF(J329=\"\",\"\",IF(J329<=0,\"\",lookup!AC322))","v":""},{"$f":"IF(E330=\"\",\"\",IF(J330<=0,lookup!AD322+lookup!AF322,lookup!AD322))","v":""},{"$f":"IF(E330=\"\",\"\",lookup!AE321)","v":""},"","",{"$f":"IF(E330=\"\",\"\",IF(lookup!AF322<0,0,lookup!AF322))","v":""}]
[null,null,null,null,{"$f":"IF(J330=\"\",\"\",IF(J330<=0,\"\",lookup!AC323))","v":""},{"$f":"IF(E331=\"\",\"\",IF(J331<=0,lookup!AD323+lookup!AF323,lookup!AD323))","v":""},{"$f":"IF(E331=\"\",\"\",lookup!AE322)","v":""},"","",{"$f":"IF(E331=\"\",\"\",IF(lookup!AF323<0,0,lookup!AF323))","v":""}]
[null,null,null,null,{"$f":"IF(J331=\"\",\"\",IF(J331<=0,\"\",lookup!AC324))","v":""},{"$f":"IF(E332=\"\",\"\",IF(J332<=0,lookup!AD324+lookup!AF324,lookup!AD324))","v":""},{"$f":"IF(E332=\"\",\"\",lookup!AE323)","v":""},{"$f":"IF(E332=\"\",\"\",H331+G332)","v":""},{"$f":"IF(E332=\"\",\"\",F332-G332)","v":""},{"$f":"IF(E332=\"\",\"\",IF(lookup!AF324<0,0,lookup!AF324))","v":""}]
[null,null,null,null,{"$f":"IF(J332=\"\",\"\",IF(J332<=0,\"\",lookup!AC325))","v":""},{"$f":"IF(E333=\"\",\"\",IF(J333<=0,lookup!AD325+lookup!AF325,lookup!AD325))","v":""},{"$f":"IF(E333=\"\",\"\",lookup!AE324)","v":""},"","",{"$f":"IF(E333=\"\",\"\",IF(lookup!AF325<0,0,lookup!AF325))","v":""}]
[null,null,null,null,{"$f":"IF(J333=\"\",\"\",IF(J333<=0,\"\",lookup!AC326))","v":""},{"$f":"IF(E334=\"\",\"\",IF(J334<=0,lookup!AD326+lookup!AF326,lookup!AD326))","v":""},{"$f":"IF(E334=\"\",\"\",lookup!AE325)","v":""},"","",{"$f":"IF(E334=\"\",\"\",IF(lookup!AF326<0,0,lookup!AF326))","v":""}]
[null,null,null,null,{"$f":"IF(J334=\"\",\"\",IF(J334<=0,\"\",lookup!AC327))","v":""},{"$f":"IF(E335=\"\",\"\",IF(J335<=0,lookup!AD327+lookup!AF327,lookup!AD327))","v":""},{"$f":"IF(E335=\"\",\"\",lookup!AE326)","v":""},"","",{"$f":"IF(E335=\"\",\"\",IF(lookup!AF327<0,0,lookup!AF327))","v":""}]
[null,null,null,null,{"$f":"IF(J335=\"\",\"\",IF(J335<=0,\"\",lookup!AC328))","v":""},{"$f":"IF(E336=\"\",\"\",IF(J336<=0,lookup!AD328+lookup!AF328,lookup!AD328))","v":""},{"$f":"IF(E336=\"\",\"\",lookup!AE327)","v":""},"","",{"$f":"IF(E336=\"\",\"\",IF(lookup!AF328<0,0,lookup!AF328))","v":""}]
[null,null,null,null,{"$f":"IF(J336=\"\",\"\",IF(J336<=0,\"\",lookup!AC329))","v":""},{"$f":"IF(E337=\"\",\"\",IF(J337<=0,lookup!AD329+lookup!AF329,lookup!AD329))","v":""},{"$f":"IF(E337=\"\",\"\",lookup!AE328)","v":""},"","",{"$f":"IF(E337=\"\",\"\",IF(lookup!AF329<0,0,lookup!AF329))","v":""}]
[null,null,null,null,{"$f":"IF(J337=\"\",\"\",IF(J337<=0,\"\",lookup!AC330))","v":""},{"$f":"IF(E338=\"\",\"\",IF(J338<=0,lookup!AD330+lookup!AF330,lookup!AD330))","v":""},{"$f":"IF(E338=\"\",\"\",lookup!AE329)","v":""},"","",{"$f":"IF(E338=\"\",\"\",IF(lookup!AF330<0,0,lookup!AF330))","v":""}]
[null,null,null,null,{"$f":"IF(J338=\"\",\"\",IF(J338<=0,\"\",lookup!AC331))","v":""},{"$f":"IF(E339=\"\",\"\",IF(J339<=0,lookup!AD331+lookup!AF331,lookup!AD331))","v":""},{"$f":"IF(E339=\"\",\"\",lookup!AE330)","v":""},"","",{"$f":"IF(E339=\"\",\"\",IF(lookup!AF331<0,0,lookup!AF331))","v":""}]
[null,null,null,null,{"$f":"IF(J339=\"\",\"\",IF(J339<=0,\"\",lookup!AC332))","v":""},{"$f":"IF(E340=\"\",\"\",IF(J340<=0,lookup!AD332+lookup!AF332,lookup!AD332))","v":""},{"$f":"IF(E340=\"\",\"\",lookup!AE331)","v":""},"","",{"$f":"IF(E340=\"\",\"\",IF(lookup!AF332<0,0,lookup!AF332))","v":""}]
[null,null,null,null,{"$f":"IF(J340=\"\",\"\",IF(J340<=0,\"\",lookup!AC333))","v":""},{"$f":"IF(E341=\"\",\"\",IF(J341<=0,lookup!AD333+lookup!AF333,lookup!AD333))","v":""},{"$f":"IF(E341=\"\",\"\",lookup!AE332)","v":""},"","",{"$f":"IF(E341=\"\",\"\",IF(lookup!AF333<0,0,lookup!AF333))","v":""}]
[null,null,null,null,{"$f":"IF(J341=\"\",\"\",IF(J341<=0,\"\",lookup!AC334))","v":""},{"$f":"IF(E342=\"\",\"\",IF(J342<=0,lookup!AD334+lookup!AF334,lookup!AD334))","v":""},{"$f":"IF(E342=\"\",\"\",lookup!AE333)","v":""},"","",{"$f":"IF(E342=\"\",\"\",IF(lookup!AF334<0,0,lookup!AF334))","v":""}]
[null,null,null,null,{"$f":"IF(J342=\"\",\"\",IF(J342<=0,\"\",lookup!AC335))","v":""},{"$f":"IF(E343=\"\",\"\",IF(J343<=0,lookup!AD335+lookup!AF335,lookup!AD335))","v":""},{"$f":"IF(E343=\"\",\"\",lookup!AE334)","v":""},"","",{"$f":"IF(E343=\"\",\"\",IF(lookup!AF335<0,0,lookup!AF335))","v":""}]
[null,null,null,null,{"$f":"IF(J343=\"\",\"\",IF(J343<=0,\"\",lookup!AC336))","v":""},{"$f":"IF(E344=\"\",\"\",IF(J344<=0,lookup!AD336+lookup!AF336,lookup!AD336))","v":""},{"$f":"IF(E344=\"\",\"\",lookup!AE335)","v":""},"","",{"$f":"IF(E344=\"\",\"\",IF(lookup!AF336<0,0,lookup!AF336))","v":""}]
[null,null,null,null,{"$f":"IF(J344=\"\",\"\",IF(J344<=0,\"\",lookup!AC337))","v":""},{"$f":"IF(E345=\"\",\"\",IF(J345<=0,lookup!AD337+lookup!AF337,lookup!AD337))","v":""},{"$f":"IF(E345=\"\",\"\",lookup!AE336)","v":""},"","",{"$f":"IF(E345=\"\",\"\",IF(lookup!AF337<0,0,lookup!AF337))","v":""}]
[null,null,null,null,{"$f":"IF(J345=\"\",\"\",IF(J345<=0,\"\",lookup!AC338))","v":""},{"$f":"IF(E346=\"\",\"\",IF(J346<=0,lookup!AD338+lookup!AF338,lookup!AD338))","v":""},{"$f":"IF(E346=\"\",\"\",lookup!AE337)","v":""},"","",{"$f":"IF(E346=\"\",\"\",IF(lookup!AF338<0,0,lookup!AF338))","v":""}]
[null,null,null,null,{"$f":"IF(J346=\"\",\"\",IF(J346<=0,\"\",lookup!AC339))","v":""},{"$f":"IF(E347=\"\",\"\",IF(J347<=0,lookup!AD339+lookup!AF339,lookup!AD339))","v":""},{"$f":"IF(E347=\"\",\"\",lookup!AE338)","v":""},"","",{"$f":"IF(E347=\"\",\"\",IF(lookup!AF339<0,0,lookup!AF339))","v":""}]
[null,null,null,null,{"$f":"IF(J347=\"\",\"\",IF(J347<=0,\"\",lookup!AC340))","v":""},{"$f":"IF(E348=\"\",\"\",IF(J348<=0,lookup!AD340+lookup!AF340,lookup!AD340))","v":""},{"$f":"IF(E348=\"\",\"\",lookup!AE339)","v":""},"","",{"$f":"IF(E348=\"\",\"\",IF(lookup!AF340<0,0,lookup!AF340))","v":""}]
[null,null,null,null,{"$f":"IF(J348=\"\",\"\",IF(J348<=0,\"\",lookup!AC341))","v":""},{"$f":"IF(E349=\"\",\"\",IF(J349<=0,lookup!AD341+lookup!AF341,lookup!AD341))","v":""},{"$f":"IF(E349=\"\",\"\",lookup!AE340)","v":""},"","",{"$f":"IF(E349=\"\",\"\",IF(lookup!AF341<0,0,lookup!AF341))","v":""}]
[null,null,null,null,{"$f":"IF(J349=\"\",\"\",IF(J349<=0,\"\",lookup!AC342))","v":""},{"$f":"IF(E350=\"\",\"\",IF(J350<=0,lookup!AD342+lookup!AF342,lookup!AD342))","v":""},{"$f":"IF(E350=\"\",\"\",lookup!AE341)","v":""},"","",{"$f":"IF(E350=\"\",\"\",IF(lookup!AF342<0,0,lookup!AF342))","v":""}]
[null,null,null,null,{"$f":"IF(J350=\"\",\"\",IF(J350<=0,\"\",lookup!AC343))","v":""},{"$f":"IF(E351=\"\",\"\",IF(J351<=0,lookup!AD343+lookup!AF343,lookup!AD343))","v":""},{"$f":"IF(E351=\"\",\"\",lookup!AE342)","v":""},"","",{"$f":"IF(E351=\"\",\"\",IF(lookup!AF343<0,0,lookup!AF343))","v":""}]
[null,null,null,null,{"$f":"IF(J351=\"\",\"\",IF(J351<=0,\"\",lookup!AC344))","v":""},{"$f":"IF(E352=\"\",\"\",IF(J352<=0,lookup!AD344+lookup!AF344,lookup!AD344))","v":""},{"$f":"IF(E352=\"\",\"\",lookup!AE343)","v":""},"","",{"$f":"IF(E352=\"\",\"\",IF(lookup!AF344<0,0,lookup!AF344))","v":""}]
[null,null,null,null,{"$f":"IF(J352=\"\",\"\",IF(J352<=0,\"\",lookup!AC345))","v":""},{"$f":"IF(E353=\"\",\"\",IF(J353<=0,lookup!AD345+lookup!AF345,lookup!AD345))","v":""},{"$f":"IF(E353=\"\",\"\",lookup!AE344)","v":""},"","",{"$f":"IF(E353=\"\",\"\",IF(lookup!AF345<0,0,lookup!AF345))","v":""}]
[null,null,null,null,{"$f":"IF(J353=\"\",\"\",IF(J353<=0,\"\",lookup!AC346))","v":""},{"$f":"IF(E354=\"\",\"\",IF(J354<=0,lookup!AD346+lookup!AF346,lookup!AD346))","v":""},{"$f":"IF(E354=\"\",\"\",lookup!AE345)","v":""},"","",{"$f":"IF(E354=\"\",\"\",IF(lookup!AF346<0,0,lookup!AF346))","v":""}]
[null,null,null,null,{"$f":"IF(J354=\"\",\"\",IF(J354<=0,\"\",lookup!AC347))","v":""},{"$f":"IF(E355=\"\",\"\",IF(J355<=0,lookup!AD347+lookup!AF347,lookup!AD347))","v":""},{"$f":"IF(E355=\"\",\"\",lookup!AE346)","v":""},"","",{"$f":"IF(E355=\"\",\"\",IF(lookup!AF347<0,0,lookup!AF347))","v":""}]
[null,null,null,null,{"$f":"IF(J355=\"\",\"\",IF(J355<=0,\"\",lookup!AC348))","v":""},{"$f":"IF(E356=\"\",\"\",IF(J356<=0,lookup!AD348+lookup!AF348,lookup!AD348))","v":""},{"$f":"IF(E356=\"\",\"\",lookup!AE347)","v":""},"","",{"$f":"IF(E356=\"\",\"\",IF(lookup!AF348<0,0,lookup!AF348))","v":""}]
[null,null,null,null,{"$f":"IF(J356=\"\",\"\",IF(J356<=0,\"\",lookup!AC349))","v":""},{"$f":"IF(E357=\"\",\"\",IF(J357<=0,lookup!AD349+lookup!AF349,lookup!AD349))","v":""},{"$f":"IF(E357=\"\",\"\",lookup!AE348)","v":""},"","",{"$f":"IF(E357=\"\",\"\",IF(lookup!AF349<0,0,lookup!AF349))","v":""}]
[null,null,null,null,{"$f":"IF(J357=\"\",\"\",IF(J357<=0,\"\",lookup!AC350))","v":""},{"$f":"IF(E358=\"\",\"\",IF(J358<=0,lookup!AD350+lookup!AF350,lookup!AD350))","v":""},{"$f":"IF(E358=\"\",\"\",lookup!AE349)","v":""},"","",{"$f":"IF(E358=\"\",\"\",IF(lookup!AF350<0,0,lookup!AF350))","v":""}]
[null,null,null,null,{"$f":"IF(J358=\"\",\"\",IF(J358<=0,\"\",lookup!AC351))","v":""},{"$f":"IF(E359=\"\",\"\",IF(J359<=0,lookup!AD351+lookup!AF351,lookup!AD351))","v":""},{"$f":"IF(E359=\"\",\"\",lookup!AE350)","v":""},"","",{"$f":"IF(E359=\"\",\"\",IF(lookup!AF351<0,0,lookup!AF351))","v":""}]
[null,null,null,null,{"$f":"IF(J359=\"\",\"\",IF(J359<=0,\"\",lookup!AC352))","v":""},{"$f":"IF(E360=\"\",\"\",IF(J360<=0,lookup!AD352+lookup!AF352,lookup!AD352))","v":""},{"$f":"IF(E360=\"\",\"\",lookup!AE351)","v":""},"","",{"$f":"IF(E360=\"\",\"\",IF(lookup!AF352<0,0,lookup!AF352))","v":""}]
[null,null,null,null,{"$f":"IF(J360=\"\",\"\",IF(J360<=0,\"\",lookup!AC353))","v":""},{"$f":"IF(E361=\"\",\"\",IF(J361<=0,lookup!AD353+lookup!AF353,lookup!AD353))","v":""},{"$f":"IF(E361=\"\",\"\",lookup!AE352)","v":""},"","",{"$f":"IF(E361=\"\",\"\",IF(lookup!AF353<0,0,lookup!AF353))","v":""}]
[null,null,null,null,{"$f":"IF(J361=\"\",\"\",IF(J361<=0,\"\",lookup!AC354))","v":""},{"$f":"IF(E362=\"\",\"\",IF(J362<=0,lookup!AD354+lookup!AF354,lookup!AD354))","v":""},{"$f":"IF(E362=\"\",\"\",lookup!AE353)","v":""},"","",{"$f":"IF(E362=\"\",\"\",IF(lookup!AF354<0,0,lookup!AF354))","v":""}]
[null,null,null,null,{"$f":"IF(J362=\"\",\"\",IF(J362<=0,\"\",lookup!AC355))","v":""},{"$f":"IF(E363=\"\",\"\",IF(J363<=0,lookup!AD355+lookup!AF355,lookup!AD355))","v":""},{"$f":"IF(E363=\"\",\"\",lookup!AE354)","v":""},"","",{"$f":"IF(E363=\"\",\"\",IF(lookup!AF355<0,0,lookup!AF355))","v":""}]
[null,null,null,null,{"$f":"IF(J363=\"\",\"\",IF(J363<=0,\"\",lookup!AC356))","v":""},{"$f":"IF(E364=\"\",\"\",IF(J364<=0,lookup!AD356+lookup!AF356,lookup!AD356))","v":""},{"$f":"IF(E364=\"\",\"\",lookup!AE355)","v":""},"","",{"$f":"IF(E364=\"\",\"\",IF(lookup!AF356<0,0,lookup!AF356))","v":""}]
[null,null,null,null,{"$f":"IF(J364=\"\",\"\",IF(J364<=0,\"\",lookup!AC357))","v":""},{"$f":"IF(E365=\"\",\"\",IF(J365<=0,lookup!AD357+lookup!AF357,lookup!AD357))","v":""},{"$f":"IF(E365=\"\",\"\",lookup!AE356)","v":""},"","",{"$f":"IF(E365=\"\",\"\",IF(lookup!AF357<0,0,lookup!AF357))","v":""}]
[null,null,null,null,{"$f":"IF(J365=\"\",\"\",IF(J365<=0,\"\",lookup!AC358))","v":""},{"$f":"IF(E366=\"\",\"\",IF(J366<=0,lookup!AD358+lookup!AF358,lookup!AD358))","v":""},{"$f":"IF(E366=\"\",\"\",lookup!AE357)","v":""},"","",{"$f":"IF(E366=\"\",\"\",IF(lookup!AF358<0,0,lookup!AF358))","v":""}]
[null,null,null,null,{"$f":"IF(J366=\"\",\"\",IF(J366<=0,\"\",lookup!AC359))","v":""},{"$f":"IF(E367=\"\",\"\",IF(J367<=0,lookup!AD359+lookup!AF359,lookup!AD359))","v":""},{"$f":"IF(E367=\"\",\"\",lookup!AE358)","v":""},"","",{"$f":"IF(E367=\"\",\"\",IF(lookup!AF359<0,0,lookup!AF359))","v":""}]
[null,null,null,null,{"$f":"IF(J367=\"\",\"\",IF(J367<=0,\"\",lookup!AC360))","v":""},{"$f":"IF(E368=\"\",\"\",IF(J368<=0,lookup!AD360+lookup!AF360,lookup!AD360))","v":""},{"$f":"IF(E368=\"\",\"\",lookup!AE359)","v":""},"","",{"$f":"IF(E368=\"\",\"\",IF(lookup!AF360<0,0,lookup!AF360))","v":""}]
[null,null,null,null,{"$f":"IF(J368=\"\",\"\",IF(J368<=0,\"\",lookup!AC361))","v":""},{"$f":"IF(E369=\"\",\"\",IF(J369<=0,lookup!AD361+lookup!AF361,lookup!AD361))","v":""},{"$f":"IF(E369=\"\",\"\",lookup!AE360)","v":""},"","",{"$f":"IF(E369=\"\",\"\",IF(lookup!AF361<0,0,lookup!AF361))","v":""}]
[null,null,null,null,{"$f":"IF(J369=\"\",\"\",IF(J369<=0,\"\",lookup!AC362))","v":""},{"$f":"IF(E370=\"\",\"\",IF(J370<=0,lookup!AD362+lookup!AF362,lookup!AD362))","v":""},{"$f":"IF(E370=\"\",\"\",lookup!AE361)","v":""},"","",{"$f":"IF(E370=\"\",\"\",IF(lookup!AF362<0,0,lookup!AF362))","v":""}]
[null,null,null,null,{"$f":"IF(J370=\"\",\"\",IF(J370<=0,\"\",lookup!AC363))","v":""},{"$f":"IF(E371=\"\",\"\",IF(J371<=0,lookup!AD363+lookup!AF363,lookup!AD363))","v":""},{"$f":"IF(E371=\"\",\"\",lookup!AE362)","v":""},"","",{"$f":"IF(E371=\"\",\"\",IF(lookup!AF363<0,0,lookup!AF363))","v":""}]
[null,null,null,null,{"$f":"IF(J371=\"\",\"\",IF(J371<=0,\"\",lookup!AC364))","v":""},{"$f":"IF(E372=\"\",\"\",IF(J372<=0,lookup!AD364+lookup!AF364,lookup!AD364))","v":""},{"$f":"IF(E372=\"\",\"\",lookup!AE363)","v":""},"","",{"$f":"IF(E372=\"\",\"\",IF(lookup!AF364<0,0,lookup!AF364))","v":""}]
[null,null,null,null,{"$f":"IF(J372=\"\",\"\",IF(J372<=0,\"\",lookup!AC365))","v":""},{"$f":"IF(E373=\"\",\"\",IF(J373<=0,lookup!AD365+lookup!AF365,lookup!AD365))","v":""},{"$f":"IF(E373=\"\",\"\",lookup!AE364)","v":""},"","",{"$f":"IF(E373=\"\",\"\",IF(lookup!AF365<0,0,lookup!AF365))","v":""}]
[null,null,null,null,{"$f":"IF(J373=\"\",\"\",IF(J373<=0,\"\",lookup!AC366))","v":""},{"$f":"IF(E374=\"\",\"\",IF(J374<=0,lookup!AD366+lookup!AF366,lookup!AD366))","v":""},{"$f":"IF(E374=\"\",\"\",lookup!AE365)","v":""},"","",{"$f":"IF(E374=\"\",\"\",IF(lookup!AF366<0,0,lookup!AF366))","v":""}]
[null,null,null,null,{"$f":"IF(J374=\"\",\"\",IF(J374<=0,\"\",lookup!AC367))","v":""},{"$f":"IF(E375=\"\",\"\",IF(J375<=0,lookup!AD367+lookup!AF367,lookup!AD367))","v":""},{"$f":"IF(E375=\"\",\"\",lookup!AE366)","v":""},"","",{"$f":"IF(E375=\"\",\"\",IF(lookup!AF367<0,0,lookup!AF367))","v":""}]
[null,null,null,null,{"$f":"IF(J375=\"\",\"\",IF(J375<=0,\"\",lookup!AC368))","v":""},{"$f":"IF(E376=\"\",\"\",IF(J376<=0,lookup!AD368+lookup!AF368,lookup!AD368))","v":""},{"$f":"IF(E376=\"\",\"\",lookup!AE367)","v":""},"","",{"$f":"IF(E376=\"\",\"\",IF(lookup!AF368<0,0,lookup!AF368))","v":""}]
[null,null,null,null,{"$f":"IF(J376=\"\",\"\",IF(J376<=0,\"\",lookup!AC369))","v":""},{"$f":"IF(E377=\"\",\"\",IF(J377<=0,lookup!AD369+lookup!AF369,lookup!AD369))","v":""},{"$f":"IF(E377=\"\",\"\",lookup!AE368)","v":""},"","",{"$f":"IF(E377=\"\",\"\",IF(lookup!AF369<0,0,lookup!AF369))","v":""}]
[null,null,null,null,{"$f":"IF(J377=\"\",\"\",IF(J377<=0,\"\",lookup!AC370))","v":""},{"$f":"IF(E378=\"\",\"\",IF(J378<=0,lookup!AD370+lookup!AF370,lookup!AD370))","v":""},{"$f":"IF(E378=\"\",\"\",lookup!AE369)","v":""},"","",{"$f":"IF(E378=\"\",\"\",IF(lookup!AF370<0,0,lookup!AF370))","v":""}]
[null,null,null,null,{"$f":"IF(J378=\"\",\"\",IF(J378<=0,\"\",lookup!AC371))","v":""},{"$f":"IF(E379=\"\",\"\",IF(J379<=0,lookup!AD371+lookup!AF371,lookup!AD371))","v":""},{"$f":"IF(E379=\"\",\"\",lookup!AE370)","v":""},"","",{"$f":"IF(E379=\"\",\"\",IF(lookup!AF371<0,0,lookup!AF371))","v":""}]
[null,null,null,null,{"$f":"IF(J379=\"\",\"\",IF(J379<=0,\"\",lookup!AC372))","v":""},{"$f":"IF(E380=\"\",\"\",IF(J380<=0,lookup!AD372+lookup!AF372,lookup!AD372))","v":""},{"$f":"IF(E380=\"\",\"\",lookup!AE371)","v":""},"","",{"$f":"IF(E380=\"\",\"\",IF(lookup!AF372<0,0,lookup!AF372))","v":""}]
[null,null,null,null,{"$f":"IF(J380=\"\",\"\",IF(J380<=0,\"\",lookup!AC373))","v":""},{"$f":"IF(E381=\"\",\"\",IF(J381<=0,lookup!AD373+lookup!AF373,lookup!AD373))","v":""},{"$f":"IF(E381=\"\",\"\",lookup!AE372)","v":""},"","",{"$f":"IF(E381=\"\",\"\",IF(lookup!AF373<0,0,lookup!AF373))","v":""}]
[null,null,null,null,{"$f":"IF(J381=\"\",\"\",IF(J381<=0,\"\",lookup!AC374))","v":""},{"$f":"IF(E382=\"\",\"\",IF(J382<=0,lookup!AD374+lookup!AF374,lookup!AD374))","v":""},{"$f":"IF(E382=\"\",\"\",lookup!AE373)","v":""},"","",{"$f":"IF(E382=\"\",\"\",IF(lookup!AF374<0,0,lookup!AF374))","v":""}]
[null,null,null,null,{"$f":"IF(J382=\"\",\"\",IF(J382<=0,\"\",lookup!AC375))","v":""},{"$f":"IF(E383=\"\",\"\",IF(J383<=0,lookup!AD375+lookup!AF375,lookup!AD375))","v":""},{"$f":"IF(E383=\"\",\"\",lookup!AE374)","v":""},"","",{"$f":"IF(E383=\"\",\"\",IF(lookup!AF375<0,0,lookup!AF375))","v":""}]
[null,null,null,null,{"$f":"IF(J383=\"\",\"\",IF(J383<=0,\"\",lookup!AC376))","v":""},{"$f":"IF(E384=\"\",\"\",IF(J384<=0,lookup!AD376+lookup!AF376,lookup!AD376))","v":""},{"$f":"IF(E384=\"\",\"\",lookup!AE375)","v":""},"","",{"$f":"IF(E384=\"\",\"\",IF(lookup!AF376<0,0,lookup!AF376))","v":""}]
[null,null,null,null,{"$f":"IF(J384=\"\",\"\",IF(J384<=0,\"\",lookup!AC377))","v":""},{"$f":"IF(E385=\"\",\"\",IF(J385<=0,lookup!AD377+lookup!AF377,lookup!AD377))","v":""},{"$f":"IF(E385=\"\",\"\",lookup!AE376)","v":""},"","",{"$f":"IF(E385=\"\",\"\",IF(lookup!AF377<0,0,lookup!AF377))","v":""}]
[null,null,null,null,{"$f":"IF(J385=\"\",\"\",IF(J385<=0,\"\",lookup!AC378))","v":""},{"$f":"IF(E386=\"\",\"\",IF(J386<=0,lookup!AD378+lookup!AF378,lookup!AD378))","v":""},{"$f":"IF(E386=\"\",\"\",lookup!AE377)","v":""},"","",{"$f":"IF(E386=\"\",\"\",IF(lookup!AF378<0,0,lookup!AF378))","v":""}]
[null,null,null,null,{"$f":"IF(J386=\"\",\"\",IF(J386<=0,\"\",lookup!AC379))","v":""},{"$f":"IF(E387=\"\",\"\",IF(J387<=0,lookup!AD379+lookup!AF379,lookup!AD379))","v":""},{"$f":"IF(E387=\"\",\"\",lookup!AE378)","v":""},"","",{"$f":"IF(E387=\"\",\"\",IF(lookup!AF379<0,0,lookup!AF379))","v":""}]
[null,null,null,null,{"$f":"IF(J387=\"\",\"\",IF(J387<=0,\"\",lookup!AC380))","v":""},{"$f":"IF(E388=\"\",\"\",IF(J388<=0,lookup!AD380+lookup!AF380,lookup!AD380))","v":""},{"$f":"IF(E388=\"\",\"\",lookup!AE379)","v":""},"","",{"$f":"IF(E388=\"\",\"\",IF(lookup!AF380<0,0,lookup!AF380))","v":""}]
[null,null,null,null,{"$f":"IF(J388=\"\",\"\",IF(J388<=0,\"\",lookup!AC381))","v":""},{"$f":"IF(E389=\"\",\"\",IF(J389<=0,lookup!AD381+lookup!AF381,lookup!AD381))","v":""},{"$f":"IF(E389=\"\",\"\",lookup!AE380)","v":""},"","",{"$f":"IF(E389=\"\",\"\",IF(lookup!AF381<0,0,lookup!AF381))","v":""}]
[null,null,null,null,{"$f":"IF(J389=\"\",\"\",IF(J389<=0,\"\",lookup!AC382))","v":""},{"$f":"IF(E390=\"\",\"\",IF(J390<=0,lookup!AD382+lookup!AF382,lookup!AD382))","v":""},{"$f":"IF(E390=\"\",\"\",lookup!AE381)","v":""},"","",{"$f":"IF(E390=\"\",\"\",IF(lookup!AF382<0,0,lookup!AF382))","v":""}]
[null,null,null,null,{"$f":"IF(J390=\"\",\"\",IF(J390<=0,\"\",lookup!AC383))","v":""},{"$f":"IF(E391=\"\",\"\",IF(J391<=0,lookup!AD383+lookup!AF383,lookup!AD383))","v":""},{"$f":"IF(E391=\"\",\"\",lookup!AE382)","v":""},"","",{"$f":"IF(E391=\"\",\"\",IF(lookup!AF383<0,0,lookup!AF383))","v":""}]
[null,null,null,null,{"$f":"IF(J391=\"\",\"\",IF(J391<=0,\"\",lookup!AC384))","v":""},{"$f":"IF(E392=\"\",\"\",IF(J392<=0,lookup!AD384+lookup!AF384,lookup!AD384))","v":""},{"$f":"IF(E392=\"\",\"\",lookup!AE383)","v":""},"","",{"$f":"IF(E392=\"\",\"\",IF(lookup!AF384<0,0,lookup!AF384))","v":""}]
[null,null,null,null,{"$f":"IF(J392=\"\",\"\",IF(J392<=0,\"\",lookup!AC385))","v":""},{"$f":"IF(E393=\"\",\"\",IF(J393<=0,lookup!AD385+lookup!AF385,lookup!AD385))","v":""},{"$f":"IF(E393=\"\",\"\",lookup!AE384)","v":""},"","",{"$f":"IF(E393=\"\",\"\",IF(lookup!AF385<0,0,lookup!AF385))","v":""}]
[null,null,null,null,{"$f":"IF(J393=\"\",\"\",IF(J393<=0,\"\",lookup!AC386))","v":""},{"$f":"IF(E394=\"\",\"\",IF(J394<=0,lookup!AD386+lookup!AF386,lookup!AD386))","v":""},{"$f":"IF(E394=\"\",\"\",lookup!AE385)","v":""},"","",{"$f":"IF(E394=\"\",\"\",IF(lookup!AF386<0,0,lookup!AF386))","v":""}]
[null,null,null,null,{"$f":"IF(J394=\"\",\"\",IF(J394<=0,\"\",lookup!AC387))","v":""},{"$f":"IF(E395=\"\",\"\",IF(J395<=0,lookup!AD387+lookup!AF387,lookup!AD387))","v":""},{"$f":"IF(E395=\"\",\"\",lookup!AE386)","v":""},"","",{"$f":"IF(E395=\"\",\"\",IF(lookup!AF387<0,0,lookup!AF387))","v":""}]
[null,null,null,null,{"$f":"IF(J395=\"\",\"\",IF(J395<=0,\"\",lookup!AC388))","v":""},{"$f":"IF(E396=\"\",\"\",IF(J396<=0,lookup!AD388+lookup!AF388,lookup!AD388))","v":""},{"$f":"IF(E396=\"\",\"\",lookup!AE387)","v":""},{"$f":"IF(E396=\"\",\"\",H395+G396)","v":""},{"$f":"IF(E396=\"\",\"\",F396-G396)","v":""},{"$f":"IF(E396=\"\",\"\",IF(lookup!AF388<0,0,lookup!AF388))","v":""}]
[null,null,null,null,{"$f":"IF(J396=\"\",\"\",IF(J396<=0,\"\",lookup!AC389))","v":""},{"$f":"IF(E397=\"\",\"\",IF(J397<=0,lookup!AD389+lookup!AF389,lookup!AD389))","v":""},{"$f":"IF(E397=\"\",\"\",lookup!AE388)","v":""},"","",{"$f":"IF(E397=\"\",\"\",IF(lookup!AF389<0,0,lookup!AF389))","v":""}]
[null,null,null,null,{"$f":"IF(J397=\"\",\"\",IF(J397<=0,\"\",lookup!AC390))","v":""},{"$f":"IF(E398=\"\",\"\",IF(J398<=0,lookup!AD390+lookup!AF390,lookup!AD390))","v":""},{"$f":"IF(E398=\"\",\"\",lookup!AE389)","v":""},"","",{"$f":"IF(E398=\"\",\"\",IF(lookup!AF390<0,0,lookup!AF390))","v":""}]
[null,null,null,null,{"$f":"IF(J398=\"\",\"\",IF(J398<=0,\"\",lookup!AC391))","v":""},{"$f":"IF(E399=\"\",\"\",IF(J399<=0,lookup!AD391+lookup!AF391,lookup!AD391))","v":""},{"$f":"IF(E399=\"\",\"\",lookup!AE390)","v":""},"","",{"$f":"IF(E399=\"\",\"\",IF(lookup!AF391<0,0,lookup!AF391))","v":""}]
[null,null,null,null,{"$f":"IF(J399=\"\",\"\",IF(J399<=0,\"\",lookup!AC392))","v":""},{"$f":"IF(E400=\"\",\"\",IF(J400<=0,lookup!AD392+lookup!AF392,lookup!AD392))","v":""},{"$f":"IF(E400=\"\",\"\",lookup!AE391)","v":""},"","",{"$f":"IF(E400=\"\",\"\",IF(lookup!AF392<0,0,lookup!AF392))","v":""}]
[null,null,null,null,{"$f":"IF(J400=\"\",\"\",IF(J400<=0,\"\",lookup!AC393))","v":""},{"$f":"IF(E401=\"\",\"\",IF(J401<=0,lookup!AD393+lookup!AF393,lookup!AD393))","v":""},{"$f":"IF(E401=\"\",\"\",lookup!AE392)","v":""},"","",{"$f":"IF(E401=\"\",\"\",IF(lookup!AF393<0,0,lookup!AF393))","v":""}]
[null,null,null,null,{"$f":"IF(J401=\"\",\"\",IF(J401<=0,\"\",lookup!AC394))","v":""},{"$f":"IF(E402=\"\",\"\",IF(J402<=0,lookup!AD394+lookup!AF394,lookup!AD394))","v":""},{"$f":"IF(E402=\"\",\"\",lookup!AE393)","v":""},"","",{"$f":"IF(E402=\"\",\"\",IF(lookup!AF394<0,0,lookup!AF394))","v":""}]
[null,null,null,null,{"$f":"IF(J402=\"\",\"\",IF(J402<=0,\"\",lookup!AC395))","v":""},{"$f":"IF(E403=\"\",\"\",IF(J403<=0,lookup!AD395+lookup!AF395,lookup!AD395))","v":""},{"$f":"IF(E403=\"\",\"\",lookup!AE394)","v":""},"","",{"$f":"IF(E403=\"\",\"\",IF(lookup!AF395<0,0,lookup!AF395))","v":""}]
[null,null,null,null,{"$f":"IF(J403=\"\",\"\",IF(J403<=0,\"\",lookup!AC396))","v":""},{"$f":"IF(E404=\"\",\"\",IF(J404<=0,lookup!AD396+lookup!AF396,lookup!AD396))","v":""},{"$f":"IF(E404=\"\",\"\",lookup!AE395)","v":""},"","",{"$f":"IF(E404=\"\",\"\",IF(lookup!AF396<0,0,lookup!AF396))","v":""}]
[null,null,null,null,{"$f":"IF(J404=\"\",\"\",IF(J404<=0,\"\",lookup!AC397))","v":""},{"$f":"IF(E405=\"\",\"\",IF(J405<=0,lookup!AD397+lookup!AF397,lookup!AD397))","v":""},{"$f":"IF(E405=\"\",\"\",lookup!AE396)","v":""},"","",{"$f":"IF(E405=\"\",\"\",IF(lookup!AF397<0,0,lookup!AF397))","v":""}]
[null,null,null,null,{"$f":"IF(J405=\"\",\"\",IF(J405<=0,\"\",lookup!AC398))","v":""},{"$f":"IF(E406=\"\",\"\",IF(J406<=0,lookup!AD398+lookup!AF398,lookup!AD398))","v":""},{"$f":"IF(E406=\"\",\"\",lookup!AE397)","v":""},"","",{"$f":"IF(E406=\"\",\"\",IF(lookup!AF398<0,0,lookup!AF398))","v":""}]
[null,null,null,null,{"$f":"IF(J406=\"\",\"\",IF(J406<=0,\"\",lookup!AC399))","v":""},{"$f":"IF(E407=\"\",\"\",IF(J407<=0,lookup!AD399+lookup!AF399,lookup!AD399))","v":""},{"$f":"IF(E407=\"\",\"\",lookup!AE398)","v":""},"","",{"$f":"IF(E407=\"\",\"\",IF(lookup!AF399<0,0,lookup!AF399))","v":""}]
[null,null,null,null,{"$f":"IF(J407=\"\",\"\",IF(J407<=0,\"\",lookup!AC400))","v":""},{"$f":"IF(E408=\"\",\"\",IF(J408<=0,lookup!AD400+lookup!AF400,lookup!AD400))","v":""},{"$f":"IF(E408=\"\",\"\",lookup!AE399)","v":""},"","",{"$f":"IF(E408=\"\",\"\",IF(lookup!AF400<0,0,lookup!AF400))","v":""}]
[null,null,null,null,{"$f":"IF(J408=\"\",\"\",IF(J408<=0,\"\",lookup!AC401))","v":""},{"$f":"IF(E409=\"\",\"\",IF(J409<=0,lookup!AD401+lookup!AF401,lookup!AD401))","v":""},{"$f":"IF(E409=\"\",\"\",lookup!AE400)","v":""},"","",{"$f":"IF(E409=\"\",\"\",IF(lookup!AF401<0,0,lookup!AF401))","v":""}]
[null,null,null,null,{"$f":"IF(J409=\"\",\"\",IF(J409<=0,\"\",lookup!AC402))","v":""},{"$f":"IF(E410=\"\",\"\",IF(J410<=0,lookup!AD402+lookup!AF402,lookup!AD402))","v":""},{"$f":"IF(E410=\"\",\"\",lookup!AE401)","v":""},"","",{"$f":"IF(E410=\"\",\"\",IF(lookup!AF402<0,0,lookup!AF402))","v":""}]
[null,null,null,null,{"$f":"IF(J410=\"\",\"\",IF(J410<=0,\"\",lookup!AC403))","v":""},{"$f":"IF(E411=\"\",\"\",IF(J411<=0,lookup!AD403+lookup!AF403,lookup!AD403))","v":""},{"$f":"IF(E411=\"\",\"\",lookup!AE402)","v":""},"","",{"$f":"IF(E411=\"\",\"\",IF(lookup!AF403<0,0,lookup!AF403))","v":""}]
[null,null,null,null,{"$f":"IF(J411=\"\",\"\",IF(J411<=0,\"\",lookup!AC404))","v":""},{"$f":"IF(E412=\"\",\"\",IF(J412<=0,lookup!AD404+lookup!AF404,lookup!AD404))","v":""},{"$f":"IF(E412=\"\",\"\",lookup!AE403)","v":""},"","",{"$f":"IF(E412=\"\",\"\",IF(lookup!AF404<0,0,lookup!AF404))","v":""}]
[null,null,null,null,{"$f":"IF(J412=\"\",\"\",IF(J412<=0,\"\",lookup!AC405))","v":""},{"$f":"IF(E413=\"\",\"\",IF(J413<=0,lookup!AD405+lookup!AF405,lookup!AD405))","v":""},{"$f":"IF(E413=\"\",\"\",lookup!AE404)","v":""},"","",{"$f":"IF(E413=\"\",\"\",IF(lookup!AF405<0,0,lookup!AF405))","v":""}]
[null,null,null,null,{"$f":"IF(J413=\"\",\"\",IF(J413<=0,\"\",lookup!AC406))","v":""},{"$f":"IF(E414=\"\",\"\",IF(J414<=0,lookup!AD406+lookup!AF406,lookup!AD406))","v":""},{"$f":"IF(E414=\"\",\"\",lookup!AE405)","v":""},"","",{"$f":"IF(E414=\"\",\"\",IF(lookup!AF406<0,0,lookup!AF406))","v":""}]
[null,null,null,null,{"$f":"IF(J414=\"\",\"\",IF(J414<=0,\"\",lookup!AC407))","v":""},{"$f":"IF(E415=\"\",\"\",IF(J415<=0,lookup!AD407+lookup!AF407,lookup!AD407))","v":""},{"$f":"IF(E415=\"\",\"\",lookup!AE406)","v":""},"","",{"$f":"IF(E415=\"\",\"\",IF(lookup!AF407<0,0,lookup!AF407))","v":""}]
[null,null,null,null,{"$f":"IF(J415=\"\",\"\",IF(J415<=0,\"\",lookup!AC408))","v":""},{"$f":"IF(E416=\"\",\"\",IF(J416<=0,lookup!AD408+lookup!AF408,lookup!AD408))","v":""},{"$f":"IF(E416=\"\",\"\",lookup!AE407)","v":""},"","",{"$f":"IF(E416=\"\",\"\",IF(lookup!AF408<0,0,lookup!AF408))","v":""}]
[null,null,null,null,{"$f":"IF(J416=\"\",\"\",IF(J416<=0,\"\",lookup!AC409))","v":""},{"$f":"IF(E417=\"\",\"\",IF(J417<=0,lookup!AD409+lookup!AF409,lookup!AD409))","v":""},{"$f":"IF(E417=\"\",\"\",lookup!AE408)","v":""},"","",{"$f":"IF(E417=\"\",\"\",IF(lookup!AF409<0,0,lookup!AF409))","v":""}]
[null,null,null,null,{"$f":"IF(J417=\"\",\"\",IF(J417<=0,\"\",lookup!AC410))","v":""},{"$f":"IF(E418=\"\",\"\",IF(J418<=0,lookup!AD410+lookup!AF410,lookup!AD410))","v":""},{"$f":"IF(E418=\"\",\"\",lookup!AE409)","v":""},"","",{"$f":"IF(E418=\"\",\"\",IF(lookup!AF410<0,0,lookup!AF410))","v":""}]
[null,null,null,null,{"$f":"IF(J418=\"\",\"\",IF(J418<=0,\"\",lookup!AC411))","v":""},{"$f":"IF(E419=\"\",\"\",IF(J419<=0,lookup!AD411+lookup!AF411,lookup!AD411))","v":""},{"$f":"IF(E419=\"\",\"\",lookup!AE410)","v":""},"","",{"$f":"IF(E419=\"\",\"\",IF(lookup!AF411<0,0,lookup!AF411))","v":""}]
[null,null,null,null,{"$f":"IF(J419=\"\",\"\",IF(J419<=0,\"\",lookup!AC412))","v":""},{"$f":"IF(E420=\"\",\"\",IF(J420<=0,lookup!AD412+lookup!AF412,lookup!AD412))","v":""},{"$f":"IF(E420=\"\",\"\",lookup!AE411)","v":""},"","",{"$f":"IF(E420=\"\",\"\",IF(lookup!AF412<0,0,lookup!AF412))","v":""}]
[null,null,null,null,{"$f":"IF(J420=\"\",\"\",IF(J420<=0,\"\",lookup!AC413))","v":""},{"$f":"IF(E421=\"\",\"\",IF(J421<=0,lookup!AD413+lookup!AF413,lookup!AD413))","v":""},{"$f":"IF(E421=\"\",\"\",lookup!AE412)","v":""},"","",{"$f":"IF(E421=\"\",\"\",IF(lookup!AF413<0,0,lookup!AF413))","v":""}]
[null,null,null,null,{"$f":"IF(J421=\"\",\"\",IF(J421<=0,\"\",lookup!AC414))","v":""},{"$f":"IF(E422=\"\",\"\",IF(J422<=0,lookup!AD414+lookup!AF414,lookup!AD414))","v":""},{"$f":"IF(E422=\"\",\"\",lookup!AE413)","v":""},"","",{"$f":"IF(E422=\"\",\"\",IF(lookup!AF414<0,0,lookup!AF414))","v":""}]
[null,null,null,null,{"$f":"IF(J422=\"\",\"\",IF(J422<=0,\"\",lookup!AC415))","v":""},{"$f":"IF(E423=\"\",\"\",IF(J423<=0,lookup!AD415+lookup!AF415,lookup!AD415))","v":""},{"$f":"IF(E423=\"\",\"\",lookup!AE414)","v":""},"","",{"$f":"IF(E423=\"\",\"\",IF(lookup!AF415<0,0,lookup!AF415))","v":""}]
[null,null,null,null,{"$f":"IF(J423=\"\",\"\",IF(J423<=0,\"\",lookup!AC416))","v":""},{"$f":"IF(E424=\"\",\"\",IF(J424<=0,lookup!AD416+lookup!AF416,lookup!AD416))","v":""},{"$f":"IF(E424=\"\",\"\",lookup!AE415)","v":""},"","",{"$f":"IF(E424=\"\",\"\",IF(lookup!AF416<0,0,lookup!AF416))","v":""}]
[null,null,null,null,{"$f":"IF(J424=\"\",\"\",IF(J424<=0,\"\",lookup!AC417))","v":""},{"$f":"IF(E425=\"\",\"\",IF(J425<=0,lookup!AD417+lookup!AF417,lookup!AD417))","v":""},{"$f":"IF(E425=\"\",\"\",lookup!AE416)","v":""},"","",{"$f":"IF(E425=\"\",\"\",IF(lookup!AF417<0,0,lookup!AF417))","v":""}]
[null,null,null,null,{"$f":"IF(J425=\"\",\"\",IF(J425<=0,\"\",lookup!AC418))","v":""},{"$f":"IF(E426=\"\",\"\",IF(J426<=0,lookup!AD418+lookup!AF418,lookup!AD418))","v":""},{"$f":"IF(E426=\"\",\"\",lookup!AE417)","v":""},"","",{"$f":"IF(E426=\"\",\"\",IF(lookup!AF418<0,0,lookup!AF418))","v":""}]
[null,null,null,null,{"$f":"IF(J426=\"\",\"\",IF(J426<=0,\"\",lookup!AC419))","v":""},{"$f":"IF(E427=\"\",\"\",IF(J427<=0,lookup!AD419+lookup!AF419,lookup!AD419))","v":""},{"$f":"IF(E427=\"\",\"\",lookup!AE418)","v":""},"","",{"$f":"IF(E427=\"\",\"\",IF(lookup!AF419<0,0,lookup!AF419))","v":""}]
[null,null,null,null,{"$f":"IF(J427=\"\",\"\",IF(J427<=0,\"\",lookup!AC420))","v":""},{"$f":"IF(E428=\"\",\"\",IF(J428<=0,lookup!AD420+lookup!AF420,lookup!AD420))","v":""},{"$f":"IF(E428=\"\",\"\",lookup!AE419)","v":""},"","",{"$f":"IF(E428=\"\",\"\",IF(lookup!AF420<0,0,lookup!AF420))","v":""}]
[null,null,null,null,{"$f":"IF(J428=\"\",\"\",IF(J428<=0,\"\",lookup!AC421))","v":""},{"$f":"IF(E429=\"\",\"\",IF(J429<=0,lookup!AD421+lookup!AF421,lookup!AD421))","v":""},{"$f":"IF(E429=\"\",\"\",lookup!AE420)","v":""},"","",{"$f":"IF(E429=\"\",\"\",IF(lookup!AF421<0,0,lookup!AF421))","v":""}]
[null,null,null,null,{"$f":"IF(J429=\"\",\"\",IF(J429<=0,\"\",lookup!AC422))","v":""},{"$f":"IF(E430=\"\",\"\",IF(J430<=0,lookup!AD422+lookup!AF422,lookup!AD422))","v":""},{"$f":"IF(E430=\"\",\"\",lookup!AE421)","v":""},"","",{"$f":"IF(E430=\"\",\"\",IF(lookup!AF422<0,0,lookup!AF422))","v":""}]
[null,null,null,null,{"$f":"IF(J430=\"\",\"\",IF(J430<=0,\"\",lookup!AC423))","v":""},{"$f":"IF(E431=\"\",\"\",IF(J431<=0,lookup!AD423+lookup!AF423,lookup!AD423))","v":""},{"$f":"IF(E431=\"\",\"\",lookup!AE422)","v":""},"","",{"$f":"IF(E431=\"\",\"\",IF(lookup!AF423<0,0,lookup!AF423))","v":""}]
[null,null,null,null,{"$f":"IF(J431=\"\",\"\",IF(J431<=0,\"\",lookup!AC424))","v":""},{"$f":"IF(E432=\"\",\"\",IF(J432<=0,lookup!AD424+lookup!AF424,lookup!AD424))","v":""},{"$f":"IF(E432=\"\",\"\",lookup!AE423)","v":""},"","",{"$f":"IF(E432=\"\",\"\",IF(lookup!AF424<0,0,lookup!AF424))","v":""}]
[null,null,null,null,{"$f":"IF(J432=\"\",\"\",IF(J432<=0,\"\",lookup!AC425))","v":""},{"$f":"IF(E433=\"\",\"\",IF(J433<=0,lookup!AD425+lookup!AF425,lookup!AD425))","v":""},{"$f":"IF(E433=\"\",\"\",lookup!AE424)","v":""},"","",{"$f":"IF(E433=\"\",\"\",IF(lookup!AF425<0,0,lookup!AF425))","v":""}]
[null,null,null,null,{"$f":"IF(J433=\"\",\"\",IF(J433<=0,\"\",lookup!AC426))","v":""},{"$f":"IF(E434=\"\",\"\",IF(J434<=0,lookup!AD426+lookup!AF426,lookup!AD426))","v":""},{"$f":"IF(E434=\"\",\"\",lookup!AE425)","v":""},"","",{"$f":"IF(E434=\"\",\"\",IF(lookup!AF426<0,0,lookup!AF426))","v":""}]
[null,null,null,null,{"$f":"IF(J434=\"\",\"\",IF(J434<=0,\"\",lookup!AC427))","v":""},{"$f":"IF(E435=\"\",\"\",IF(J435<=0,lookup!AD427+lookup!AF427,lookup!AD427))","v":""},{"$f":"IF(E435=\"\",\"\",lookup!AE426)","v":""},"","",{"$f":"IF(E435=\"\",\"\",IF(lookup!AF427<0,0,lookup!AF427))","v":""}]
[null,null,null,null,{"$f":"IF(J435=\"\",\"\",IF(J435<=0,\"\",lookup!AC428))","v":""},{"$f":"IF(E436=\"\",\"\",IF(J436<=0,lookup!AD428+lookup!AF428,lookup!AD428))","v":""},{"$f":"IF(E436=\"\",\"\",lookup!AE427)","v":""},"","",{"$f":"IF(E436=\"\",\"\",IF(lookup!AF428<0,0,lookup!AF428))","v":""}]
[null,null,null,null,{"$f":"IF(J436=\"\",\"\",IF(J436<=0,\"\",lookup!AC429))","v":""},{"$f":"IF(E437=\"\",\"\",IF(J437<=0,lookup!AD429+lookup!AF429,lookup!AD429))","v":""},{"$f":"IF(E437=\"\",\"\",lookup!AE428)","v":""},"","",{"$f":"IF(E437=\"\",\"\",IF(lookup!AF429<0,0,lookup!AF429))","v":""}]
[null,null,null,null,{"$f":"IF(J437=\"\",\"\",IF(J437<=0,\"\",lookup!AC430))","v":""},{"$f":"IF(E438=\"\",\"\",IF(J438<=0,lookup!AD430+lookup!AF430,lookup!AD430))","v":""},{"$f":"IF(E438=\"\",\"\",lookup!AE429)","v":""},"","",{"$f":"IF(E438=\"\",\"\",IF(lookup!AF430<0,0,lookup!AF430))","v":""}]
[null,null,null,null,{"$f":"IF(J438=\"\",\"\",IF(J438<=0,\"\",lookup!AC431))","v":""},{"$f":"IF(E439=\"\",\"\",IF(J439<=0,lookup!AD431+lookup!AF431,lookup!AD431))","v":""},{"$f":"IF(E439=\"\",\"\",lookup!AE430)","v":""},"","",{"$f":"IF(E439=\"\",\"\",IF(lookup!AF431<0,0,lookup!AF431))","v":""}]
[null,null,null,null,{"$f":"IF(J439=\"\",\"\",IF(J439<=0,\"\",lookup!AC432))","v":""},{"$f":"IF(E440=\"\",\"\",IF(J440<=0,lookup!AD432+lookup!AF432,lookup!AD432))","v":""},{"$f":"IF(E440=\"\",\"\",lookup!AE431)","v":""},"","",{"$f":"IF(E440=\"\",\"\",IF(lookup!AF432<0,0,lookup!AF432))","v":""}]
[null,null,null,null,{"$f":"IF(J440=\"\",\"\",IF(J440<=0,\"\",lookup!AC433))","v":""},{"$f":"IF(E441=\"\",\"\",IF(J441<=0,lookup!AD433+lookup!AF433,lookup!AD433))","v":""},{"$f":"IF(E441=\"\",\"\",lookup!AE432)","v":""},"","",{"$f":"IF(E441=\"\",\"\",IF(lookup!AF433<0,0,lookup!AF433))","v":""}]
[null,null,null,null,{"$f":"IF(J441=\"\",\"\",IF(J441<=0,\"\",lookup!AC434))","v":""},{"$f":"IF(E442=\"\",\"\",IF(J442<=0,lookup!AD434+lookup!AF434,lookup!AD434))","v":""},{"$f":"IF(E442=\"\",\"\",lookup!AE433)","v":""},"","",{"$f":"IF(E442=\"\",\"\",IF(lookup!AF434<0,0,lookup!AF434))","v":""}]
[null,null,null,null,{"$f":"IF(J442=\"\",\"\",IF(J442<=0,\"\",lookup!AC435))","v":""},{"$f":"IF(E443=\"\",\"\",IF(J443<=0,lookup!AD435+lookup!AF435,lookup!AD435))","v":""},{"$f":"IF(E443=\"\",\"\",lookup!AE434)","v":""},"","",{"$f":"IF(E443=\"\",\"\",IF(lookup!AF435<0,0,lookup!AF435))","v":""}]
[null,null,null,null,{"$f":"IF(J443=\"\",\"\",IF(J443<=0,\"\",lookup!AC436))","v":""},{"$f":"IF(E444=\"\",\"\",IF(J444<=0,lookup!AD436+lookup!AF436,lookup!AD436))","v":""},{"$f":"IF(E444=\"\",\"\",lookup!AE435)","v":""},"","",{"$f":"IF(E444=\"\",\"\",IF(lookup!AF436<0,0,lookup!AF436))","v":""}]
[null,null,null,null,{"$f":"IF(J444=\"\",\"\",IF(J444<=0,\"\",lookup!AC437))","v":""},{"$f":"IF(E445=\"\",\"\",IF(J445<=0,lookup!AD437+lookup!AF437,lookup!AD437))","v":""},{"$f":"IF(E445=\"\",\"\",lookup!AE436)","v":""},"","",{"$f":"IF(E445=\"\",\"\",IF(lookup!AF437<0,0,lookup!AF437))","v":""}]
[null,null,null,null,{"$f":"IF(J445=\"\",\"\",IF(J445<=0,\"\",lookup!AC438))","v":""},{"$f":"IF(E446=\"\",\"\",IF(J446<=0,lookup!AD438+lookup!AF438,lookup!AD438))","v":""},{"$f":"IF(E446=\"\",\"\",lookup!AE437)","v":""},"","",{"$f":"IF(E446=\"\",\"\",IF(lookup!AF438<0,0,lookup!AF438))","v":""}]
[null,null,null,null,{"$f":"IF(J446=\"\",\"\",IF(J446<=0,\"\",lookup!AC439))","v":""},{"$f":"IF(E447=\"\",\"\",IF(J447<=0,lookup!AD439+lookup!AF439,lookup!AD439))","v":""},{"$f":"IF(E447=\"\",\"\",lookup!AE438)","v":""},"","",{"$f":"IF(E447=\"\",\"\",IF(lookup!AF439<0,0,lookup!AF439))","v":""}]
[null,null,null,null,{"$f":"IF(J447=\"\",\"\",IF(J447<=0,\"\",lookup!AC440))","v":""},{"$f":"IF(E448=\"\",\"\",IF(J448<=0,lookup!AD440+lookup!AF440,lookup!AD440))","v":""},{"$f":"IF(E448=\"\",\"\",lookup!AE439)","v":""},"","",{"$f":"IF(E448=\"\",\"\",IF(lookup!AF440<0,0,lookup!AF440))","v":""}]
[null,null,null,null,{"$f":"IF(J448=\"\",\"\",IF(J448<=0,\"\",lookup!AC441))","v":""},{"$f":"IF(E449=\"\",\"\",IF(J449<=0,lookup!AD441+lookup!AF441,lookup!AD441))","v":""},{"$f":"IF(E449=\"\",\"\",lookup!AE440)","v":""},"","",{"$f":"IF(E449=\"\",\"\",IF(lookup!AF441<0,0,lookup!AF441))","v":""}]
[null,null,null,null,{"$f":"IF(J449=\"\",\"\",IF(J449<=0,\"\",lookup!AC442))","v":""},{"$f":"IF(E450=\"\",\"\",IF(J450<=0,lookup!AD442+lookup!AF442,lookup!AD442))","v":""},{"$f":"IF(E450=\"\",\"\",lookup!AE441)","v":""},"","",{"$f":"IF(E450=\"\",\"\",IF(lookup!AF442<0,0,lookup!AF442))","v":""}]
[null,null,null,null,{"$f":"IF(J450=\"\",\"\",IF(J450<=0,\"\",lookup!AC443))","v":""},{"$f":"IF(E451=\"\",\"\",IF(J451<=0,lookup!AD443+lookup!AF443,lookup!AD443))","v":""},{"$f":"IF(E451=\"\",\"\",lookup!AE442)","v":""},"","",{"$f":"IF(E451=\"\",\"\",IF(lookup!AF443<0,0,lookup!AF443))","v":""}]
[null,null,null,null,{"$f":"IF(J451=\"\",\"\",IF(J451<=0,\"\",lookup!AC444))","v":""},{"$f":"IF(E452=\"\",\"\",IF(J452<=0,lookup!AD444+lookup!AF444,lookup!AD444))","v":""},{"$f":"IF(E452=\"\",\"\",lookup!AE443)","v":""},"","",{"$f":"IF(E452=\"\",\"\",IF(lookup!AF444<0,0,lookup!AF444))","v":""}]
[null,null,null,null,{"$f":"IF(J452=\"\",\"\",IF(J452<=0,\"\",lookup!AC445))","v":""},{"$f":"IF(E453=\"\",\"\",IF(J453<=0,lookup!AD445+lookup!AF445,lookup!AD445))","v":""},{"$f":"IF(E453=\"\",\"\",lookup!AE444)","v":""},"","",{"$f":"IF(E453=\"\",\"\",IF(lookup!AF445<0,0,lookup!AF445))","v":""}]
[null,null,null,null,{"$f":"IF(J453=\"\",\"\",IF(J453<=0,\"\",lookup!AC446))","v":""},{"$f":"IF(E454=\"\",\"\",IF(J454<=0,lookup!AD446+lookup!AF446,lookup!AD446))","v":""},{"$f":"IF(E454=\"\",\"\",lookup!AE445)","v":""},"","",{"$f":"IF(E454=\"\",\"\",IF(lookup!AF446<0,0,lookup!AF446))","v":""}]
[null,null,null,null,{"$f":"IF(J454=\"\",\"\",IF(J454<=0,\"\",lookup!AC447))","v":""},{"$f":"IF(E455=\"\",\"\",IF(J455<=0,lookup!AD447+lookup!AF447,lookup!AD447))","v":""},{"$f":"IF(E455=\"\",\"\",lookup!AE446)","v":""},"","",{"$f":"IF(E455=\"\",\"\",IF(lookup!AF447<0,0,lookup!AF447))","v":""}]
[null,null,null,null,{"$f":"IF(J455=\"\",\"\",IF(J455<=0,\"\",lookup!AC448))","v":""},{"$f":"IF(E456=\"\",\"\",IF(J456<=0,lookup!AD448+lookup!AF448,lookup!AD448))","v":""},{"$f":"IF(E456=\"\",\"\",lookup!AE447)","v":""},"","",{"$f":"IF(E456=\"\",\"\",IF(lookup!AF448<0,0,lookup!AF448))","v":""}]
[null,null,null,null,{"$f":"IF(J456=\"\",\"\",IF(J456<=0,\"\",lookup!AC449))","v":""},{"$f":"IF(E457=\"\",\"\",IF(J457<=0,lookup!AD449+lookup!AF449,lookup!AD449))","v":""},{"$f":"IF(E457=\"\",\"\",lookup!AE448)","v":""},"","",{"$f":"IF(E457=\"\",\"\",IF(lookup!AF449<0,0,lookup!AF449))","v":""}]
[null,null,null,null,{"$f":"IF(J457=\"\",\"\",IF(J457<=0,\"\",lookup!AC450))","v":""},{"$f":"IF(E458=\"\",\"\",IF(J458<=0,lookup!AD450+lookup!AF450,lookup!AD450))","v":""},{"$f":"IF(E458=\"\",\"\",lookup!AE449)","v":""},"","",{"$f":"IF(E458=\"\",\"\",IF(lookup!AF450<0,0,lookup!AF450))","v":""}]
[null,null,null,null,{"$f":"IF(J458=\"\",\"\",IF(J458<=0,\"\",lookup!AC451))","v":""},{"$f":"IF(E459=\"\",\"\",IF(J459<=0,lookup!AD451+lookup!AF451,lookup!AD451))","v":""},{"$f":"IF(E459=\"\",\"\",lookup!AE450)","v":""},"","",{"$f":"IF(E459=\"\",\"\",IF(lookup!AF451<0,0,lookup!AF451))","v":""}]
[null,null,null,null,{"$f":"IF(J459=\"\",\"\",IF(J459<=0,\"\",lookup!AC452))","v":""},{"$f":"IF(E460=\"\",\"\",IF(J460<=0,lookup!AD452+lookup!AF452,lookup!AD452))","v":""},{"$f":"IF(E460=\"\",\"\",lookup!AE451)","v":""},{"$f":"IF(E460=\"\",\"\",H459+G460)","v":""},{"$f":"IF(E460=\"\",\"\",F460-G460)","v":""},{"$f":"IF(E460=\"\",\"\",IF(lookup!AF452<0,0,lookup!AF452))","v":""}]
[null,null,null,null,{"$f":"IF(J460=\"\",\"\",IF(J460<=0,\"\",lookup!AC453))","v":""},{"$f":"IF(E461=\"\",\"\",IF(J461<=0,lookup!AD453+lookup!AF453,lookup!AD453))","v":""},{"$f":"IF(E461=\"\",\"\",lookup!AE452)","v":""},"","",{"$f":"IF(E461=\"\",\"\",IF(lookup!AF453<0,0,lookup!AF453))","v":""}]
[null,null,null,null,{"$f":"IF(J461=\"\",\"\",IF(J461<=0,\"\",lookup!AC454))","v":""},{"$f":"IF(E462=\"\",\"\",IF(J462<=0,lookup!AD454+lookup!AF454,lookup!AD454))","v":""},{"$f":"IF(E462=\"\",\"\",lookup!AE453)","v":""},"","",{"$f":"IF(E462=\"\",\"\",IF(lookup!AF454<0,0,lookup!AF454))","v":""}]
[null,null,null,null,{"$f":"IF(J462=\"\",\"\",IF(J462<=0,\"\",lookup!AC455))","v":""},{"$f":"IF(E463=\"\",\"\",IF(J463<=0,lookup!AD455+lookup!AF455,lookup!AD455))","v":""},{"$f":"IF(E463=\"\",\"\",lookup!AE454)","v":""},"","",{"$f":"IF(E463=\"\",\"\",IF(lookup!AF455<0,0,lookup!AF455))","v":""}]
[null,null,null,null,{"$f":"IF(J463=\"\",\"\",IF(J463<=0,\"\",lookup!AC456))","v":""},{"$f":"IF(E464=\"\",\"\",IF(J464<=0,lookup!AD456+lookup!AF456,lookup!AD456))","v":""},{"$f":"IF(E464=\"\",\"\",lookup!AE455)","v":""},"","",{"$f":"IF(E464=\"\",\"\",IF(lookup!AF456<0,0,lookup!AF456))","v":""}]
[null,null,null,null,{"$f":"IF(J464=\"\",\"\",IF(J464<=0,\"\",lookup!AC457))","v":""},{"$f":"IF(E465=\"\",\"\",IF(J465<=0,lookup!AD457+lookup!AF457,lookup!AD457))","v":""},{"$f":"IF(E465=\"\",\"\",lookup!AE456)","v":""},"","",{"$f":"IF(E465=\"\",\"\",IF(lookup!AF457<0,0,lookup!AF457))","v":""}]
[null,null,null,null,{"$f":"IF(J465=\"\",\"\",IF(J465<=0,\"\",lookup!AC458))","v":""},{"$f":"IF(E466=\"\",\"\",IF(J466<=0,lookup!AD458+lookup!AF458,lookup!AD458))","v":""},{"$f":"IF(E466=\"\",\"\",lookup!AE457)","v":""},"","",{"$f":"IF(E466=\"\",\"\",IF(lookup!AF458<0,0,lookup!AF458))","v":""}]
[null,null,null,null,{"$f":"IF(J466=\"\",\"\",IF(J466<=0,\"\",lookup!AC459))","v":""},{"$f":"IF(E467=\"\",\"\",IF(J467<=0,lookup!AD459+lookup!AF459,lookup!AD459))","v":""},{"$f":"IF(E467=\"\",\"\",lookup!AE458)","v":""},"","",{"$f":"IF(E467=\"\",\"\",IF(lookup!AF459<0,0,lookup!AF459))","v":""}]
[null,null,null,null,{"$f":"IF(J467=\"\",\"\",IF(J467<=0,\"\",lookup!AC460))","v":""},{"$f":"IF(E468=\"\",\"\",IF(J468<=0,lookup!AD460+lookup!AF460,lookup!AD460))","v":""},{"$f":"IF(E468=\"\",\"\",lookup!AE459)","v":""},"","",{"$f":"IF(E468=\"\",\"\",IF(lookup!AF460<0,0,lookup!AF460))","v":""}]
[null,null,null,null,{"$f":"IF(J468=\"\",\"\",IF(J468<=0,\"\",lookup!AC461))","v":""},{"$f":"IF(E469=\"\",\"\",IF(J469<=0,lookup!AD461+lookup!AF461,lookup!AD461))","v":""},{"$f":"IF(E469=\"\",\"\",lookup!AE460)","v":""},"","",{"$f":"IF(E469=\"\",\"\",IF(lookup!AF461<0,0,lookup!AF461))","v":""}]
[null,null,null,null,{"$f":"IF(J469=\"\",\"\",IF(J469<=0,\"\",lookup!AC462))","v":""},{"$f":"IF(E470=\"\",\"\",IF(J470<=0,lookup!AD462+lookup!AF462,lookup!AD462))","v":""},{"$f":"IF(E470=\"\",\"\",lookup!AE461)","v":""},"","",{"$f":"IF(E470=\"\",\"\",IF(lookup!AF462<0,0,lookup!AF462))","v":""}]
[null,null,null,null,{"$f":"IF(J470=\"\",\"\",IF(J470<=0,\"\",lookup!AC463))","v":""},{"$f":"IF(E471=\"\",\"\",IF(J471<=0,lookup!AD463+lookup!AF463,lookup!AD463))","v":""},{"$f":"IF(E471=\"\",\"\",lookup!AE462)","v":""},"","",{"$f":"IF(E471=\"\",\"\",IF(lookup!AF463<0,0,lookup!AF463))","v":""}]
[null,null,null,null,{"$f":"IF(J471=\"\",\"\",IF(J471<=0,\"\",lookup!AC464))","v":""},{"$f":"IF(E472=\"\",\"\",IF(J472<=0,lookup!AD464+lookup!AF464,lookup!AD464))","v":""},{"$f":"IF(E472=\"\",\"\",lookup!AE463)","v":""},"","",{"$f":"IF(E472=\"\",\"\",IF(lookup!AF464<0,0,lookup!AF464))","v":""}]
[null,null,null,null,{"$f":"IF(J472=\"\",\"\",IF(J472<=0,\"\",lookup!AC465))","v":""},{"$f":"IF(E473=\"\",\"\",IF(J473<=0,lookup!AD465+lookup!AF465,lookup!AD465))","v":""},{"$f":"IF(E473=\"\",\"\",lookup!AE464)","v":""},"","",{"$f":"IF(E473=\"\",\"\",IF(lookup!AF465<0,0,lookup!AF465))","v":""}]
[null,null,null,null,{"$f":"IF(J473=\"\",\"\",IF(J473<=0,\"\",lookup!AC466))","v":""},{"$f":"IF(E474=\"\",\"\",IF(J474<=0,lookup!AD466+lookup!AF466,lookup!AD466))","v":""},{"$f":"IF(E474=\"\",\"\",lookup!AE465)","v":""},"","",{"$f":"IF(E474=\"\",\"\",IF(lookup!AF466<0,0,lookup!AF466))","v":""}]
[null,null,null,null,{"$f":"IF(J474=\"\",\"\",IF(J474<=0,\"\",lookup!AC467))","v":""},{"$f":"IF(E475=\"\",\"\",IF(J475<=0,lookup!AD467+lookup!AF467,lookup!AD467))","v":""},{"$f":"IF(E475=\"\",\"\",lookup!AE466)","v":""},"","",{"$f":"IF(E475=\"\",\"\",IF(lookup!AF467<0,0,lookup!AF467))","v":""}]
[null,null,null,null,{"$f":"IF(J475=\"\",\"\",IF(J475<=0,\"\",lookup!AC468))","v":""},{"$f":"IF(E476=\"\",\"\",IF(J476<=0,lookup!AD468+lookup!AF468,lookup!AD468))","v":""},{"$f":"IF(E476=\"\",\"\",lookup!AE467)","v":""},"","",{"$f":"IF(E476=\"\",\"\",IF(lookup!AF468<0,0,lookup!AF468))","v":""}]
[null,null,null,null,{"$f":"IF(J476=\"\",\"\",IF(J476<=0,\"\",lookup!AC469))","v":""},{"$f":"IF(E477=\"\",\"\",IF(J477<=0,lookup!AD469+lookup!AF469,lookup!AD469))","v":""},{"$f":"IF(E477=\"\",\"\",lookup!AE468)","v":""},"","",{"$f":"IF(E477=\"\",\"\",IF(lookup!AF469<0,0,lookup!AF469))","v":""}]
[null,null,null,null,{"$f":"IF(J477=\"\",\"\",IF(J477<=0,\"\",lookup!AC470))","v":""},{"$f":"IF(E478=\"\",\"\",IF(J478<=0,lookup!AD470+lookup!AF470,lookup!AD470))","v":""},{"$f":"IF(E478=\"\",\"\",lookup!AE469)","v":""},"","",{"$f":"IF(E478=\"\",\"\",IF(lookup!AF470<0,0,lookup!AF470))","v":""}]
[null,null,null,null,{"$f":"IF(J478=\"\",\"\",IF(J478<=0,\"\",lookup!AC471))","v":""},{"$f":"IF(E479=\"\",\"\",IF(J479<=0,lookup!AD471+lookup!AF471,lookup!AD471))","v":""},{"$f":"IF(E479=\"\",\"\",lookup!AE470)","v":""},"","",{"$f":"IF(E479=\"\",\"\",IF(lookup!AF471<0,0,lookup!AF471))","v":""}]
[null,null,null,null,{"$f":"IF(J479=\"\",\"\",IF(J479<=0,\"\",lookup!AC472))","v":""},{"$f":"IF(E480=\"\",\"\",IF(J480<=0,lookup!AD472+lookup!AF472,lookup!AD472))","v":""},{"$f":"IF(E480=\"\",\"\",lookup!AE471)","v":""},"","",{"$f":"IF(E480=\"\",\"\",IF(lookup!AF472<0,0,lookup!AF472))","v":""}]
[null,null,null,null,{"$f":"IF(J480=\"\",\"\",IF(J480<=0,\"\",lookup!AC473))","v":""},{"$f":"IF(E481=\"\",\"\",IF(J481<=0,lookup!AD473+lookup!AF473,lookup!AD473))","v":""},{"$f":"IF(E481=\"\",\"\",lookup!AE472)","v":""},"","",{"$f":"IF(E481=\"\",\"\",IF(lookup!AF473<0,0,lookup!AF473))","v":""}]
[null,null,null,null,{"$f":"IF(J481=\"\",\"\",IF(J481<=0,\"\",lookup!AC474))","v":""},{"$f":"IF(E482=\"\",\"\",IF(J482<=0,lookup!AD474+lookup!AF474,lookup!AD474))","v":""},{"$f":"IF(E482=\"\",\"\",lookup!AE473)","v":""},"","",{"$f":"IF(E482=\"\",\"\",IF(lookup!AF474<0,0,lookup!AF474))","v":""}]
[null,null,null,null,{"$f":"IF(J482=\"\",\"\",IF(J482<=0,\"\",lookup!AC475))","v":""},{"$f":"IF(E483=\"\",\"\",IF(J483<=0,lookup!AD475+lookup!AF475,lookup!AD475))","v":""},{"$f":"IF(E483=\"\",\"\",lookup!AE474)","v":""},"","",{"$f":"IF(E483=\"\",\"\",IF(lookup!AF475<0,0,lookup!AF475))","v":""}]
[null,null,null,null,{"$f":"IF(J483=\"\",\"\",IF(J483<=0,\"\",lookup!AC476))","v":""},{"$f":"IF(E484=\"\",\"\",IF(J484<=0,lookup!AD476+lookup!AF476,lookup!AD476))","v":""},{"$f":"IF(E484=\"\",\"\",lookup!AE475)","v":""},"","",{"$f":"IF(E484=\"\",\"\",IF(lookup!AF476<0,0,lookup!AF476))","v":""}]
[null,null,null,null,{"$f":"IF(J484=\"\",\"\",IF(J484<=0,\"\",lookup!AC477))","v":""},{"$f":"IF(E485=\"\",\"\",IF(J485<=0,lookup!AD477+lookup!AF477,lookup!AD477))","v":""},{"$f":"IF(E485=\"\",\"\",lookup!AE476)","v":""},"","",{"$f":"IF(E485=\"\",\"\",IF(lookup!AF477<0,0,lookup!AF477))","v":""}]
[null,null,null,null,{"$f":"IF(J485=\"\",\"\",IF(J485<=0,\"\",lookup!AC478))","v":""},{"$f":"IF(E486=\"\",\"\",IF(J486<=0,lookup!AD478+lookup!AF478,lookup!AD478))","v":""},{"$f":"IF(E486=\"\",\"\",lookup!AE477)","v":""},"","",{"$f":"IF(E486=\"\",\"\",IF(lookup!AF478<0,0,lookup!AF478))","v":""}]
[null,null,null,null,{"$f":"IF(J486=\"\",\"\",IF(J486<=0,\"\",lookup!AC479))","v":""},{"$f":"IF(E487=\"\",\"\",IF(J487<=0,lookup!AD479+lookup!AF479,lookup!AD479))","v":""},{"$f":"IF(E487=\"\",\"\",lookup!AE478)","v":""},"","",{"$f":"IF(E487=\"\",\"\",IF(lookup!AF479<0,0,lookup!AF479))","v":""}]
[null,null,null,null,{"$f":"IF(J487=\"\",\"\",IF(J487<=0,\"\",lookup!AC480))","v":""},{"$f":"IF(E488=\"\",\"\",IF(J488<=0,lookup!AD480+lookup!AF480,lookup!AD480))","v":""},{"$f":"IF(E488=\"\",\"\",lookup!AE479)","v":""},"","",{"$f":"IF(E488=\"\",\"\",IF(lookup!AF480<0,0,lookup!AF480))","v":""}]
[null,null,null,null,{"$f":"IF(J488=\"\",\"\",IF(J488<=0,\"\",lookup!AC481))","v":""},{"$f":"IF(E489=\"\",\"\",IF(J489<=0,lookup!AD481+lookup!AF481,lookup!AD481))","v":""},{"$f":"IF(E489=\"\",\"\",lookup!AE480)","v":""},"","",{"$f":"IF(E489=\"\",\"\",IF(lookup!AF481<0,0,lookup!AF481))","v":""}]
[null,null,null,null,{"$f":"IF(J489=\"\",\"\",IF(J489<=0,\"\",lookup!AC482))","v":""},{"$f":"IF(E490=\"\",\"\",IF(J490<=0,lookup!AD482+lookup!AF482,lookup!AD482))","v":""},{"$f":"IF(E490=\"\",\"\",lookup!AE481)","v":""},"","",{"$f":"IF(E490=\"\",\"\",IF(lookup!AF482<0,0,lookup!AF482))","v":""}]
[null,null,null,null,{"$f":"IF(J490=\"\",\"\",IF(J490<=0,\"\",lookup!AC483))","v":""},{"$f":"IF(E491=\"\",\"\",IF(J491<=0,lookup!AD483+lookup!AF483,lookup!AD483))","v":""},{"$f":"IF(E491=\"\",\"\",lookup!AE482)","v":""},"","",{"$f":"IF(E491=\"\",\"\",IF(lookup!AF483<0,0,lookup!AF483))","v":""}]
[null,null,null,null,{"$f":"IF(J491=\"\",\"\",IF(J491<=0,\"\",lookup!AC484))","v":""},{"$f":"IF(E492=\"\",\"\",IF(J492<=0,lookup!AD484+lookup!AF484,lookup!AD484))","v":""},{"$f":"IF(E492=\"\",\"\",lookup!AE483)","v":""},"","",{"$f":"IF(E492=\"\",\"\",IF(lookup!AF484<0,0,lookup!AF484))","v":""}]
[null,null,null,null,{"$f":"IF(J492=\"\",\"\",IF(J492<=0,\"\",lookup!AC485))","v":""},{"$f":"IF(E493=\"\",\"\",IF(J493<=0,lookup!AD485+lookup!AF485,lookup!AD485))","v":""},{"$f":"IF(E493=\"\",\"\",lookup!AE484)","v":""},"","",{"$f":"IF(E493=\"\",\"\",IF(lookup!AF485<0,0,lookup!AF485))","v":""}]
[null,null,null,null,{"$f":"IF(J493=\"\",\"\",IF(J493<=0,\"\",lookup!AC486))","v":""},{"$f":"IF(E494=\"\",\"\",IF(J494<=0,lookup!AD486+lookup!AF486,lookup!AD486))","v":""},{"$f":"IF(E494=\"\",\"\",lookup!AE485)","v":""},"","",{"$f":"IF(E494=\"\",\"\",IF(lookup!AF486<0,0,lookup!AF486))","v":""}]
[null,null,null,null,{"$f":"IF(J494=\"\",\"\",IF(J494<=0,\"\",lookup!AC487))","v":""},{"$f":"IF(E495=\"\",\"\",IF(J495<=0,lookup!AD487+lookup!AF487,lookup!AD487))","v":""},{"$f":"IF(E495=\"\",\"\",lookup!AE486)","v":""},"","",{"$f":"IF(E495=\"\",\"\",IF(lookup!AF487<0,0,lookup!AF487))","v":""}]
[null,null,null,null,{"$f":"IF(J495=\"\",\"\",IF(J495<=0,\"\",lookup!AC488))","v":""},{"$f":"IF(E496=\"\",\"\",IF(J496<=0,lookup!AD488+lookup!AF488,lookup!AD488))","v":""},{"$f":"IF(E496=\"\",\"\",lookup!AE487)","v":""},"","",{"$f":"IF(E496=\"\",\"\",IF(lookup!AF488<0,0,lookup!AF488))","v":""}]
[null,null,null,null,{"$f":"IF(J496=\"\",\"\",IF(J496<=0,\"\",lookup!AC489))","v":""},{"$f":"IF(E497=\"\",\"\",IF(J497<=0,lookup!AD489+lookup!AF489,lookup!AD489))","v":""},{"$f":"IF(E497=\"\",\"\",lookup!AE488)","v":""},"","",{"$f":"IF(E497=\"\",\"\",IF(lookup!AF489<0,0,lookup!AF489))","v":""}]
[null,null,null,null,{"$f":"IF(J497=\"\",\"\",IF(J497<=0,\"\",lookup!AC490))","v":""},{"$f":"IF(E498=\"\",\"\",IF(J498<=0,lookup!AD490+lookup!AF490,lookup!AD490))","v":""},{"$f":"IF(E498=\"\",\"\",lookup!AE489)","v":""},"","",{"$f":"IF(E498=\"\",\"\",IF(lookup!AF490<0,0,lookup!AF490))","v":""}]
[null,null,null,null,{"$f":"IF(J498=\"\",\"\",IF(J498<=0,\"\",lookup!AC491))","v":""},{"$f":"IF(E499=\"\",\"\",IF(J499<=0,lookup!AD491+lookup!AF491,lookup!AD491))","v":""},{"$f":"IF(E499=\"\",\"\",lookup!AE490)","v":""},"","",{"$f":"IF(E499=\"\",\"\",IF(lookup!AF491<0,0,lookup!AF491))","v":""}]
[null,null,null,null,{"$f":"IF(J499=\"\",\"\",IF(J499<=0,\"\",lookup!AC492))","v":""},{"$f":"IF(E500=\"\",\"\",IF(J500<=0,lookup!AD492+lookup!AF492,lookup!AD492))","v":""},{"$f":"IF(E500=\"\",\"\",lookup!AE491)","v":""},"","",{"$f":"IF(E500=\"\",\"\",IF(lookup!AF492<0,0,lookup!AF492))","v":""}]
[null,null,null,null,{"$f":"IF(J500=\"\",\"\",IF(J500<=0,\"\",lookup!AC493))","v":""},{"$f":"IF(E501=\"\",\"\",IF(J501<=0,lookup!AD493+lookup!AF493,lookup!AD493))","v":""},{"$f":"IF(E501=\"\",\"\",lookup!AE492)","v":""},"","",{"$f":"IF(E501=\"\",\"\",IF(lookup!AF493<0,0,lookup!AF493))","v":""}]
[null,null,null,null,{"$f":"IF(J501=\"\",\"\",IF(J501<=0,\"\",lookup!AC494))","v":""},{"$f":"IF(E502=\"\",\"\",IF(J502<=0,lookup!AD494+lookup!AF494,lookup!AD494))","v":""},{"$f":"IF(E502=\"\",\"\",lookup!AE493)","v":""},"","",{"$f":"IF(E502=\"\",\"\",IF(lookup!AF494<0,0,lookup!AF494))","v":""}]
[null,null,null,null,{"$f":"IF(J502=\"\",\"\",IF(J502<=0,\"\",lookup!AC495))","v":""},{"$f":"IF(E503=\"\",\"\",IF(J503<=0,lookup!AD495+lookup!AF495,lookup!AD495))","v":""},{"$f":"IF(E503=\"\",\"\",lookup!AE494)","v":""},"","",{"$f":"IF(E503=\"\",\"\",IF(lookup!AF495<0,0,lookup!AF495))","v":""}]
[null,null,null,null,{"$f":"IF(J503=\"\",\"\",IF(J503<=0,\"\",lookup!AC496))","v":""},{"$f":"IF(E504=\"\",\"\",IF(J504<=0,lookup!AD496+lookup!AF496,lookup!AD496))","v":""},{"$f":"IF(E504=\"\",\"\",lookup!AE495)","v":""},"","",{"$f":"IF(E504=\"\",\"\",IF(lookup!AF496<0,0,lookup!AF496))","v":""}]
[null,null,null,null,{"$f":"IF(J504=\"\",\"\",IF(J504<=0,\"\",lookup!AC497))","v":""},{"$f":"IF(E505=\"\",\"\",IF(J505<=0,lookup!AD497+lookup!AF497,lookup!AD497))","v":""},{"$f":"IF(E505=\"\",\"\",lookup!AE496)","v":""},"","",{"$f":"IF(E505=\"\",\"\",IF(lookup!AF497<0,0,lookup!AF497))","v":""}]
[null,null,null,null,{"$f":"IF(J505=\"\",\"\",IF(J505<=0,\"\",lookup!AC498))","v":""},{"$f":"IF(E506=\"\",\"\",IF(J506<=0,lookup!AD498+lookup!AF498,lookup!AD498))","v":""},{"$f":"IF(E506=\"\",\"\",lookup!AE497)","v":""},"","",{"$f":"IF(E506=\"\",\"\",IF(lookup!AF498<0,0,lookup!AF498))","v":""}]
[null,null,null,null,{"$f":"IF(J506=\"\",\"\",IF(J506<=0,\"\",lookup!AC499))","v":""},{"$f":"IF(E507=\"\",\"\",IF(J507<=0,lookup!AD499+lookup!AF499,lookup!AD499))","v":""},{"$f":"IF(E507=\"\",\"\",lookup!AE498)","v":""},"","",{"$f":"IF(E507=\"\",\"\",IF(lookup!AF499<0,0,lookup!AF499))","v":""}]
[null,null,null,null,{"$f":"IF(J507=\"\",\"\",IF(J507<=0,\"\",lookup!AC500))","v":""},{"$f":"IF(E508=\"\",\"\",IF(J508<=0,lookup!AD500+lookup!AF500,lookup!AD500))","v":""},{"$f":"IF(E508=\"\",\"\",lookup!AE499)","v":""},"","",{"$f":"IF(E508=\"\",\"\",IF(lookup!AF500<0,0,lookup!AF500))","v":""}]
[null,null,null,null,{"$f":"IF(J508=\"\",\"\",IF(J508<=0,\"\",lookup!AC501))","v":""},{"$f":"IF(E509=\"\",\"\",IF(J509<=0,lookup!AD501+lookup!AF501,lookup!AD501))","v":""},{"$f":"IF(E509=\"\",\"\",lookup!AE500)","v":""},"","",{"$f":"IF(E509=\"\",\"\",IF(lookup!AF501<0,0,lookup!AF501))","v":""}]
[null,null,null,null,{"$f":"IF(J509=\"\",\"\",IF(J509<=0,\"\",lookup!AC502))","v":""},{"$f":"IF(E510=\"\",\"\",IF(J510<=0,lookup!AD502+lookup!AF502,lookup!AD502))","v":""},{"$f":"IF(E510=\"\",\"\",lookup!AE501)","v":""},"","",{"$f":"IF(E510=\"\",\"\",IF(lookup!AF502<0,0,lookup!AF502))","v":""}]
[null,null,null,null,{"$f":"IF(J510=\"\",\"\",IF(J510<=0,\"\",lookup!AC503))","v":""},{"$f":"IF(E511=\"\",\"\",IF(J511<=0,lookup!AD503+lookup!AF503,lookup!AD503))","v":""},{"$f":"IF(E511=\"\",\"\",lookup!AE502)","v":""},"","",{"$f":"IF(E511=\"\",\"\",IF(lookup!AF503<0,0,lookup!AF503))","v":""}]
[null,null,null,null,{"$f":"IF(J511=\"\",\"\",IF(J511<=0,\"\",lookup!AC504))","v":""},{"$f":"IF(E512=\"\",\"\",IF(J512<=0,lookup!AD504+lookup!AF504,lookup!AD504))","v":""},{"$f":"IF(E512=\"\",\"\",lookup!AE503)","v":""},"","",{"$f":"IF(E512=\"\",\"\",IF(lookup!AF504<0,0,lookup!AF504))","v":""}]
[null,null,null,null,{"$f":"IF(J512=\"\",\"\",IF(J512<=0,\"\",lookup!AC505))","v":""},{"$f":"IF(E513=\"\",\"\",IF(J513<=0,lookup!AD505+lookup!AF505,lookup!AD505))","v":""},{"$f":"IF(E513=\"\",\"\",lookup!AE504)","v":""},"","",{"$f":"IF(E513=\"\",\"\",IF(lookup!AF505<0,0,lookup!AF505))","v":""}]
[null,null,null,null,{"$f":"IF(J513=\"\",\"\",IF(J513<=0,\"\",lookup!AC506))","v":""},{"$f":"IF(E514=\"\",\"\",IF(J514<=0,lookup!AD506+lookup!AF506,lookup!AD506))","v":""},{"$f":"IF(E514=\"\",\"\",lookup!AE505)","v":""},"","",{"$f":"IF(E514=\"\",\"\",IF(lookup!AF506<0,0,lookup!AF506))","v":""}]
[null,null,null,null,{"$f":"IF(J514=\"\",\"\",IF(J514<=0,\"\",lookup!AC507))","v":""},{"$f":"IF(E515=\"\",\"\",IF(J515<=0,lookup!AD507+lookup!AF507,lookup!AD507))","v":""},{"$f":"IF(E515=\"\",\"\",lookup!AE506)","v":""},"","",{"$f":"IF(E515=\"\",\"\",IF(lookup!AF507<0,0,lookup!AF507))","v":""}]
[null,null,null,null,{"$f":"IF(J515=\"\",\"\",IF(J515<=0,\"\",lookup!AC508))","v":""},{"$f":"IF(E516=\"\",\"\",IF(J516<=0,lookup!AD508+lookup!AF508,lookup!AD508))","v":""},{"$f":"IF(E516=\"\",\"\",lookup!AE507)","v":""},"","",{"$f":"IF(E516=\"\",\"\",IF(lookup!AF508<0,0,lookup!AF508))","v":""}]
[null,null,null,null,{"$f":"IF(J516=\"\",\"\",IF(J516<=0,\"\",lookup!AC509))","v":""},{"$f":"IF(E517=\"\",\"\",IF(J517<=0,lookup!AD509+lookup!AF509,lookup!AD509))","v":""},{"$f":"IF(E517=\"\",\"\",lookup!AE508)","v":""},"","",{"$f":"IF(E517=\"\",\"\",IF(lookup!AF509<0,0,lookup!AF509))","v":""}]
[null,null,null,null,{"$f":"IF(J517=\"\",\"\",IF(J517<=0,\"\",lookup!AC510))","v":""},{"$f":"IF(E518=\"\",\"\",IF(J518<=0,lookup!AD510+lookup!AF510,lookup!AD510))","v":""},{"$f":"IF(E518=\"\",\"\",lookup!AE509)","v":""},"","",{"$f":"IF(E518=\"\",\"\",IF(lookup!AF510<0,0,lookup!AF510))","v":""}]
[null,null,null,null,{"$f":"IF(J518=\"\",\"\",IF(J518<=0,\"\",lookup!AC511))","v":""},{"$f":"IF(E519=\"\",\"\",IF(J519<=0,lookup!AD511+lookup!AF511,lookup!AD511))","v":""},{"$f":"IF(E519=\"\",\"\",lookup!AE510)","v":""},"","",{"$f":"IF(E519=\"\",\"\",IF(lookup!AF511<0,0,lookup!AF511))","v":""}]
[null,null,null,null,{"$f":"IF(J519=\"\",\"\",IF(J519<=0,\"\",lookup!AC512))","v":""},{"$f":"IF(E520=\"\",\"\",IF(J520<=0,lookup!AD512+lookup!AF512,lookup!AD512))","v":""},{"$f":"IF(E520=\"\",\"\",lookup!AE511)","v":""},"","",{"$f":"IF(E520=\"\",\"\",IF(lookup!AF512<0,0,lookup!AF512))","v":""}]
[null,null,null,null,{"$f":"IF(J520=\"\",\"\",IF(J520<=0,\"\",lookup!AC513))","v":""},{"$f":"IF(E521=\"\",\"\",IF(J521<=0,lookup!AD513+lookup!AF513,lookup!AD513))","v":""},{"$f":"IF(E521=\"\",\"\",lookup!AE512)","v":""},"","",{"$f":"IF(E521=\"\",\"\",IF(lookup!AF513<0,0,lookup!AF513))","v":""}]
[null,null,null,null,{"$f":"IF(J521=\"\",\"\",IF(J521<=0,\"\",lookup!AC514))","v":""},{"$f":"IF(E522=\"\",\"\",IF(J522<=0,lookup!AD514+lookup!AF514,lookup!AD514))","v":""},{"$f":"IF(E522=\"\",\"\",lookup!AE513)","v":""},"","",{"$f":"IF(E522=\"\",\"\",IF(lookup!AF514<0,0,lookup!AF514))","v":""}]
[null,null,null,null,{"$f":"IF(J522=\"\",\"\",IF(J522<=0,\"\",lookup!AC515))","v":""},{"$f":"IF(E523=\"\",\"\",IF(J523<=0,lookup!AD515+lookup!AF515,lookup!AD515))","v":""},{"$f":"IF(E523=\"\",\"\",lookup!AE514)","v":""},"","",{"$f":"IF(E523=\"\",\"\",IF(lookup!AF515<0,0,lookup!AF515))","v":""}]
[null,null,null,null,{"$f":"IF(J523=\"\",\"\",IF(J523<=0,\"\",lookup!AC516))","v":""},{"$f":"IF(E524=\"\",\"\",IF(J524<=0,lookup!AD516+lookup!AF516,lookup!AD516))","v":""},{"$f":"IF(E524=\"\",\"\",lookup!AE515)","v":""},{"$f":"IF(E524=\"\",\"\",H523+G524)","v":""},{"$f":"IF(E524=\"\",\"\",F524-G524)","v":""},{"$f":"IF(E524=\"\",\"\",IF(lookup!AF516<0,0,lookup!AF516))","v":""}]
[null,null,null,null,{"$f":"IF(J524=\"\",\"\",IF(J524<=0,\"\",lookup!AC517))","v":""},{"$f":"IF(E525=\"\",\"\",IF(J525<=0,lookup!AD517+lookup!AF517,lookup!AD517))","v":""},{"$f":"IF(E525=\"\",\"\",lookup!AE516)","v":""},"","",{"$f":"IF(E525=\"\",\"\",IF(lookup!AF517<0,0,lookup!AF517))","v":""}]
[null,null,null,null,{"$f":"IF(J525=\"\",\"\",IF(J525<=0,\"\",lookup!AC518))","v":""},{"$f":"IF(E526=\"\",\"\",IF(J526<=0,lookup!AD518+lookup!AF518,lookup!AD518))","v":""},{"$f":"IF(E526=\"\",\"\",lookup!AE517)","v":""},"","",{"$f":"IF(E526=\"\",\"\",IF(lookup!AF518<0,0,lookup!AF518))","v":""}]
[null,null,null,null,{"$f":"IF(J526=\"\",\"\",IF(J526<=0,\"\",lookup!AC519))","v":""},{"$f":"IF(E527=\"\",\"\",IF(J527<=0,lookup!AD519+lookup!AF519,lookup!AD519))","v":""},{"$f":"IF(E527=\"\",\"\",lookup!AE518)","v":""},"","",{"$f":"IF(E527=\"\",\"\",IF(lookup!AF519<0,0,lookup!AF519))","v":""}]
[null,null,null,null,{"$f":"IF(J527=\"\",\"\",IF(J527<=0,\"\",lookup!AC520))","v":""},{"$f":"IF(E528=\"\",\"\",IF(J528<=0,lookup!AD520+lookup!AF520,lookup!AD520))","v":""},{"$f":"IF(E528=\"\",\"\",lookup!AE519)","v":""},"","",{"$f":"IF(E528=\"\",\"\",IF(lookup!AF520<0,0,lookup!AF520))","v":""}]
[null,null,null,null,{"$f":"IF(J528=\"\",\"\",IF(J528<=0,\"\",lookup!AC521))","v":""},{"$f":"IF(E529=\"\",\"\",IF(J529<=0,lookup!AD521+lookup!AF521,lookup!AD521))","v":""},{"$f":"IF(E529=\"\",\"\",lookup!AE520)","v":""},"","",{"$f":"IF(E529=\"\",\"\",IF(lookup!AF521<0,0,lookup!AF521))","v":""}]
[null,null,null,null,{"$f":"IF(J529=\"\",\"\",IF(J529<=0,\"\",lookup!AC522))","v":""},{"$f":"IF(E530=\"\",\"\",IF(J530<=0,lookup!AD522+lookup!AF522,lookup!AD522))","v":""},{"$f":"IF(E530=\"\",\"\",lookup!AE521)","v":""},"","",{"$f":"IF(E530=\"\",\"\",IF(lookup!AF522<0,0,lookup!AF522))","v":""}]
[null,null,null,null,{"$f":"IF(J530=\"\",\"\",IF(J530<=0,\"\",lookup!AC523))","v":""},{"$f":"IF(E531=\"\",\"\",IF(J531<=0,lookup!AD523+lookup!AF523,lookup!AD523))","v":""},{"$f":"IF(E531=\"\",\"\",lookup!AE522)","v":""},"","",{"$f":"IF(E531=\"\",\"\",IF(lookup!AF523<0,0,lookup!AF523))","v":""}]
[null,null,null,null,{"$f":"IF(J531=\"\",\"\",IF(J531<=0,\"\",lookup!AC524))","v":""},{"$f":"IF(E532=\"\",\"\",IF(J532<=0,lookup!AD524+lookup!AF524,lookup!AD524))","v":""},{"$f":"IF(E532=\"\",\"\",lookup!AE523)","v":""},"","",{"$f":"IF(E532=\"\",\"\",IF(lookup!AF524<0,0,lookup!AF524))","v":""}]
[null,null,null,null,{"$f":"IF(J532=\"\",\"\",IF(J532<=0,\"\",lookup!AC525))","v":""},{"$f":"IF(E533=\"\",\"\",IF(J533<=0,lookup!AD525+lookup!AF525,lookup!AD525))","v":""},{"$f":"IF(E533=\"\",\"\",lookup!AE524)","v":""},"","",{"$f":"IF(E533=\"\",\"\",IF(lookup!AF525<0,0,lookup!AF525))","v":""}]
[null,null,null,null,{"$f":"IF(J533=\"\",\"\",IF(J533<=0,\"\",lookup!AC526))","v":""},{"$f":"IF(E534=\"\",\"\",IF(J534<=0,lookup!AD526+lookup!AF526,lookup!AD526))","v":""},{"$f":"IF(E534=\"\",\"\",lookup!AE525)","v":""},"","",{"$f":"IF(E534=\"\",\"\",IF(lookup!AF526<0,0,lookup!AF526))","v":""}]
[null,null,null,null,{"$f":"IF(J534=\"\",\"\",IF(J534<=0,\"\",lookup!AC527))","v":""},{"$f":"IF(E535=\"\",\"\",IF(J535<=0,lookup!AD527+lookup!AF527,lookup!AD527))","v":""},{"$f":"IF(E535=\"\",\"\",lookup!AE526)","v":""},"","",{"$f":"IF(E535=\"\",\"\",IF(lookup!AF527<0,0,lookup!AF527))","v":""}]
[null,null,null,null,{"$f":"IF(J535=\"\",\"\",IF(J535<=0,\"\",lookup!AC528))","v":""},{"$f":"IF(E536=\"\",\"\",IF(J536<=0,lookup!AD528+lookup!AF528,lookup!AD528))","v":""},{"$f":"IF(E536=\"\",\"\",lookup!AE527)","v":""},"","",{"$f":"IF(E536=\"\",\"\",IF(lookup!AF528<0,0,lookup!AF528))","v":""}]
[null,null,null,null,{"$f":"IF(J536=\"\",\"\",IF(J536<=0,\"\",lookup!AC529))","v":""},{"$f":"IF(E537=\"\",\"\",IF(J537<=0,lookup!AD529+lookup!AF529,lookup!AD529))","v":""},{"$f":"IF(E537=\"\",\"\",lookup!AE528)","v":""},"","",{"$f":"IF(E537=\"\",\"\",IF(lookup!AF529<0,0,lookup!AF529))","v":""}]
[null,null,null,null,{"$f":"IF(J537=\"\",\"\",IF(J537<=0,\"\",lookup!AC530))","v":""},{"$f":"IF(E538=\"\",\"\",IF(J538<=0,lookup!AD530+lookup!AF530,lookup!AD530))","v":""},{"$f":"IF(E538=\"\",\"\",lookup!AE529)","v":""},"","",{"$f":"IF(E538=\"\",\"\",IF(lookup!AF530<0,0,lookup!AF530))","v":""}]
[null,null,null,null,{"$f":"IF(J538=\"\",\"\",IF(J538<=0,\"\",lookup!AC531))","v":""},{"$f":"IF(E539=\"\",\"\",IF(J539<=0,lookup!AD531+lookup!AF531,lookup!AD531))","v":""},{"$f":"IF(E539=\"\",\"\",lookup!AE530)","v":""},"","",{"$f":"IF(E539=\"\",\"\",IF(lookup!AF531<0,0,lookup!AF531))","v":""}]
[null,null,null,null,{"$f":"IF(J539=\"\",\"\",IF(J539<=0,\"\",lookup!AC532))","v":""},{"$f":"IF(E540=\"\",\"\",IF(J540<=0,lookup!AD532+lookup!AF532,lookup!AD532))","v":""},{"$f":"IF(E540=\"\",\"\",lookup!AE531)","v":""},"","",{"$f":"IF(E540=\"\",\"\",IF(lookup!AF532<0,0,lookup!AF532))","v":""}]
[null,null,null,null,{"$f":"IF(J540=\"\",\"\",IF(J540<=0,\"\",lookup!AC533))","v":""},{"$f":"IF(E541=\"\",\"\",IF(J541<=0,lookup!AD533+lookup!AF533,lookup!AD533))","v":""},{"$f":"IF(E541=\"\",\"\",lookup!AE532)","v":""},"","",{"$f":"IF(E541=\"\",\"\",IF(lookup!AF533<0,0,lookup!AF533))","v":""}]
[null,null,null,null,{"$f":"IF(J541=\"\",\"\",IF(J541<=0,\"\",lookup!AC534))","v":""},{"$f":"IF(E542=\"\",\"\",IF(J542<=0,lookup!AD534+lookup!AF534,lookup!AD534))","v":""},{"$f":"IF(E542=\"\",\"\",lookup!AE533)","v":""},"","",{"$f":"IF(E542=\"\",\"\",IF(lookup!AF534<0,0,lookup!AF534))","v":""}]
[null,null,null,null,{"$f":"IF(J542=\"\",\"\",IF(J542<=0,\"\",lookup!AC535))","v":""},{"$f":"IF(E543=\"\",\"\",IF(J543<=0,lookup!AD535+lookup!AF535,lookup!AD535))","v":""},{"$f":"IF(E543=\"\",\"\",lookup!AE534)","v":""},"","",{"$f":"IF(E543=\"\",\"\",IF(lookup!AF535<0,0,lookup!AF535))","v":""}]
[null,null,null,null,{"$f":"IF(J543=\"\",\"\",IF(J543<=0,\"\",lookup!AC536))","v":""},{"$f":"IF(E544=\"\",\"\",IF(J544<=0,lookup!AD536+lookup!AF536,lookup!AD536))","v":""},{"$f":"IF(E544=\"\",\"\",lookup!AE535)","v":""},"","",{"$f":"IF(E544=\"\",\"\",IF(lookup!AF536<0,0,lookup!AF536))","v":""}]
[null,null,null,null,{"$f":"IF(J544=\"\",\"\",IF(J544<=0,\"\",lookup!AC537))","v":""},{"$f":"IF(E545=\"\",\"\",IF(J545<=0,lookup!AD537+lookup!AF537,lookup!AD537))","v":""},{"$f":"IF(E545=\"\",\"\",lookup!AE536)","v":""},"","",{"$f":"IF(E545=\"\",\"\",IF(lookup!AF537<0,0,lookup!AF537))","v":""}]
[null,null,null,null,{"$f":"IF(J545=\"\",\"\",IF(J545<=0,\"\",lookup!AC538))","v":""},{"$f":"IF(E546=\"\",\"\",IF(J546<=0,lookup!AD538+lookup!AF538,lookup!AD538))","v":""},{"$f":"IF(E546=\"\",\"\",lookup!AE537)","v":""},"","",{"$f":"IF(E546=\"\",\"\",IF(lookup!AF538<0,0,lookup!AF538))","v":""}]
[null,null,null,null,{"$f":"IF(J546=\"\",\"\",IF(J546<=0,\"\",lookup!AC539))","v":""},{"$f":"IF(E547=\"\",\"\",IF(J547<=0,lookup!AD539+lookup!AF539,lookup!AD539))","v":""},{"$f":"IF(E547=\"\",\"\",lookup!AE538)","v":""},"","",{"$f":"IF(E547=\"\",\"\",IF(lookup!AF539<0,0,lookup!AF539))","v":""}]
[null,null,null,null,{"$f":"IF(J547=\"\",\"\",IF(J547<=0,\"\",lookup!AC540))","v":""},{"$f":"IF(E548=\"\",\"\",IF(J548<=0,lookup!AD540+lookup!AF540,lookup!AD540))","v":""},{"$f":"IF(E548=\"\",\"\",lookup!AE539)","v":""},"","",{"$f":"IF(E548=\"\",\"\",IF(lookup!AF540<0,0,lookup!AF540))","v":""}]
[null,null,null,null,{"$f":"IF(J548=\"\",\"\",IF(J548<=0,\"\",lookup!AC541))","v":""},{"$f":"IF(E549=\"\",\"\",IF(J549<=0,lookup!AD541+lookup!AF541,lookup!AD541))","v":""},{"$f":"IF(E549=\"\",\"\",lookup!AE540)","v":""},"","",{"$f":"IF(E549=\"\",\"\",IF(lookup!AF541<0,0,lookup!AF541))","v":""}]
[null,null,null,null,{"$f":"IF(J549=\"\",\"\",IF(J549<=0,\"\",lookup!AC542))","v":""},{"$f":"IF(E550=\"\",\"\",IF(J550<=0,lookup!AD542+lookup!AF542,lookup!AD542))","v":""},{"$f":"IF(E550=\"\",\"\",lookup!AE541)","v":""},"","",{"$f":"IF(E550=\"\",\"\",IF(lookup!AF542<0,0,lookup!AF542))","v":""}]
[null,null,null,null,{"$f":"IF(J550=\"\",\"\",IF(J550<=0,\"\",lookup!AC543))","v":""},{"$f":"IF(E551=\"\",\"\",IF(J551<=0,lookup!AD543+lookup!AF543,lookup!AD543))","v":""},{"$f":"IF(E551=\"\",\"\",lookup!AE542)","v":""},"","",{"$f":"IF(E551=\"\",\"\",IF(lookup!AF543<0,0,lookup!AF543))","v":""}]
[null,null,null,null,{"$f":"IF(J551=\"\",\"\",IF(J551<=0,\"\",lookup!AC544))","v":""},{"$f":"IF(E552=\"\",\"\",IF(J552<=0,lookup!AD544+lookup!AF544,lookup!AD544))","v":""},{"$f":"IF(E552=\"\",\"\",lookup!AE543)","v":""},"","",{"$f":"IF(E552=\"\",\"\",IF(lookup!AF544<0,0,lookup!AF544))","v":""}]
[null,null,null,null,{"$f":"IF(J552=\"\",\"\",IF(J552<=0,\"\",lookup!AC545))","v":""},{"$f":"IF(E553=\"\",\"\",IF(J553<=0,lookup!AD545+lookup!AF545,lookup!AD545))","v":""},{"$f":"IF(E553=\"\",\"\",lookup!AE544)","v":""},"","",{"$f":"IF(E553=\"\",\"\",IF(lookup!AF545<0,0,lookup!AF545))","v":""}]
[null,null,null,null,{"$f":"IF(J553=\"\",\"\",IF(J553<=0,\"\",lookup!AC546))","v":""},{"$f":"IF(E554=\"\",\"\",IF(J554<=0,lookup!AD546+lookup!AF546,lookup!AD546))","v":""},{"$f":"IF(E554=\"\",\"\",lookup!AE545)","v":""},"","",{"$f":"IF(E554=\"\",\"\",IF(lookup!AF546<0,0,lookup!AF546))","v":""}]
[null,null,null,null,{"$f":"IF(J554=\"\",\"\",IF(J554<=0,\"\",lookup!AC547))","v":""},{"$f":"IF(E555=\"\",\"\",IF(J555<=0,lookup!AD547+lookup!AF547,lookup!AD547))","v":""},{"$f":"IF(E555=\"\",\"\",lookup!AE546)","v":""},"","",{"$f":"IF(E555=\"\",\"\",IF(lookup!AF547<0,0,lookup!AF547))","v":""}]
[null,null,null,null,{"$f":"IF(J555=\"\",\"\",IF(J555<=0,\"\",lookup!AC548))","v":""},{"$f":"IF(E556=\"\",\"\",IF(J556<=0,lookup!AD548+lookup!AF548,lookup!AD548))","v":""},{"$f":"IF(E556=\"\",\"\",lookup!AE547)","v":""},"","",{"$f":"IF(E556=\"\",\"\",IF(lookup!AF548<0,0,lookup!AF548))","v":""}]
[null,null,null,null,{"$f":"IF(J556=\"\",\"\",IF(J556<=0,\"\",lookup!AC549))","v":""},{"$f":"IF(E557=\"\",\"\",IF(J557<=0,lookup!AD549+lookup!AF549,lookup!AD549))","v":""},{"$f":"IF(E557=\"\",\"\",lookup!AE548)","v":""},"","",{"$f":"IF(E557=\"\",\"\",IF(lookup!AF549<0,0,lookup!AF549))","v":""}]
[null,null,null,null,{"$f":"IF(J557=\"\",\"\",IF(J557<=0,\"\",lookup!AC550))","v":""},{"$f":"IF(E558=\"\",\"\",IF(J558<=0,lookup!AD550+lookup!AF550,lookup!AD550))","v":""},{"$f":"IF(E558=\"\",\"\",lookup!AE549)","v":""},"","",{"$f":"IF(E558=\"\",\"\",IF(lookup!AF550<0,0,lookup!AF550))","v":""}]
[null,null,null,null,{"$f":"IF(J558=\"\",\"\",IF(J558<=0,\"\",lookup!AC551))","v":""},{"$f":"IF(E559=\"\",\"\",IF(J559<=0,lookup!AD551+lookup!AF551,lookup!AD551))","v":""},{"$f":"IF(E559=\"\",\"\",lookup!AE550)","v":""},"","",{"$f":"IF(E559=\"\",\"\",IF(lookup!AF551<0,0,lookup!AF551))","v":""}]
[null,null,null,null,{"$f":"IF(J559=\"\",\"\",IF(J559<=0,\"\",lookup!AC552))","v":""},{"$f":"IF(E560=\"\",\"\",IF(J560<=0,lookup!AD552+lookup!AF552,lookup!AD552))","v":""},{"$f":"IF(E560=\"\",\"\",lookup!AE551)","v":""},"","",{"$f":"IF(E560=\"\",\"\",IF(lookup!AF552<0,0,lookup!AF552))","v":""}]
[null,null,null,null,{"$f":"IF(J560=\"\",\"\",IF(J560<=0,\"\",lookup!AC553))","v":""},{"$f":"IF(E561=\"\",\"\",IF(J561<=0,lookup!AD553+lookup!AF553,lookup!AD553))","v":""},{"$f":"IF(E561=\"\",\"\",lookup!AE552)","v":""},"","",{"$f":"IF(E561=\"\",\"\",IF(lookup!AF553<0,0,lookup!AF553))","v":""}]
[null,null,null,null,{"$f":"IF(J561=\"\",\"\",IF(J561<=0,\"\",lookup!AC554))","v":""},{"$f":"IF(E562=\"\",\"\",IF(J562<=0,lookup!AD554+lookup!AF554,lookup!AD554))","v":""},{"$f":"IF(E562=\"\",\"\",lookup!AE553)","v":""},"","",{"$f":"IF(E562=\"\",\"\",IF(lookup!AF554<0,0,lookup!AF554))","v":""}]
[null,null,null,null,{"$f":"IF(J562=\"\",\"\",IF(J562<=0,\"\",lookup!AC555))","v":""},{"$f":"IF(E563=\"\",\"\",IF(J563<=0,lookup!AD555+lookup!AF555,lookup!AD555))","v":""},{"$f":"IF(E563=\"\",\"\",lookup!AE554)","v":""},"","",{"$f":"IF(E563=\"\",\"\",IF(lookup!AF555<0,0,lookup!AF555))","v":""}]
[null,null,null,null,{"$f":"IF(J563=\"\",\"\",IF(J563<=0,\"\",lookup!AC556))","v":""},{"$f":"IF(E564=\"\",\"\",IF(J564<=0,lookup!AD556+lookup!AF556,lookup!AD556))","v":""},{"$f":"IF(E564=\"\",\"\",lookup!AE555)","v":""},"","",{"$f":"IF(E564=\"\",\"\",IF(lookup!AF556<0,0,lookup!AF556))","v":""}]
[null,null,null,null,{"$f":"IF(J564=\"\",\"\",IF(J564<=0,\"\",lookup!AC557))","v":""},{"$f":"IF(E565=\"\",\"\",IF(J565<=0,lookup!AD557+lookup!AF557,lookup!AD557))","v":""},{"$f":"IF(E565=\"\",\"\",lookup!AE556)","v":""},"","",{"$f":"IF(E565=\"\",\"\",IF(lookup!AF557<0,0,lookup!AF557))","v":""}]
[null,null,null,null,{"$f":"IF(J565=\"\",\"\",IF(J565<=0,\"\",lookup!AC558))","v":""},{"$f":"IF(E566=\"\",\"\",IF(J566<=0,lookup!AD558+lookup!AF558,lookup!AD558))","v":""},{"$f":"IF(E566=\"\",\"\",lookup!AE557)","v":""},"","",{"$f":"IF(E566=\"\",\"\",IF(lookup!AF558<0,0,lookup!AF558))","v":""}]
[null,null,null,null,{"$f":"IF(J566=\"\",\"\",IF(J566<=0,\"\",lookup!AC559))","v":""},{"$f":"IF(E567=\"\",\"\",IF(J567<=0,lookup!AD559+lookup!AF559,lookup!AD559))","v":""},{"$f":"IF(E567=\"\",\"\",lookup!AE558)","v":""},"","",{"$f":"IF(E567=\"\",\"\",IF(lookup!AF559<0,0,lookup!AF559))","v":""}]
[null,null,null,null,{"$f":"IF(J567=\"\",\"\",IF(J567<=0,\"\",lookup!AC560))","v":""},{"$f":"IF(E568=\"\",\"\",IF(J568<=0,lookup!AD560+lookup!AF560,lookup!AD560))","v":""},{"$f":"IF(E568=\"\",\"\",lookup!AE559)","v":""},"","",{"$f":"IF(E568=\"\",\"\",IF(lookup!AF560<0,0,lookup!AF560))","v":""}]
[null,null,null,null,{"$f":"IF(J568=\"\",\"\",IF(J568<=0,\"\",lookup!AC561))","v":""},{"$f":"IF(E569=\"\",\"\",IF(J569<=0,lookup!AD561+lookup!AF561,lookup!AD561))","v":""},{"$f":"IF(E569=\"\",\"\",lookup!AE560)","v":""},"","",{"$f":"IF(E569=\"\",\"\",IF(lookup!AF561<0,0,lookup!AF561))","v":""}]
[null,null,null,null,{"$f":"IF(J569=\"\",\"\",IF(J569<=0,\"\",lookup!AC562))","v":""},{"$f":"IF(E570=\"\",\"\",IF(J570<=0,lookup!AD562+lookup!AF562,lookup!AD562))","v":""},{"$f":"IF(E570=\"\",\"\",lookup!AE561)","v":""},"","",{"$f":"IF(E570=\"\",\"\",IF(lookup!AF562<0,0,lookup!AF562))","v":""}]
[null,null,null,null,{"$f":"IF(J570=\"\",\"\",IF(J570<=0,\"\",lookup!AC563))","v":""},{"$f":"IF(E571=\"\",\"\",IF(J571<=0,lookup!AD563+lookup!AF563,lookup!AD563))","v":""},{"$f":"IF(E571=\"\",\"\",lookup!AE562)","v":""},"","",{"$f":"IF(E571=\"\",\"\",IF(lookup!AF563<0,0,lookup!AF563))","v":""}]
[null,null,null,null,{"$f":"IF(J571=\"\",\"\",IF(J571<=0,\"\",lookup!AC564))","v":""},{"$f":"IF(E572=\"\",\"\",IF(J572<=0,lookup!AD564+lookup!AF564,lookup!AD564))","v":""},{"$f":"IF(E572=\"\",\"\",lookup!AE563)","v":""},"","",{"$f":"IF(E572=\"\",\"\",IF(lookup!AF564<0,0,lookup!AF564))","v":""}]
[null,null,null,null,{"$f":"IF(J572=\"\",\"\",IF(J572<=0,\"\",lookup!AC565))","v":""},{"$f":"IF(E573=\"\",\"\",IF(J573<=0,lookup!AD565+lookup!AF565,lookup!AD565))","v":""},{"$f":"IF(E573=\"\",\"\",lookup!AE564)","v":""},"","",{"$f":"IF(E573=\"\",\"\",IF(lookup!AF565<0,0,lookup!AF565))","v":""}]
[null,null,null,null,{"$f":"IF(J573=\"\",\"\",IF(J573<=0,\"\",lookup!AC566))","v":""},{"$f":"IF(E574=\"\",\"\",IF(J574<=0,lookup!AD566+lookup!AF566,lookup!AD566))","v":""},{"$f":"IF(E574=\"\",\"\",lookup!AE565)","v":""},"","",{"$f":"IF(E574=\"\",\"\",IF(lookup!AF566<0,0,lookup!AF566))","v":""}]
[null,null,null,null,{"$f":"IF(J574=\"\",\"\",IF(J574<=0,\"\",lookup!AC567))","v":""},{"$f":"IF(E575=\"\",\"\",IF(J575<=0,lookup!AD567+lookup!AF567,lookup!AD567))","v":""},{"$f":"IF(E575=\"\",\"\",lookup!AE566)","v":""},"","",{"$f":"IF(E575=\"\",\"\",IF(lookup!AF567<0,0,lookup!AF567))","v":""}]
[null,null,null,null,{"$f":"IF(J575=\"\",\"\",IF(J575<=0,\"\",lookup!AC568))","v":""},{"$f":"IF(E576=\"\",\"\",IF(J576<=0,lookup!AD568+lookup!AF568,lookup!AD568))","v":""},{"$f":"IF(E576=\"\",\"\",lookup!AE567)","v":""},"","",{"$f":"IF(E576=\"\",\"\",IF(lookup!AF568<0,0,lookup!AF568))","v":""}]
[null,null,null,null,{"$f":"IF(J576=\"\",\"\",IF(J576<=0,\"\",lookup!AC569))","v":""},{"$f":"IF(E577=\"\",\"\",IF(J577<=0,lookup!AD569+lookup!AF569,lookup!AD569))","v":""},{"$f":"IF(E577=\"\",\"\",lookup!AE568)","v":""},"","",{"$f":"IF(E577=\"\",\"\",IF(lookup!AF569<0,0,lookup!AF569))","v":""}]
[null,null,null,null,{"$f":"IF(J577=\"\",\"\",IF(J577<=0,\"\",lookup!AC570))","v":""},{"$f":"IF(E578=\"\",\"\",IF(J578<=0,lookup!AD570+lookup!AF570,lookup!AD570))","v":""},{"$f":"IF(E578=\"\",\"\",lookup!AE569)","v":""},"","",{"$f":"IF(E578=\"\",\"\",IF(lookup!AF570<0,0,lookup!AF570))","v":""}]
[null,null,null,null,{"$f":"IF(J578=\"\",\"\",IF(J578<=0,\"\",lookup!AC571))","v":""},{"$f":"IF(E579=\"\",\"\",IF(J579<=0,lookup!AD571+lookup!AF571,lookup!AD571))","v":""},{"$f":"IF(E579=\"\",\"\",lookup!AE570)","v":""},"","",{"$f":"IF(E579=\"\",\"\",IF(lookup!AF571<0,0,lookup!AF571))","v":""}]
[null,null,null,null,{"$f":"IF(J579=\"\",\"\",IF(J579<=0,\"\",lookup!AC572))","v":""},{"$f":"IF(E580=\"\",\"\",IF(J580<=0,lookup!AD572+lookup!AF572,lookup!AD572))","v":""},{"$f":"IF(E580=\"\",\"\",lookup!AE571)","v":""},"","",{"$f":"IF(E580=\"\",\"\",IF(lookup!AF572<0,0,lookup!AF572))","v":""}]
[null,null,null,null,{"$f":"IF(J580=\"\",\"\",IF(J580<=0,\"\",lookup!AC573))","v":""},{"$f":"IF(E581=\"\",\"\",IF(J581<=0,lookup!AD573+lookup!AF573,lookup!AD573))","v":""},{"$f":"IF(E581=\"\",\"\",lookup!AE572)","v":""},"","",{"$f":"IF(E581=\"\",\"\",IF(lookup!AF573<0,0,lookup!AF573))","v":""}]
[null,null,null,null,{"$f":"IF(J581=\"\",\"\",IF(J581<=0,\"\",lookup!AC574))","v":""},{"$f":"IF(E582=\"\",\"\",IF(J582<=0,lookup!AD574+lookup!AF574,lookup!AD574))","v":""},{"$f":"IF(E582=\"\",\"\",lookup!AE573)","v":""},"","",{"$f":"IF(E582=\"\",\"\",IF(lookup!AF574<0,0,lookup!AF574))","v":""}]
[null,null,null,null,{"$f":"IF(J582=\"\",\"\",IF(J582<=0,\"\",lookup!AC575))","v":""},{"$f":"IF(E583=\"\",\"\",IF(J583<=0,lookup!AD575+lookup!AF575,lookup!AD575))","v":""},{"$f":"IF(E583=\"\",\"\",lookup!AE574)","v":""},"","",{"$f":"IF(E583=\"\",\"\",IF(lookup!AF575<0,0,lookup!AF575))","v":""}]
[null,null,null,null,{"$f":"IF(J583=\"\",\"\",IF(J583<=0,\"\",lookup!AC576))","v":""},{"$f":"IF(E584=\"\",\"\",IF(J584<=0,lookup!AD576+lookup!AF576,lookup!AD576))","v":""},{"$f":"IF(E584=\"\",\"\",lookup!AE575)","v":""},"","",{"$f":"IF(E584=\"\",\"\",IF(lookup!AF576<0,0,lookup!AF576))","v":""}]
[null,null,null,null,{"$f":"IF(J584=\"\",\"\",IF(J584<=0,\"\",lookup!AC577))","v":""},{"$f":"IF(E585=\"\",\"\",IF(J585<=0,lookup!AD577+lookup!AF577,lookup!AD577))","v":""},{"$f":"IF(E585=\"\",\"\",lookup!AE576)","v":""},"","",{"$f":"IF(E585=\"\",\"\",IF(lookup!AF577<0,0,lookup!AF577))","v":""}]
[null,null,null,null,{"$f":"IF(J585=\"\",\"\",IF(J585<=0,\"\",lookup!AC578))","v":""},{"$f":"IF(E586=\"\",\"\",IF(J586<=0,lookup!AD578+lookup!AF578,lookup!AD578))","v":""},{"$f":"IF(E586=\"\",\"\",lookup!AE577)","v":""},"","",{"$f":"IF(E586=\"\",\"\",IF(lookup!AF578<0,0,lookup!AF578))","v":""}]
[null,null,null,null,{"$f":"IF(J586=\"\",\"\",IF(J586<=0,\"\",lookup!AC579))","v":""},{"$f":"IF(E587=\"\",\"\",IF(J587<=0,lookup!AD579+lookup!AF579,lookup!AD579))","v":""},{"$f":"IF(E587=\"\",\"\",lookup!AE578)","v":""},"","",{"$f":"IF(E587=\"\",\"\",IF(lookup!AF579<0,0,lookup!AF579))","v":""}]
[null,null,null,null,{"$f":"IF(J587=\"\",\"\",IF(J587<=0,\"\",lookup!AC580))","v":""},{"$f":"IF(E588=\"\",\"\",IF(J588<=0,lookup!AD580+lookup!AF580,lookup!AD580))","v":""},{"$f":"IF(E588=\"\",\"\",lookup!AE579)","v":""},{"$f":"IF(E588=\"\",\"\",H587+G588)","v":""},{"$f":"IF(E588=\"\",\"\",F588-G588)","v":""},{"$f":"IF(E588=\"\",\"\",IF(lookup!AF580<0,0,lookup!AF580))","v":""}]
[null,null,null,null,{"$f":"IF(J588=\"\",\"\",IF(J588<=0,\"\",lookup!AC581))","v":""},{"$f":"IF(E589=\"\",\"\",IF(J589<=0,lookup!AD581+lookup!AF581,lookup!AD581))","v":""},{"$f":"IF(E589=\"\",\"\",lookup!AE580)","v":""},"","",{"$f":"IF(E589=\"\",\"\",IF(lookup!AF581<0,0,lookup!AF581))","v":""}]
[null,null,null,null,{"$f":"IF(J589=\"\",\"\",IF(J589<=0,\"\",lookup!AC582))","v":""},{"$f":"IF(E590=\"\",\"\",IF(J590<=0,lookup!AD582+lookup!AF582,lookup!AD582))","v":""},{"$f":"IF(E590=\"\",\"\",lookup!AE581)","v":""},"","",{"$f":"IF(E590=\"\",\"\",IF(lookup!AF582<0,0,lookup!AF582))","v":""}]
[null,null,null,null,{"$f":"IF(J590=\"\",\"\",IF(J590<=0,\"\",lookup!AC583))","v":""},{"$f":"IF(E591=\"\",\"\",IF(J591<=0,lookup!AD583+lookup!AF583,lookup!AD583))","v":""},{"$f":"IF(E591=\"\",\"\",lookup!AE582)","v":""},"","",{"$f":"IF(E591=\"\",\"\",IF(lookup!AF583<0,0,lookup!AF583))","v":""}]
[null,null,null,null,{"$f":"IF(J591=\"\",\"\",IF(J591<=0,\"\",lookup!AC584))","v":""},{"$f":"IF(E592=\"\",\"\",IF(J592<=0,lookup!AD584+lookup!AF584,lookup!AD584))","v":""},{"$f":"IF(E592=\"\",\"\",lookup!AE583)","v":""},"","",{"$f":"IF(E592=\"\",\"\",IF(lookup!AF584<0,0,lookup!AF584))","v":""}]
[null,null,null,null,{"$f":"IF(J592=\"\",\"\",IF(J592<=0,\"\",lookup!AC585))","v":""},{"$f":"IF(E593=\"\",\"\",IF(J593<=0,lookup!AD585+lookup!AF585,lookup!AD585))","v":""},{"$f":"IF(E593=\"\",\"\",lookup!AE584)","v":""},"","",{"$f":"IF(E593=\"\",\"\",IF(lookup!AF585<0,0,lookup!AF585))","v":""}]
[null,null,null,null,{"$f":"IF(J593=\"\",\"\",IF(J593<=0,\"\",lookup!AC586))","v":""},{"$f":"IF(E594=\"\",\"\",IF(J594<=0,lookup!AD586+lookup!AF586,lookup!AD586))","v":""},{"$f":"IF(E594=\"\",\"\",lookup!AE585)","v":""},"","",{"$f":"IF(E594=\"\",\"\",IF(lookup!AF586<0,0,lookup!AF586))","v":""}]
[null,null,null,null,{"$f":"IF(J594=\"\",\"\",IF(J594<=0,\"\",lookup!AC587))","v":""},{"$f":"IF(E595=\"\",\"\",IF(J595<=0,lookup!AD587+lookup!AF587,lookup!AD587))","v":""},{"$f":"IF(E595=\"\",\"\",lookup!AE586)","v":""},"","",{"$f":"IF(E595=\"\",\"\",IF(lookup!AF587<0,0,lookup!AF587))","v":""}]
[null,null,null,null,{"$f":"IF(J595=\"\",\"\",IF(J595<=0,\"\",lookup!AC588))","v":""},{"$f":"IF(E596=\"\",\"\",IF(J596<=0,lookup!AD588+lookup!AF588,lookup!AD588))","v":""},{"$f":"IF(E596=\"\",\"\",lookup!AE587)","v":""},"","",{"$f":"IF(E596=\"\",\"\",IF(lookup!AF588<0,0,lookup!AF588))","v":""}]
[null,null,null,null,{"$f":"IF(J596=\"\",\"\",IF(J596<=0,\"\",lookup!AC589))","v":""},{"$f":"IF(E597=\"\",\"\",IF(J597<=0,lookup!AD589+lookup!AF589,lookup!AD589))","v":""},{"$f":"IF(E597=\"\",\"\",lookup!AE588)","v":""},"","",{"$f":"IF(E597=\"\",\"\",IF(lookup!AF589<0,0,lookup!AF589))","v":""}]
[null,null,null,null,{"$f":"IF(J597=\"\",\"\",IF(J597<=0,\"\",lookup!AC590))","v":""},{"$f":"IF(E598=\"\",\"\",IF(J598<=0,lookup!AD590+lookup!AF590,lookup!AD590))","v":""},{"$f":"IF(E598=\"\",\"\",lookup!AE589)","v":""},"","",{"$f":"IF(E598=\"\",\"\",IF(lookup!AF590<0,0,lookup!AF590))","v":""}]
[null,null,null,null,{"$f":"IF(J598=\"\",\"\",IF(J598<=0,\"\",lookup!AC591))","v":""},{"$f":"IF(E599=\"\",\"\",IF(J599<=0,lookup!AD591+lookup!AF591,lookup!AD591))","v":""},{"$f":"IF(E599=\"\",\"\",lookup!AE590)","v":""},"","",{"$f":"IF(E599=\"\",\"\",IF(lookup!AF591<0,0,lookup!AF591))","v":""}]
[null,null,null,null,{"$f":"IF(J599=\"\",\"\",IF(J599<=0,\"\",lookup!AC592))","v":""},{"$f":"IF(E600=\"\",\"\",IF(J600<=0,lookup!AD592+lookup!AF592,lookup!AD592))","v":""},{"$f":"IF(E600=\"\",\"\",lookup!AE591)","v":""},"","",{"$f":"IF(E600=\"\",\"\",IF(lookup!AF592<0,0,lookup!AF592))","v":""}]
[null,null,null,null,{"$f":"IF(J600=\"\",\"\",IF(J600<=0,\"\",lookup!AC593))","v":""},{"$f":"IF(E601=\"\",\"\",IF(J601<=0,lookup!AD593+lookup!AF593,lookup!AD593))","v":""},{"$f":"IF(E601=\"\",\"\",lookup!AE592)","v":""},"","",{"$f":"IF(E601=\"\",\"\",IF(lookup!AF593<0,0,lookup!AF593))","v":""}]
[null,null,null,null,{"$f":"IF(J601=\"\",\"\",IF(J601<=0,\"\",lookup!AC594))","v":""},{"$f":"IF(E602=\"\",\"\",IF(J602<=0,lookup!AD594+lookup!AF594,lookup!AD594))","v":""},{"$f":"IF(E602=\"\",\"\",lookup!AE593)","v":""},"","",{"$f":"IF(E602=\"\",\"\",IF(lookup!AF594<0,0,lookup!AF594))","v":""}]
[null,null,null,null,{"$f":"IF(J602=\"\",\"\",IF(J602<=0,\"\",lookup!AC595))","v":""},{"$f":"IF(E603=\"\",\"\",IF(J603<=0,lookup!AD595+lookup!AF595,lookup!AD595))","v":""},{"$f":"IF(E603=\"\",\"\",lookup!AE594)","v":""},"","",{"$f":"IF(E603=\"\",\"\",IF(lookup!AF595<0,0,lookup!AF595))","v":""}]
[null,null,null,null,{"$f":"IF(J603=\"\",\"\",IF(J603<=0,\"\",lookup!AC596))","v":""},{"$f":"IF(E604=\"\",\"\",IF(J604<=0,lookup!AD596+lookup!AF596,lookup!AD596))","v":""},{"$f":"IF(E604=\"\",\"\",lookup!AE595)","v":""},"","",{"$f":"IF(E604=\"\",\"\",IF(lookup!AF596<0,0,lookup!AF596))","v":""}]
[null,null,null,null,{"$f":"IF(J604=\"\",\"\",IF(J604<=0,\"\",lookup!AC597))","v":""},{"$f":"IF(E605=\"\",\"\",IF(J605<=0,lookup!AD597+lookup!AF597,lookup!AD597))","v":""},{"$f":"IF(E605=\"\",\"\",lookup!AE596)","v":""},"","",{"$f":"IF(E605=\"\",\"\",IF(lookup!AF597<0,0,lookup!AF597))","v":""}]
[null,null,null,null,{"$f":"IF(J605=\"\",\"\",IF(J605<=0,\"\",lookup!AC598))","v":""},{"$f":"IF(E606=\"\",\"\",IF(J606<=0,lookup!AD598+lookup!AF598,lookup!AD598))","v":""},{"$f":"IF(E606=\"\",\"\",lookup!AE597)","v":""},"","",{"$f":"IF(E606=\"\",\"\",IF(lookup!AF598<0,0,lookup!AF598))","v":""}]
[null,null,null,null,{"$f":"IF(J606=\"\",\"\",IF(J606<=0,\"\",lookup!AC599))","v":""},{"$f":"IF(E607=\"\",\"\",IF(J607<=0,lookup!AD599+lookup!AF599,lookup!AD599))","v":""},{"$f":"IF(E607=\"\",\"\",lookup!AE598)","v":""},"","",{"$f":"IF(E607=\"\",\"\",IF(lookup!AF599<0,0,lookup!AF599))","v":""}]
[null,null,null,null,{"$f":"IF(J607=\"\",\"\",IF(J607<=0,\"\",lookup!AC600))","v":""},{"$f":"IF(E608=\"\",\"\",IF(J608<=0,lookup!AD600+lookup!AF600,lookup!AD600))","v":""},{"$f":"IF(E608=\"\",\"\",lookup!AE599)","v":""},"","",{"$f":"IF(E608=\"\",\"\",IF(lookup!AF600<0,0,lookup!AF600))","v":""}]
[null,null,null,null,{"$f":"IF(J608=\"\",\"\",IF(J608<=0,\"\",lookup!AC601))","v":""},{"$f":"IF(E609=\"\",\"\",IF(J609<=0,lookup!AD601+lookup!AF601,lookup!AD601))","v":""},{"$f":"IF(E609=\"\",\"\",lookup!AE600)","v":""},"","",{"$f":"IF(E609=\"\",\"\",IF(lookup!AF601<0,0,lookup!AF601))","v":""}]
[null,null,null,null,{"$f":"IF(J609=\"\",\"\",IF(J609<=0,\"\",lookup!AC602))","v":""},{"$f":"IF(E610=\"\",\"\",IF(J610<=0,lookup!AD602+lookup!AF602,lookup!AD602))","v":""},{"$f":"IF(E610=\"\",\"\",lookup!AE601)","v":""},"","",{"$f":"IF(E610=\"\",\"\",IF(lookup!AF602<0,0,lookup!AF602))","v":""}]

{"sheet":"lookup","index":8,"n_rows":1202,"n_cols":32,"rows_kept":1202,"cut":false,"hidden":true,"merged":[]}
["Monthly",null,null,{"$f":"'Annuity Value'!B12","v":0.5},{"$f":"'Annuity Value'!B13","v":1000000},{"$f":"'Annuity Value'!B12","v":0.5},{"$f":"'Annuity Value'!B13","v":1000000},null,null,{"$f":"'Present Value'!B11/100","v":0.1},{"$f":"'Present Value'!B12","v":1000000},null,null,{"$f":"'Future Value'!B11/100","v":0.1},{"$f":"'Future Value'!B14","v":30448.163954141932},null,null,null,{"$f":"'Compound Interest'!B14","v":1200},{"$f":"'Compound Interest'!B13","v":10000},null,null,{"$f":"(1-'Loan (by paid amount)'!B12*'Loan (by paid amount)'!B11/12/100/'Loan (by paid amount)'!B13)","v":0.88800000000000001},{"$f":"IF(W1<0,\"\",ROUND(-LOG(W1,10)/LOG(W2,10),2))","v":11.94},{"$f":"('Loan (by paid amount)'!B11/12)/100*Z1","v":56},{"$f":"'Loan (by paid amount)'!B12","v":5600},null,null,{"$f":"'Loan (by loan terms)'!B13","v":60},null,{"$f":"('Loan (by loan terms)'!B11/12)/100*AF1","v":125},{"$f":"'Loan (by loan terms)'!B12","v":10000}]
["Quarterly",null,{"$f":"'Annuity Value'!B14","v":600},null,{"$f":"IF('Annuity Value'!B11=\"Ordinary\",E$1*(D$1/100)*(1+D$1/100)^(C2)/((1+D$1/100)^C2-1),G2)","v":5264.0479388639606},null,{"$f":"G$1*(F$1/100)*(1+F$1/100)^(C2-1)/((1+F$1/100)^C2-1)","v":5237.8586456357816},null,null,null,{"$f":"'Present Value'!B14","v":318630.81771035655},null,null,null,{"$f":"'Future Value'!B12","v":100},null,null,null,{"$f":"'Compound Interest'!B12/A5/100","v":2.0833333333333333E-3},null,null,null,{"$f":"1+'Loan (by paid amount)'!B11/12/100","v":1.01},null,{"$f":"'Loan (by paid amount)'!B11/12/100","v":0.01},null,null,null,null,null,{"$f":"'Loan (by loan terms)'!B11/12/100","v":1.2500000000000001E-2}]
["Half-Yearly",null,1,{"$f":"IF('Annuity Value'!B$11=\"Ordinary\",E$1*(1+D$1/100),lookup!F3)","v":1004999.9999999999},{"$f":"IF('Annuity Value'!B11=\"Ordinary\",D3-E$2,lookup!G3)","v":999735.9520611359},{"$f":"G1","v":1000000},{"$f":"F3-G$2","v":994762.14135436423},null,1,{"$f":"K2","v":318630.81771035655},{"$f":"K$2*(1+J$1)^I3","v":350493.89948139223},null,1,{"$f":"O2","v":100},{"$f":"O$2*(1+N$1)^M3","v":110.00000000000001},null,1,{"$f":"IF(A$5=1,Q3*12,IF(A$5=2,Q3*6,IF(A$5=4,Q3*3,1)))","v":1},{"$f":"T$1+S$1*Q3","v":11200},{"$f":"S2*S3","v":23.333333333333332},{"$f":"T$1*(1+S$2)^Q3+S$1*(((1+S$2)^(Q3+1)-(1+S$2))/S$2)","v":11223.333333333434},null,null,1,{"$f":"'Loan (by paid amount)'!B13","v":500},{"$f":"ROUND(Y$2*AA3,2)","v":51.56},{"$f":"IF(X$1=\"\",\"\",(1-(1+Y$2)^(X3-X$1))/(1-(1+Y$2)^(-X$1))*Z$1)","v":5156.0928030443083},null,1,{"$f":"'Loan (by loan terms)'!B14","v":237.89930086358751},{"$f":"ROUND(AE$2*AF3,2)","v":123.59},{"$f":"AF$1*(1-(1+AE$2)^(AC3-AC$1))/(1-(1+AE$2)^(-AC$1))","v":9887.100699136412}]
["Yearly",null,{"$f":"C3+1","v":2},{"$f":"IF('Annuity Value'!B$11=\"Ordinary\",E3*(1+D$1/100),F4)","v":1004734.6318214415},{"$f":"IF('Annuity Value'!B$11=\"Ordinary\",D4-E$2,G4)","v":999470.58388257748},{"$f":"G3*(1+F$1/100)","v":999735.9520611359},994498.09341550013,null,{"$f":"I3+1","v":2},{"$f":"K3","v":350493.89948139223},{"$f":"K$2*(1+J$1)^I4","v":385543.28942953149},null,{"$f":"M3+1","v":2},{"$f":"O3","v":110.00000000000001},{"$f":"O$2*(1+N$1)^M4","v":121.00000000000001},null,{"$f":"Q3+1","v":2},{"$f":"IF(A$5=1,Q4*12,IF(A$5=2,Q4*6,IF(A$5=4,Q4*3,Q4)))","v":2},{"$f":"S$1+U3","v":12423.333333333434},{"$f":"S$2*S4","v":25.881944444444652},{"$f":"T$1*(1+S$2)^Q4+S$1*(((1+S$2)^(Q4+1)-(1+S$2))/S$2)","v":12449.215277777908},null,null,{"$f":"X3+1","v":2},{"$f":"Y3","v":500},47.08,4707.7465341190564,null,{"$f":"AC3+1","v":2},{"$f":"AD3","v":237.89930086358751},122.16,9772.7901570120321]
[{"$f":"IF('Compound Interest'!B11=\"Monthly\",12,IF('Compound Interest'!B11=\"Yearly\",1,IF('Compound Interest'!B11=\"Quarterly\",4,IF('Compound Interest'!B11=\"Half-Yearly\",2,\"\"))))","v":12},null,3,{"$f":"IF('Annuity Value'!B$11=\"Ordinary\",E4*(1+D$1/100),F5)","v":1004467.9368019903},{"$f":"IF('Annuity Value'!B$11=\"Ordinary\",D5-E$2,G5)","v":999203.88886312628},{"$f":"G4*(1+F$1/100)","v":999470.58388257748},994232.72523694171,null,3,385543.28942953149,424097.61837248469,null,3,121.00000000000001,133.10000000000005,null,3,3,{"$f":"S$1+U4","v":13649.215277777908},{"$f":"S$2*S5","v":28.43586516203731},13677.651142940063,null,null,3,500,42.55,4254.9168025045446,null,3,237.89930086358751,120.71,9657.050733111093]
[null,null,4,{"$f":"IF('Annuity Value'!B$11=\"Ordinary\",E5*(1+D$1/100),F6)","v":1004199.9083074419},{"$f":"IF('Annuity Value'!B$11=\"Ordinary\",D6-E$2,G6)","v":998935.86036857788},999203.88886312628,993966.03021749051,null,4,424097.61837248469,466507.38020973315,null,4,133.10000000000005,146.41000000000005,null,4,4,14877.651142940063,30.995106547791799,14908.646249487887,null,null,4,500,37.979999999999997,3797.5587735738918,null,4,237.89930086358751,119.25,9539.8645664113938]
["Ordinary",null,5,{"$f":"IF('Annuity Value'!B$11=\"Ordinary\",E6*(1+D$1/100),F7)","v":1003930.5396704207},{"$f":"IF('Annuity Value'!B$11=\"Ordinary\",D7-E$2,G7)","v":998666.49173155671},998935.86036857788,993698.00172294211,null,5,466507.38020973315,513158.11823070649,null,5,146.41000000000005,161.05100000000004,null,5,5,16108.646249487887,33.5596796864331,16142.20592917439,null,null,5,500,33.36,3335.6271643539312,null,5,237.89930086358751,117.77,9421.2135726279485]
["Due",null,6,{"$f":"IF('Annuity Value'!B$11=\"Ordinary\",E7*(1+D$1/100),F8)","v":1003659.8241902144},{"$f":"IF('Annuity Value'!B$11=\"Ordinary\",D8-E$2,G8)","v":998395.77625135041},998666.49173155671,993428.63308592094,null,6,513158.11823070649,564473.93005377718,null,6,161.05100000000004,177.15610000000009,null,6,6,17342.20592917439,36.129595685779975,17378.335524860238,null,null,6,500,28.69,2869.0762390417776,null,6,237.89930086358751,116.26,9301.0794414222128]
[null,null,7,{"$f":"IF('Annuity Value'!B$11=\"Ordinary\",E8*(1+D$1/100),F9)","v":1003387.7551326071},{"$f":"IF('Annuity Value'!B$11=\"Ordinary\",D9-E$2,G9)","v":998123.70719374309},998395.77625135041,993157.91760571464,null,7,564473.93005377718,620921.32305915502,null,7,177.15610000000009,194.87171000000012,null,7,7,18578.335524860238,38.70486567679216,18617.040390537179,null,null,7,500,23.98,2397.8598044765013,null,7,237.89930086358751,114.74,9179.4436335764003]
[null,null,8,{"$f":"IF('Annuity Value'!B$11=\"Ordinary\",E9*(1+D$1/100),F10)","v":1003114.3257297117},{"$f":"IF('Annuity Value'!B$11=\"Ordinary\",D10-E$2,G10)","v":997850.2777908477},998123.70719374309,992885.84854810731,null,8,620921.32305915502,683013.45536507049,null,8,194.87171000000012,214.35888100000011,null,8,8,19817.040390537179,41.285500813619123,19858.325891350825,null,null,8,500,19.22,1921.9312055655628,null,8,237.89930086358751,113.2,9056.2873781325197]
[null,null,9,{"$f":"IF('Annuity Value'!B$11=\"Ordinary\",E10*(1+D$1/100),F11)","v":1002839.5291798018},{"$f":"IF('Annuity Value'!B$11=\"Ordinary\",D11-E$2,G11)","v":997575.48124093784},997850.2777908477,992612.41914521193,null,9,683013.45536507049,751314.80090157758,null,9,214.35888100000011,235.79476910000014,null,9,9,21058.325891350825,43.871512273647554,21102.197403624559,null,null,9,500,14.41,1441.2433206655264,null,9,237.89930086358751,111.64,8931.5916694955886]
[null,null,10,{"$f":"IF('Annuity Value'!B$11=\"Ordinary\",E11*(1+D$1/100),F12)","v":1002563.3586471424},{"$f":"IF('Annuity Value'!B$11=\"Ordinary\",D12-E$2,G12)","v":997299.31070827844},997575.48124093784,992337.62259530206,null,10,751314.80090157758,826446.2809917354,null,10,235.79476910000014,259.37424601000021,null,10,10,22302.197403624559,46.462911257551163,22348.660314882214,null,null,10,500,9.56,955.74855691648747,null,10,237.89930086358751,110.07,8805.3372645007003]
[null,null,11,{"$f":"IF('Annuity Value'!B$11=\"Ordinary\",E12*(1+D$1/100),F13)","v":1002285.8072618197},{"$f":"IF('Annuity Value'!B$11=\"Ordinary\",D13-E$2,G13)","v":997021.75932295574},997299.31070827844,{"$f":"F13-G$2","v":992061.45206264267},null,11,826446.2809917354,909090.90909090918,null,11,259.37424601000021,285.31167061100024,null,11,11,23548.660314882214,49.059708989337949,23597.720023871603,null,null,11,500,4.6500000000000004,465.39884552995596,null,11,237.89930086358751,108.47,8677.5046794433674]
[null,null,12,{"$f":"IF('Annuity Value'!B$11=\"Ordinary\",E13*(1+D$1/100),F14)","v":1002006.8681195704},{"$f":"IF('Annuity Value'!B$11=\"Ordinary\",D14-E$2,G14)","v":996742.82018070645},997021.75932295574,991783.90067731997,null,12,909090.90909090918,1000000,null,12,285.31167061100024,313.84283767210025,null,12,12,24797.720023871603,51.661916716399169,24849.381940588064,null,null,12,500,-0.3,-29.854362970452001,null,12,237.89930086358751,106.85,8548.0741870728234]
[null,null,13,{"$f":"IF('Annuity Value'!B$11=\"Ordinary\",E14*(1+D$1/100),F15)","v":1001726.5342816099},{"$f":"IF('Annuity Value'!B$11=\"Ordinary\",D15-E$2,G15)","v":996462.48634274595},996742.82018070645,991504.96153507067,null,13,1000000,1100000,null,13,313.84283767210025,345.22712143931028,null,13,13,26049.381940588064,54.269545709558464,26103.65148629776,null,null,13,500,-5.3,-530.06010355585408,null,13,237.89930086358751,105.21,8417.0258135476433]
[null,null,14,{"$f":"IF('Annuity Value'!B$11=\"Ordinary\",E15*(1+D$1/100),F16)","v":1001444.7987744595},{"$f":"IF('Annuity Value'!B$11=\"Ordinary\",D16-E$2,G16)","v":996180.75083559554},996462.48634274595,991224.62769711018,null,14,1100000,1210000.0000000002,null,14,345.22712143931028,379.74983358324141,null,14,14,27303.65148629776,56.882607263120335,27360.534093560855,null,null,14,500,-10.35,-1035.2679015471051,null,14,237.89930086358751,103.55,8284.3393353534047]
[null,null,15,{"$f":"IF('Annuity Value'!B$11=\"Ordinary\",E16*(1+D$1/100),F17)","v":1001161.6545897734},{"$f":"IF('Annuity Value'!B$11=\"Ordinary\",D17-E$2,G17)","v":995897.60665090941},996180.75083559565,990942.89218995988,null,15,1210000.0000000002,1331000.0000000002,null,15,379.74983358324141,417.72481694156556,null,15,15,28560.534093560855,59.501112694918447,28620.035206255925,null,null,15,500,-15.46,-1545.5277775182685,null,15,237.89930086358751,101.87,8149.9942761817319]
[null,null,16,{"$f":"IF('Annuity Value'!B$11=\"Ordinary\",E17*(1+D$1/100),F18)","v":1000877.0946841638},{"$f":"IF('Annuity Value'!B$11=\"Ordinary\",D18-E$2,G18)","v":995613.04674529983},995897.60665090953,990659.74800527375,null,16,1331000.0000000002,1464100.0000000005,null,16,417.72481694156556,459.49729863572213,null,16,16,29820.035206255925,62.125073346366513,29882.160279602409,null,null,16,500,-20.61,-2060.8902522491526,null,16,237.89930086358751,100.17,8013.9699037704204]
[null,null,17,{"$f":"IF('Annuity Value'!B$11=\"Ordinary\",E18*(1+D$1/100),F19)","v":1000591.1119790262},{"$f":"IF('Annuity Value'!B$11=\"Ordinary\",D19-E$2,G19)","v":995327.06404016225},995613.04674530006,990375.18809966429,null,17,1464100.0000000005,1610510.0000000005,null,17,459.49729863572213,505.44702849929433,null,17,17,31082.160279602409,64.754500582505017,31146.914780185005,null,null,17,500,-25.81,-2581.4063517273453,null,17,237.89930086358751,98.45,7876.2452267039616]
[null,null,18,{"$f":"IF('Annuity Value'!B$11=\"Ordinary\",E19*(1+D$1/100),F20)","v":1000303.699360363},{"$f":"IF('Annuity Value'!B$11=\"Ordinary\",D20-E$2,G20)","v":995039.65142149897},995327.06404016248,990089.20539452671,null,18,1610510.0000000005,1771561.0000000007,null,18,505.44702849929433,555.99173134922376,null,18,18,32346.914780185005,67.389405792052088,32414.304185976995,null,null,18,500,-31.07,-3107.1276122003128,null,18,237.89930086358751,96.71,7736.7989911741752]
[null,null,19,{"$f":"IF('Annuity Value'!B$11=\"Ordinary\",E20*(1+D$1/100),F21)","v":1000014.8496786064},{"$f":"IF('Annuity Value'!B$11=\"Ordinary\",D21-E$2,G21)","v":994750.8017397424},995039.65142149921,989801.79277586343,null,19,1771561.0000000007,1948717.1000000013,null,19,555.99173134922376,611.59090448414634,null,19,19,33614.304185976995,70.02980038745207,33684.333986364567,null,null,19,500,-36.380000000000003,-3638.1060852780138,null,19,237.89930086358751,94.95,7595.6096777002631]
[null,null,20,{"$f":"IF('Annuity Value'!B$11=\"Ordinary\",E21*(1+D$1/100),F22)","v":999724.55574844102},{"$f":"IF('Annuity Value'!B$11=\"Ordinary\",D22-E$2,G22)","v":994460.50780957704},994750.80173974263,989512.94309410686,null,20,1948717.1000000013,2143588.810000001,null,20,611.59090448414634,672.74999493256087,null,20,20,34884.333986364567,72.675695804926178,34957.009682169606,null,null,20,500,-41.74,-4174.3943430864883,null,20,237.89930086358751,93.16,7452.6554978079284]
[null,null,21,{"$f":"IF('Annuity Value'!B$11=\"Ordinary\",E22*(1+D$1/100),F23)","v":999432.81034862483},{"$f":"IF('Annuity Value'!B$11=\"Ordinary\",D23-E$2,G23)","v":994168.76240976085},994460.50780957728,989222.6491639415,null,21,2143588.810000001,2357947.6910000015,null,21,672.74999493256087,740.02499442581711,null,21,21,36157.009682169606,75.327103504520011,36232.336785674219,null,null,21,500,-47.16,-4716.0454834730554,null,21,237.89930086358751,91.35,7307.9143906669387]
[null,null,22,{"$f":"IF('Annuity Value'!B$11=\"Ordinary\",E23*(1+D$1/100),F24)","v":999139.60622180952},{"$f":"IF('Annuity Value'!B$11=\"Ordinary\",D24-E$2,G24)","v":993875.55828294554},994168.76240976108,988930.90376412531,null,22,2357947.6910000015,2593742.4601000021,null,22,740.02499442581711,814.02749386839889,null,22,22,37432.336785674219,77.984034970154624,37510.320820644389,null,null,22,500,-52.63,-5263.113135263482,null,22,237.89930086358751,89.52,7161.36401968669]
[null,null,23,{"$f":"IF('Annuity Value'!B$11=\"Ordinary\",E24*(1+D$1/100),F25)","v":998844.93607436016},{"$f":"IF('Annuity Value'!B$11=\"Ordinary\",D25-E$2,G25)","v":993580.88813549618},993875.55828294589,988637.69963731011,null,23,2593742.4601000021,2853116.7061100025,null,23,814.02749386839889,895.43024325523891,null,23,23,38710.320820644389,80.646501709675803,38790.967322354205,null,null,23,500,-58.16,-5815.6514635718095,null,23,237.89930086358751,87.66,7012.9817690691871]
[null,null,24,{"$f":"IF('Annuity Value'!B$11=\"Ordinary\",E25*(1+D$1/100),F26)","v":998548.79257617355},{"$f":"IF('Annuity Value'!B$11=\"Ordinary\",D26-E$2,G26)","v":993284.74463730957},993580.88813549653,988343.02948986075,null,24,2853116.7061100025,3138428.3767210022,null,24,895.43024325523891,984.97326758076258,null,24,24,39990.967322354205,83.314515254904592,40074.281837609102,null,null,24,500,-63.74,-6373.7151751632273,null,24,237.89930086358751,85.78,6862.7447403189635]
[null,null,25,{"$f":"IF('Annuity Value'!B$11=\"Ordinary\",E26*(1+D$1/100),F27)","v":998251.16836049606},{"$f":"IF('Annuity Value'!B$11=\"Ordinary\",D27-E$2,G27)","v":992987.12042163208},993284.74463730992,988046.88599167415,null,25,3138428.3767210022,3452271.214393103,null,25,984.97326758076258,1083.4705943388392,null,25,25,41274.281837609102,85.988087161685627,41360.26992477091,null,null,25,500,-69.37,-6937.3595238705557,null,25,237.89930086358751,83.88,6710.6297487093634]
[null,null,26,{"$f":"IF('Annuity Value'!B$11=\"Ordinary\",E27*(1+D$1/100),F28)","v":997952.05602374009},{"$f":"IF('Annuity Value'!B$11=\"Ordinary\",D28-E$2,G28)","v":992688.00808487611},992987.12042163243,987749.26177599665,null,26,3452271.214393103,3797498.3358324138,null,26,1083.4705943388392,1191.8176537727231,null,26,26,42560.26992477091,88.66722900993939,42648.937153781051,null,null,26,500,-75.069999999999993,-7506.6403160649625,null,26,237.89930086358751,81.96,6556.6133197046447]
[null,null,27,{"$f":"IF('Annuity Value'!B$11=\"Ordinary\",E28*(1+D$1/100),F29)","v":997651.44812530035},{"$f":"IF('Annuity Value'!B$11=\"Ordinary\",D29-E$2,G29)","v":992387.40018643637},992688.00808487658,987450.14943924081,null,27,3797498.3358324138,4177248.1694156555,null,27,1191.8176537727231,1310.9994191499957,null,27,27,43848.937153781051,91.351952403710527,43940.289106184733,null,null,27,500,-80.819999999999993,-8081.6139161813044,null,27,237.89930086358751,80.010000000000005,6400.6716853373646]
[null,null,28,{"$f":"IF('Annuity Value'!B$11=\"Ordinary\",E29*(1+D$1/100),F30)","v":997349.33718736842},{"$f":"IF('Annuity Value'!B$11=\"Ordinary\",D30-E$2,G30)","v":992085.28924850444},992387.40018643695,987149.54154080118,null,28,4177248.1694156555,4594972.9863572214,null,28,1310.9994191499957,1442.099361064995,null,28,28,45140.289106184733,94.042268971218192,45234.331375156064,null,null,28,500,-86.62,-8662.3372522988193,null,28,237.89930086358751,78.03,6242.7807805404946]
[null,null,29,{"$f":"IF('Annuity Value'!B$11=\"Ordinary\",E30*(1+D$1/100),F31)","v":997045.71569474682},{"$f":"IF('Annuity Value'!B$11=\"Ordinary\",D31-E$2,G31)","v":991781.66775588284},992085.28924850503,986847.43060286925,null,29,4594972.9863572214,5054470.2849929435,null,29,1442.099361064995,1586.3092971714946,null,29,29,46434.331375156064,96.738190364908462,46531.069565521073,null,null,29,500,-92.49,-9248.8678217775014,null,29,237.89930086358751,76.040000000000006,6082.9162394336608]
[null,null,30,{"$f":"IF('Annuity Value'!B$11=\"Ordinary\",E31*(1+D$1/100),F32)","v":996740.57609466219},{"$f":"IF('Annuity Value'!B$11=\"Ordinary\",D32-E$2,G32)","v":991476.52815579821},991781.66775588354,986543.80911024776,null,30,5054470.2849929435,5559917.3134922385,null,30,1586.3092971714946,1744.9402268886445,null,30,30,47731.069565521073,99.439728261502239,47830.509293782568,null,null,30,500,-98.41,-9841.2636969509786,null,30,237.89930086358751,74.010000000000005,5921.0533915629985]
[null,null,31,{"$f":"IF('Annuity Value'!B$11=\"Ordinary\",E32*(1+D$1/100),F33)","v":996433.91079657711},{"$f":"IF('Annuity Value'!B$11=\"Ordinary\",D33-E$2,G33)","v":991169.86285771313},991476.52815579891,986238.66951016313,null,31,5559917.3134922385,6115909.0448414627,null,31,1744.9402268886445,1919.434249577509,null,31,31,49030.509293782568,102.14689436204702,49132.656188144727,null,null,31,500,-104.4,-10439.583530876187,null,31,237.89930086358751,71.959999999999994,5757.1672580939448]
[null,null,32,{"$f":"IF('Annuity Value'!B$11=\"Ordinary\",E33*(1+D$1/100),F34)","v":996125.7121720016},{"$f":"IF('Annuity Value'!B$11=\"Ordinary\",D34-E$2,G34)","v":990861.66423313762},991169.86285771383,985932.00421207806,null,32,6115909.0448414627,6727499.949325609,null,32,1919.434249577509,2111.3776745352598,null,32,32,50332.656188144727,104.85970039196818,50437.515888536771,null,null,32,500,-110.44,-11043.886563140644,null,32,237.89930086358751,69.89,5591.2325479565334]
[null,null,33,{"$f":"IF('Annuity Value'!B$11=\"Ordinary\",E34*(1+D$1/100),F35)","v":995815.97255430324},{"$f":"IF('Annuity Value'!B$11=\"Ordinary\",D35-E$2,G35)","v":990551.92461543926},990861.66423313832,985623.80558750255,null,33,6727499.949325609,7400249.9442581711,null,33,2111.3776745352598,2322.5154419887863,null,33,33,51637.515888536771,107.57815810111828,51745.094046637969,null,null,33,500,-116.54,-11654.232625727744,null,33,237.89930086358751,67.790000000000006,5423.2236539424011]
[null,null,34,{"$f":"IF('Annuity Value'!B$11=\"Ordinary\",E35*(1+D$1/100),F36)","v":995504.68423851638},{"$f":"IF('Annuity Value'!B$11=\"Ordinary\",D36-E$2,G36)","v":990240.6362996524},990551.92461543996,985314.06596980419,null,34,7400249.9442581711,8140274.9386839885,null,34,2322.5154419887863,2554.7669861876648,null,34,34,52945.094046637969,110.30227926382911,53055.396325901806,null,null,34,500,-122.71,-12270.682148940714,null,34,237.89930086358751,65.66,5253.1146487530978]
[null,null,35,{"$f":"IF('Annuity Value'!B$11=\"Ordinary\",E36*(1+D$1/100),F37)","v":995191.8394811505},{"$f":"IF('Annuity Value'!B$11=\"Ordinary\",D37-E$2,G37)","v":989927.79154228652},990240.6362996531,985002.77765401732,null,35,8140274.9386839885,8954302.4325523879,null,35,2554.7669861876648,2810.2436848064317,null,35,35,54255.396325901806,113.03207567896209,54368.428401580983,null,null,35,500,-128.93,-12893.296167385821,null,35,237.89930086358751,63.51,5080.87928099892]
[null,null,36,{"$f":"IF('Annuity Value'!B$11=\"Ordinary\",E37*(1+D$1/100),F38)","v":994877.4304999978},{"$f":"IF('Annuity Value'!B$11=\"Ordinary\",D38-E$2,G38)","v":989613.38256113383},989927.79154228733,984689.93289665156,null,36,8954302.4325523879,9849732.6758076269,null,36,2810.2436848064317,3091.268053287075,null,36,36,55568.428401580983,115.76755916996038,55684.195960750985,null,null,36,500,-135.22,-13522.136326015383,null,36,237.89930086358751,61.33,4906.4909711478213]
[null,null,37,{"$f":"IF('Annuity Value'!B$11=\"Ordinary\",E38*(1+D$1/100),F39)","v":994561.44947393937},{"$f":"IF('Annuity Value'!B$11=\"Ordinary\",D39-E$2,G39)","v":989297.40153507539},989613.38256113476,984375.52391549898,null,37,9849732.6758076269,10834705.943388391,null,37,3091.268053287075,3400.3948586157826,null,37,37,56884.195960750985,118.50874158489789,57002.704702335926,null,null,37,500,-141.57,-14157.264886231223,null,37,237.89930086358751,59.12,4729.9228074235789]
[null,null,38,{"$f":"IF('Annuity Value'!B$11=\"Ordinary\",E39*(1+D$1/100),F40)","v":994243.88854275062},{"$f":"IF('Annuity Value'!B$11=\"Ordinary\",D40-E$2,G40)","v":988979.84060388664},989297.40153507632,984059.54288944055,null,38,10834705.943388391,11918176.537727233,null,38,3400.3948586157826,3740.4343444773617,null,38,38,58202.704702335926,121.25563479653317,58323.96033713255,null,null,38,500,-147.99,-14798.744732049237,null,38,237.89930086358751,56.89,4551.1475416527865]
[null,null,39,{"$f":"IF('Annuity Value'!B$11=\"Ordinary\",E40*(1+D$1/100),F41)","v":993924.73980690597},{"$f":"IF('Annuity Value'!B$11=\"Ordinary\",D41-E$2,G41)","v":988660.69186804199},988979.84060388769,983741.98195825191,null,39,11918176.537727233,13109994.191499956,null,39,3740.4343444773617,4114.4777789250984,null,39,39,59523.96033713255,124.00825070235948,59647.968587835021,null,null,39,500,-154.47,-15446.639376325433,null,39,237.89930086358751,54.63,4370.1375850598588]
[null,null,40,{"$f":"IF('Annuity Value'!B$11=\"Ordinary\",E41*(1+D$1/100),F42)","v":993603.99532738212},{"$f":"IF('Annuity Value'!B$11=\"Ordinary\",D42-E$2,G42)","v":988339.94738851814},988660.69186804304,983422.83322240727,null,40,13109994.191499956,14420993.610649951,null,40,4114.4777789250984,4525.9255568176077,null,40,40,60847.968587835021,126.7666012246563,60974.735189059691,null,null,40,500,-161.01,-16101.012967044382,null,40,237.89930086358751,52.34,4186.8650040095226]
[null,null,41,{"$f":"IF('Annuity Value'!B$11=\"Ordinary\",E42*(1+D$1/100),F43)","v":993281.64712546067},{"$f":"IF('Annuity Value'!B$11=\"Ordinary\",D43-E$2,G43)","v":988017.59918659669},988339.94738851918,983102.08874288341,null,41,14420993.610649951,15863092.971714947,null,41,4525.9255568176077,4978.5181124993687,null,41,41,62174.735189059691,129.53069831054103,62304.26588737034,null,null,41,500,-167.62,-16761.930293670521,null,41,237.89930086358751,50.02,4001.3015156960532]
[null,null,42,{"$f":"IF('Annuity Value'!B$11=\"Ordinary\",E43*(1+D$1/100),F44)","v":992957.6871825296},{"$f":"IF('Annuity Value'!B$11=\"Ordinary\",D44-E$2,G44)","v":987693.63924366562},988017.59918659774,982779.74054096197,null,42,15863092.971714947,17449402.268886443,null,42,4978.5181124993687,5476.3699237493056,null,42,42,63504.26588737034,132.30055393202153,63636.566441302457,null,null,42,500,-174.29,-17429.45679356292,null,42,237.89930086358751,47.67,3813.4184837786702]
[null,null,43,{"$f":"IF('Annuity Value'!B$11=\"Ordinary\",E44*(1+D$1/100),F45)","v":992632.10743988387},{"$f":"IF('Annuity Value'!B$11=\"Ordinary\",D45-E$2,G45)","v":987368.05950101989},987693.63924366666,982455.78059803089,null,43,17449402.268886443,19194342.495775089,null,43,5476.3699237493056,6024.0069161242373,null,43,43,64836.566441302457,135.07618008604678,64971.642621388557,null,null,43,500,-181.04,-18103.658558454252,null,43,237.89930086358751,45.29,3623.1869139623127]
[null,null,44,{"$f":"IF('Annuity Value'!B$11=\"Ordinary\",E45*(1+D$1/100),F46)","v":992304.89979852492},{"$f":"IF('Annuity Value'!B$11=\"Ordinary\",D46-E$2,G46)","v":987040.85185966094},987368.05950102094,982130.20085538516,null,44,19194342.495775089,21113776.7453526,null,44,6024.0069161242373,6626.4076077366608,null,44,44,66171.642621388557,137.85758879455949,66309.500210183207,null,null,44,500,-187.85,-18784.602340994486,null,44,237.89930086358751,42.88,3430.5774495232554]
[null,null,45,{"$f":"IF('Annuity Value'!B$11=\"Ordinary\",E46*(1+D$1/100),F47)","v":991976.0561189591},{"$f":"IF('Annuity Value'!B$11=\"Ordinary\",D47-E$2,G47)","v":986712.00818009512},987040.85185966198,981802.99321402621,null,45,21113776.7453526,23225154.419887859,null,45,6626.4076077366608,7289.0483685103281,null,45,45,67509.500210183207,140.64479210454834,67650.145002287856,null,null,45,500,-194.72,-19472.355561360131,null,45,237.89930086358751,40.44,3235.5603667787045]
[null,null,46,{"$f":"IF('Annuity Value'!B$11=\"Ordinary\",E47*(1+D$1/100),F48)","v":991645.56822099548},{"$f":"IF('Annuity Value'!B$11=\"Ordinary\",D48-E$2,G48)","v":986381.5202821315},986712.00818009628,981474.14953446051,null,46,23225154.419887859,25547669.861876648,null,46,7289.0483685103281,8017.9532053613611,null,46,46,68850.145002287856,143.43780208809969,68993.582804375968,null,null,46,500,-201.67,-20166.986313929432,null,46,237.89930086358751,37.979999999999997,3038.1055704998557]
[null,null,47,{"$f":"IF('Annuity Value'!B$11=\"Ordinary\",E48*(1+D$1/100),F49)","v":991313.42788354203},{"$f":"IF('Annuity Value'!B$11=\"Ordinary\",D49-E$2,G49)","v":986049.37994467805},986381.52028213267,981143.66163649689,null,47,25547669.861876648,28102436.848064315,null,47,8017.9532053613611,8819.7485258974975,null,47,47,70193.582804375968,146.23663084244993,70339.819435218582,null,null,47,500,-208.69,-20868.563374024427,null,47,237.89930086358751,35.479999999999997,2838.1825892675129]
[null,null,48,{"$f":"IF('Annuity Value'!B$11=\"Ordinary\",E49*(1+D$1/100),F50)","v":990979.62684440135},{"$f":"IF('Annuity Value'!B$11=\"Ordinary\",D50-E$2,G50)","v":985715.57890553738},986049.37994467933,980811.52129904355,null,48,28102436.848064315,30912680.532870747,null,48,8819.7485258974975,9701.7233784872478,null,48,48,71539.819435218582,149.0412904900387,71688.860725708771,null,null,48,500,-215.77,-21577.156204720366,null,48,237.89930086358751,32.950000000000003,2635.7605707697735]
[null,null,49,{"$f":"IF('Annuity Value'!B$11=\"Ordinary\",E50*(1+D$1/100),F51)","v":990644.15680006496},{"$f":"IF('Annuity Value'!B$11=\"Ordinary\",D51-E$2,G51)","v":985380.10886120098},985715.57890553866,980477.72025990288,null,49,30912680.532870747,34003948.586157821,null,49,9701.7233784872478,10671.895716335974,null,49,49,72888.860725708771,151.85179317855994,73040.71251888742,null,null,49,500,-222.93,-22292.834963723268,null,49,237.89930086358751,30.39,2430.8082770408055]
[null,null,50,{"$f":"IF('Annuity Value'!B$11=\"Ordinary\",E51*(1+D$1/100),F52)","v":990307.00940550689},{"$f":"IF('Annuity Value'!B$11=\"Ordinary\",D52-E$2,G52)","v":985042.96146664291},985380.10886120226,980142.25021556648,null,50,34003948.586157821,37404343.444773607,null,50,10671.895716335974,11739.085287969572,null,50,50,74240.71251888742,154.66815108101545,74395.380669968377,null,null,50,500,-230.16,-23015.670510316195,null,50,237.89930086358751,27.79,2223.2940796402331]
[null,null,51,{"$f":"IF('Annuity Value'!B$11=\"Ordinary\",E52*(1+D$1/100),F53)","v":989968.17627397599},{"$f":"IF('Annuity Value'!B$11=\"Ordinary\",D53-E$2,G53)","v":984704.12833511201},985042.96146664419,979805.10282100842,null,51,37404343.444773607,41144777.789250977,null,51,11739.085287969572,12912.99381676653,null,51,51,75595.380669968377,157.49037639576744,75752.871046364206,null,null,51,500,-237.46,-23745.734412375048,null,51,237.89930086358751,25.16,2013.1859547721449]
[null,null,52,{"$f":"IF('Annuity Value'!B$11=\"Ordinary\",E53*(1+D$1/100),F54)","v":989627.64897678746},{"$f":"IF('Annuity Value'!B$11=\"Ordinary\",D54-E$2,G54)","v":984363.60103792348},984704.1283351134,979466.26968947763,null,52,41144777.789250977,45259255.568176076,null,52,12912.99381676653,14204.293198443185,null,52,52,76952.871046364206,160.31848134659208,77113.189527711002,null,null,52,500,-244.83,-24483.098953454501,null,52,237.89930086358751,22.51,1800.4514783432112]
[null,null,53,{"$f":"IF('Annuity Value'!B$11=\"Ordinary\",E54*(1+D$1/100),F55)","v":989285.41904311301},{"$f":"IF('Annuity Value'!B$11=\"Ordinary\",D55-E$2,G55)","v":984021.37110424903},984363.60103792488,979125.7423922891,null,53,45259255.568176076,49785181.124993689,null,53,14204.293198443185,15624.722518287504,null,53,53,78313.189527711002,163.15247818273124,78476.342005893806,null,null,53,500,-252.28,-25227.83713994475,null,53,237.89930086358751,19.809999999999999,1585.0578209589096]
[null,null,54,{"$f":"IF('Annuity Value'!B$11=\"Ordinary\",E55*(1+D$1/100),F56)","v":988941.47795977013},{"$f":"IF('Annuity Value'!B$11=\"Ordinary\",D56-E$2,G56)","v":983677.43002090615},984021.37110425043,978783.51245861466,null,54,49785181.124993689,54763699.237493061,null,54,15624.722518287504,17187.194770116257,null,54,54,79676.342005893806,165.99237917894544,79842.334385072783,null,null,54,500,-259.8,-25980.022708299894,null,54,237.89930086358751,17.09,1366.9717428573119]
[null,null,55,{"$f":"IF('Annuity Value'!B$11=\"Ordinary\",E56*(1+D$1/100),F57)","v":988595.81717101054},{"$f":"IF('Annuity Value'!B$11=\"Ordinary\",D57-E$2,G57)","v":983331.76923214656},983677.43002090766,978439.57137527189,null,55,54763699.237493061,60240069.161242381,null,55,17187.194770116257,18905.914247127883,null,55,55,81042.334385072783,168.83819663556829,81211.172581708452,null,null,55,500,-267.39999999999998,-26739.730132338587,null,55,237.89930086358751,14.33,1146.1595887794392]
[null,null,56,{"$f":"IF('Annuity Value'!B$11=\"Ordinary\",E57*(1+D$1/100),F58)","v":988248.42807830719},{"$f":"IF('Annuity Value'!B$11=\"Ordinary\",D58-E$2,G58)","v":982984.38013944321},983331.76923214819,978093.91058651241,null,56,60240069.161242381,66264076.077366605,null,56,18905.914247127883,20796.50567184067,null,56,56,82411.172581708452,171.68994287855926,82582.862524587006,null,null,56,500,-275.07,-27507.034630617673,null,56,237.89930086358751,11.53,922.58728277559669]
[null,null,57,{"$f":"IF('Annuity Value'!B$11=\"Ordinary\",E58*(1+D$1/100),F59)","v":987899.30204014038},{"$f":"IF('Annuity Value'!B$11=\"Ordinary\",D59-E$2,G59)","v":982635.2541012764},982984.38013944484,977746.52149380906,null,57,66264076.077366605,72890483.685103282,null,57,20796.50567184067,22876.156239024742,null,57,57,83782.862524587006,174.54763025955626,83957.410154846701,null,null,57,500,-282.82,-28282.012173879546,null,57,237.89930086358751,8.6999999999999993,696.22032294670373]
[null,null,58,{"$f":"IF('Annuity Value'!B$11=\"Ordinary\",E59*(1+D$1/100),F60)","v":987548.43037178263},{"$f":"IF('Annuity Value'!B$11=\"Ordinary\",D60-E$2,G60)","v":982284.38243291865},982635.25410127803,977397.39545564225,null,58,72890483.685103282,80179532.053613603,null,58,22876.156239024742,25163.771862927213,null,58,58,85157.410154846701,177.41127115593062,85334.821426002847,null,null,58,500,-290.64999999999998,-29064.739492574037,null,58,237.89930086358751,5.84,467.02377611995138]
[null,null,59,{"$f":"IF('Annuity Value'!B$11=\"Ordinary\",E60*(1+D$1/100),F61)","v":987195.80434508319},{"$f":"IF('Annuity Value'!B$11=\"Ordinary\",D61-E$2,G61)","v":981931.75640621921},982284.38243292039,977046.52378728462,null,59,80179532.053613603,88197485.258974984,null,59,25163.771862927213,27680.149049219945,null,59,59,86534.821426002847,180.28087797083927,86715.10230397369,null,null,59,500,-298.55,-29855.294084455476,null,59,237.89930086358751,2.94,234.96227245786312]
[null,null,60,{"$f":"IF('Annuity Value'!B$11=\"Ordinary\",E61*(1+D$1/100),F62)","v":986841.41518825025},{"$f":"IF('Annuity Value'!B$11=\"Ordinary\",D62-E$2,G62)","v":981577.36724938627},981931.75640622096,976693.89776058518,null,60,88197485.258974984,97017233.784872472,null,60,27680.149049219945,30448.163954141932,null,60,60,87915.10230397369,183.15646313327852,88098.258767107094,null,null,60,500,-306.54000000000002,-30653.75422225572,null,60,237.89930086358751,0,0]
[null,null,61,{"$f":"IF('Annuity Value'!B$11=\"Ordinary\",E62*(1+D$1/100),F63)","v":986485.25408563309},{"$f":"IF('Annuity Value'!B$11=\"Ordinary\",D63-E$2,G63)","v":981221.20614676911},981577.36724938801,976339.50860375224,null,61,97017233.784872472,106718957.16335975,null,61,30448.163954141932,33492.980349556128,null,61,61,89298.258767107094,186.03803909813979,89484.29680620537,null,null,61,500,-314.60000000000002,-31460.198961433984,null,61,237.89930086358751,-2.97,-237.89930086358666]
[null,null,62,{"$f":"IF('Annuity Value'!B$11=\"Ordinary\",E63*(1+D$1/100),F64)","v":986127.3121775029},{"$f":"IF('Annuity Value'!B$11=\"Ordinary\",D64-E$2,G64)","v":980863.26423863892},981221.20614677086,975983.34750113508,null,62,106718957.16335975,117390852.87969574,null,62,33492.980349556128,36842.278384511752,null,62,62,90684.29680620537,188.92561834626119,90873.222424551612,null,null,62,500,-322.75,-32274.708148004025,null,62,237.89930086358751,-5.98,-478.77234298796969]
[null,null,63,{"$f":"IF('Annuity Value'!B$11=\"Ordinary\",E64*(1+D$1/100),F65)","v":985767.58055983204},{"$f":"IF('Annuity Value'!B$11=\"Ordinary\",D65-E$2,G65)","v":980503.53262096806},980863.26423864067,975625.40559300489,null,63,117390852.87969574,129129938.16766529,null,63,36842.278384511752,40526.506222962926,null,63,63,92073.222424551612,191.81921338448251,92265.0416379362,null,null,63,500,-330.97,-33097.362426439759,null,63,237.89930086358751,-9.0299999999999994,-722.65629813890394]
[null,null,64,{"$f":"IF('Annuity Value'!B$11=\"Ordinary\",E65*(1+D$1/100),F66)","v":985406.05028407276},{"$f":"IF('Annuity Value'!B$11=\"Ordinary\",D66-E$2,G66)","v":980142.00234520878},980503.53262096981,975265.67397533404,null,64,129129938.16766529,142042931.98443183,null,64,40526.506222962926,44579.156845259218,null,64,64,93465.0416379362,194.7188367457004,93659.760474682014,null,null,64,500,-339.28,-33928.243247659855,null,64,237.89930086358751,-12.12,-969.58880272922977]
[null,null,65,{"$f":"IF('Annuity Value'!B$11=\"Ordinary\",E66*(1+D$1/100),F67)","v":985042.71235693467},{"$f":"IF('Annuity Value'!B$11=\"Ordinary\",D67-E$2,G67)","v":979778.66441807069},980142.00234521064,974904.14369957487,null,65,142042931.98443183,156247225.18287504,null,65,44579.156845259218,49037.072529785146,null,65,65,94859.760474682014,197.62450098892086,95057.384975670939,null,null,65,500,{"$f":"ROUND(Y$2*AA67,2)","v":-347.67},{"$f":"IF(X$1=\"\",\"\",(1-(1+Y$2)^(X67-X$1))/(1-(1+Y$2)^(-X$1))*Z$1)","v":-34767.432877092157},null,65,237.89930086358751,{"$f":"ROUND(AE$2*AF67,2)","v":-15.25},{"$f":"AF$1*(1-(1+AE$2)^(AC67-AC$1))/(1-(1+AE$2)^(-AC$1))","v":-1219.6079636269299}]
[null,null,{"$f":"C67+1","v":66},{"$f":"IF('Annuity Value'!B$11=\"Ordinary\",E67*(1+D$1/100),F68)","v":984677.55774016096},{"$f":"IF('Annuity Value'!B$11=\"Ordinary\",D68-E$2,G68)","v":979413.50980129698},979778.66441807267,974540.8057724369,null,{"$f":"I67+1","v":66},{"$f":"K67","v":156247225.18287504},{"$f":"K$2*(1+J$1)^I68","v":171871947.70116255},null,{"$f":"M67+1","v":66},{"$f":"O67","v":49037.072529785146},{"$f":"O$2*(1+N$1)^M68","v":53940.77978276366},null,{"$f":"Q67+1","v":66},{"$f":"IF(A$5=1,Q68*12,IF(A$5=2,Q68*6,IF(A$5=4,Q68*3,Q68)))","v":66},96257.384975670939,200.53621869931445,{"$f":"T$1*(1+S$2)^Q68+S$1*(((1+S$2)^(Q68+1)-(1+S$2))/S$2)","v":96457.921194370312},null,null,{"$f":"X67+1","v":66},{"$f":"Y67","v":500},-356.15,-35615.014402818764,null,{"$f":"AC67+1","v":66},{"$f":"AD67","v":237.89930086358751},-18.41,-1472.752364035855]
[null,null,67,{"$f":"IF('Annuity Value'!B$11=\"Ordinary\",E68*(1+D$1/100),F69)","v":984310.57735030341},{"$f":"IF('Annuity Value'!B$11=\"Ordinary\",D69-E$2,G69)","v":979046.52941143943},{"$f":"G68*(1+F$1/100)","v":979413.50980129896},974175.65115566319,null,67,171871947.70116255,189059142.47127885,null,67,53940.77978276366,59334.857761040039,null,67,67,{"$f":"S$1+U68","v":97657.921194370312},{"$f":"S$2*S69","v":203.45400248827147},97861.375196858819,null,null,67,500,-364.71,-36471.071743802655,null,67,237.89930086358751,-21.61,-1729.0610694498878]
[null,null,68,{"$f":"IF('Annuity Value'!B$11=\"Ordinary\",E69*(1+D$1/100),F70)","v":983941.76205849648},{"$f":"IF('Annuity Value'!B$11=\"Ordinary\",D70-E$2,G70)","v":978677.7141196325},979046.52941144141,973808.67076580564,null,68,189059142.47127885,207965056.71840671,null,68,59334.857761040039,65268.343537144043,null,68,68,99061.375196858819,206.37786499345586,99267.753061852243,null,null,68,500,-373.36,-37335.689658196374,null,68,237.89930086358751,-24.86,-1988.5736336816024]
[null,null,69,{"$f":"IF('Annuity Value'!B$11=\"Ordinary\",E70*(1+D$1/100),F71)","v":983571.10269023059},{"$f":"IF('Annuity Value'!B$11=\"Ordinary\",D71-E$2,G71)","v":978307.05475136661},978677.71411963459,973439.85547399882,null,69,207965056.71840671,228761562.3902474,null,69,65268.343537144043,71795.177890858453,null,69,69,100467.75306185224,209.30781887885882,100677.06088073117,null,null,69,500,-382.09,-38208.953751734043,null,69,237.89930086358751,-28.14,-2251.3301049662091]
[null,null,70,{"$f":"IF('Annuity Value'!B$11=\"Ordinary\",E71*(1+D$1/100),F72)","v":983198.59002512333},{"$f":"IF('Annuity Value'!B$11=\"Ordinary\",D72-E$2,G72)","v":977934.54208625935},978307.05475136871,973069.19610573293,null,70,228761562.3902474,251637718.62927216,null,70,71795.177890858453,78974.6956799443,null,70,70,101877.06088073117,212.24387683485659,102089.30475756616,null,null,70,500,-390.91,-39090.950486207075,null,70,237.89930086358751,-31.47,-2517.3710321418766]
[null,null,71,{"$f":"IF('Annuity Value'!B$11=\"Ordinary\",E72*(1+D$1/100),F73)","v":982824.2147966905},{"$f":"IF('Annuity Value'!B$11=\"Ordinary\",D73-E$2,G73)","v":977560.16685782652},977934.54208626144,972696.68344062567,null,71,251637718.62927216,276801490.49219942,null,71,78974.6956799443,86872.165247938741,null,71,71,103289.30475756616,215.18605157826283,103504.4908091446,null,null,71,500,-399.82,-39981.767188024845,null,71,237.89930086358751,-34.83,-2786.7374709072315]
[null,null,72,{"$f":"IF('Annuity Value'!B$11=\"Ordinary\",E73*(1+D$1/100),F74)","v":982447.96769211558},{"$f":"IF('Annuity Value'!B$11=\"Ordinary\",D74-E$2,G74)","v":977183.9197532516},977560.16685782874,972322.30821219296,null,72,276801490.49219942,304481639.54141933,null,72,86872.165247938741,95559.38177273261,null,72,72,104704.4908091446,218.13435585238457,104922.62516499699,null,null,72,500,-408.81,-40881.492056860785,null,72,237.89930086358751,-38.24,-3059.4709901571628]
[null,null,73,{"$f":"IF('Annuity Value'!B$11=\"Ordinary\",E74*(1+D$1/100),F75)","v":982069.83935201773},{"$f":"IF('Annuity Value'!B$11=\"Ordinary\",D75-E$2,G75)","v":976805.79141315375},977183.91975325381,971946.06110761804,null,73,304481639.54141933,334929803.4955613,null,73,95559.38177273261,105115.3199500059,null,73,73,106122.62516499699,221.08880242707707,106343.71396742415,null,null,73,500,-417.9,-41790.214174385088,null,73,237.89930086358751,-41.7,-3335.6136783977108]
[null,null,74,{"$f":"IF('Annuity Value'!B$11=\"Ordinary\",E75*(1+D$1/100),F76)","v":981689.82037021942},{"$f":"IF('Annuity Value'!B$11=\"Ordinary\",D76-E$2,G76)","v":976425.77243135544},976805.79141315597,971567.93276752019,null,74,334929803.4955613,368422783.84511745,null,74,105115.3199500059,115626.85194500648,null,74,74,107543.71396742415,224.0494040988003,107767.76337152311,null,null,74,500,-427.08,-42708.023513084641,null,74,237.89930086358751,-45.19,-3615.2081502412739]
[null,null,75,{"$f":"IF('Annuity Value'!B$11=\"Ordinary\",E76*(1+D$1/100),F77)","v":981307.90129351208},{"$f":"IF('Annuity Value'!B$11=\"Ordinary\",D77-E$2,G77)","v":976043.8533546481},976425.77243135765,{"$f":"F77-G$2","v":971187.91378572187},null,75,368422783.84511745,405265062.22962922,null,75,115626.85194500648,127189.53713950714,null,75,75,108967.76337152311,227.01617369067313,109194.77954521379,null,null,75,500,-436.35,-43635.010945171191,null,75,237.89930086358751,-48.73,-3898.2975529828723]
[null,null,76,{"$f":"IF('Annuity Value'!B$11=\"Ordinary\",E77*(1+D$1/100),F78)","v":980924.07262142119},{"$f":"IF('Annuity Value'!B$11=\"Ordinary\",D78-E$2,G78)","v":975660.02468255721},976043.85335465043,970805.99470901466,null,76,405265062.22962922,445791568.45259213,null,76,127189.53713950714,139908.49085345786,null,76,76,110394.77954521379,229.98912405252872,110624.76866926644,null,null,76,500,-445.71,-44571.2682515786,null,76,237.89930086358751,-52.31,-4184.9255732587508]
[null,null,77,{"$f":"IF('Annuity Value'!B$11=\"Ordinary\",E78*(1+D$1/100),F79)","v":980538.32480596984},{"$f":"IF('Annuity Value'!B$11=\"Ordinary\",D79-E$2,G79)","v":975274.27686710586},975660.02468255966,970422.16603692388,null,77,445791568.45259213,490370725.29785144,null,77,139908.49085345786,153899.33993880366,null,77,77,111824.76866926644,232.96826806097175,112057.73693732753,null,null,77,500,-455.17,-45516.88813105008,null,77,237.89930086358751,-55.94,-4475.1364437880711]
[null,null,78,{"$f":"IF('Annuity Value'!B$11=\"Ordinary\",E79*(1+D$1/100),F80)","v":980150.64825144131},{"$f":"IF('Annuity Value'!B$11=\"Ordinary\",D80-E$2,G80)","v":974886.60031257733},975274.27686710842,970036.41822147265,null,78,490370725.29785144,539407797.8276366,null,78,153899.33993880366,169289.27393268404,null,78,78,113257.73693732753,235.95361861943235,113493.69055594699,null,null,78,500,-464.72,-46471.964209316277,null,78,237.89930086358751,-59.61,-4768.9749501990118]
[null,null,79,{"$f":"IF('Annuity Value'!B$11=\"Ordinary\",E80*(1+D$1/100),F81)","v":979761.03331414016},{"$f":"IF('Annuity Value'!B$11=\"Ordinary\",D81-E$2,G81)","v":974496.98537527618},974886.60031257989,969648.74166694412,null,79,539407797.8276366,593348577.61040032,null,79,169289.27393268404,186218.20132595245,null,79,79,114693.69055594699,238.94518865822289,114932.63574460529,null,null,79,500,-474.37,-47436.591048365146,null,79,237.89930086358751,-63.33,-5066.4864379400842]
[null,null,80,{"$f":"IF('Annuity Value'!B$11=\"Ordinary\",E81*(1+D$1/100),F82)","v":979369.47030215245},{"$f":"IF('Annuity Value'!B$11=\"Ordinary\",D82-E$2,G82)","v":974105.42236328847},974496.98537527875,969259.12672964297,null,80,593348577.61040032,652683435.37144041,null,80,186218.20132595245,204840.02145854771,null,80,80,116132.63574460529,241.94299113459434,116374.57873574001,null,null,80,500,-484.11,-48410.864155804491,null,80,237.89930086358751,-67.099999999999994,-5367.7168192779218]
[null,null,81,{"$f":"IF('Annuity Value'!B$11=\"Ordinary\",E82*(1+D$1/100),F83)","v":978975.9494751048},{"$f":"IF('Annuity Value'!B$11=\"Ordinary\",D83-E$2,G83)","v":973711.90153624082},974105.42236329103,968867.56371765526,null,81,652683435.37144041,717951778.90858436,null,81,204840.02145854771,225324.02360440246,null,81,81,117574.57873574001,244.94703903279168,117819.52577477293,null,null,81,500,-493.95,-49394.879994318231,null,81,237.89930086358751,-70.91,-5672.7125803824811]
[null,null,82,{"$f":"IF('Annuity Value'!B$11=\"Ordinary\",E83*(1+D$1/100),F84)","v":978580.46104392188},{"$f":"IF('Annuity Value'!B$11=\"Ordinary\",D84-E$2,G84)","v":973316.4131050579},973711.90153624339,968474.04289060761,null,82,717951778.90858436,789746956.79944289,null,82,225324.02360440246,247856.42596484273,null,82,82,119019.52577477293,247.95734536411027,119267.48312013697,null,null,82,500,-503.89,-50388.735991217123,null,82,237.89930086358751,-74.77,-5981.5207885008494]
[null,null,83,{"$f":"IF('Annuity Value'!B$11=\"Ordinary\",E84*(1+D$1/100),F85)","v":978182.99517058313},{"$f":"IF('Annuity Value'!B$11=\"Ordinary\",D85-E$2,G85)","v":972918.94723171915},973316.41310506058,968078.55445942481,null,83,789746956.79944289,868721652.47938752,null,83,247856.42596484273,272642.06856132712,null,83,83,120467.48312013697,250.97392316695201,120718.45704330406,null,null,83,500,-513.92999999999995,-51392.530548084986,null,83,237.89930086358751,-78.680000000000007,-6294.1890992206963]
[null,null,84,{"$f":"IF('Annuity Value'!B$11=\"Ordinary\",E85*(1+D$1/100),F86)","v":977783.54196787765},{"$f":"IF('Annuity Value'!B$11=\"Ordinary\",D86-E$2,G86)","v":972519.49402901367},972918.94723172183,967681.08858608606,null,84,868721652.47938752,955593817.72732604,null,84,272642.06856132712,299906.27541745978,null,84,84,121918.45704330406,253.99678550688347,122172.45382881103,null,null,84,500,-524.05999999999995,-52406.363050521541,null,84,237.89930086358751,-82.63,-6610.7657638245455]
[null,null,85,{"$f":"IF('Annuity Value'!B$11=\"Ordinary\",E86*(1+D$1/100),F87)","v":977382.09149915865},{"$f":"IF('Annuity Value'!B$11=\"Ordinary\",D87-E$2,G87)","v":972118.04356029467},972519.49402901635,967281.63538338058,null,85,955593817.72732604,1051153199.5000588,null,85,299906.27541745978,329896.90295920579,null,85,85,123372.45382881103,257.02594547668963,123629.47977428783,null,null,85,500,-534.29999999999995,-53430.333877982448,null,85,237.89930086358751,-86.64,-6931.2996367359374]
[null,null,86,{"$f":"IF('Annuity Value'!B$11=\"Ordinary\",E87*(1+D$1/100),F88)","v":976978.63377809606},{"$f":"IF('Annuity Value'!B$11=\"Ordinary\",D88-E$2,G88)","v":971714.58583923208},972118.04356029734,966880.18491466157,null,86,1051153199.5000588,1156268519.4500649,null,86,329896.90295920579,362886.59325512638,null,86,86,124829.47977428783,260.06141619643296,125089.54119048436,null,null,86,500,-544.65,-54464.544413717958,null,86,237.89930086358751,-90.7,-7255.84018305873]
[null,null,87,{"$f":"IF('Annuity Value'!B$11=\"Ordinary\",E88*(1+D$1/100),F89)","v":976573.15876842814},{"$f":"IF('Annuity Value'!B$11=\"Ordinary\",D89-E$2,G89)","v":971309.11082956416},971714.58583923476,966476.72719359898,null,87,1156268519.4500649,1271895371.3950715,null,87,362886.59325512638,399175.25258063909,null,87,87,126289.54119048436,263.10321081350907,126552.64440129799,null,null,87,500,-555.09,-55509.097054810831,null,87,237.89930086358751,-94.81,-7584.4374862105442]
[null,null,88,{"$f":"IF('Annuity Value'!B$11=\"Ordinary\",E89*(1+D$1/100),F90)","v":976165.65638371184},{"$f":"IF('Annuity Value'!B$11=\"Ordinary\",D90-E$2,G90)","v":970901.60844484787},971309.11082956684,966071.25218393106,null,88,1271895371.3950715,1399084908.5345783,null,88,399175.25258063909,439092.77783870295,null,88,88,127752.64440129799,266.15134250270415,128018.79574380074,null,null,88,500,-565.64,-56564.095222314652,null,88,237.89930086358751,-98.96,-7917.1422556517655]
[null,null,89,{"$f":"IF('Annuity Value'!B$11=\"Ordinary\",E90*(1+D$1/100),F91)","v":975756.11648707197},{"$f":"IF('Annuity Value'!B$11=\"Ordinary\",D91-E$2,G91)","v":970492.06854820799},970901.60844485066,965663.74979921489,null,89,1399084908.5345783,1538993399.3880367,null,89,439092.77783870295,483002.05562257336,null,89,89,129218.79574380074,269.20582446625156,129488.00156826712,null,null,89,500,-576.29999999999995,-57629.643371493476,null,89,237.89930086358751,-103.18,-8254.0058347109953]
[null,null,90,{"$f":"IF('Annuity Value'!B$11=\"Ordinary\",E91*(1+D$1/100),F92)","v":975344.52889094898},{"$f":"IF('Annuity Value'!B$11=\"Ordinary\",D92-E$2,G92)","v":970080.480952085},970492.0685482109,965254.20990257512,null,90,1538993399.3880367,1692892739.3268404,null,90,483002.05562257336,531302.26118483068,null,90,90,130688.00156826712,272.26666993388983,130960.26823820116,null,null,90,500,-587.05999999999995,-58705.847002164133,null,90,237.89930086358751,-107.44,-8595.0802085084797]
[null,null,91,{"$f":"IF('Annuity Value'!B$11=\"Ordinary\",E92*(1+D$1/100),F93)","v":974930.88335684536},{"$f":"IF('Annuity Value'!B$11=\"Ordinary\",D93-E$2,G93)","v":969666.83541798138},970080.48095208791,964842.62230645213,null,91,1692892739.3268404,1862182013.2595246,null,91,531302.26118483068,584432.4873033138,null,91,91,132160.26823820116,275.33389216291908,132435.60213036407,null,null,91,500,-597.92999999999995,-59792.812669141458,null,91,237.89930086358751,-111.76,-8940.4180119784141]
[null,null,92,{"$f":"IF('Annuity Value'!B$11=\"Ordinary\",E93*(1+D$1/100),F94)","v":974515.16959507123},{"$f":"IF('Annuity Value'!B$11=\"Ordinary\",D94-E$2,G94)","v":969251.12165620725},969666.83541798429,964428.97677234851,null,92,1862182013.2595246,2048400214.5854769,null,92,584432.4873033138,642875.73603364523,null,92,92,133635.60213036407,278.40750443825846,133914.00963480253,null,null,92,500,-608.91,-60890.647992788574,null,92,237.89930086358751,-116.13,-9290.0725379917367]
[null,null,93,{"$f":"IF('Annuity Value'!B$11=\"Ordinary\",E94*(1+D$1/100),F95)","v":974097.37726448814},{"$f":"IF('Annuity Value'!B$11=\"Ordinary\",D95-E$2,G95)","v":968833.32932562416},969251.12165621016,964013.26301057439,null,93,2048400214.5854769,2253240236.0440249,null,93,642875.73603364523,707163.30963700975,null,93,93,135114.00963480253,281.48752007250528,135395.49715487508,null,null,93,500,-619.99,-61999.461669672164,null,93,237.89930086358751,-120.55,-9644.0977455802185]
[null,null,94,{"$f":"IF('Annuity Value'!B$11=\"Ordinary\",E95*(1+D$1/100),F96)","v":973677.49597225222},{"$f":"IF('Annuity Value'!B$11=\"Ordinary\",D96-E$2,G96)","v":968413.44803338824},968833.32932562719,963595.47067999141,null,94,2253240236.0440249,2478564259.648428,null,94,707163.30963700975,777879.64060071087,null,94,94,136595.49715487508,284.57395240598976,136880.07110728117,null,null,94,500,-631.19000000000005,-63119.363483324589,null,94,237.89930086358751,-125.03,-10002.548268263559]
[null,null,95,{"$f":"IF('Annuity Value'!B$11=\"Ordinary\",E96*(1+D$1/100),F97)","v":973255.51527355507},{"$f":"IF('Annuity Value'!B$11=\"Ordinary\",D97-E$2,G97)","v":967991.46733469109},968413.44803339127,963175.58938775549,null,95,2478564259.648428,2726420685.6132703,null,95,777879.64060071087,855667.60466078192,null,95,95,138080.07110728117,287.66681480683576,138367.7379220881,null,null,95,500,-642.5,-64250.464315113524,null,95,237.89930086358751,-129.57,-10365.479422480441]
[null,null,96,{"$f":"IF('Annuity Value'!B$11=\"Ordinary\",E97*(1+D$1/100),F98)","v":972831.42467136448},{"$f":"IF('Annuity Value'!B$11=\"Ordinary\",D98-E$2,G98)","v":967567.3767325005},967991.46733469411,962753.60868905834,null,96,2726420685.6132703,2999062754.1745977,null,96,855667.60466078192,941234.36512686021,null,96,96,139567.7379220881,290.76612067101689,139858.50404275913,null,null,96,500,-653.92999999999995,-65392.876155220365,null,96,237.89930086358751,-134.16,-10732.947216125032]
[null,null,97,{"$f":"IF('Annuity Value'!B$11=\"Ordinary\",E98*(1+D$1/100),F99)","v":972405.21361616289},{"$f":"IF('Annuity Value'!B$11=\"Ordinary\",D99-E$2,G99)","v":967141.16567729891},967567.37673250353,962329.51808686776,null,97,2999062754.1745977,3298969029.5920577,null,97,941234.36512686021,1035357.8016395462,null,97,97,141058.50404275913,293.87188342241484,141352.3759261817,null,null,97,500,-665.47,-66546.712113728252,null,97,237.89930086358751,-138.81,-11105.008357190183]
[null,null,98,{"$f":"IF('Annuity Value'!B$11=\"Ordinary\",E99*(1+D$1/100),F100)","v":971976.87150568527},{"$f":"IF('Annuity Value'!B$11=\"Ordinary\",D100-E$2,G100)","v":966712.82356682129},967141.16567730193,961903.30703166616,null,98,3298969029.5920577,3628865932.5512638,null,98,1035357.8016395462,1138893.5818035011,null,98,98,142552.3759261817,296.98411651287853,142849.36004269452,null,null,98,500,-677.12,-67712.086431821226,null,98,237.89930086358751,-143.52000000000001,-11481.720262518647]
[null,null,99,{"$f":"IF('Annuity Value'!B$11=\"Ordinary\",E100*(1+D$1/100),F101)","v":971546.38768465526},{"$f":"IF('Annuity Value'!B$11=\"Ordinary\",D101-E$2,G101)","v":966282.33974579128},966712.82356682443,961474.96492118866,null,99,3628865932.5512638,3991752525.8063908,null,99,1138893.5818035011,1252782.9399838513,null,99,99,144049.36004269452,300.10283342228024,144349.46287611703,null,null,99,500,-688.89,-68889.114493095156,null,99,237.89930086358751,-148.29,-11863.141066663715]
[null,null,100,{"$f":"IF('Annuity Value'!B$11=\"Ordinary\",E101*(1+D$1/100),F102)","v":971113.75144452008},{"$f":"IF('Annuity Value'!B$11=\"Ordinary\",D102-E$2,G102)","v":965849.7035056561},966282.33974579454,961044.48110015877,null,100,3991752525.8063908,4390927778.3870296,null,100,1252782.9399838513,1378061.2339822364,null,100,100,145549.46287611703,303.22804765857717,145852.69092377569,null,null,100,500,-700.78,-70077.912834981791,null,100,237.89930086358751,-153.12,-12249.3296308606]
[null,null,101,{"$f":"IF('Annuity Value'!B$11=\"Ordinary\",E102*(1+D$1/100),F103)","v":970678.95202318428},{"$f":"IF('Annuity Value'!B$11=\"Ordinary\",D103-E$2,G103)","v":965414.9040843203},965849.70350565948,960611.8448600237,null,101,4390927778.3870296,4830020556.2257328,null,101,1378061.2339822364,1515867.35738046,null,101,101,147052.69092377569,306.35977275786604,147359.05069653358,null,null,101,500,-712.79,-71278.599160287311,null,101,237.89930086358751,-158,-12640.345552109948]
[null,null,102,{"$f":"IF('Annuity Value'!B$11=\"Ordinary\",E103*(1+D$1/100),F104)","v":970241.97860474174},{"$f":"IF('Annuity Value'!B$11=\"Ordinary\",D104-E$2,G104)","v":964977.93066587776},965414.90408432367,960177.0454386879,null,102,4830020556.2257328,5313022611.8483067,null,102,1515867.35738046,1667454.0931185063,null,102,102,148559.05069653358,309.49802228444497,148868.54871881823,null,null,102,500,-724.91,-72491.292348845876,null,102,237.89930086358751,-162.94999999999999,-13036.249172374908]
[null,null,103,{"$f":"IF('Annuity Value'!B$11=\"Ordinary\",E104*(1+D$1/100),F105)","v":969802.82031920704},{"$f":"IF('Annuity Value'!B$11=\"Ordinary\",D105-E$2,G105)","v":964538.77238034306},964977.93066588126,959740.07202024548,null,103,5313022611.8483067,5844324873.0331383,null,103,1667454.0931185063,1834199.502430357,null,103,103,150068.54871881823,312.64280983087133,150381.19152864916,null,null,103,500,-737.16,-73716.112469290034,null,103,237.89930086358751,-167.96,-13437.101587893178]
[null,null,104,{"$f":"IF('Annuity Value'!B$11=\"Ordinary\",E105*(1+D$1/100),F106)","v":969361.4662422447},{"$f":"IF('Annuity Value'!B$11=\"Ordinary\",D106-E$2,G106)","v":964097.41830338072},964538.77238034667,959300.91373471089,null,104,5844324873.0331383,6428757360.3364525,null,104,1834199.502430357,2017619.4526733928,null,104,104,151581.19152864916,315.79414901801908,151896.98567766722,null,null,104,500,-749.53,-74953.180790938612,null,104,237.89930086358751,-173.04,-13842.964658605433]
[null,null,105,{"$f":"IF('Annuity Value'!B$11=\"Ordinary\",E106*(1+D$1/100),F107)","v":968917.90539489756},{"$f":"IF('Annuity Value'!B$11=\"Ordinary\",D107-E$2,G107)","v":963653.85745603358},964097.41830338433,958859.55965774856,null,105,6428757360.3364525,7071633096.3700972,null,105,2017619.4526733928,2219381.3979407321,null,105,105,153096.98567766722,318.95205349514004,153415.93773116247,null,null,105,500,-762.03,-76202.619795803708,null,105,237.89930086358751,-178.17,-14253.901017701584]
[null,null,106,{"$f":"IF('Annuity Value'!B$11=\"Ordinary\",E107*(1+D$1/100),F108)","v":968472.12674331362},{"$f":"IF('Annuity Value'!B$11=\"Ordinary\",D108-E$2,G108)","v":963208.07880444964},963653.85745603719,958415.99881040142,null,106,7071633096.3700972,7778796406.0071077,null,106,2219381.3979407321,2441319.5377348056,null,106,106,154615.93773116247,322.11653693992179,154938.05426810248,null,null,106,500,-774.65,-77464.553190717459,null,106,237.89930086358751,-183.37,-14669.974081286444]
[null,null,107,{"$f":"IF('Annuity Value'!B$11=\"Ordinary\",E108*(1+D$1/100),F109)","v":968024.11919847177},{"$f":"IF('Annuity Value'!B$11=\"Ordinary\",D109-E$2,G109)","v":962760.07125960779},963208.07880445337,957970.2201588176,null,107,7778796406.0071077,8556676046.6078196,null,107,2441319.5377348056,2685451.4915082864,null,107,107,156138.05426810248,325.28761305854681,156463.34188116118,null,null,107,500,-787.39,-78739.105919580325,null,107,237.89930086358751,-188.64,-15091.248058166106]
[null,null,108,{"$f":"IF('Annuity Value'!B$11=\"Ordinary\",E109*(1+D$1/100),F110)","v":967573.87161590578},{"$f":"IF('Annuity Value'!B$11=\"Ordinary\",D110-E$2,G110)","v":962309.8236770418},962760.07125961164,957522.21261397586,null,108,8556676046.6078196,9412343651.2686024,null,108,2685451.4915082864,2953996.6406591153,null,108,108,157663.34188116118,328.46529558575247,157991.80717674701,null,null,108,500,-800.26,-80026.404175731834,null,108,237.89930086358751,-193.97,-15517.787959756777]
[null,null,109,{"$f":"IF('Annuity Value'!B$11=\"Ordinary\",E110*(1+D$1/100),F111)","v":967121.37279542687},{"$f":"IF('Annuity Value'!B$11=\"Ordinary\",D111-E$2,G111)","v":961857.32485656289},962309.82367704564,957071.96503140987,null,109,9412343651.2686024,10353578016.395464,null,109,2953996.6406591153,3249396.3047250272,null,109,109,159191.80717674701,331.64959828488958,159523.45677503195,null,null,109,500,-813.27,-81326.575414444858,null,109,237.89930086358751,-199.37,-15949.659610117322]
[null,null,110,{"$f":"IF('Annuity Value'!B$11=\"Ordinary\",E111*(1+D$1/100),F112)","v":966666.6114808456},{"$f":"IF('Annuity Value'!B$11=\"Ordinary\",D112-E$2,G112)","v":961402.56354198162},961857.32485656685,956619.46621093107,null,110,10353578016.395464,11388935818.035011,null,110,3249396.3047250272,3574335.9351975303,null,110,110,160723.45677503195,334.84053494798326,161058.29730997994,null,null,110,500,-826.4,-82639.748365544991,null,110,237.89930086358751,-204.84,-16386.929656107379]
[null,null,111,{"$f":"IF('Annuity Value'!B$11=\"Ordinary\",E112*(1+D$1/100),F113)","v":966209.57635969145},{"$f":"IF('Annuity Value'!B$11=\"Ordinary\",D113-E$2,G113)","v":960945.52842082747},961402.56354198558,956164.70489634981,null,111,11388935818.035011,12527829399.838512,null,111,3574335.9351975303,3931769.5287172836,null,111,111,162258.29730997994,338.03811939579157,162596.3354293759,null,null,111,500,-839.66,-83966.053046156143,null,111,237.89930086358751,-210.37,-16829.665577672306]
[null,null,112,{"$f":"IF('Annuity Value'!B$11=\"Ordinary\",E113*(1+D$1/100),F114)","v":965750.2560629315},{"$f":"IF('Annuity Value'!B$11=\"Ordinary\",D114-E$2,G114)","v":960486.20812406752},960945.52842083143,955707.66977519565,null,112,12527829399.838512,13780612339.822363,null,112,3931769.5287172836,4324946.4815890118,null,112,112,163796.3354293759,341.24236547786649,164137.57779485398,null,null,112,500,-853.06,-85305.620773573406,null,112,237.89930086358751,-215.97,-17277.935698256799]
[null,null,113,{"$f":"IF('Annuity Value'!B$11=\"Ordinary\",E114*(1+D$1/100),F115)","v":965288.63916468772},{"$f":"IF('Annuity Value'!B$11=\"Ordinary\",D115-E$2,G115)","v":960024.59122582374},960486.20812407148,955248.3494784357,null,113,13780612339.822363,15158673573.804602,null,113,4324946.4815890118,4757441.1297479132,null,113,113,165337.57779485398,344.45328707261245,165682.03108192675,null,null,113,500,-866.59,-86658.58417826482,null,113,237.89930086358751,-221.65,-17731.809195348589]
[null,null,114,{"$f":"IF('Annuity Value'!B$11=\"Ordinary\",E115*(1+D$1/100),F116)","v":964824.71418195276},{"$f":"IF('Annuity Value'!B$11=\"Ordinary\",D116-E$2,G116)","v":959560.66624308878},960024.59122582781,954786.73258019204,null,114,15158673573.804602,16674540931.185062,null,114,4757441.1297479132,5233185.242722705,null,114,114,166882.03108192675,347.67089808734738,167229.70198001398,null,null,114,500,-880.25,-88025.077217003156,null,114,237.89930086358751,-227.39,-18191.356111154033]
[null,null,115,{"$f":"IF('Annuity Value'!B$11=\"Ordinary\",E116*(1+D$1/100),F117)","v":964358.46957430406},{"$f":"IF('Annuity Value'!B$11=\"Ordinary\",D117-E$2,G117)","v":959094.42163544009},959560.66624309286,954322.80759745708,null,115,16674540931.185062,18341995024.30357,null,115,5233185.242722705,5756503.7669949755,null,115,115,168429.70198001398,350.89521245836244,168780.59719247237,null,null,115,500,-894.05,-89405.235186128906,null,115,237.89930086358751,-233.21,-18656.647363407046]
[null,null,116,{"$f":"IF('Annuity Value'!B$11=\"Ordinary\",E117*(1+D$1/100),F118)","v":963889.89374361723},{"$f":"IF('Annuity Value'!B$11=\"Ordinary\",D118-E$2,G118)","v":958625.84580475325},959094.42163544428,953856.5629898085,null,116,18341995024.30357,20176194526.733929,null,116,5756503.7669949755,6332154.1436944744,null,116,116,169980.59719247237,354.12624415098412,170334.72343662358,null,null,116,500,-907.99,-90799.194734945879,null,116,237.89930086358751,-239.1,-19127.754756313221]
[null,null,117,{"$f":"IF('Annuity Value'!B$11=\"Ordinary\",E118*(1+D$1/100),F119)","v":963418.97503377695},{"$f":"IF('Annuity Value'!B$11=\"Ordinary\",D119-E$2,G119)","v":958154.92709491297},958625.84580475744,953387.98715912167,null,117,20176194526.733929,22193813979.407322,null,117,6332154.1436944744,6965369.5580639224,null,117,117,171534.72343662358,357.36400715963248,171892.0874437833,null,null,117,500,-922.07,-92207.093879251028,null,117,237.89930086358751,-245.06,-19604.750991630724]
[null,null,118,{"$f":"IF('Annuity Value'!B$11=\"Ordinary\",E119*(1+D$1/100),F120)","v":962945.7017303874},{"$f":"IF('Annuity Value'!B$11=\"Ordinary\",D120-E$2,G120)","v":957681.65379152342},958154.92709491716,952917.06844928139,null,118,22193813979.407322,24413195377.348061,null,118,6965369.5580639224,7661906.5138703156,null,118,118,173092.0874437833,360.60851550788186,173452.69595929125,null,null,118,500,-936.29,-93629.072014999256,null,118,237.89930086358751,-251.1,-20087.709679889707]
[null,null,119,{"$f":"IF('Annuity Value'!B$11=\"Ordinary\",E120*(1+D$1/100),F121)","v":962470.06206048094},{"$f":"IF('Annuity Value'!B$11=\"Ordinary\",D121-E$2,G121)","v":957206.01412161696},957681.65379152773,952443.79514589196,null,119,24413195377.348061,26854514915.08287,null,119,7661906.5138703156,8428097.1652573477,null,119,119,174652.69595929125,363.8597832485234,175016.55574253993,null,null,119,500,-950.65,-95065.269932104959,null,119,237.89930086358751,-257.20999999999998,-20576.705351751898]
[null,null,120,{"$f":"IF('Annuity Value'!B$11=\"Ordinary\",E121*(1+D$1/100),F122)","v":961992.04419222497},{"$f":"IF('Annuity Value'!B$11=\"Ordinary\",D122-E$2,G122)","v":956727.99625336099},957206.01412162127,951968.15547598549,null,120,26854514915.08287,29539966406.591148,null,120,8428097.1652573477,9270906.8817830812,null,120,120,176216.55574253993,367.11782446362486,176583.67356700354,null,null,120,500,-965.16,-96515.829828381698,null,120,237.89930086358751,-263.39999999999998,-21071.813469512388]
[null,null,121,{"$f":"IF('Annuity Value'!B$11=\"Ordinary\",E122*(1+D$1/100),F123)","v":961511.63623462769},{"$f":"IF('Annuity Value'!B$11=\"Ordinary\",D123-E$2,G123)","v":956247.58829576371},956727.9962533653,951490.13760772953,null,121,29539966406.591148,32493963047.250275,null,121,9270906.8817830812,10197997.569961391,null,121,121,177783.67356700354,370.38265326459072,178154.05622026822,null,null,121,500,-979.81,-97980.895323621211,null,121,237.89930086358751,-269.66000000000003,-21573.110438744876]
[null,null,122,{"$f":"IF('Annuity Value'!B$11=\"Ordinary\",E123*(1+D$1/100),F124)","v":961028.82623724244},{"$f":"IF('Annuity Value'!B$11=\"Ordinary\",D124-E$2,G124)","v":955764.77829837846},956247.58829576813,951009.72965013236,null,122,32493963047.250275,35743359351.975296,null,122,10197997.569961391,11217797.326957531,null,122,122,179354.05622026822,373.65428379222544,179727.71050406076,null,null,122,500,-994.61,-99460.611473813129,null,122,237.89930086358751,-276.01,-22080.673620092784]
[null,null,123,{"$f":"IF('Annuity Value'!B$11=\"Ordinary\",E124*(1+D$1/100),F125)","v":960543.6021898702},{"$f":"IF('Annuity Value'!B$11=\"Ordinary\",D125-E$2,G125)","v":955279.55425100622},955764.77829838288,950526.91965274711,null,123,35743359351.975296,39317695287.172836,null,123,11217797.326957531,12339577.059653286,null,123,123,180927.71050406076,376.93273021679323,181304.64323427749,null,null,123,500,-1009.55,-100955.12478550695,null,123,237.89930086358751,-282.43,-22594.581341207526]
[null,null,124,{"$f":"IF('Annuity Value'!B$11=\"Ordinary\",E125*(1+D$1/100),F126)","v":960055.9520222611},{"$f":"IF('Annuity Value'!B$11=\"Ordinary\",D126-E$2,G126)","v":954791.90408339712},955279.55425101076,950041.69560537499,null,124,39317695287.172836,43249464815.890114,null,124,12339577.059653286,13573534.765618611,null,124,124,182504.64323427749,380.21800673807809,182884.86124101578,null,null,124,500,-1024.6500000000001,-102464.58323031773,null,124,237.89930086358751,-288.94,-23114.912908836213]
[null,null,125,{"$f":"IF('Annuity Value'!B$11=\"Ordinary\",E126*(1+D$1/100),F127)","v":959565.86360381404},{"$f":"IF('Annuity Value'!B$11=\"Ordinary\",D127-E$2,G127)","v":954301.81566495006},954791.90408340178,949554.04543776601,null,125,43249464815.890114,47574411297.479134,null,125,13573534.765618611,14930888.242180476,null,125,125,184084.86124101578,383.51012758544954,184468.37136860137,null,null,125,500,-1039.8900000000001,-103989.1362595766,null,125,237.89930086358751,-295.52,-23641.748621060251]
[null,null,126,{"$f":"IF('Annuity Value'!B$11=\"Ordinary\",E127*(1+D$1/100),F128)","v":959073.32474327472},{"$f":"IF('Annuity Value'!B$11=\"Ordinary\",D128-E$2,G128)","v":953809.27680441074},954301.81566495472,949063.95701931894,null,126,47574411297.479134,52331852427.227058,null,126,14930888.242180476,16423977.066398527,null,126,126,185668.37136860137,386.80910701791953,186055.1804756193,null,null,126,500,-1055.29,-105528.93481912807,null,126,237.89930086358751,-302.19,-24175.169779687094]
[null,null,127,{"$f":"IF('Annuity Value'!B$11=\"Ordinary\",E128*(1+D$1/100),F129)","v":958578.32318843273},{"$f":"IF('Annuity Value'!B$11=\"Ordinary\",D129-E$2,G129)","v":953314.27524956875},953809.27680441539,948571.41815877962,null,127,52331852427.227058,57565037669.94976,null,127,16423977.066398527,18066374.77303838,null,127,127,187255.1804756193,390.11495932420689,187645.29543494355,null,null,127,500,-1070.8399999999999,-107084.13136427503,null,127,237.89930086358751,-308.94,-24715.25870279676]
[null,null,128,{"$f":"IF('Annuity Value'!B$11=\"Ordinary\",E129*(1+D$1/100),F130)","v":958080.84662581654},{"$f":"IF('Annuity Value'!B$11=\"Ordinary\",D130-E$2,G130)","v":952816.79868695256},953314.2752495734,948076.41660393763,null,128,57565037669.94976,63321541436.94474,null,128,18066374.77303838,19873012.250342216,null,128,128,188845.29543494355,393.42769882279907,189238.72313376638,null,null,128,500,-1086.55,-108654.87987487348,null,128,237.89930086358751,-315.77999999999997,-25262.098737445311]
[null,null,129,{"$f":"IF('Annuity Value'!B$11=\"Ordinary\",E130*(1+D$1/100),F131)","v":957580.88268038724},{"$f":"IF('Annuity Value'!B$11=\"Ordinary\",D131-E$2,G131)","v":952316.83474152326},952816.79868695722,947578.94004132145,null,129,63321541436.94474,69653695580.639221,null,129,19873012.250342216,21860313.475376442,null,129,129,190438.72313376638,396.74733986201329,190835.47047362855,null,null,129,500,{"$f":"ROUND(Y$2*AA131,2)","v":-1102.4100000000001},{"$f":"IF(X$1=\"\",\"\",(1-(1+Y$2)^(X131-X$1))/(1-(1+Y$2)^(-X$1))*Z$1)","v":-110241.33587057791},null,129,237.89930086358751,{"$f":"ROUND(AE$2*AF131,2)","v":-322.7},{"$f":"AF$1*(1-(1+AE$2)^(AC131-AC$1))/(1-(1+AE$2)^(-AC$1))","v":-25815.77427252696}]
[null,null,{"$f":"C131+1","v":130},{"$f":"IF('Annuity Value'!B$11=\"Ordinary\",E131*(1+D$1/100),F132)","v":957078.41891523078},{"$f":"IF('Annuity Value'!B$11=\"Ordinary\",D132-E$2,G132)","v":951814.3709763668},952316.83474152791,947078.97609589214,null,{"$f":"I131+1","v":130},{"$f":"K131","v":69653695580.639221},{"$f":"K$2*(1+J$1)^I132","v":76619065138.70314},null,{"$f":"M131+1","v":130},{"$f":"O131","v":21860313.475376442},{"$f":"O$2*(1+N$1)^M132","v":24046344.822914086},null,{"$f":"Q131+1","v":130},{"$f":"IF(A$5=1,Q132*12,IF(A$5=2,Q132*6,IF(A$5=4,Q132*3,Q132)))","v":130},192035.47047362855,400.07389682005947,{"$f":"T$1*(1+S$2)^Q132+S$1*(((1+S$2)^(Q132+1)-(1+S$2))/S$2)","v":192435.54437044862},null,null,{"$f":"X131+1","v":130},{"$f":"Y131","v":500},-1118.44,-111843.65642623941,null,{"$f":"AC131+1","v":130},{"$f":"AD131","v":237.89930086358751},-329.7,-26376.370751797142]
[null,null,131,{"$f":"IF('Annuity Value'!B$11=\"Ordinary\",E132*(1+D$1/100),F133)","v":956573.44283124851},{"$f":"IF('Annuity Value'!B$11=\"Ordinary\",D133-E$2,G133)","v":951309.39489238453},{"$f":"G132*(1+F$1/100)","v":951814.37097637146},946576.51233073568,null,131,76619065138.70314,84280971652.573471,null,131,24046344.822914086,26450979.305205502,null,131,131,{"$f":"S$1+U132","v":193635.54437044862},{"$f":"S$2*S133","v":403.4073841051013},194038.95175455391,null,null,131,500,-1134.6199999999999,-113462.00018745748,null,131,237.89930086358751,-336.8,-26943.974687058184]
[null,null,132,{"$f":"IF('Annuity Value'!B$11=\"Ordinary\",E133*(1+D$1/100),F134)","v":956065.94186684641},{"$f":"IF('Annuity Value'!B$11=\"Ordinary\",D134-E$2,G134)","v":950801.89392798243},951309.3948923893,946071.53624675353,null,132,84280971652.573471,92709068817.830811,null,132,26450979.305205502,29096077.235726047,null,132,132,195238.95175455391,406.74781615532066,195645.69957070932,null,null,132,500,-1150.97,-115096.52738628778,null,132,237.89930086358751,-343.98,-27518.673671510009]
[null,null,133,{"$f":"IF('Annuity Value'!B$11=\"Ordinary\",E134*(1+D$1/100),F135)","v":955555.90339762229},{"$f":"IF('Annuity Value'!B$11=\"Ordinary\",D135-E$2,G135)","v":950291.85545875831},950801.8939279872,945564.03528235143,null,133,92709068817.830811,101979975699.61391,null,133,29096077.235726047,32005684.959298659,null,133,133,196845.69957070932,410.09520743897775,197255.79477814829,null,null,133,500,-1167.47,-116747.39985710636,null,133,237.89930086358751,-351.26,-28100.556393267463]
[null,null,134,{"$f":"IF('Annuity Value'!B$11=\"Ordinary\",E135*(1+D$1/100),F136)","v":955043.31473605195},{"$f":"IF('Annuity Value'!B$11=\"Ordinary\",D136-E$2,G136)","v":949779.26679718797},950291.85545876308,945053.99681312731,null,134,101979975699.61391,112177973269.57532,null,134,32005684.959298659,35206253.45522853,null,134,134,198455.79477814829,413.44957245447563,198869.24435060297,null,null,134,500,-1184.1500000000001,-118414.7810526331,null,134,237.89930086358751,-358.62,-28689.712649046902]
[null,null,135,{"$f":"IF('Annuity Value'!B$11=\"Ordinary\",E136*(1+D$1/100),F137)","v":954528.16313117382},{"$f":"IF('Annuity Value'!B$11=\"Ordinary\",D137-E$2,G137)","v":949264.11519230984},949779.26679719286,944541.40815155709,null,135,112177973269.57532,123395770596.53287,null,135,35206253.45522853,38726878.800751388,null,135,135,200069.24435060297,416.81092573042287,200486.05527633347,null,null,135,500,-1200.99,-120098.83606011515,null,135,237.89930086358751,-366.08,-29286.233358023561]
[null,null,136,{"$f":"IF('Annuity Value'!B$11=\"Ordinary\",E137*(1+D$1/100),F138)","v":954010.43576827133},{"$f":"IF('Annuity Value'!B$11=\"Ordinary\",D138-E$2,G138)","v":948746.38782940735},949264.11519231473,944026.25654667895,null,136,123395770596.53287,135735347656.18614,null,136,38726878.800751388,42599566.680826522,null,136,136,201686.05527633347,420.17928182569472,202106.23455815919,null,null,136,500,-1218,-121799.73161767198,null,136,237.89930086358751,-373.63,-29890.210575862457]
[null,null,137,{"$f":"IF('Annuity Value'!B$11=\"Ordinary\",E138*(1+D$1/100),F139)","v":953490.11976855434},{"$f":"IF('Annuity Value'!B$11=\"Ordinary\",D139-E$2,G139)","v":948226.07182969037},948746.38782941224,943508.52918377647,null,137,135735347656.18614,149308882421.80475,null,137,42599566.680826522,46859523.348909177,null,137,137,203306.23455815919,423.5546553294983,203729.78921348887,null,null,137,500,-1235.18,-123517.63613080441,null,137,237.89930086358751,-381.27,-30501.737508924311]
[null,null,138,{"$f":"IF('Annuity Value'!B$11=\"Ordinary\",E139*(1+D$1/100),F140)","v":952967.20218883874},{"$f":"IF('Annuity Value'!B$11=\"Ordinary\",D140-E$2,G140)","v":947703.15424997476},948226.07182969525,942988.21318405948,null,138,149308882421.80475,164239770663.98526,null,138,46859523.348909177,51545475.683800094,null,138,138,204929.78921348887,426.93706086143516,205356.7262743504,null,null,138,500,-1252.53,-125252.71968906817,null,138,237.89930086358751,-389.01,-31120.908528649466]
[null,null,139,{"$f":"IF('Annuity Value'!B$11=\"Ordinary\",E140*(1+D$1/100),F141)","v":952441.67002122453},{"$f":"IF('Annuity Value'!B$11=\"Ordinary\",D141-E$2,G141)","v":947177.62208236055},947703.15424997965,{"$f":"F141-G$2","v":942465.29560434388},null,139,164239770663.98526,180663747730.38379,null,139,51545475.683800094,56700023.252180114,null,139,139,206556.7262743504,430.32651307156334,206987.052787422,null,null,139,500,-1270.05,-127005.15408291454,null,139,237.89930086358751,-396.85,-31747.819186121153]
[null,null,140,{"$f":"IF('Annuity Value'!B$11=\"Ordinary\",E141*(1+D$1/100),F142)","v":951913.51019277226},{"$f":"IF('Annuity Value'!B$11=\"Ordinary\",D142-E$2,G142)","v":946649.46225390828},947177.62208236544,941939.76343672967,null,140,180663747730.38379,198730122503.42218,null,140,56700023.252180114,62370025.577398121,null,140,140,208187.052787422,433.72302664046248,208620.77581406262,null,null,140,500,-1287.75,-128775.11282069939,null,140,237.89930086358751,-404.78,-32382.566226811276]
[null,null,141,{"$f":"IF('Annuity Value'!B$11=\"Ordinary\",E142*(1+D$1/100),F143)","v":951382.70956517768},{"$f":"IF('Annuity Value'!B$11=\"Ordinary\",D143-E$2,G143)","v":946118.6616263137},946649.46225391317,941411.60360827739,null,141,198730122503.42218,218603134753.76437,null,141,62370025.577398121,68607028.135137931,null,141,141,209820.77581406262,437.12661627929714,210257.90243034204,null,null,141,500,-1305.6300000000001,-130562.77114586209,null,141,237.89930086358751,-412.82,-33025.247605509998]
[null,null,142,{"$f":"IF('Annuity Value'!B$11=\"Ordinary\",E143*(1+D$1/100),F144)","v":950849.25493444514},{"$f":"IF('Annuity Value'!B$11=\"Ordinary\",D144-E$2,G144)","v":945585.20699558116},946118.6616263187,940880.80298068293,null,142,218603134753.76437,240463448229.14087,null,142,68607028.135137931,75467730.948651746,null,142,142,211457.90243034204,440.53729672987924,211898.43972707191,null,null,142,500,-1323.68,-132368.30605427636,null,142,237.89930086358751,-420.95,-33675.962501442467]
[null,null,143,{"$f":"IF('Annuity Value'!B$11=\"Ordinary\",E144*(1+D$1/100),F145)","v":950313.13303055894},{"$f":"IF('Annuity Value'!B$11=\"Ordinary\",D145-E$2,G145)","v":945049.08509169496},945585.20699558628,940347.34834995051,null,143,240463448229.14087,264509793052.05499,null,143,75467730.948651746,83014504.043516919,null,143,143,213098.43972707191,443.95508276473311,213542.39480983684,null,null,143,500,-1341.92,-134191.89631177482,null,143,237.89930086358751,-429.19,-34334.811333574078]
[null,null,144,{"$f":"IF('Annuity Value'!B$11=\"Ordinary\",E145*(1+D$1/100),F146)","v":949774.33051715337},{"$f":"IF('Annuity Value'!B$11=\"Ordinary\",D146-E$2,G146)","v":944510.28257828939},945049.0850917002,939811.22644606442,null,144,264509793052.05499,290960772357.2605,null,144,83014504.043516919,91315954.447868615,null,144,144,214742.39480983684,447.37998918716011,215189.77479902413,null,null,144,500,-1360.34,-136033.72247184828,null,144,237.89930086358751,-437.52,-35001.895776107332]
[null,null,145,{"$f":"IF('Annuity Value'!B$11=\"Ordinary\",E146*(1+D$1/100),F147)","v":949232.83399118076},{"$f":"IF('Annuity Value'!B$11=\"Ordinary\",D147-E$2,G147)","v":943968.78605231678},944510.28257829463,939272.42393265886,null,145,290960772357.2605,320056849592.98651,null,145,91315954.447868615,100447549.89265548,null,145,145,216389.77479902413,450.81203083130026,216840.58682985557,null,null,145,500,-1378.94,-137893.96689352245,null,145,237.89930086358751,-445.97,-35677.318774172258]
[null,null,146,{"$f":"IF('Annuity Value'!B$11=\"Ordinary\",E147*(1+D$1/100),F148)","v":948688.62998257822},{"$f":"IF('Annuity Value'!B$11=\"Ordinary\",D148-E$2,G148)","v":943424.58204371424},943968.78605232202,938730.92740668624,null,146,320056849592.98651,352062534552.28522,null,146,100447549.89265548,110492304.88192104,null,146,146,218040.58682985557,454.25122256219908,218494.83805241773,null,null,146,500,-1397.73,-139772.81375941337,null,146,237.89930086358751,-454.51,-36361.184559713001]
[null,null,147,{"$f":"IF('Annuity Value'!B$11=\"Ordinary\",E148*(1+D$1/100),F149)","v":948141.70495393267},{"$f":"IF('Annuity Value'!B$11=\"Ordinary\",D149-E$2,G149)","v":942877.65701506869},943424.58204371959,938186.72339808382,null,147,352062534552.28522,387268788007.51379,null,147,110492304.88192104,121541535.37011316,null,147,147,219694.83805241773,457.69757927587028,220152.53563169378,null,null,147,500,-1416.7,-141670.44909396319,null,147,237.89930086358751,-463.17,-37053.598667572995]
[null,null,148,{"$f":"IF('Annuity Value'!B$11=\"Ordinary\",E149*(1+D$1/100),F150)","v":947592.04530014389},{"$f":"IF('Annuity Value'!B$11=\"Ordinary\",D150-E$2,G150)","v":942327.99736127991},942877.65701507416,937639.79836943839,null,148,387268788007.51379,425995666808.2652,null,148,121541535.37011316,133695688.90712447,null,148,148,221352.53563169378,461.15111589936203,221813.68674759316,null,null,148,500,-1435.87,-143587.06078185854,null,148,237.89930086358751,-471.93,-37754.667951781259]
[null,null,149,{"$f":"IF('Annuity Value'!B$11=\"Ordinary\",E150*(1+D$1/100),F151)","v":947039.63734808622},{"$f":"IF('Annuity Value'!B$11=\"Ordinary\",D151-E$2,G151)","v":941775.58940922224},942327.9973612855,937090.13871564972,null,149,425995666808.2652,468595233489.09174,null,149,133695688.90712447,147065257.79783693,null,149,149,223013.68674759316,464.61184739081909,223478.2985949842,null,null,149,500,-1455.23,-145522.83858663283,null,149,237.89930086358751,-480.81,-38464.500602042106]
[null,null,150,{"$f":"IF('Annuity Value'!B$11=\"Ordinary\",E151*(1+D$1/100),F152)","v":946484.4673562682},{"$f":"IF('Annuity Value'!B$11=\"Ordinary\",D152-E$2,G152)","v":941220.41941740422},941775.58940922783,936537.73076359206,null,150,468595233489.09174,515454756838.00098,null,150,147065257.79783693,161771783.57762066,null,150,150,224678.2985949842,468.07978873955039,225146.3783837237,null,null,150,500,-1474.78,-147477.97416945486,null,150,237.89930086358751,-489.79,-39183.206160431226]
[null,null,151,{"$f":"IF('Annuity Value'!B$11=\"Ordinary\",E152*(1+D$1/100),F153)","v":945926.52151449118},{"$f":"IF('Annuity Value'!B$11=\"Ordinary\",D153-E$2,G153)","v":940662.4735756272},941220.41941740992,935982.56077177415,null,151,515454756838.00098,567000232521.80115,null,151,161771783.57762066,177948961.93538272,null,151,151,226346.3783837237,471.55495496609103,226817.93333869008,null,null,151,500,-1494.53,-149452.66110810509,null,151,237.89930086358751,-498.89,-39910.895538300196]
[null,null,152,{"$f":"IF('Annuity Value'!B$11=\"Ordinary\",E153*(1+D$1/100),F154)","v":945365.78594350524},{"$f":"IF('Annuity Value'!B$11=\"Ordinary\",D154-E$2,G154)","v":940101.73800464126},940662.4735756329,935424.61492999713,null,152,567000232521.80115,623700255773.9812,null,152,177948961.93538272,195743858.128921,null,152,152,228017.93333869008,475.03736112227102,228492.97069981223,null,null,152,500,-1514.47,-151447.09491614185,null,152,237.89930086358751,-508.1,-40647.681033392539]
[null,null,153,{"$f":"IF('Annuity Value'!B$11=\"Ordinary\",E154*(1+D$1/100),F155)","v":944802.24669466435},{"$f":"IF('Annuity Value'!B$11=\"Ordinary\",D155-E$2,G155)","v":939538.19875580037},940101.73800464696,934863.87935901119,null,153,623700255773.9812,686070281351.37939,null,153,195743858.128921,215318243.94181311,null,153,153,229692.97069981223,478.52702229127544,230171.49772210373,null,null,153,500,-1534.61,-153461.47306225897,null,153,237.89930086358751,-517.41999999999996,-41393.676347173525]
[null,null,154,{"$f":"IF('Annuity Value'!B$11=\"Ordinary\",E155*(1+D$1/100),F156)","v":944235.88974957925},{"$f":"IF('Annuity Value'!B$11=\"Ordinary\",D156-E$2,G156)","v":938971.84181071527},939538.1987558062,934300.34011017042,null,154,686070281351.37939,754677309486.51733,null,154,215318243.94181311,236850068.33599442,null,154,154,231371.49772210373,482.02395358771611,231853.52167569177,null,null,154,500,-1554.96,-155495.99498983726,null,154,237.89930086358751,-526.86,-42148.996602376792]
[null,null,155,{"$f":"IF('Annuity Value'!B$11=\"Ordinary\",E156*(1+D$1/100),F157)","v":943666.70101976872},{"$f":"IF('Annuity Value'!B$11=\"Ordinary\",D157-E$2,G157)","v":938402.65308090474},938971.84181072121,933733.98316508543,null,155,754677309486.51733,830145040435.16931,null,155,236850068.33599442,260535075.16959393,null,155,155,233053.52167569177,485.52817015769119,233539.04984584934,null,null,155,500,-1575.51,-157550.86213669134,null,155,237.89930086358751,-536.41999999999996,-42913.758360770073]
[null,null,156,{"$f":"IF('Annuity Value'!B$11=\"Ordinary\",E157*(1+D$1/100),F158)","v":943094.66634630912},{"$f":"IF('Annuity Value'!B$11=\"Ordinary\",D158-E$2,G158)","v":937830.61840744514},938402.65308091079,933164.79443527502,null,156,830145040435.16931,913159544478.68628,null,156,260535075.16959393,286588582.68655336,null,156,156,234739.04984584934,489.03968717885277,235228.0895330284,null,null,156,500,-1596.26,-159626.27795501394,null,156,237.89930086358751,-546.1,-43688.079641143297]
[null,null,157,{"$f":"IF('Annuity Value'!B$11=\"Ordinary\",E158*(1+D$1/100),F159)","v":942519.77149948222},{"$f":"IF('Annuity Value'!B$11=\"Ordinary\",D159-E$2,G159)","v":937255.72356061824},937830.61840745131,932592.75976181554,null,157,913159544478.68628,1004475498926.5548,null,157,286588582.68655336,315247440.95520866,null,157,157,236428.0895330284,492.55851986047583,236920.64805288895,null,null,157,500,-1617.22,-161722.4479315198,null,157,237.89930086358751,-555.9,-44472.079937521172]
[null,null,158,{"$f":"IF('Annuity Value'!B$11=\"Ordinary\",E159*(1+D$1/100),F160)","v":941942.00217842124},{"$f":"IF('Annuity Value'!B$11=\"Ordinary\",D160-E$2,G160)","v":936677.95423955726},937255.72356062452,932017.86491498875,null,158,1004475498926.5548,1104923048819.2107,null,158,315247440.95520866,346772185.05072963,null,158,158,238120.64805288895,496.08468344351866,238616.73273633243,null,null,158,500,-1638.4,-163839.57960779069,null,158,237.89930086358751,-565.82000000000005,-45265.880237603778]
[null,null,159,{"$f":"IF('Annuity Value'!B$11=\"Ordinary\",E160*(1+D$1/100),F161)","v":941361.34401075495},{"$f":"IF('Annuity Value'!B$11=\"Ordinary\",D161-E$2,G161)","v":936097.29607189097},936677.95423956355,931440.09559392778,null,159,1104923048819.2107,1215415353701.1316,null,159,346772185.05072963,381449403.55580252,null,159,159,239816.73273633243,499.61819320069253,240316.35092953331,null,null,159,500,-1659.78,-165977.88260082429,null,159,237.89930086358751,-575.87,-46069.603041437404]
[null,null,160,{"$f":"IF('Annuity Value'!B$11=\"Ordinary\",E161*(1+D$1/100),F162)","v":940777.78255225031},{"$f":"IF('Annuity Value'!B$11=\"Ordinary\",D162-E$2,G162)","v":935513.73461338633},936097.29607189726,930859.43742626149,null,160,1215415353701.1316,1336956889071.2449,null,160,381449403.55580252,419594343.91138285,null,160,160,241516.35092953331,503.15906443652773,242019.50999396996,null,null,160,500,-1681.38,-168137.56862378825,null,160,237.89930086358751,-586.04,-46883.372380318964]
[null,null,161,{"$f":"IF('Annuity Value'!B$11=\"Ordinary\",E162*(1+D$1/100),F163)","v":940191.30328645313},{"$f":"IF('Annuity Value'!B$11=\"Ordinary\",D163-E$2,G163)","v":934927.25534758915},935513.73461339273,930275.87596775696,null,161,1336956889071.2449,1470652577978.3694,null,161,419594343.91138285,461553778.30252117,null,161,161,243219.50999396996,506.70731248743738,243726.21730645752,null,null,161,500,-1703.19,-170318.85150698182,null,161,237.89930086358751,-596.34,-47707.313835936533]
[null,null,162,{"$f":"IF('Annuity Value'!B$11=\"Ordinary\",E163*(1+D$1/100),F164)","v":939601.89162432705},{"$f":"IF('Annuity Value'!B$11=\"Ordinary\",D164-E$2,G164)","v":934337.84368546307},934927.25534759567,929689.39670195989,null,162,1470652577978.3694,1617717835776.2065,null,162,461553778.30252117,507709156.13277328,null,162,162,244926.21730645752,510.26295272178646,245436.48025917931,null,null,162,500,-1725.22,-172521.94721900733,null,162,237.89930086358751,-606.77,-48541.554559749333]
[null,null,163,{"$f":"IF('Annuity Value'!B$11=\"Ordinary\",E164*(1+D$1/100),F165)","v":939009.53290389024},{"$f":"IF('Annuity Value'!B$11=\"Ordinary\",D165-E$2,G165)","v":933745.48496502626},934337.84368546959,929099.98503983382,null,163,1617717835776.2065,1779489619353.8274,null,163,507709156.13277328,558480071.74605072,null,163,163,246636.48025917931,513.82600053995691,247150.30625971957,null,null,163,500,-1747.47,-174747.0738881531,null,163,237.89930086358751,-617.33000000000004,-49386.223292609786]
[null,null,164,{"$f":"IF('Annuity Value'!B$11=\"Ordinary\",E165*(1+D$1/100),F166)","v":938414.21238985134},{"$f":"IF('Annuity Value'!B$11=\"Ordinary\",D166-E$2,G166)","v":933150.16445098736},933745.4849650329,928507.62631939712,null,164,1779489619353.8274,1957438581289.2102,null,164,558480071.74605072,614328078.92065585,null,164,164,248350.30625971957,517.3964713744158,248867.70273109397,null,null,164,500,-1769.94,-176994.45182399036,null,164,237.89930086358751,-628.02,-50241.450384630982]
[null,null,165,{"$f":"IF('Annuity Value'!B$11=\"Ordinary\",E166*(1+D$1/100),F167)","v":937815.91527324216},{"$f":"IF('Annuity Value'!B$11=\"Ordinary\",D167-E$2,G167)","v":932551.86733437818},933150.16445099399,927912.30580535822,null,165,1957438581289.2102,2153182439418.1311,null,165,614328078.92065585,675760886.81272137,null,165,165,250067.70273109397,520.97438068977908,250588.67711178382,null,null,165,500,-1792.64,-179264.30353918596,null,165,237.89930086358751,-638.84,-51107.367815302474]
[null,null,166,{"$f":"IF('Annuity Value'!B$11=\"Ordinary\",E167*(1+D$1/100),F168)","v":937214.62667104998},{"$f":"IF('Annuity Value'!B$11=\"Ordinary\",D168-E$2,G168)","v":931950.578732186},932551.86733438494,927314.00868874916,null,166,2153182439418.1311,2368500683359.9448,null,166,675760886.81272137,743336975.49399376,null,166,166,251788.67711178382,524.55974398288299,252313.23685576685,null,null,166,500,-1815.57,-181556.8537715335,null,166,237.89930086358751,-649.79999999999995,-51984.109213857337]
[null,null,167,{"$f":"IF('Annuity Value'!B$11=\"Ordinary\",E168*(1+D$1/100),F169)","v":936610.3316258468},{"$f":"IF('Annuity Value'!B$11=\"Ordinary\",D169-E$2,G169)","v":931346.28368698282},931950.57873219287,926712.72008655709,null,167,2368500683359.9448,2605350751695.9395,null,167,743336975.49399376,817670673.04339302,null,167,167,253513.23685576685,528.15257678284763,254041.3894325498,null,null,167,500,-1838.72,-183872.32950620455,null,167,237.89930086358751,-660.9,-52871.809879894128]
[null,null,168,{"$f":"IF('Annuity Value'!B$11=\"Ordinary\",E169*(1+D$1/100),F170)","v":936003.01510541758},{"$f":"IF('Annuity Value'!B$11=\"Ordinary\",D170-E$2,G170)","v":930738.9671665536},931346.2836869898,926108.42504135403,null,168,2605350751695.9395,2865885826865.5327,null,168,817670673.04339302,899437740.34773219,null,168,168,255241.3894325498,531.75289465114543,255773.14232720106,null,null,168,500,-1862.11,-186210.95999822224,null,168,237.89930086358751,-672.13,-53770.6068042564]
[null,null,169,{"$f":"IF('Annuity Value'!B$11=\"Ordinary\",E170*(1+D$1/100),F171)","v":935392.66200238629},{"$f":"IF('Annuity Value'!B$11=\"Ordinary\",D171-E$2,G171)","v":930128.61406352231},930738.9671665607,925501.10852092493,null,169,2865885826865.5327,3152474409552.0864,null,169,899437740.34773219,989381514.38250566,null,169,169,256973.14232720106,535.36071318166887,257508.50304038273,null,null,169,500,-1885.73,-188572.97679516024,null,169,237.89930086358751,-683.51,-54680.638690173182]
[null,null,170,{"$f":"IF('Annuity Value'!B$11=\"Ordinary\",E171*(1+D$1/100),F172)","v":934779.25713383977},{"$f":"IF('Annuity Value'!B$11=\"Ordinary\",D172-E$2,G172)","v":929515.20919497579},930128.61406352941,924890.75541789364,null,170,3152474409552.0864,3467721850507.2954,null,170,989381514.38250566,1088319665.8207562,null,170,170,258708.50304038273,538.97604800079739,259247.47908838376,null,null,170,500,-1909.59,-190958.61376006753,null,170,237.89930086358751,-695.03,-55602.045974663946]
[null,null,171,{"$f":"IF('Annuity Value'!B$11=\"Ordinary\",E172*(1+D$1/100),F173)","v":934162.78524095053},{"$f":"IF('Annuity Value'!B$11=\"Ordinary\",D173-E$2,G173)","v":928898.73730208655},929515.20919498301,924277.35054934723,null,171,3467721850507.2954,3814494035558.0254,null,171,1088319665.8207562,1197151632.402832,null,171,171,260447.47908838376,542.59891476746611,260990.07800315117,null,null,171,500,-1933.68,-193368.10709462391,null,171,237.89930086358751,-706.69,-56534.970850210819]
[null,null,172,{"$f":"IF('Annuity Value'!B$11=\"Ordinary\",E173*(1+D$1/100),F174)","v":933543.23098859692},{"$f":"IF('Annuity Value'!B$11=\"Ordinary\",D174-E$2,G174)","v":928279.18304973294},928898.73730209388,923660.87865645811,null,172,3814494035558.0254,4195943439113.8281,null,172,1197151632.402832,1316866795.6431153,null,172,172,262190.07800315117,546.22932917323158,262736.30733232462,null,null,172,500,-1958.02,-195801.69536252579,null,172,237.89930086358751,-718.49,-57479.557286702053]
[null,null,173,{"$f":"IF('Annuity Value'!B$11=\"Ordinary\",E174*(1+D$1/100),F175)","v":932920.57896498148},{"$f":"IF('Annuity Value'!B$11=\"Ordinary\",D175-E$2,G175)","v":927656.5310261175},928279.18304974027,923041.3244041045,null,173,4195943439113.8281,4615537783025.2119,null,173,1316866795.6431153,1448553475.207427,null,173,173,263936.30733232462,549.86730694234291,264486.17463926703,null,null,173,500,-1982.6,-198259.61951310677,null,173,237.89930086358751,-730.45,-58435.951053649413]
[null,null,174,{"$f":"IF('Annuity Value'!B$11=\"Ordinary\",E175*(1+D$1/100),F176)","v":932294.81368124799},{"$f":"IF('Annuity Value'!B$11=\"Ordinary\",D176-E$2,G176)","v":927030.76574238401},927656.53102612495,922418.67238048918,null,174,4615537783025.2119,5077091561327.7324,null,174,1448553475.207427,1593408822.7281697,null,174,174,265686.17463926703,553.51286383180627,266239.68750309886,null,null,174,500,-2007.42,-200742.12290519351,null,174,237.89930086358751,-742.55,-59404.29974268363]
[null,null,175,{"$f":"IF('Annuity Value'!B$11=\"Ordinary\",E176*(1+D$1/100),F177)","v":931665.91957109584},{"$f":"IF('Annuity Value'!B$11=\"Ordinary\",D177-E$2,G177)","v":926401.87163223187},927030.76574239158,921792.90709675581,null,175,5077091561327.7324,5584800717460.5068,null,175,1593408822.7281697,1752749705.0009868,null,175,175,267439.68750309886,557.16601563145593,267996.85351873055,null,null,175,500,-2032.49,-203249.45133120113,null,175,237.89930086358751,-754.81,-60384.752790330749]
[null,null,176,{"$f":"IF('Annuity Value'!B$11=\"Ordinary\",E177*(1+D$1/100),F178)","v":931033.88099039288},{"$f":"IF('Annuity Value'!B$11=\"Ordinary\",D178-E$2,G178)","v":925769.8330515289},926401.87163223943,921164.01298660366,null,176,5584800717460.5068,6143280789206.5566,null,176,1752749705.0009868,1928024675.5010855,null,176,176,269196.85351873055,560.82677816402202,269757.6802968948,null,null,176,500,-2057.8200000000002,-205781.85304146886,null,176,237.89930086358751,-767.22,-61377.461501073471]
[null,null,177,{"$f":"IF('Annuity Value'!B$11=\"Ordinary\",E178*(1+D$1/100),F179)","v":930398.68221678643},{"$f":"IF('Annuity Value'!B$11=\"Ordinary\",D179-E$2,G179)","v":925134.63427792245},925769.83305153658,920531.97440590081,null,177,6143280789206.5566,6757608868127.2139,null,177,1928024675.5010855,2120827143.0511944,null,177,177,270957.6802968948,564.49516728519745,271522.17546418012,null,null,177,500,-2083.4,-208339.57876883922,null,177,237.89930086358751,-779.78,-62382.579070700456]
[null,null,178,{"$f":"IF('Annuity Value'!B$11=\"Ordinary\",E179*(1+D$1/100),F180)","v":929760.30744931195},{"$f":"IF('Annuity Value'!B$11=\"Ordinary\",D180-E$2,G180)","v":924496.25951044797},925134.63427793025,919896.77563229448,null,178,6757608868127.2139,7433369754939.9355,null,178,2120827143.0511944,2332909857.3563142,null,178,178,272722.17546418012,568.1711988837086,273290.34666306368,null,null,178,500,-2109.23,-210922.88175348332,null,178,237.89930086358751,-792.5,-63400.260609947822]
[null,null,179,{"$f":"IF('Annuity Value'!B$11=\"Ordinary\",E180*(1+D$1/100),F181)","v":929118.74080800009},{"$f":"IF('Annuity Value'!B$11=\"Ordinary\",D181-E$2,G181)","v":923854.69286913611},924496.25951045589,919258.40086482011,null,179,7433369754939.9355,8176706730433.9307,null,179,2332909857.3563142,2566200843.0919456,null,179,179,274490.34666306368,571.85488888138264,275062.20155194518,null,null,179,500,-2135.3200000000002,-213532.01776797388,null,179,237.89930086358751,-805.38,-64430.663168435734]
[null,null,180,{"$f":"IF('Annuity Value'!B$11=\"Ordinary\",E181*(1+D$1/100),F182)","v":928473.96633348172},{"$f":"IF('Annuity Value'!B$11=\"Ordinary\",D182-E$2,G182)","v":923209.91839461774},923854.69286914414,918616.83422350837,null,180,8176706730433.9307,8994377403477.3242,null,180,2566200843.0919456,2822820927.4011402,null,180,180,276262.20155194518,575.54625323321909,276837.74780517869,null,null,180,500,-2161.67,-216167.24514260932,null,180,237.89930086358751,-818.42,-65473.945758904767]
[null,null,181,{"$f":"IF('Annuity Value'!B$11=\"Ordinary\",E182*(1+D$1/100),F183)","v":927825.96798659069},{"$f":"IF('Annuity Value'!B$11=\"Ordinary\",D183-E$2,G183)","v":922561.92004772671},923209.91839462577,917972.05974899,null,181,8994377403477.3242,9893815143825.0566,null,181,2822820927.4011402,3105103020.1412549,null,181,181,278037.74780517869,579.24530792745554,278616.99311310623,null,null,181,500,-2188.29,-218828.82479099109,null,181,237.89930086358751,-831.63,-66530.269381754668]
[null,null,182,{"$f":"IF('Annuity Value'!B$11=\"Ordinary\",E183*(1+D$1/100),F184)","v":927174.72964796529},{"$f":"IF('Annuity Value'!B$11=\"Ordinary\",D184-E$2,G184)","v":921910.68170910131},922561.92004773486,917324.06140209909,null,182,9893815143825.0566,10883196658207.562,null,182,3105103020.1412549,3415613322.1553802,null,182,182,279816.99311310623,582.95206898563799,280399.94518209191,null,null,182,500,-2215.17,-221517.02023585673,null,182,237.89930086358751,-845,-67599.797049890214]
[null,null,183,{"$f":"IF('Annuity Value'!B$11=\"Ordinary\",E184*(1+D$1/100),F185)","v":926520.23511764675},{"$f":"IF('Annuity Value'!B$11=\"Ordinary\",D185-E$2,G185)","v":921256.18717878277},921910.68170910946,916672.82306347368,null,183,10883196658207.562,11971516324028.322,null,183,3415613322.1553802,3757174654.3709188,null,183,183,281599.94518209191,586.66655246269147,282186.6117345547,null,null,183,500,-2242.3200000000002,-224232.09763517097,null,183,237.89930086358751,-858.53,-68682.693813877398]
[null,null,184,{"$f":"IF('Annuity Value'!B$11=\"Ordinary\",E185*(1+D$1/100),F186)","v":925862.46811467654},{"$f":"IF('Annuity Value'!B$11=\"Ordinary\",D186-E$2,G186)","v":920598.42017581256},921256.18717879092,916018.32853315515,null,184,11971516324028.322,13168667956431.15,null,184,3757174654.3709188,4132892119.8080101,null,184,184,283386.6117345547,590.38877444698892,283977.00050900166,null,null,184,500,-2269.7399999999998,-226974.32580847837,null,184,237.89930086358751,-872.24,-69779.126787414454]
[null,null,185,{"$f":"IF('Annuity Value'!B$11=\"Ordinary\",E186*(1+D$1/100),F187)","v":925201.41227669152},{"$f":"IF('Annuity Value'!B$11=\"Ordinary\",D187-E$2,G187)","v":919937.36433782754},920598.42017582082,915360.56153018505,null,185,13168667956431.15,14485534752074.27,null,185,4132892119.8080101,4546181331.7888117,null,185,185,285177.00050900166,594.1187510604201,285771.11926006235,null,null,185,500,-2297.44,-229743.97626351891,null,185,237.89930086358751,-886.12,-70889.265173120715]
[null,null,186,{"$f":"IF('Annuity Value'!B$11=\"Ordinary\",E187*(1+D$1/100),F188)","v":924537.05115951656},{"$f":"IF('Annuity Value'!B$11=\"Ordinary\",D188-E$2,G188)","v":919273.00322065258},919937.36433783593,914699.50569220015,null,186,14485534752074.27,15934088227281.697,null,186,4546181331.7888117,5000799464.9676933,null,186,186,286971.11926006235,597.85649845846319,287568.975758521,null,null,186,500,-2325.41,-232541.32322310974,null,186,237.89930086358751,-900.17,-72013.280288648341]
[null,null,187,{"$f":"IF('Annuity Value'!B$11=\"Ordinary\",E188*(1+D$1/100),F189)","v":923869.36823675572},{"$f":"IF('Annuity Value'!B$11=\"Ordinary\",D189-E$2,G189)","v":918605.32029789174},919273.00322066108,914035.1445750253,null,187,15934088227281.697,17527497050009.871,null,187,5000799464.9676933,5500879411.4644642,null,187,187,288768.975758521,601.60203283025203,289370.57779135124,null,null,187,500,-2353.67,-235366.64365229657,null,187,237.89930086358751,-914.39,-73151.345593120015]
[null,null,188,{"$f":"IF('Annuity Value'!B$11=\"Ordinary\",E189*(1+D$1/100),F190)","v":923198.34689938114},{"$f":"IF('Annuity Value'!B$11=\"Ordinary\",D190-E$2,G190)","v":917934.29896051716},918605.32029790035,913367.46165226458,null,188,17527497050009.871,19280246755010.855,null,188,5500879411.4644642,6050967352.6109095,null,188,188,290570.57779135124,605.35537039864846,291175.93316175003,null,null,188,500,-2382.1999999999998,-238220.21728577523,null,188,237.89930086358751,-928.8,-74303.636713897606]
[null,null,189,{"$f":"IF('Annuity Value'!B$11=\"Ordinary\",E190*(1+D$1/100),F191)","v":922523.97045531962},{"$f":"IF('Annuity Value'!B$11=\"Ordinary\",D191-E$2,G191)","v":917259.92251645564},917934.29896052578,912696.44031489,null,189,19280246755010.855,21208271430511.945,null,189,6050967352.6109095,6656064087.8720016,null,189,189,292375.93316175003,609.11652742031254,292985.04968917056,null,null,189,500,-2411.02,-241102.32665558867,null,189,237.89930086358751,-943.38,-75470.331473684913]
[null,null,190,{"$f":"IF('Annuity Value'!B$11=\"Ordinary\",E191*(1+D$1/100),F192)","v":921846.22212903784},{"$f":"IF('Annuity Value'!B$11=\"Ordinary\",D192-E$2,G192)","v":916582.17419017386},917259.92251646437,912022.0638708286,null,190,21208271430511.945,23329098573563.141,null,190,6656064087.8720016,7321670496.6592026,null,190,190,294185.04968917056,612.88552018577195,294797.93520935642,null,null,190,500,-2440.13,-244013.25711910028,null,190,237.89930086358751,-958.15,-76651.609917969559]
[null,null,191,{"$f":"IF('Annuity Value'!B$11=\"Ordinary\",E192*(1+D$1/100),F193)","v":921165.08506112464},{"$f":"IF('Annuity Value'!B$11=\"Ordinary\",D193-E$2,G193)","v":915901.03712226066},916582.17419018259,911344.31554454681,null,191,23329098573563.141,25662008430919.453,null,191,7321670496.6592026,8053837546.3251219,null,191,191,295997.93520935642,616.66236501949254,296614.59757437604,null,null,191,500,-2469.5300000000002,-246953.29688724698,null,191,237.89930086358751,-973.1,-77847.654342807742]
[null,null,192,{"$f":"IF('Annuity Value'!B$11=\"Ordinary\",E193*(1+D$1/100),F194)","v":920480.54230787186},{"$f":"IF('Annuity Value'!B$11=\"Ordinary\",D194-E$2,G194)","v":915216.49436900788},915901.03712226939,910663.17847663362,null,192,25662008430919.453,28228209274011.402,null,192,8053837546.3251219,8859221300.9576359,null,192,192,297814.59757437604,620.44707827995012,298435.04465265613,null,null,192,500,-2499.23,-249922.73705307514,null,192,237.89930086358751,-988.23,-79058.649322956466]
[null,null,193,{"$f":"IF('Annuity Value'!B$11=\"Ordinary\",E194*(1+D$1/100),F195)","v":919792.57684085285},{"$f":"IF('Annuity Value'!B$11=\"Ordinary\",D195-E$2,G195)","v":914528.52890198887},915216.49436901673,909978.63572338095,null,193,28228209274011.402,31051030201412.547,null,193,8859221300.9576359,9745143431.0534,null,193,193,299635.04465265613,624.2396763597003,300259.28432901576,null,null,193,500,{"$f":"ROUND(Y$2*AA195,2)","v":-2529.2199999999998},{"$f":"IF(X$1=\"\",\"\",(1-(1+Y$2)^(X195-X$1))/(1-(1+Y$2)^(-X$1))*Z$1)","v":-252921.87162056164},null,193,237.89930086358751,{"$f":"ROUND(AE$2*AF195,2)","v":-1003.56},{"$f":"AF$1*(1-(1+AE$2)^(AC195-AC$1))/(1-(1+AE$2)^(-AC$1))","v":-80284.781740356979}]
[null,null,{"$f":"C195+1","v":194},{"$f":"IF('Annuity Value'!B$11=\"Ordinary\",E195*(1+D$1/100),F196)","v":919101.17154649866},{"$f":"IF('Annuity Value'!B$11=\"Ordinary\",D196-E$2,G196)","v":913837.12360763468},914528.52890199772,909290.67025636195,null,{"$f":"I195+1","v":194},{"$f":"K195","v":31051030201412.547},{"$f":"K$2*(1+J$1)^I196","v":34156133221553.801},null,{"$f":"M195+1","v":194},{"$f":"O195","v":9745143431.0534},{"$f":"O$2*(1+N$1)^M196","v":10719657774.158741},null,{"$f":"Q195+1","v":194},{"$f":"IF(A$5=1,Q196*12,IF(A$5=2,Q196*6,IF(A$5=4,Q196*3,Q196)))","v":194},301459.28432901576,628.04017568544953,{"$f":"T$1*(1+S$2)^Q196+S$1*(((1+S$2)^(Q196+1)-(1+S$2))/S$2)","v":302087.32450470125},null,null,{"$f":"X195+1","v":194},{"$f":"Y195","v":500},-2559.5100000000002,-255950.99753372293,null,{"$f":"AC195+1","v":194},{"$f":"AD195","v":237.89930086358751},-1019.08,-81526.24081297504]
[null,null,195,{"$f":"IF('Annuity Value'!B$11=\"Ordinary\",E196*(1+D$1/100),F197)","v":918406.30922567274},{"$f":"IF('Annuity Value'!B$11=\"Ordinary\",D197-E$2,G197)","v":913142.26128680876},{"$f":"G196*(1+F$1/100)","v":913837.12360764365},908599.26496200787,null,195,34156133221553.801,37571746543709.187,null,195,10719657774.158741,11791623551.574617,null,195,195,{"$f":"S$1+U196","v":303287.32450470125},{"$f":"S$2*S197","v":631.84859271812763},303919.17309741979,null,null,195,500,-2590.1,-259010.41470601581,null,195,237.89930086358751,-1034.79,-82783.218124000807]
[null,null,196,{"$f":"IF('Annuity Value'!B$11=\"Ordinary\",E197*(1+D$1/100),F198)","v":917707.97259324265},{"$f":"IF('Annuity Value'!B$11=\"Ordinary\",D198-E$2,G198)","v":912443.92465437867},913142.26128681784,907904.40264118207,null,196,37571746543709.187,41328921198080.109,null,196,11791623551.574617,12970785906.732079,null,196,196,305119.17309741979,635.66494395295786,305754.8380413726,null,null,196,500,-2621,-262100.4260500317,null,196,237.89930086358751,-1050.7,-84055.907651414411]
[null,null,197,{"$f":"IF('Annuity Value'!B$11=\"Ordinary\",E198*(1+D$1/100),F199)","v":917006.14427765051},{"$f":"IF('Annuity Value'!B$11=\"Ordinary\",D199-E$2,G199)","v":911742.09633878653},912443.92465438787,907206.0660087521,null,197,41328921198080.109,45461813317888.125,null,197,12970785906.732079,14267864497.405287,null,197,197,306954.8380413726,639.48924591952618,307594.32728729228,null,null,197,500,-2652.21,-265221.33750748774,null,197,237.89930086358751,-1066.81,-85344.505797920661]
[null,null,198,{"$f":"IF('Annuity Value'!B$11=\"Ordinary\",E199*(1+D$1/100),F200)","v":916300.80682048039},{"$f":"IF('Annuity Value'!B$11=\"Ordinary\",D200-E$2,G200)","v":911036.75888161641},911742.09633879573,906504.23769315996,null,198,45461813317888.125,50007994649676.937,null,198,14267864497.405287,15694650947.145817,null,198,198,308794.32728729228,643.3215151818589,309437.64880247432,null,null,198,500,-2683.73,-268373.45807951828,null,198,237.89930086358751,-1083.1199999999999,-86649.211421258267]
[null,null,199,{"$f":"IF('Annuity Value'!B$11=\"Ordinary\",E200*(1+D$1/100),F201)","v":915591.9426760244},{"$f":"IF('Annuity Value'!B$11=\"Ordinary\",D201-E$2,G201)","v":910327.89473716042},911036.7588816256,905798.90023598983,null,199,50007994649676.937,55008794114644.641,null,199,15694650947.145817,17264116041.860401,null,199,199,310637.64880247432,647.16176833848817,311284.81057081302,null,null,199,500,-2715.57,-271557.0998572692,null,199,237.89930086358751,-1099.6300000000001,-87970.225864887558]
[null,null,200,{"$f":"IF('Annuity Value'!B$11=\"Ordinary\",E201*(1+D$1/100),F202)","v":914879.53421084618},{"$f":"IF('Annuity Value'!B$11=\"Ordinary\",D202-E$2,G202)","v":909615.4862719822},910327.89473716973,905090.03609153396,null,200,55008794114644.641,60509673526109.102,null,200,17264116041.860401,18990527646.04644,null,200,200,312484.81057081302,651.0100220225271,313135.82059283555,null,null,200,500,-2747.73,-274772.57805279759,null,200,237.89930086358751,-1116.3499999999999,-89307.752989062268]
[null,null,201,{"$f":"IF('Annuity Value'!B$11=\"Ordinary\",E202*(1+D$1/100),F203)","v":914163.56370334199},{"$f":"IF('Annuity Value'!B$11=\"Ordinary\",D203-E$2,G203)","v":908899.51576447801},909615.48627199151,904377.62762635574,null,201,60509673526109.102,66560640878720.016,null,201,18990527646.04644,20889580410.651089,null,201,201,314335.82059283555,654.86629290174074,314990.68688573752,null,null,201,500,-2780.2,-278020.21103028127,null,201,237.89930086358751,-1133.27,-90661.999202289109]
[null,null,202,{"$f":"IF('Annuity Value'!B$11=\"Ordinary\",E203*(1+D$1/100),F204)","v":913444.01334330032},{"$f":"IF('Annuity Value'!B$11=\"Ordinary\",D204-E$2,G204)","v":908179.96540443634},908899.51576448744,903661.65711885167,null,202,66560640878720.016,73216704966592.016,null,202,20889580410.651089,22978538451.716198,null,202,202,316190.68688573752,658.7305976786198,316849.41748341621,null,null,202,500,-2813,-281300.32033753977,null,202,237.89930086358751,-1150.4100000000001,-92033.173493181341]
[null,null,203,{"$f":"IF('Annuity Value'!B$11=\"Ordinary\",E204*(1+D$1/100),F205)","v":912720.86523145845},{"$f":"IF('Annuity Value'!B$11=\"Ordinary\",D205-E$2,G205)","v":907456.81729259447},908179.96540444589,{"$f":"F205-G$2","v":902942.10675881011},null,203,73216704966592.016,80538375463251.234,null,203,22978538451.716198,25276392296.887817,null,203,203,318049.41748341621,662.60295309045046,318712.02043650672,null,null,203,500,-2846.13,-284613.23073787085,null,203,237.89930086358751,-1167.77,-93421.487462709658]
[null,null,204,{"$f":"IF('Annuity Value'!B$11=\"Ordinary\",E205*(1+D$1/100),F206)","v":911994.10137905739},{"$f":"IF('Annuity Value'!B$11=\"Ordinary\",D206-E$2,G206)","v":906730.05344019341},907456.81729260401,902218.95864696824,null,204,80538375463251.234,88592213009576.344,null,204,25276392296.887817,27804031526.576595,null,204,204,319912.02043650672,666.483375909389,320578.50381241628,null,null,204,500,-2879.59,-287959.2702422053,null,204,237.89930086358751,-1185.3399999999999,-94827.15535685714]
[null,null,205,{"$f":"IF('Annuity Value'!B$11=\"Ordinary\",E206*(1+D$1/100),F207)","v":911263.70370739431},{"$f":"IF('Annuity Value'!B$11=\"Ordinary\",D207-E$2,G207)","v":905999.65576853033},906730.05344020296,901492.19479456719,null,205,88592213009576.344,97451434310533.984,null,205,27804031526.576595,30584434679.234261,null,205,205,321778.50381241628,670.37188294253394,322448.87569535902,null,null,205,500,-2913.39,-291338.77014158305,null,205,237.89930086358751,-1203.1300000000001,-96250.394099681434]
[null,null,206,{"$f":"IF('Annuity Value'!B$11=\"Ordinary\",E207*(1+D$1/100),F208)","v":910529.65404737287},{"$f":"IF('Annuity Value'!B$11=\"Ordinary\",D208-E$2,G208)","v":905265.60610850889},905999.65576853987,900761.7971229041,null,206,97451434310533.984,107196577741587.41,null,206,30584434679.234261,33642878147.157692,null,206,206,323648.87569535902,674.268491031998,324323.14418639091,null,null,206,500,-2947.52,-294752.0650399545,null,206,237.89930086358751,-1221.1400000000001,-97691.42332679106]
[null,null,207,{"$f":"IF('Annuity Value'!B$11=\"Ordinary\",E208*(1+D$1/100),F209)","v":909791.93413905136},{"$f":"IF('Annuity Value'!B$11=\"Ordinary\",D209-E$2,G209)","v":904527.88620018738},905265.60610851855,900027.74746288278,null,207,107196577741587.41,117916235515746.14,null,207,33642878147.157692,37007165961.873459,null,207,207,325523.14418639091,678.17321705498102,326201.31740344607,null,null,207,500,-2981.99,-298199.49288730975,null,207,237.89930086358751,-1239.3800000000001,-99150.46541923951]
[null,null,208,{"$f":"IF('Annuity Value'!B$11=\"Ordinary\",E209*(1+D$1/100),F210)","v":909050.52563118818},{"$f":"IF('Annuity Value'!B$11=\"Ordinary\",D210-E$2,G210)","v":903786.4776923242},904527.88620019704,899290.02755456127,null,208,117916235515746.14,129707859067320.78,null,208,37007165961.873459,40707882558.060814,null,208,208,327401.31740344607,682.08607792384601,328083.40348137007,null,null,208,500,-3016.81,-301681.39501313854,null,208,237.89930086358751,-1257.8499999999999,-100627.7455378436]
[null,null,209,{"$f":"IF('Annuity Value'!B$11=\"Ordinary\",E210*(1+D$1/100),F211)","v":908305.41008078575},{"$f":"IF('Annuity Value'!B$11=\"Ordinary\",D211-E$2,G211)","v":903041.36214192177},903786.47769233398,898548.61904669821,null,209,129707859067320.78,142678644974052.84,null,209,40707882558.060814,44778670813.86689,null,209,209,329283.40348137007,686.00709058618759,329969.41057195642,null,null,209,500,-3051.98,-305198.11616022565,null,209,237.89930086358751,-1276.54,-102123.49165793021]
[null,null,210,{"$f":"IF('Annuity Value'!B$11=\"Ordinary\",E211*(1+D$1/100),F212)","v":907556.56895263132},{"$f":"IF('Annuity Value'!B$11=\"Ordinary\",D212-E$2,G212)","v":902292.52101376734},903041.36214193155,897803.50349629577,null,210,142678644974052.84,156946509471458.12,null,210,44778670813.86689,49256537895.253578,null,210,210,331169.41057195642,689.93627202490916,331859.3468439813,null,null,210,500,-3087.5,-308750.00451878359,null,210,237.89930086358751,-1295.47,-103637.93460451794]
[null,null,211,{"$f":"IF('Annuity Value'!B$11=\"Ordinary\",E212*(1+D$1/100),F213)","v":906803.98361883604},{"$f":"IF('Annuity Value'!B$11=\"Ordinary\",D213-E$2,G213)","v":901539.93567997206},902292.52101377712,897054.66236814135,null,211,156946509471458.12,172641160418604.03,null,211,49256537895.253578,54182191684.778961,null,211,211,333059.3468439813,693.87363925829436,333753.22048323968,null,null,211,500,-3123.37,-312337.41176092712,null,211,237.89930086358751,-1314.64,-105171.30808793797]
[null,null,212,{"$f":"IF('Annuity Value'!B$11=\"Ordinary\",E213*(1+D$1/100),F214)","v":906047.63535837177},{"$f":"IF('Annuity Value'!B$11=\"Ordinary\",D214-E$2,G214)","v":900783.58741950779},901539.93567998195,896302.07703434618,null,212,172641160418604.03,189905276460464.37,null,212,54182191684.778961,59600410853.256844,null,212,212,334953.22048323968,697.81920934008269,335651.03969258,null,null,212,500,-3159.61,-315960.6930754921,null,212,237.89930086358751,-1334.05,-106723.8487399008]
[null,null,213,{"$f":"IF('Annuity Value'!B$11=\"Ordinary\",E214*(1+D$1/100),F215)","v":905287.50535660528},{"$f":"IF('Annuity Value'!B$11=\"Ordinary\",D215-E$2,G215)","v":900023.4574177413},900783.5874195178,895545.72877388203,null,213,189905276460464.37,208895804106510.84,null,213,59600410853.256844,65560451938.582542,null,213,213,336851.03969258,701.7729993595417,337552.81269193965,null,null,213,500,-3196.2,-319620.20720320282,null,213,237.89930086358751,-1353.7,-108295.79615001315]
[null,null,214,{"$f":"IF('Annuity Value'!B$11=\"Ordinary\",E215*(1+D$1/100),F216)","v":904523.57470482995},{"$f":"IF('Annuity Value'!B$11=\"Ordinary\",D216-E$2,G216)","v":899259.52676596597},900023.45741775131,894785.59877211554,null,214,208895804106510.84,229785384517161.97,null,214,65560451938.582542,72116497132.440811,null,214,214,338752.81269193965,705.73502644154087,339458.54771838116,null,null,214,500,-3233.16,-323316.31647219049,null,214,237.89930086358751,-1373.59,-109887.39290275193]
[null,null,215,{"$f":"IF('Annuity Value'!B$11=\"Ordinary\",E216*(1+D$1/100),F217)","v":903755.82439979573},{"$f":"IF('Annuity Value'!B$11=\"Ordinary\",D217-E$2,G217)","v":898491.77646093175},899259.52676597598,894021.66812034021,null,215,229785384517161.97,252763922968878.16,null,215,72116497132.440811,79328146845.684891,null,215,215,340658.54771838116,709.70530774662745,341368.25302612805,null,null,215,500,-3270.49,-327049.38683386811,null,215,237.89930086358751,-1393.74,-111498.88461489989]
[null,null,216,{"$f":"IF('Annuity Value'!B$11=\"Ordinary\",E217*(1+D$1/100),F218)","v":902984.23534323636},{"$f":"IF('Annuity Value'!B$11=\"Ordinary\",D218-E$2,G218)","v":897720.18740437238},898491.77646094176,893253.91781530599,null,216,252763922968878.16,278040315265766,null,216,79328146845.684891,87260961530.253372,null,216,216,342568.25302612805,713.68386047110005,343281.93688659929,null,null,216,500,-3308.2,-330819.78789916245,null,216,237.89930086358751,-1414.13,-113130.51997344971]
[null,null,217,{"$f":"IF('Annuity Value'!B$11=\"Ordinary\",E218*(1+D$1/100),F219)","v":902208.78834139416},{"$f":"IF('Annuity Value'!B$11=\"Ordinary\",D219-E$2,G219)","v":896944.74040253018},897720.18740438239,892482.32875874662,null,217,278040315265766,305844346792342.62,null,217,87260961530.253372,95987057683.278732,null,217,217,344481.93688659929,717.67070184708189,345199.60758844641,null,null,217,500,-3346.28,-334627.89297510986,null,217,237.89930086358751,-1434.78,-114782.55077398141]
[null,null,218,{"$f":"IF('Annuity Value'!B$11=\"Ordinary\",E219*(1+D$1/100),F220)","v":901429.46410454274},{"$f":"IF('Annuity Value'!B$11=\"Ordinary\",D220-E$2,G220)","v":896165.41616567876},896944.74040254031,891706.88175690453,null,218,305844346792342.62,336428781471576.94,null,218,95987057683.278732,105585763451.60661,null,218,218,346399.60758844641,721.6658491425967,347121.27343758935,null,null,218,500,-3384.74,-338474.07910181658,null,218,237.89930086358751,-1455.69,-116455.23195951981]
[null,null,219,{"$f":"IF('Annuity Value'!B$11=\"Ordinary\",E220*(1+D$1/100),F221)","v":900646.24324650702},{"$f":"IF('Annuity Value'!B$11=\"Ordinary\",D221-E$2,G221)","v":895382.19530764304},896165.41616568901,890927.55752005323,null,219,336428781471576.94,370071659618734.69,null,219,105585763451.60661,116144339796.76729,null,219,219,348321.27343758935,725.66931966164452,349046.94275725092,null,null,219,500,-3423.59,-342358.72708979051,null,219,237.89930086358751,-1476.86,-118148.82165987736]
[null,null,220,{"$f":"IF('Annuity Value'!B$11=\"Ordinary\",E221*(1+D$1/100),F222)","v":899859.10628418112},{"$f":"IF('Annuity Value'!B$11=\"Ordinary\",D222-E$2,G222)","v":894595.05834531714},895382.1953076534,890144.33666201762,null,220,370071659618734.69,407078825580608.12,null,220,116144339796.76729,127758773776.444,null,220,220,350246.94275725092,729.68113074427276,350976.62388799549,null,null,220,500,-3462.82,-346282.22155764408,null,220,237.89930086358751,-1498.29,-119863.58123148943]
[null,null,221,{"$f":"IF('Annuity Value'!B$11=\"Ordinary\",E222*(1+D$1/100),F223)","v":899068.03363704367},{"$f":"IF('Annuity Value'!B$11=\"Ordinary\",D223-E$2,G223)","v":893803.98569817969},894595.05834532762,889357.19969969185,null,221,407078825580608.12,447786708138668.94,null,221,127758773776.444,140534651154.08841,null,221,221,352176.62388799549,733.70129976665726,352910.32518776209,null,null,221,500,-3502.45,-350244.95097017626,null,221,237.89930086358751,-1520,-121599.77529774664]
[null,null,222,{"$f":"IF('Annuity Value'!B$11=\"Ordinary\",E223*(1+D$1/100),F224)","v":898273.00562667055},{"$f":"IF('Annuity Value'!B$11=\"Ordinary\",D224-E$2,G224)","v":893008.95768780657},893803.98569819017,888566.1270525544,null,222,447786708138668.94,492565378952536,null,222,140534651154.08841,154588116269.49731,null,222,222,354110.32518776209,737.72984414117104,354848.05503190344,null,null,222,500,-3542.47,-354247.30767683365,null,222,237.89930086358751,-1541.97,-123357.67178983205]
[null,null,223,{"$f":"IF('Annuity Value'!B$11=\"Ordinary\",E224*(1+D$1/100),F225)","v":897474.00247624551},{"$f":"IF('Annuity Value'!B$11=\"Ordinary\",D225-E$2,G225)","v":892209.95453738153},893008.95768781705,887771.09904218127,null,223,492565378952536,541821916847789.56,null,223,154588116269.49731,170046927896.44702,null,223,223,356048.05503190344,741.76678131646554,356789.82181322004,null,null,223,500,-3582.9,-358289.68795055762,null,223,237.89930086358751,-1564.22,-125137.54198806852]
[null,null,224,{"$f":"IF('Annuity Value'!B$11=\"Ordinary\",E225*(1+D$1/100),F226)","v":896671.00431006833},{"$f":"IF('Annuity Value'!B$11=\"Ordinary\",D226-E$2,G226)","v":891406.95637120435},892209.95453739213,886972.09589175635,null,224,541821916847789.56,596004108532568.5,null,224,170046927896.44702,187051620686.09174,null,224,224,357989.82181322004,745.81212877754172,358735.6339419976,null,null,224,500,-3623.72,-362372.49202701898,null,224,237.89930086358751,-1586.75,-126939.66056378298]
[null,null,225,{"$f":"IF('Annuity Value'!B$11=\"Ordinary\",E226*(1+D$1/100),F227)","v":895863.99115306023},{"$f":"IF('Annuity Value'!B$11=\"Ordinary\",D227-E$2,G227)","v":890599.94321419625},891406.95637121506,886169.09772557928,null,225,596004108532568.5,655604519385825.37,null,225,187051620686.09174,205756782754.7009,null,225,225,359935.6339419976,749.8659040458283,360685.49984604359,null,null,225,500,-3664.96,-366496.12414424476,null,225,237.89930086358751,-1609.55,-128764.30562169384]
[null,null,226,{"$f":"IF('Annuity Value'!B$11=\"Ordinary\",E227*(1+D$1/100),F228)","v":895052.94293026708},{"$f":"IF('Annuity Value'!B$11=\"Ordinary\",D228-E$2,G228)","v":889788.8949914031},890599.94321420707,885362.0845685713,null,226,655604519385825.37,721164971324408,null,226,205756782754.7009,226332461030.17102,null,226,226,361885.49984604359,753.92812467925751,362639.42797072278,null,null,226,500,-3706.61,-370660.992582643,null,226,237.89930086358751,-1632.65,-130611.75874282859]
[null,null,227,{"$f":"IF('Annuity Value'!B$11=\"Ordinary\",E228*(1+D$1/100),F229)","v":894237.83946636005},{"$f":"IF('Annuity Value'!B$11=\"Ordinary\",D229-E$2,G229)","v":888973.79152749607},889788.89499141404,884551.03634577827,null,227,721164971324408,793281468456848.87,null,227,226332461030.17102,248965707133.18814,null,227,227,363839.42797072278,757.99880827233915,364597.42677899549,null,null,227,500,-3748.68,-374867.50970542507,null,227,237.89930086358751,-1656.03,-132482.30502797753]
[null,null,228,{"$f":"IF('Annuity Value'!B$11=\"Ordinary\",E229*(1+D$1/100),F230)","v":893418.66048513341},{"$f":"IF('Annuity Value'!B$11=\"Ordinary\",D230-E$2,G230)","v":888154.61254626943},888973.79152750701,883735.93288187124,null,228,793281468456848.87,872609615302533.87,null,228,248965707133.18814,273862277846.50699,null,228,228,365797.42677899549,762.07797245624056,366559.50475145172,null,null,228,500,-3791.16,-379116.09199943516,null,228,237.89930086358751,-1679.7,-134376.23314169084]
[null,null,229,{"$f":"IF('Annuity Value'!B$11=\"Ordinary\",E230*(1+D$1/100),F231)","v":892595.38560900069},{"$f":"IF('Annuity Value'!B$11=\"Ordinary\",D231-E$2,G231)","v":887331.33767013671},888154.61254628049,882916.75390064472,null,229,872609615302533.87,959870576832787.25,null,229,273862277846.50699,301248505631.15771,null,229,229,367759.50475145172,766.16563489885777,368525.67038635066,null,null,229,500,-3834.07,-383407.16011638509,null,229,237.89930086358751,-1703.67,-136293.83535682561]
[null,null,230,{"$f":"IF('Annuity Value'!B$11=\"Ordinary\",E231*(1+D$1/100),F232)","v":891767.99435848731},{"$f":"IF('Annuity Value'!B$11=\"Ordinary\",D232-E$2,G232)","v":886503.94641962333},887331.33767014788,882093.47902451211,null,230,959870576832787.25,1055857634516066,null,230,301248505631.15771,331373356194.2735,null,230,230,369725.67038635066,770.26181330489715,370495.93219965586,null,null,230,500,-3877.41,-387741.13891450479,null,230,237.89930086358751,-1727.94,-138235.40759964948]
[null,null,231,{"$f":"IF('Annuity Value'!B$11=\"Ordinary\",E232*(1+D$1/100),F233)","v":890936.46615172131},{"$f":"IF('Annuity Value'!B$11=\"Ordinary\",D233-E$2,G233)","v":885672.41821285733},886503.94641963462,881266.08777399885,null,231,1055857634516066,1161443397967672.7,null,231,331373356194.2735,364510691813.70087,null,231,231,371695.93219965586,774.3665254159497,372470.29872507177,null,null,231,500,-3921.18,-392118.45750060538,null,231,237.89930086358751,-1752.52,-140201.24949550867]
[null,null,232,{"$f":"IF('Annuity Value'!B$11=\"Ordinary\",E233*(1+D$1/100),F234)","v":890100.78030392155},{"$f":"IF('Annuity Value'!B$11=\"Ordinary\",D234-E$2,G234)","v":884836.73236505757},885672.41821286874,880434.55956723297,null,232,1161443397967672.7,1277587737764440.2,null,232,364510691813.70087,400961760995.07098,null,232,232,373670.29872507177,778.47978901056615,374448.77851408254,null,null,232,500,-3965.4,-396539.54927256727,null,232,237.89930086358751,-1777.4,-142191.66441506613]
[null,null,233,{"$f":"IF('Annuity Value'!B$11=\"Ordinary\",E234*(1+D$1/100),F235)","v":889260.91602688271},{"$f":"IF('Annuity Value'!B$11=\"Ordinary\",D235-E$2,G235)","v":883996.86808801873},884836.73236506898,879598.87371943321,null,233,1277587737764440.2,1405346511540884.2,null,233,400961760995.07098,441057937094.57806,null,233,233,375648.77851408254,782.60162190433857,376431.38013598695,null,null,233,500,-4010.05,-401004.8519622485,null,233,237.89930086358751,-1802.59,-144206.959521118]
[null,null,234,{"$f":"IF('Annuity Value'!B$11=\"Ordinary\",E235*(1+D$1/100),F236)","v":888416.85242845875},{"$f":"IF('Annuity Value'!B$11=\"Ordinary\",D236-E$2,G236)","v":883152.80448959477},883996.86808803026,878759.00944239448,null,234,1405346511540884.2,1545881162694972.7,null,234,441057937094.57806,485163730804.03595,null,234,234,377631.38013598695,786.73204194997277,378418.11217793706,null,null,234,500,-4055.15,-405514.80767882685,null,234,237.89930086358751,-1828.09,-146247.44581599563]
[null,null,235,{"$f":"IF('Annuity Value'!B$11=\"Ordinary\",E236*(1+D$1/100),F237)","v":887568.56851204264},{"$f":"IF('Annuity Value'!B$11=\"Ordinary\",D237-E$2,G237)","v":882304.52057317866},883152.80448960641,877914.94584397064,null,235,1545881162694972.7,1700469278964470,null,235,485163730804.03595,533680103884.43958,null,235,235,379618.11217793706,790.8710670373689,380408.98324497457,null,null,235,500,-4100.7,-410069.86295257072,null,235,237.89930086358751,-1853.92,-148313.43818955909]
[null,null,236,{"$f":"IF('Annuity Value'!B$11=\"Ordinary\",E237*(1+D$1/100),F238)","v":886716.04317604448},{"$f":"IF('Annuity Value'!B$11=\"Ordinary\",D238-E$2,G238)","v":881451.9952371805},882304.52057319041,877066.66192755464,null,236,1700469278964470,1870516206860917,null,236,533680103884.43958,587048114272.88354,null,236,236,381608.98324497457,795.01871509369698,382404.00196006842,null,null,236,500,-4146.7,-414670.4687790522,null,236,237.89930086358751,-1880.07,-150405.25546779222]
[null,null,237,{"$f":"IF('Annuity Value'!B$11=\"Ordinary\",E238*(1+D$1/100),F239)","v":885859.25521336636},{"$f":"IF('Annuity Value'!B$11=\"Ordinary\",D239-E$2,G239)","v":880595.20727450238},881451.99523719237,876214.1365915566,null,237,1870516206860917,2057567827547009,null,237,587048114272.88354,645752925700.172,null,237,237,383604.00196006842,799.17500408347587,384403.17696415196,null,null,237,500,-4193.17,-419317.08066379832,null,237,237.89930086358751,-1906.54,-152523.22046200317]
[null,null,238,{"$f":"IF('Annuity Value'!B$11=\"Ordinary\",E239*(1+D$1/100),F240)","v":884998.18331087474},{"$f":"IF('Annuity Value'!B$11=\"Ordinary\",D240-E$2,G240)","v":879734.13537201076},880595.20727451425,875357.34862887848,null,238,2057567827547009,2263324610301710.5,null,238,645752925700.172,710328218270.18933,null,238,238,385603.17696415196,803.3399520086499,386406.5169161607,null,null,238,500,-4240.1000000000004,-424010.15866739204,null,238,237.89930086358751,-1933.35,-154667.66001864182]
[null,null,239,{"$f":"IF('Annuity Value'!B$11=\"Ordinary\",E240*(1+D$1/100),F241)","v":884132.80604887067},{"$f":"IF('Annuity Value'!B$11=\"Ordinary\",D241-E$2,G241)","v":878868.75811000669},879734.13537202275,874496.27672638698,null,239,2263324610301710.5,2489657071331881.5,null,239,710328218270.18933,781361040097.20825,null,239,239,387606.5169161607,807.51357690866814,388414.0304930695,null,null,239,500,-4287.5,-428750.16745102161,null,239,237.89930086358751,-1960.49,-156838.90506973842]
[null,null,240,{"$f":"IF('Annuity Value'!B$11=\"Ordinary\",E241*(1+D$1/100),F242)","v":883263.10190055659},{"$f":"IF('Annuity Value'!B$11=\"Ordinary\",D242-E$2,G242)","v":877999.05396169261},878868.7581100188,873630.89946438302,null,240,2489657071331881.5,2738622778465069.5,null,240,781361040097.20825,859497144106.92896,null,240,240,389614.0304930695,811.69589686056145,390425.72638993029,null,null,240,500,-4335.38,-433537.57632248761,null,240,237.89930086358751,-1987.97,-159037.29068397376]
[null,null,241,{"$f":"IF('Annuity Value'!B$11=\"Ordinary\",E242*(1+D$1/100),F243)","v":882389.04923150095},{"$f":"IF('Annuity Value'!B$11=\"Ordinary\",D243-E$2,G243)","v":877125.00129263697},877999.05396170483,872761.19531606906,null,241,2738622778465069.5,3012485056311577,null,241,859497144106.92896,945446858517.62195,null,241,241,391625.72638993029,815.88692997902149,392441.61331990961,null,null,241,500,-4383.7299999999996,-438372.85928266816,null,241,237.89930086358751,-2015.79,-161263.15611838695]
[null,null,242,{"$f":"IF('Annuity Value'!B$11=\"Ordinary\",E243*(1+D$1/100),F244)","v":881510.62629910011},{"$f":"IF('Annuity Value'!B$11=\"Ordinary\",D244-E$2,G244)","v":876246.57836023613},877125.00129264931,871887.14264701353,null,242,3012485056311577,3313733561942734.5,null,242,945446858517.62195,1039991544369.3842,null,242,242,393641.61331990961,820.08669441647839,394461.70001432596,null,null,242,500,-4432.5600000000004,-443256.49507245066,null,242,237.89930086358751,-2043.96,-163516.84487073039]
[null,null,243,{"$f":"IF('Annuity Value'!B$11=\"Ordinary\",E244*(1+D$1/100),F245)","v":880627.81125203718},{"$f":"IF('Annuity Value'!B$11=\"Ordinary\",D245-E$2,G245)","v":875363.7633131732},876246.57836024847,871008.7197146127,null,243,3313733561942734.5,3645106918137008,null,243,1039991544369.3842,1143990698806.3228,null,243,243,395661.70001432596,824.29520836317909,396485.99522268906,null,null,243,500,-4481.8900000000003,-448188.96722013078,null,243,237.89930086358751,-2072.48,-165798.70473247813]
[null,null,244,{"$f":"IF('Annuity Value'!B$11=\"Ordinary\",E245*(1+D$1/100),F246)","v":879740.58212973899},{"$f":"IF('Annuity Value'!B$11=\"Ordinary\",D246-E$2,G246)","v":874476.53419087501},875363.76331318566,870125.90466754988,null,244,3645106918137008,4009617609950710,null,244,1143990698806.3228,1258389768686.9553,null,244,244,397685.99522268906,828.5124900472689,398514.50771273667,null,null,244,500,-4531.71,-453170.76408928784,null,244,237.89930086358751,-2101.36,-168109.08784249768]
[null,null,245,{"$f":"IF('Annuity Value'!B$11=\"Ordinary\",E246*(1+D$1/100),F247)","v":878848.91686182935},{"$f":"IF('Annuity Value'!B$11=\"Ordinary\",D247-E$2,G247)","v":873584.86892296537},874476.53419088759,869238.67554525181,null,245,4009617609950710,4410579370945780.5,null,245,1258389768686.9553,1384228745555.6506,null,245,245,399714.50771273667,832.7385577348681,400547.24627047166,null,null,245,500,-4582.0200000000004,-458202.37892713636,null,245,237.89930086358751,-2130.6,-170448.35074139247]
[null,null,246,{"$f":"IF('Annuity Value'!B$11=\"Ordinary\",E247*(1+D$1/100),F248)","v":877952.7932675801},{"$f":"IF('Annuity Value'!B$11=\"Ordinary\",D248-E$2,G248)","v":872688.74532871612},873584.86892297794,868347.01027734217,null,246,4410579370945780.5,4851637308040360,null,246,1384228745555.6506,1522651620111.2161,null,246,246,401747.24627047166,836.97342973014929,402584.21970020194,null,null,246,500,-4632.84,-463284.30991336348,null,246,237.89930086358751,-2160.21,-172816.8544265235]
[null,null,247,{"$f":"IF('Annuity Value'!B$11=\"Ordinary\",E248*(1+D$1/100),F249)","v":877052.18905535957},{"$f":"IF('Annuity Value'!B$11=\"Ordinary\",D249-E$2,G249)","v":871788.14111649559},872688.74532872881,867450.88668309303,null,247,4851637308040360,5336801038844396,null,247,1522651620111.2161,1674916782122.3379,null,247,247,403784.21970020194,841.21712437542067,404625.43682457745,null,null,247,500,-4684.17,-468417.0602094527,null,247,237.89930086358751,-2190.19,-175214.96440771859]
[null,null,248,{"$f":"IF('Annuity Value'!B$11=\"Ordinary\",E249*(1+D$1/100),F250)","v":876147.08182207798},{"$f":"IF('Annuity Value'!B$11=\"Ordinary\",D250-E$2,G250)","v":870883.033883214},871788.1411165084,866550.28247087263,null,248,5336801038844396,5870481142728834,null,248,1674916782122.3379,1842408460334.571,null,248,248,405825.43682457745,845.46966005120305,406670.90648462874,null,null,248,500,-4736.01,-473601.13800850307,null,248,237.89930086358751,-2220.54,-177643.05076367868]
[null,null,249,{"$f":"IF('Annuity Value'!B$11=\"Ordinary\",E250*(1+D$1/100),F251)","v":875237.44905262999},{"$f":"IF('Annuity Value'!B$11=\"Ordinary\",D251-E$2,G251)","v":869973.40111376601},870883.03388322692,865645.17523759115,null,249,5870481142728834,6457529257001720,null,249,1842408460334.571,2026649306368.0291,null,249,249,407870.90648462874,849.73105517630984,408720.63753980515,null,null,249,500,-4788.37,-478837.05658554367,null,249,237.89930086358751,-2251.27,-180101.48819908823]
[null,null,250,{"$f":"IF('Annuity Value'!B$11=\"Ordinary\",E251*(1+D$1/100),F252)","v":874323.26811933471},{"$f":"IF('Annuity Value'!B$11=\"Ordinary\",D252-E$2,G252)","v":869059.22018047073},869973.40111377905,864735.54246814328,null,250,6457529257001720,7103282182701891,null,250,2026649306368.0291,2229314237004.8315,null,250,250,409920.63753980515,854.00132820792737,410774.63886801346,null,null,250,500,-4841.25,-484125.33434835495,null,250,237.89930086358751,-2282.38,-182590.65610244047]
[null,null,251,{"$f":"IF('Annuity Value'!B$11=\"Ordinary\",E252*(1+D$1/100),F253)","v":873404.51628137298},{"$f":"IF('Annuity Value'!B$11=\"Ordinary\",D253-E$2,G253)","v":868140.468342509},869059.22018048388,863821.36153484811,null,251,7103282182701891,7813610400972082,null,251,2229314237004.8315,2452245660705.3154,null,251,251,411974.63886801346,858.28049764169464,412832.91936565517,null,null,251,500,-4894.66,-489466.49488879414,null,251,237.89930086358751,-2313.89,-185110.93860458455]
[null,null,252,{"$f":"IF('Annuity Value'!B$11=\"Ordinary\",E253*(1+D$1/100),F254)","v":872481.17068422143},{"$f":"IF('Annuity Value'!B$11=\"Ordinary\",D254-E$2,G254)","v":867217.12274535745},868140.46834252228,862902.6096968865,null,252,7813610400972082,8594971441069289,null,252,2452245660705.3154,2697470226775.8467,null,252,252,414032.91936565517,862.56858201178159,414895.48794766719,null,null,252,500,-4948.6099999999997,-494861.06703463785,null,252,237.89930086358751,-2345.7800000000002,-187662.72463800546]
[null,null,253,{"$f":"IF('Annuity Value'!B$11=\"Ordinary\",E254*(1+D$1/100),F255)","v":871553.20835908409},{"$f":"IF('Annuity Value'!B$11=\"Ordinary\",D255-E$2,G255)","v":866289.16042022011},867217.12274537084,861979.26409973507,null,253,8594971441069289,9454468585176220,null,253,2697470226775.8467,2967217249453.4316,null,253,253,416095.48794766719,866.86559989097327,416962.35354755842,null,null,253,500,-5003.1000000000004,-500309.58490193984,null,253,237.89930086358751,-2378.08,-190246.40799684409]
[null,null,254,{"$f":"IF('Annuity Value'!B$11=\"Ordinary\",E255*(1+D$1/100),F256)","v":870620.60622232116},{"$f":"IF('Annuity Value'!B$11=\"Ordinary\",D256-E$2,G256)","v":865356.55828345718},866289.16042023362,861051.30177459784,null,254,9454468585176220,1.0399915443693844E+16,null,254,2967217249453.4316,3263938974398.7759,null,254,254,418162.35354755842,871.1715698907467,419033.52511744905,null,null,254,500,-5058.13,-505812.58794791478,null,254,237.89930086358751,-2410.7800000000002,-192862.38739766827]
[null,null,255,{"$f":"IF('Annuity Value'!B$11=\"Ordinary\",E256*(1+D$1/100),F257)","v":869683.34107487439},{"$f":"IF('Annuity Value'!B$11=\"Ordinary\",D257-E$2,G257)","v":864419.29313601041},865356.55828347069,860118.69963783491,null,255,1.0399915443693844E+16,1.1439906988063228E+16,null,255,3263938974398.7759,3590332871838.6528,null,255,255,420233.52511744905,875.48651066135221,421109.01162811043,null,null,255,500,-5113.71,-511370.6210243497,null,255,237.89930086358751,-2443.89,-195511.06654100266]
[null,null,256,{"$f":"IF('Annuity Value'!B$11=\"Ordinary\",E257*(1+D$1/100),F258)","v":868741.38960169035},{"$f":"IF('Annuity Value'!B$11=\"Ordinary\",D258-E$2,G258)","v":863477.34166282637},864419.29313602403,859181.43449038826,null,256,1.1439906988063228E+16,1.258389768686955E+16,null,256,3590332871838.6528,3949366159022.5181,null,256,256,422309.01162811043,879.81044089189675,423188.82206900232,null,null,256,500,-5169.84,-516984.2344315488,null,256,237.89930086358751,-2477.41,-198192.85417362876]
[null,null,257,{"$f":"IF('Annuity Value'!B$11=\"Ordinary\",E258*(1+D$1/100),F259)","v":867794.72837114043},{"$f":"IF('Annuity Value'!B$11=\"Ordinary\",D259-E$2,G259)","v":862530.68043227645},863477.3416628401,858239.48301720433,null,257,1.258389768686955E+16,1.3842287455556506E+16,null,257,3949366159022.5181,4344302774924.7705,null,257,257,424388.82206900232,884.14337931042144,425272.96544831299,null,null,257,500,{"$f":"ROUND(Y$2*AA259,2)","v":-5226.54},{"$f":"IF(X$1=\"\",\"\",(1-(1+Y$2)^(X259-X$1))/(1-(1+Y$2)^(-X$1))*Z$1)","v":-522653.98397282016},null,257,237.89930086358751,{"$f":"ROUND(AE$2*AF259,2)","v":-2511.35},{"$f":"AF$1*(1-(1+AE$2)^(AC259-AC$1))/(1-(1+AE$2)^(-AC$1))","v":-200908.16415166273}]
[null,null,{"$f":"C259+1","v":258},{"$f":"IF('Annuity Value'!B$11=\"Ordinary\",E259*(1+D$1/100),F260)","v":866843.33383443777},{"$f":"IF('Annuity Value'!B$11=\"Ordinary\",D260-E$2,G260)","v":861579.28589557379},862530.6804322903,857292.82178665453,null,{"$f":"I259+1","v":258},{"$f":"K259","v":1.3842287455556506E+16},{"$f":"K$2*(1+J$1)^I260","v":1.5226516201112158E+16},null,{"$f":"M259+1","v":258},{"$f":"O259","v":4344302774924.7705},{"$f":"O$2*(1+N$1)^M260","v":4778733052417.248},null,{"$f":"Q259+1","v":258},{"$f":"IF(A$5=1,Q260*12,IF(A$5=2,Q260*6,IF(A$5=4,Q260*3,Q260)))","v":258},426472.96544831299,888.48534468398532,{"$f":"T$1*(1+S$2)^Q260+S$1*(((1+S$2)^(Q260+1)-(1+S$2))/S$2)","v":427361.45079299709},null,null,{"$f":"X259+1","v":258},{"$f":"Y259","v":500},-5283.8,-528380.4310095039,null,{"$f":"AC259+1","v":258},{"$f":"AD259","v":237.89930086358751},-2545.7199999999998,-203657.4155044221]
[null,null,259,{"$f":"IF('Annuity Value'!B$11=\"Ordinary\",E260*(1+D$1/100),F261)","v":865887.18232505152},{"$f":"IF('Annuity Value'!B$11=\"Ordinary\",D261-E$2,G261)","v":860623.13438618754},{"$f":"G260*(1+F$1/100)","v":861579.28589558776},856341.42724995199,null,259,1.5226516201112158E+16,1.6749167821223376E+16,null,259,4778733052417.248,5256606357658.9727,null,259,259,{"$f":"S$1+U260","v":428561.45079299709},{"$f":"S$2*S261","v":892.83635581874387},429454.28714881599,null,null,259,500,-5341.64,-534164.1425165548,null,259,237.89930086358751,-2580.5100000000002,-206441.03249909091]
[null,null,260,{"$f":"IF('Annuity Value'!B$11=\"Ordinary\",E261*(1+D$1/100),F262)","v":864926.25005811837},{"$f":"IF('Annuity Value'!B$11=\"Ordinary\",D262-E$2,G262)","v":859662.20211925439},860623.13438620162,855385.27574056585,null,260,1.6749167821223376E+16,1.8424084603345712E+16,null,260,5256606357658.9727,5782266993424.8701,null,260,260,430654.28714881599,897.19643156003326,431551.48358037614,null,null,260,500,-5400.06,-540005.6911386759,null,260,237.89930086358751,-2615.7399999999998,-209259.44470619317]
[null,null,261,{"$f":"IF('Annuity Value'!B$11=\"Ordinary\",E262*(1+D$1/100),F263)","v":863960.51312985062},{"$f":"IF('Annuity Value'!B$11=\"Ordinary\",D263-E$2,G263)","v":858696.46519098664},859662.20211926859,854424.34347363282,null,261,1.8424084603345712E+16,2.0266493063680284E+16,null,261,5782266993424.8701,6360493692767.3574,null,261,261,432751.48358037614,901.56559079245028,433653.04917116865,null,null,261,500,-5459.06,-545905.65524701856,null,261,237.89930086358751,-2651.41,-212113.08706588414]
[null,null,262,{"$f":"IF('Annuity Value'!B$11=\"Ordinary\",E263*(1+D$1/100),F264)","v":862989.94751694147},{"$f":"IF('Annuity Value'!B$11=\"Ordinary\",D264-E$2,G264)","v":857725.89957807749},858696.46519100084,853458.60654536507,null,262,2.0266493063680284E+16,2.229314237004832E+16,null,262,6360493692767.3574,6996543062044.0947,null,262,262,434853.04917116865,905.94385243993463,435758.99302360875,null,null,262,500,-5518.65,-551864.61899644439,null,262,237.89930086358751,-2687.53,-215002.39995507133]
[null,null,263,{"$f":"IF('Annuity Value'!B$11=\"Ordinary\",E264*(1+D$1/100),F265)","v":862014.52907596773},{"$f":"IF('Annuity Value'!B$11=\"Ordinary\",D265-E$2,G265)","v":856750.48113710375},857725.8995780918,852488.04093245603,null,263,2.229314237004832E+16,2.4522456607053152E+16,null,263,6996543062044.0947,7696197368248.5049,null,263,263,436958.99302360875,910.33123546585159,437869.32425907481,null,null,263,500,-5578.83,-557883.17238336452,null,263,237.89930086358751,-2724.1,-217927.82925537325]
[null,null,264,{"$f":"IF('Annuity Value'!B$11=\"Ordinary\",E265*(1+D$1/100),F266)","v":861034.23354278912},{"$f":"IF('Annuity Value'!B$11=\"Ordinary\",D266-E$2,G266)","v":855770.18560392514},856750.48113711819,851512.62249148241,null,264,2.4522456607053152E+16,2.6974702267758468E+16,null,264,7696197368248.5049,8465817105073.3555,null,264,264,439069.32425907481,914.7277588730725,439984.05201794783,null,null,264,500,-5639.62,-563961.91130415373,null,264,237.89930086358751,-2761.12,-220889.82642192906]
[null,null,265,{"$f":"IF('Annuity Value'!B$11=\"Ordinary\",E266*(1+D$1/100),F267)","v":860049.03653194464},{"$f":"IF('Annuity Value'!B$11=\"Ordinary\",D267-E$2,G267)","v":854784.98859308066},855770.1856039397,850532.32695830392,null,265,2.6974702267758468E+16,2.9672172494534316E+16,null,265,8465817105073.3555,9312398815580.6914,null,265,265,441184.05201794783,919.13344170405799,442103.1854596521,null,null,265,500,-5701.01,-570101.43761415116,null,265,237.89930086358751,-2798.61,-223888.84855306672]
[null,null,266,{"$f":"IF('Annuity Value'!B$11=\"Ordinary\",E267*(1+D$1/100),F268)","v":859058.91353604593},{"$f":"IF('Annuity Value'!B$11=\"Ordinary\",D268-E$2,G268)","v":853794.86559718195},854784.98859309533,849547.12994745956,null,266,2.9672172494534316E+16,3.2639389743987752E+16,null,266,9312398815580.6914,10243638697138.762,null,266,266,443303.1854596521,923.54830304094185,444226.73376269324,null,null,266,500,-5763.02,-576302.35918724828,null,266,237.89930086358751,-2836.57,-226925.35846084368]
[null,null,267,{"$f":"IF('Annuity Value'!B$11=\"Ordinary\",E268*(1+D$1/100),F269)","v":858063.83992516773},{"$f":"IF('Annuity Value'!B$11=\"Ordinary\",D269-E$2,G269)","v":852799.79198630375},853794.86559719674,{"$f":"F269-G$2","v":848557.00695156096},null,267,3.2639389743987752E+16,3.5903328718386532E+16,null,267,10243638697138.762,11268002566852.641,null,267,267,445426.73376269324,927.97236200561088,446354.70612469892,null,null,267,500,-5825.65,-582565.28997607657,null,267,237.89930086358751,-2875,-229999.82474246772]
[null,null,268,{"$f":"IF('Annuity Value'!B$11=\"Ordinary\",E269*(1+D$1/100),F270)","v":857063.79094623518},{"$f":"IF('Annuity Value'!B$11=\"Ordinary\",D270-E$2,G270)","v":851799.7430073712},852799.79198631865,847561.93334068288,null,268,3.5903328718386532E+16,3.9493661590225184E+16,null,268,11268002566852.641,12394802823537.902,null,268,268,447554.70612469892,932.40563775978944,448487.11176245881,null,null,268,500,-5888.91,-588890.85007279296,null,268,237.89930086358751,-2913.91,-233112.72185261222]
[null,null,269,{"$f":"IF('Annuity Value'!B$11=\"Ordinary\",E270*(1+D$1/100),F271)","v":856058.74172240798},{"$f":"IF('Annuity Value'!B$11=\"Ordinary\",D271-E$2,G271)","v":850794.693783544},851799.74300738622,846561.88436175045,null,269,3.9493661590225184E+16,4.3443027749247704E+16,null,269,12394802823537.902,13634283105891.693,null,269,269,449687.11176245881,936.84814950512248,450623.95991196425,null,null,269,500,-5952.8,-595279.6657704768,null,269,237.89930086358751,-2953.31,-236264.53017663347]
[null,null,270,{"$f":"IF('Annuity Value'!B$11=\"Ordinary\",E271*(1+D$1/100),F272)","v":855048.66725246166},{"$f":"IF('Annuity Value'!B$11=\"Ordinary\",D272-E$2,G272)","v":849784.61931359768},850794.69378355914,845556.83513792336,null,270,4.3443027749247704E+16,4.778733052417248E+16,null,270,13634283105891.693,14997711416480.865,null,270,270,451823.95991196425,941.29991648325881,452765.25982844742,null,null,270,500,-6017.32,-601732.36962513707,null,270,237.89930086358751,-2993.2,-239455.73610470499]
[null,null,271,{"$f":"IF('Annuity Value'!B$11=\"Ordinary\",E272*(1+D$1/100),F273)","v":854033.54241016554},{"$f":"IF('Annuity Value'!B$11=\"Ordinary\",D273-E$2,G273)","v":848769.49447130156},849784.61931361293,844546.76066797716,null,271,4.778733052417248E+16,5.2566063576589728E+16,null,271,14997711416480.865,16497482558128.951,null,271,271,453965.25982844742,945.76095797593212,454911.02078642353,null,null,271,500,-6082.5,-608249.6005183442,null,271,237.89930086358751,-3033.59,-242686.83210687738]
[null,null,272,{"$f":"IF('Annuity Value'!B$11=\"Ordinary\",E273*(1+D$1/100),F274)","v":853013.34194365796},{"$f":"IF('Annuity Value'!B$11=\"Ordinary\",D274-E$2,G274)","v":847749.29400479398},848769.49447131692,843531.63582568115,null,272,5.2566063576589728E+16,5.7822669934248704E+16,null,272,16497482558128.951,18147230813941.848,null,272,272,456111.02078642353,950.23129330504901,457061.25207972882,null,null,272,500,-6148.32,-614832.00372048328,null,272,237.89930086358751,-3074.48,-245958.3168090769]
[null,null,273,{"$f":"IF('Annuity Value'!B$11=\"Ordinary\",E274*(1+D$1/100),F275)","v":851988.04047481786},{"$f":"IF('Annuity Value'!B$11=\"Ordinary\",D275-E$2,G275)","v":846723.99253595388},847749.29400480946,842511.43535917369,null,273,5.7822669934248704E+16,6.3604936927673568E+16,null,273,18147230813941.848,19961953895336.031,null,273,273,458261.25207972882,954.7109418327683,459215.96302156174,null,null,273,500,-6214.8,-621480.23095464392,null,273,237.89930086358751,-3115.88,-249270.69507005389]
[null,null,274,{"$f":"IF('Annuity Value'!B$11=\"Ordinary\",E275*(1+D$1/100),F276)","v":850957.61249863356},{"$f":"IF('Annuity Value'!B$11=\"Ordinary\",D276-E$2,G276)","v":845693.56455976958},846723.99253596948,841486.1338903337,null,274,6.3604936927673568E+16,6.9965430620440936E+16,null,274,19961953895336.031,21958149284869.637,null,274,274,460415.96302156174,959.19992296158694,461375.16294452327,null,null,274,500,-6281.95,-628194.94046114595,null,274,237.89930086358751,-3157.81,-252624.47805929321]
[null,null,275,{"$f":"IF('Annuity Value'!B$11=\"Ordinary\",E276*(1+D$1/100),F277)","v":849922.03238256834},{"$f":"IF('Annuity Value'!B$11=\"Ordinary\",D277-E$2,G277)","v":844657.98444370436},845693.5645597853,840455.70591414953,null,275,6.9965430620440936E+16,7.6961973682485056E+16,null,275,21958149284869.637,24153964213356.605,null,275,275,462575.16294452327,963.69825613442345,463538.86120065791,null,null,275,500,-6349.77,-634976.79706271319,null,275,237.89930086358751,-3200.25,-256020.18333589789]
[null,null,276,{"$f":"IF('Annuity Value'!B$11=\"Ordinary\",E277*(1+D$1/100),F278)","v":848881.27436592279},{"$f":"IF('Annuity Value'!B$11=\"Ordinary\",D278-E$2,G278)","v":843617.22642705881},844657.9844437202,839420.12579808442,null,276,7.6961973682485056E+16,8.4658171050733552E+16,null,276,24153964213356.605,26569360634692.266,null,276,276,464738.86120065791,968.205960834704,465707.06716149283,null,null,276,500,-6418.26,-641826.472230296,null,276,237.89930086358751,-3243.23,-259458.3349284603]
[null,null,277,{"$f":"IF('Annuity Value'!B$11=\"Ordinary\",E278*(1+D$1/100),F279)","v":847835.31255919405},{"$f":"IF('Annuity Value'!B$11=\"Ordinary\",D279-E$2,G279)","v":842571.26462033007},843617.22642707475,838379.36778143898,null,277,8.4658171050733552E+16,9.3123988155806928E+16,null,277,26569360634692.266,29226296698161.5,null,277,277,466907.06716149283,972.72305658644336,467879.79021807935,null,null,277,500,-6487.45,-648744.64414955466,null,277,237.89930086358751,-3286.74,-262939.46341592958]
[null,null,278,{"$f":"IF('Annuity Value'!B$11=\"Ordinary\",E279*(1+D$1/100),F280)","v":846784.12094343163},{"$f":"IF('Annuity Value'!B$11=\"Ordinary\",D280-E$2,G280)","v":841520.07300456765},842571.26462034613,837333.40597471036,null,278,9.3123988155806928E+16,1.0243638697138762E+17,null,278,29226296698161.5,32148926367977.648,null,278,278,469079.79021807935,977.24956295433196,470057.03978103376,null,null,278,500,-6557.32,-655731.99778800586,null,278,237.89930086358751,-3330.8,-266464.1060094923]
[null,null,279,{"$f":"IF('Annuity Value'!B$11=\"Ordinary\",E280*(1+D$1/100),F281)","v":845727.67336959043},{"$f":"IF('Annuity Value'!B$11=\"Ordinary\",D281-E$2,G281)","v":840463.62543072645},841520.07300458383,836282.21435894805,null,279,1.0243638697138762E+17,1.126800256685264E+17,null,279,32148926367977.648,35363819004775.422,null,279,279,471257.03978103376,981.78549954382026,472238.82528057788,null,null,279,500,-6627.89,-662789.22496284184,null,279,237.89930086358751,-3375.41,-270032.8066354745]
[null,null,280,{"$f":"IF('Annuity Value'!B$11=\"Ordinary\",E281*(1+D$1/100),F282)","v":844665.94355788},{"$f":"IF('Annuity Value'!B$11=\"Ordinary\",D282-E$2,G282)","v":839401.89561901602},840463.62543074274,835225.76678510697,null,280,1.126800256685264E+17,1.2394802823537901E+17,null,280,35363819004775.422,38900200905252.953,null,280,280,473438.82528057788,986.33088600120391,474425.15616657893,null,null,280,500,-6699.17,-669917.02440942568,null,280,237.89930086358751,-3420.58,-273646.11601928156]
[null,null,281,{"$f":"IF('Annuity Value'!B$11=\"Ordinary\",E282*(1+D$1/100),F283)","v":843598.90509711101},{"$f":"IF('Annuity Value'!B$11=\"Ordinary\",D283-E$2,G283)","v":838334.85715824703},839401.89561903244,834164.03697339667,null,281,1.2394802823537901E+17,1.3634283105891694E+17,null,281,38900200905252.953,42790220995778.258,null,281,281,475625.15616657893,990.88574201370614,476616.04190859286,null,null,281,500,-6771.16,-677116.10185047588,null,281,237.89930086358751,-3466.31,-277304.59177038615]
[null,null,282,{"$f":"IF('Annuity Value'!B$11=\"Ordinary\",E283*(1+D$1/100),F284)","v":842526.53144403815},{"$f":"IF('Annuity Value'!B$11=\"Ordinary\",D284-E$2,G284)","v":837262.48350517417},838334.85715826356,833096.99851262779,null,282,1.3634283105891694E+17,1.4997711416480864E+17,null,282,42790220995778.258,47069243095356.086,null,282,282,477816.04190859286,995.4500873095684,478811.49199590279,null,null,282,500,-6843.87,-684387.17006593617,null,282,237.89930086358751,-3512.61,-281008.79846837959]
[null,null,283,{"$f":"IF('Annuity Value'!B$11=\"Ordinary\",E284*(1+D$1/100),F285)","v":841448.79592269997},{"$f":"IF('Annuity Value'!B$11=\"Ordinary\",D285-E$2,G285)","v":836184.74798383599},837262.48350519082,832024.62485955504,null,283,1.4997711416480864E+17,1.6497482558128954E+17,null,283,47069243095356.086,51776167404891.703,null,283,283,480011.49199590279,1000.0239416581308,481011.51593756088,null,null,283,500,-6917.31,-691730.94896355143,null,283,237.89930086358751,-3559.49,-284759.30775009788]
[null,null,284,{"$f":"IF('Annuity Value'!B$11=\"Ordinary\",E285*(1+D$1/100),F286)","v":840365.67172375508},{"$f":"IF('Annuity Value'!B$11=\"Ordinary\",D286-E$2,G286)","v":835101.6237848911},836184.74798385275,830946.88933821698,null,284,1.6497482558128954E+17,1.8147230813941846E+17,null,284,51776167404891.703,56953784145380.875,null,284,284,482211.51593756088,1004.6073248699184,483216.12326243107,null,null,284,500,-6991.48,-699148.16565014259,null,284,237.89930086358751,-3606.96,-288556.6983978377]
[null,null,285,{"$f":"IF('Annuity Value'!B$11=\"Ordinary\",E286*(1+D$1/100),F287)","v":839277.13190381543},{"$f":"IF('Annuity Value'!B$11=\"Ordinary\",D287-E$2,G287)","v":834013.08396495145},835101.62378490798,829863.7651392722,null,285,1.8147230813941846E+17,1.9961953895336032E+17,null,285,56953784145380.875,62649162559918.961,null,285,285,484416.12326243107,1009.2002567967314,485425.32351922785,null,null,285,500,-7066.4,-706639.55450359976,null,285,237.89930086358751,-3655.02,-292401.55642867426]
[null,null,286,{"$f":"IF('Annuity Value'!B$11=\"Ordinary\",E287*(1+D$1/100),F288)","v":838183.14938477613},{"$f":"IF('Annuity Value'!B$11=\"Ordinary\",D288-E$2,G288)","v":832919.10144591215},834013.08396496845,828775.22531933268,null,286,1.9961953895336032E+17,2.1958149284869642E+17,null,286,62649162559918.961,68914078815910.875,null,286,286,486625.32351922785,1013.8027573317247,487639.12627655966,null,null,286,500,-7142.06,-714205.85724559135,null,286,237.89930086358751,-3703.68,-296294.47518489632]
[null,null,287,{"$f":"IF('Annuity Value'!B$11=\"Ordinary\",E288*(1+D$1/100),F289)","v":837083.6969531416},{"$f":"IF('Annuity Value'!B$11=\"Ordinary\",D289-E$2,G289)","v":831819.64901427762},832919.10144592926,827681.24280029349,null,287,2.1958149284869642E+17,2.4153964213356605E+17,null,287,68914078815910.875,75805486697501.953,null,287,287,488839.12627655966,1018.4148464094993,489857.54112296936,null,null,287,500,-7218.48,-721847.82301500265,null,287,237.89930086358751,-3752.95,-300236.0554255711]
[null,null,288,{"$f":"IF('Annuity Value'!B$11=\"Ordinary\",E289*(1+D$1/100),F290)","v":835978.74725934886},{"$f":"IF('Annuity Value'!B$11=\"Ordinary\",D290-E$2,G290)","v":830714.69932048488},831819.64901429485,826581.79036865907,null,288,2.4153964213356605E+17,2.6569360634692269E+17,null,288,75805486697501.953,83386035367252.156,null,288,288,491057.54112296936,1023.0365440061861,492080.57766697567,null,null,288,500,-7295.66,-729566.20844210871,null,288,237.89930086358751,-3802.84,-304226.90541925433]
[null,null,289,{"$f":"IF('Annuity Value'!B$11=\"Ordinary\",E290*(1+D$1/100),F291)","v":834868.27281708724},{"$f":"IF('Annuity Value'!B$11=\"Ordinary\",D291-E$2,G291)","v":829604.22487822326},830714.69932050223,825476.84067486646,null,289,2.6569360634692269E+17,2.9226296698161498E+17,null,289,83386035367252.156,91724638903977.375,null,289,289,493280.57766697567,1027.6678701395326,494308.2455371152,null,null,289,500,-7373.62,-737361.77772348525,null,289,237.89930086358751,-3853.35,-308267.6410378585]
[null,null,290,{"$f":"IF('Annuity Value'!B$11=\"Ordinary\",E291*(1+D$1/100),F292)","v":833752.24600261427},{"$f":"IF('Annuity Value'!B$11=\"Ordinary\",D292-E$2,G292)","v":828488.19806375029},829604.22487824073,824366.36623260495,null,290,2.9226296698161498E+17,3.2148926367977651E+17,null,290,91724638903977.375,100897102794375.14,null,290,290,495508.2455371152,1032.30884486899,496540.55438198423,null,null,290,500,-7452.35,-745235.302697676,null,290,237.89930086358751,-3904.49,-312358.88585169538]
[null,null,291,{"$f":"IF('Annuity Value'!B$11=\"Ordinary\",E292*(1+D$1/100),F293)","v":832630.63905406895},{"$f":"IF('Annuity Value'!B$11=\"Ordinary\",D293-E$2,G293)","v":827366.59111520497},828488.19806376786,823250.33941813209,null,291,3.2148926367977651E+17,3.5363819004775418E+17,null,291,100897102794375.14,110986813073812.64,null,291,291,497740.55438198423,1036.9594882958004,498777.51387028053,null,null,291,500,-7531.88,-753187.56292160833,null,291,237.89930086358751,-3956.27,-316501.2712257051]
[null,null,292,{"$f":"IF('Annuity Value'!B$11=\"Ordinary\",E293*(1+D$1/100),F294)","v":831503.42407078086},{"$f":"IF('Annuity Value'!B$11=\"Ordinary\",D294-E$2,G294)","v":826239.37613191688},827366.59111522266,822128.73246958689,null,292,3.5363819004775418E+17,3.890020090525296E+17,null,292,110986813073812.64,122085494381193.92,null,292,292,499977.51387028053,1041.6198205630844,501019.13369084365,null,null,292,500,-7612.19,-761219.34574778029,null,292,237.89930086358751,-4008.69,-320695.43641689001]
[null,null,293,{"$f":"IF('Annuity Value'!B$11=\"Ordinary\",E294*(1+D$1/100),F295)","v":830370.57301257644},{"$f":"IF('Annuity Value'!B$11=\"Ordinary\",D295-E$2,G295)","v":825106.52507371246},826239.3761319347,821001.51748629892,null,293,3.890020090525296E+17,4.2790220995778259E+17,null,293,122085494381193.92,134294043819313.33,null,293,293,502219.13369084365,1046.2898618559243,503265.42355269968,null,null,293,500,-7693.31,-769331.44640221377,null,293,237.89930086358751,-4061.78,-324942.02867296478]
[null,null,294,{"$f":"IF('Annuity Value'!B$11=\"Ordinary\",E295*(1+D$1/100),F296)","v":829232.05769908091},{"$f":"IF('Annuity Value'!B$11=\"Ordinary\",D296-E$2,G296)","v":823968.00976021693},825106.52507373039,819868.66642809461,null,294,4.2790220995778259E+17,4.706924309535609E+17,null,294,134294043819313.33,147723448201244.69,null,294,294,504465.42355269968,1050.9696324014576,505516.39318510116,null,null,294,500,-7775.25,-777524.66806319158,null,294,237.89930086358751,-4115.5200000000004,-329241.70333224034]
[null,null,295,{"$f":"IF('Annuity Value'!B$11=\"Ordinary\",E296*(1+D$1/100),F297)","v":828087.84980901796},{"$f":"IF('Annuity Value'!B$11=\"Ordinary\",D297-E$2,G297)","v":822823.80187015398},823968.00976023497,818730.1511145992,null,295,4.706924309535609E+17,5.1776167404891706E+17,null,295,147723448201244.69,162495793021369.16,null,295,295,506716.39318510116,1055.6591524689607,507772.05233757041,null,null,295,500,-7858,-785799.82194077899,null,295,237.89930086358751,-4169.9399999999996,-333595.12392475689]
[null,null,296,{"$f":"IF('Annuity Value'!B$11=\"Ordinary\",E297*(1+D$1/100),F298)","v":826937.92087950464},{"$f":"IF('Annuity Value'!B$11=\"Ordinary\",D298-E$2,G298)","v":821673.87294064066},822823.80187017214,817585.94322453637,null,296,5.1776167404891706E+17,5.695378414538087E+17,null,296,162495793021369.16,178745372323506.06,null,296,296,508972.05233757041,1060.3584423699383,510032.41077994037,null,null,296,500,-7941.58,-794157.72735714284,null,296,237.89930086358751,-4225.04,-338002.96227467997]
[null,null,297,{"$f":"IF('Annuity Value'!B$11=\"Ordinary\",E298*(1+D$1/100),F299)","v":825782.24230534374},{"$f":"IF('Annuity Value'!B$11=\"Ordinary\",D299-E$2,G299)","v":820518.19436647976},821673.87294065894,816436.01429502317,null,297,5.695378414538087E+17,6.2649162559918963E+17,null,297,178745372323506.06,196619909555856.66,null,297,297,511232.41077994037,1065.0675224582092,512297.4783023987,null,null,297,500,-8025.99,-802599.21182766976,null,297,237.89930086358751,-4280.82,-342465.89860397711]
[null,null,298,{"$f":"IF('Annuity Value'!B$11=\"Ordinary\",E299*(1+D$1/100),F300)","v":824620.78533831204},{"$f":"IF('Annuity Value'!B$11=\"Ordinary\",D300-E$2,G300)","v":819356.73739944806},820518.19436649815,815280.33572086238,null,298,6.2649162559918963E+17,6.8914078815910861E+17,null,298,196619909555856.66,216281900511442.34,null,298,298,513497.4783023987,1069.7864131299973,514567.26471552899,null,null,298,500,-8111.25,-811125.1111429024,null,298,237.89930086358751,-4337.3100000000004,-346984.62163739046]
[null,null,299,{"$f":"IF('Annuity Value'!B$11=\"Ordinary\",E300*(1+D$1/100),F301)","v":823453.52108644519},{"$f":"IF('Annuity Value'!B$11=\"Ordinary\",D301-E$2,G301)","v":818189.47314758122},819356.73739946657,814118.8787538308,null,299,6.8914078815910861E+17,7.5805486697501952E+17,null,299,216281900511442.34,237910090562586.62,null,299,299,515767.26471552899,1074.5151348240188,516841.77985035296,null,null,299,500,-8197.36,-819736.26945128699,null,299,237.89930086358751,-4394.5,-351559.82870872127]
[null,null,300,{"$f":"IF('Annuity Value'!B$11=\"Ordinary\",E301*(1+D$1/100),F302)","v":822280.42051331908},{"$f":"IF('Annuity Value'!B$11=\"Ordinary\",D302-E$2,G302)","v":817016.3725744551},818189.47314759984,812951.61450196407,null,300,7.5805486697501952E+17,8.338603536725216E+17,null,300,237910090562586.62,261701099618845.31,null,300,300,518041.77985035296,1079.2537080215686,519121.03355837474,null,null,300,500,-8284.34,-828433.53934275557,null,300,237.89930086358751,-4452.3999999999996,-356192.22586844396]
[null,null,301,{"$f":"IF('Annuity Value'!B$11=\"Ordinary\",E302*(1+D$1/100),F303)","v":821101.45443732734},{"$f":"IF('Annuity Value'!B$11=\"Ordinary\",D303-E$2,G303)","v":815837.40649846336},817016.37257447385,811778.51392883807,null,301,8.338603536725216E+17,9.172463890397737E+17,null,301,261701099618845.31,287871209580729.81,null,301,301,520321.03355837474,1084.0021532466139,521405.03571162146,null,null,301,500,-8372.18,-837217.78193313873,null,301,237.89930086358751,-4511.03,-360882.52799266309]
[null,null,302,{"$f":"IF('Annuity Value'!B$11=\"Ordinary\",E303*(1+D$1/100),F304)","v":819916.59353095561},{"$f":"IF('Annuity Value'!B$11=\"Ordinary\",D304-E$2,G304)","v":814652.54559209163},815837.40649848222,810599.54785284644,null,302,9.172463890397737E+17,1.0089710279437513E+18,null,302,287871209580729.81,316658330538802.87,null,302,302,522605.03571162146,1088.7604910658781,523693.79620268749,null,null,302,500,-8460.9,-846089.86694942601,null,302,237.89930086358751,-4570.3900000000003,-365631.45889343502]
[null,null,303,{"$f":"IF('Annuity Value'!B$11=\"Ordinary\",E304*(1+D$1/100),F305)","v":818725.80832005199},{"$f":"IF('Annuity Value'!B$11=\"Ordinary\",D305-E$2,G305)","v":813461.76038118801},814652.5455921106,809414.68694647483,null,303,1.0089710279437513E+18,1.1098681307381265E+18,null,303,316658330538802.87,348324163592683.12,null,303,303,524893.79620268755,1093.5287420889324,525987.32494477672,null,null,303,500,-8550.51,-855050.67281587585,null,303,237.89930086358751,-4630.5,-370439.75143046648]
[null,null,304,{"$f":"IF('Annuity Value'!B$11=\"Ordinary\",E305*(1+D$1/100),F306)","v":817529.06918309384},{"$f":"IF('Annuity Value'!B$11=\"Ordinary\",D306-E$2,G306)","v":812265.02124422987},813461.7603812071,808223.90173557133,null,304,1.1098681307381265E+18,1.2208549438119391E+18,null,304,348324163592683.12,383156579951951.44,null,304,304,527187.32494477672,1098.3069269682849,528285.63187174522,null,null,304,500,-8641.01,-864101.08674099052,null,304,237.89930086358751,-4691.3500000000004,-375308.14762421092]
[null,null,305,{"$f":"IF('Annuity Value'!B$11=\"Ordinary\",E306*(1+D$1/100),F307)","v":816326.34635045088},{"$f":"IF('Annuity Value'!B$11=\"Ordinary\",D307-E$2,G307)","v":811062.2984115869},812265.02124424907,807027.1625986133,null,305,1.2208549438119391E+18,1.3429404381931331E+18,null,305,383156579951951.44,421472237947146.69,null,305,305,529485.63187174522,1103.0950663994693,530588.72693814477,null,null,305,500,-8732.42,-873242.0048053558,null,305,237.89930086358751,-4752.97,-380237.39877037704]
[null,null,306,{"$f":"IF('Annuity Value'!B$11=\"Ordinary\",E307*(1+D$1/100),F308)","v":815117.60990364477},{"$f":"IF('Annuity Value'!B$11=\"Ordinary\",D308-E$2,G308)","v":809853.56196478079},811062.29841160623,805824.43976597046,null,306,1.3429404381931331E+18,1.4772344820124467E+18,null,306,421472237947146.69,463619461741861.44,null,306,306,531788.72693814477,1107.8931811211348,532896.62011926575,null,null,306,500,-8824.74,-882474.3320503654,null,306,237.89930086358751,-4815.3500000000004,-385228.26555587043]
[null,null,307,{"$f":"IF('Annuity Value'!B$11=\"Ordinary\",E308*(1+D$1/100),F309)","v":813902.82977460464},{"$f":"IF('Annuity Value'!B$11=\"Ordinary\",D309-E$2,G309)","v":808638.78183574066},809853.56196480023,804615.70331916446,null,307,1.4772344820124467E+18,1.6249579302136914E+18,null,307,463619461741861.44,509981407916047.56,null,307,307,534096.62011926575,1112.7012919151371,535209.32141118112,null,null,307,500,-8917.99,-891798.98256782454,null,307,237.89930086358751,-4878.5200000000004,-390281.51817618223]
[null,null,308,{"$f":"IF('Annuity Value'!B$11=\"Ordinary\",E309*(1+D$1/100),F310)","v":812681.97574491927},{"$f":"IF('Annuity Value'!B$11=\"Ordinary\",D310-E$2,G310)","v":807417.92780605529},808638.78183576022,803400.92319012445,null,308,1.6249579302136914E+18,1.7874537232350605E+18,null,308,509981407916047.56,560979548707652.37,null,308,308,536409.32141118112,1117.5194196066273,537526.84083078802,null,null,308,500,-9012.17,-901216.8795904587,null,308,237.89930086358751,-4942.47,-395397.93645424821]
[null,null,309,{"$f":"IF('Annuity Value'!B$11=\"Ordinary\",E310*(1+D$1/100),F311)","v":811455.01744508545},{"$f":"IF('Annuity Value'!B$11=\"Ordinary\",D311-E$2,G311)","v":806190.96950622147},807417.92780607496,802180.06916043919,null,309,1.7874537232350605E+18,1.9661990955585669E+18,null,309,560979548707652.37,617077503578417.62,null,309,309,538726.84083078802,1122.3475850641416,539849.18841585226,null,null,309,500,-9107.2900000000009,-910728.95558331872,null,309,237.89930086358751,-5007.2299999999996,-400578.30996078992]
[null,null,310,{"$f":"IF('Annuity Value'!B$11=\"Ordinary\",E311*(1+D$1/100),F312)","v":810221.92435375252},{"$f":"IF('Annuity Value'!B$11=\"Ordinary\",D312-E$2,G312)","v":804957.87641488854},806190.96950624126,800953.11086060549,null,310,1.9661990955585669E+18,2.1628190051144238E+18,null,310,617077503578417.62,678785253936259.5,null,310,310,541049.18841585226,1127.1858091996921,542176.37422505196,null,null,310,500,-9203.36,-920336.15233610792,null,310,237.89930086358751,-5072.79,-405823.4381361634]
[null,null,311,{"$f":"IF('Annuity Value'!B$11=\"Ordinary\",E312*(1+D$1/100),F313)","v":808982.66579696292},{"$f":"IF('Annuity Value'!B$11=\"Ordinary\",D313-E$2,G313)","v":803718.61785809894},804957.87641490845,799720.01776927267,null,311,2.1628190051144238E+18,2.3791009056258668E+18,null,311,678785253936259.5,746663779329885.5,null,311,311,543376.37422505196,1132.0341129688582,544508.40833802114,null,null,311,500,-9300.39,-930039.4210564245,null,311,237.89930086358751,-5139.18,-411134.13041372894]
[null,null,312,{"$f":"IF('Annuity Value'!B$11=\"Ordinary\",E313*(1+D$1/100),F314)","v":807737.21094738937},{"$f":"IF('Annuity Value'!B$11=\"Ordinary\",D314-E$2,G314)","v":802473.16300852539},803718.61785811896,798480.75921248319,null,312,2.3791009056258668E+18,2.6170109961884529E+18,null,312,746663779329885.5,821330157262873.87,null,312,312,545708.40833802114,1136.8925173708774,546845.30085539189,null,null,312,500,-9398.4,-939839.72246394469,null,312,237.89930086358751,-5206.3900000000003,-416511.2063447641]
[null,null,313,{"$f":"IF('Annuity Value'!B$11=\"Ordinary\",E314*(1+D$1/100),F315)","v":806485.5288235679},{"$f":"IF('Annuity Value'!B$11=\"Ordinary\",D315-E$2,G315)","v":801221.48088470392},802473.16300854553,797235.30436290975,null,313,2.6170109961884529E+18,2.8787120958072986E+18,null,313,821330157262873.87,903463172989161.5,null,313,313,548045.30085539189,1141.7610434487331,549187.06189884094,null,null,313,500,-9497.3799999999992,-949738.02688553964,null,313,237.89930086358751,-5274.44,-421955.49572493718]
[null,null,314,{"$f":"IF('Annuity Value'!B$11=\"Ordinary\",E315*(1+D$1/100),F316)","v":805227.58828912734},{"$f":"IF('Annuity Value'!B$11=\"Ordinary\",D316-E$2,G316)","v":799963.54035026336},801221.48088472418,795983.62223908841,null,314,2.8787120958072986E+18,3.1665833053880284E+18,null,314,903463172989161.5,993809490288077.75,null,314,314,550387.06189884094,1146.639712289252,551533.7016111305,null,null,314,500,-9597.35,-959735.31435135077,null,314,237.89930086358751,-5343.35,-427467.83872236259]
[null,null,315,{"$f":"IF('Annuity Value'!B$11=\"Ordinary\",E316*(1+D$1/100),F317)","v":803963.35805201461},{"$f":"IF('Annuity Value'!B$11=\"Ordinary\",D317-E$2,G317)","v":798699.31011315063},799963.54035028373,794725.68170464796,null,315,3.1665833053880284E+18,3.4832416359268321E+18,null,315,993809490288077.75,1093190439316885.7,null,315,315,552733.7016111305,1151.5285450231886,553885.23015615367,null,null,315,500,-9698.33,-969832.57469181984,null,315,237.89930086358751,-5413.11,-433049.08600725571]
[null,null,316,{"$f":"IF('Annuity Value'!B$11=\"Ordinary\",E317*(1+D$1/100),F318)","v":802692.80666371633},{"$f":"IF('Annuity Value'!B$11=\"Ordinary\",D318-E$2,G318)","v":797428.75872485235},798699.31011317112,793461.45146753534,null,316,3.4832416359268321E+18,3.8315657995195151E+18,null,316,1093190439316885.7,1202509483248574.2,null,316,316,555085.23015615367,1156.4275628253201,556241.65771897917,null,null,316,500,-9800.31,-980030.80763569404,null,316,237.89930086358751,-5483.75,-438700.09888321004]
[null,null,317,{"$f":"IF('Annuity Value'!B$11=\"Ordinary\",E318*(1+D$1/100),F319)","v":801415.90251847648},{"$f":"IF('Annuity Value'!B$11=\"Ordinary\",D319-E$2,G319)","v":796151.8545796125},797428.75872487295,792190.90007923718,null,317,3.8315657995195151E+18,4.214722379471467E+18,null,317,1202509483248574.2,1322760431573431.7,null,317,317,557441.65771897917,1161.33678691454,558602.99450589402,null,null,317,500,-9903.31,-990331.02290900645,null,317,237.89930086358751,-5555.27,-444421.74942011369]
[null,null,318,{"$f":"IF('Annuity Value'!B$11=\"Ordinary\",E319*(1+D$1/100),F320)","v":800132.61385251046},{"$f":"IF('Annuity Value'!B$11=\"Ordinary\",D320-E$2,G320)","v":794868.56591364648},796151.85457963333,790913.99593399756,null,318,4.214722379471467E+18,4.6361946174186148E+18,null,318,1322760431573431.7,1455036474730775.2,null,318,318,559802.99450589402,1166.2562385539459,560969.25074444804,null,null,318,500,-10007.34,-1000734.2403350519,null,318,237.89930086358751,-5627.69,-450214.9205887288]
[null,null,319,{"$f":"IF('Annuity Value'!B$11=\"Ordinary\",E320*(1+D$1/100),F321)","v":798842.90874321468},{"$f":"IF('Annuity Value'!B$11=\"Ordinary\",D321-E$2,G321)","v":793578.8608043507},794868.56591366744,789630.70726803166,null,319,4.6361946174186148E+18,5.0998140791604756E+18,null,319,1455036474730775.2,1600540122203852.5,null,319,319,562169.25074444804,1171.1859390509335,563340.43668349914,null,null,319,500,-10112.41,-1011241.4899353585,null,319,237.89930086358751,-5701.01,-456080.50639695133]
[null,null,320,{"$f":"IF('Annuity Value'!B$11=\"Ordinary\",E321*(1+D$1/100),F322)","v":797546.75510837231},{"$f":"IF('Annuity Value'!B$11=\"Ordinary\",D322-E$2,G322)","v":792282.70716950833},793578.86080437177,788341.002158736,null,320,5.0998140791604756E+18,5.609795487076523E+18,null,320,1600540122203852.5,1760594134424238,null,320,320,564540.43668349914,1176.1259097572899,565716.56259325671,null,null,320,500,-10218.540000000001,-1021853.8120316676,null,320,237.89930086358751,-5775.24,-462019.41202777688]
[null,null,321,{"$f":"IF('Annuity Value'!B$11=\"Ordinary\",E322*(1+D$1/100),F323)","v":796244.12070535577},{"$f":"IF('Annuity Value'!B$11=\"Ordinary\",D323-E$2,G323)","v":790980.07276649179},792282.70716952963,787044.84852389386,null,321,5.609795487076523E+18,6.1707750357841756E+18,null,321,1760594134424238,1936653547866661.7,null,321,321,566916.56259325671,1181.0761720692849,568097.63876532589,null,null,321,500,{"$f":"ROUND(Y$2*AA323,2)","v":-10325.719999999999},{"$f":"IF(X$1=\"\",\"\",(1-(1+Y$2)^(X323-X$1))/(1-(1+Y$2)^(-X$1))*Z$1)","v":-1032572.2573489401},null,321,237.89930086358751,{"$f":"ROUND(AE$2*AF323,2)","v":-5850.41},{"$f":"AF$1*(1-(1+AE$2)^(AC323-AC$1))/(1-(1+AE$2)^(-AC$1))","v":-468032.55397898768}]
[null,null,{"$f":"C323+1","v":322},{"$f":"IF('Annuity Value'!B$11=\"Ordinary\",E323*(1+D$1/100),F324)","v":794934.97313032416},{"$f":"IF('Annuity Value'!B$11=\"Ordinary\",D324-E$2,G324)","v":789670.92519146018},790980.07276651321,785742.21412087744,null,{"$f":"I323+1","v":322},{"$f":"K323","v":6.1707750357841756E+18},{"$f":"K$2*(1+J$1)^I324","v":6.7878525393625938E+18},null,{"$f":"M323+1","v":322},{"$f":"O323","v":1936653547866661.7},{"$f":"O$2*(1+N$1)^M324","v":2130318902653328},null,{"$f":"Q323+1","v":322},{"$f":"IF(A$5=1,Q324*12,IF(A$5=2,Q324*6,IF(A$5=4,Q324*3,Q324)))","v":322},569297.63876532589,1186.0367474277623,{"$f":"T$1*(1+S$2)^Q324+S$1*(((1+S$2)^(Q324+1)-(1+S$2))/S$2)","v":570483.67551275366},null,null,{"$f":"X323+1","v":322},{"$f":"Y323","v":500},-10433.98,-1043397.8871193849,null,{"$f":"AC323+1","v":322},{"$f":"AD323","v":237.89930086358751},-5926.51,-474120.86020458862]
[null,null,323,{"$f":"IF('Annuity Value'!B$11=\"Ordinary\",E324*(1+D$1/100),F325)","v":793619.27981741738},{"$f":"IF('Annuity Value'!B$11=\"Ordinary\",D325-E$2,G325)","v":788355.2318785534},{"$f":"G324*(1+F$1/100)","v":789670.92519148171},784433.06654584594,null,323,6.7878525393625938E+18,7.4666377932988559E+18,null,323,2130318902653328,2343350792918661.5,null,323,323,{"$f":"S$1+U324","v":571683.67551275366},{"$f":"S$2*S325","v":1191.0076573182369},572874.68317007227,null,null,323,500,-10543.32,-1054331.7731875349,null,323,237.89930086358751,-6003.57,-480285.27025800943]
[null,null,324,{"$f":"IF('Annuity Value'!B$11=\"Ordinary\",E325*(1+D$1/100),F326)","v":792297.00803794607},{"$f":"IF('Annuity Value'!B$11=\"Ordinary\",D326-E$2,G326)","v":787032.96009908209},788355.23187857505,783117.37323293928,null,324,7.4666377932988559E+18,8.2133015726287401E+18,null,324,2343350792918661.5,2577685872210527.5,null,324,324,574074.68317007227,1195.9889232709838,575270.67209334322,null,null,324,500,-10653.75,-1065374.9981163656,null,324,237.89930086358751,-6081.58,-486526.73543709831]
[null,null,325,{"$f":"IF('Annuity Value'!B$11=\"Ordinary\",E326*(1+D$1/100),F327)","v":790968.12489957747},{"$f":"IF('Annuity Value'!B$11=\"Ordinary\",D327-E$2,G327)","v":785704.07696071349},787032.96009910386,781795.10145346809,null,325,8.2133015726287401E+18,9.0346317298916147E+18,null,325,2577685872210527.5,2835454459431580.5,null,325,325,576470.67209334322,1200.9805668611316,577671.65266020445,null,null,325,500,-10765.29,-1076528.6552944852,null,325,237.89930086358751,-6160.58,-492846.21893092559]
[null,null,326,{"$f":"IF('Annuity Value'!B$11=\"Ordinary\",E327*(1+D$1/100),F328)","v":789632.59734551702},{"$f":"IF('Annuity Value'!B$11=\"Ordinary\",D328-E$2,G328)","v":784368.54940665304},785704.07696073537,780466.2183150996,null,326,9.0346317298916147E+18,9.9380949028807782E+18,null,326,2835454459431580.5,3118999905374739,null,326,326,578871.65266020445,1205.9826097087594,580077.63526991359,null,null,326,500,-10877.94,-1087793.8490443856,null,326,237.89930086358751,-6240.56,-499244.69596842572]
[null,null,327,{"$f":"IF('Annuity Value'!B$11=\"Ordinary\",E328*(1+D$1/100),F329)","v":788290.39215368626},{"$f":"IF('Annuity Value'!B$11=\"Ordinary\",D329-E$2,G329)","v":783026.34421482228},784368.54940667504,779130.69076103927,null,327,9.9380949028807782E+18,1.0931904393168857E+19,null,327,3118999905374739,3430899895912213.5,null,327,327,581277.63526991359,1210.9950734789866,582488.63034339284,null,null,327,500,-10991.72,-1099171.6947317855,null,327,237.89930086358751,-6321.54,-505723.15396889456]
[null,null,328,{"$f":"IF('Annuity Value'!B$11=\"Ordinary\",E329*(1+D$1/100),F330)","v":786941.47593589628},{"$f":"IF('Annuity Value'!B$11=\"Ordinary\",D330-E$2,G330)","v":781677.4279970323},783026.3442148444,777788.48556920863,null,328,1.0931904393168857E+19,1.2025094832485743E+19,null,328,3430899895912213.5,3773989885503434.5,null,328,328,583688.63034339284,1216.0179798820684,584904.6483232748,null,null,328,500,-11106.63,-1110663.3188760588,null,328,237.89930086358751,-6403.53,-512282.59269436944]
[null,null,329,{"$f":"IF('Annuity Value'!B$11=\"Ordinary\",E330*(1+D$1/100),F331)","v":785585.8151370174},{"$f":"IF('Annuity Value'!B$11=\"Ordinary\",D331-E$2,G331)","v":780321.76719815342},781677.42799705453,776439.56935141876,null,329,1.2025094832485743E+19,1.3227604315734317E+19,null,329,3773989885503434.5,4151388874053778,null,329,329,586104.6483232748,1221.0513506734892,587325.69967394846,null,null,329,500,-11222.7,-1122269.8592617754,null,329,237.89930086358751,-6486.55,-518924.02440391254]
[null,null,330,{"$f":"IF('Annuity Value'!B$11=\"Ordinary\",E331*(1+D$1/100),F332)","v":784223.37603414408},{"$f":"IF('Annuity Value'!B$11=\"Ordinary\",D332-E$2,G332)","v":778959.3280952801},780321.76719817577,775083.90855254,null,330,1.3227604315734317E+19,1.4550364747307749E+19,null,330,4151388874053778,4566527761459156,null,330,330,588525.69967394846,1226.0952076540593,589751.79488160287,null,null,330,500,-11339.92,-1133992.4650513483,null,330,237.89930086358751,-6570.61,-525648.47400982515]
[null,null,331,{"$f":"IF('Annuity Value'!B$11=\"Ordinary\",E332*(1+D$1/100),F333)","v":782854.12473575643},{"$f":"IF('Annuity Value'!B$11=\"Ordinary\",D333-E$2,G333)","v":777590.07679689245},778959.32809530257,{"$f":"F333-G$2","v":773721.46944966679},null,331,1.4550364747307749E+19,1.6005401222038524E+19,null,331,4566527761459156,5023180537605072,null,331,331,590951.79488160287,1231.1495726700059,592182.94445427274,null,null,331,500,-11458.32,-1145832.2968988181,null,331,237.89930086358751,-6655.71,-532456.97923581139]
[null,null,332,{"$f":"IF('Annuity Value'!B$11=\"Ordinary\",E333*(1+D$1/100),F334)","v":781478.02718087682},{"$f":"IF('Annuity Value'!B$11=\"Ordinary\",D334-E$2,G334)","v":776213.97924201284},777590.07679691503,772352.21815127926,null,332,1.6005401222038524E+19,1.7605941344242379E+19,null,332,5023180537605072,5525498591365580,null,332,332,593382.94445427274,1236.2144676130681,594619.15892188612,null,null,332,500,-11577.91,-1157790.5270647616,null,332,237.89930086358751,-6741.88,-539350.59077712276]
[null,null,333,{"$f":"IF('Annuity Value'!B$11=\"Ordinary\",E334*(1+D$1/100),F335)","v":780095.04913822282},{"$f":"IF('Annuity Value'!B$11=\"Ordinary\",D335-E$2,G335)","v":774831.00119935884},776213.97924203554,770976.12059639976,null,333,1.7605941344242379E+19,1.9366535478666621E+19,null,333,5525498591365580,6078048450502138,null,333,333,595819.15892188612,1241.289914420596,597060.44883630692,null,null,333,500,-11698.68,-1169868.3395323653,null,333,237.89930086358751,-6829.13,-546330.37246270024]
[null,null,334,{"$f":"IF('Annuity Value'!B$11=\"Ordinary\",E335*(1+D$1/100),F336)","v":778705.15620535554},{"$f":"IF('Annuity Value'!B$11=\"Ordinary\",D336-E$2,G336)","v":773441.10826649156},774831.00119938166,769593.14255374589,null,334,1.9366535478666621E+19,2.1303189026533286E+19,null,334,6078048450502138,6685853295552353,null,334,334,598260.44883630692,1246.3759350756395,599506.82477138238,null,null,334,500,-11820.67,-1182066.9301246444,null,334,237.89930086358751,-6917.47,-553397.40141934773]
[null,null,335,{"$f":"IF('Annuity Value'!B$11=\"Ordinary\",E336*(1+D$1/100),F337)","v":777308.31380782393},{"$f":"IF('Annuity Value'!B$11=\"Ordinary\",D337-E$2,G337)","v":772044.26586895995},773441.10826651449,768203.24962087872,null,335,2.1303189026533286E+19,2.3433507929186611E+19,null,335,6685853295552353,7354438625107588,null,335,335,600706.82477138238,1251.4725516070466,601958.29732298967,null,null,335,500,-11943.88,-1194387.5066228467,null,335,237.89930086358751,-7006.91,-560552.76823795296]
[null,null,336,{"$f":"IF('Annuity Value'!B$11=\"Ordinary\",E337*(1+D$1/100),F338)","v":775904.48719830462},{"$f":"IF('Annuity Value'!B$11=\"Ordinary\",D338-E$2,G338)","v":770640.43925944064},772044.265868983,766806.40722334723,null,336,2.3433507929186611E+19,2.5776858722105274E+19,null,336,7354438625107588,8089882487618347,null,336,336,603158.29732298967,1256.5797860895618,604414.87710907951,null,null,336,500,-12068.31,-1206831.2888860307,null,336,237.89930086358751,-7097.47,-567797.577141791]
[null,null,337,{"$f":"IF('Annuity Value'!B$11=\"Ordinary\",E338*(1+D$1/100),F339)","v":774493.64145573776},{"$f":"IF('Annuity Value'!B$11=\"Ordinary\",D339-E$2,G339)","v":769229.59351687378},770640.43925946392,765402.58061382815,null,337,2.5776858722105274E+19,2.8354544594315801E+19,null,337,8089882487618347,8898870736380181,null,337,337,605614.87710907951,1261.6976606439157,606876.57476972381,null,null,337,500,-12194,-1219399.5089718471,null,337,237.89930086358751,-7189.16,-575132.94615692704]
[null,null,338,{"$f":"IF('Annuity Value'!B$11=\"Ordinary\",E339*(1+D$1/100),F340)","v":773075.74148445809},{"$f":"IF('Annuity Value'!B$11=\"Ordinary\",D340-E$2,G340)","v":767811.69354559411},769229.59351689718,763991.7348712614,null,338,2.8354544594315801E+19,3.118999905374738E+19,null,338,8898870736380181,9788757810018200,null,338,338,608076.57476972381,1266.8261974369245,609343.40096716059,null,null,338,500,-12320.93,-1232093.4112585208,null,338,237.89930086358751,-7282,-582560.00728475221]
[null,null,339,{"$f":"IF('Annuity Value'!B$11=\"Ordinary\",E340*(1+D$1/100),F341)","v":771650.75201332197},{"$f":"IF('Annuity Value'!B$11=\"Ordinary\",D341-E$2,G341)","v":766386.70407445799},767811.69354561763,762573.83489998186,null,339,3.118999905374738E+19,3.4308998959122137E+19,null,339,9788757810018200,1.0767633591020024E+16,null,339,339,610543.40096716059,1271.9654186815847,611815.36638584232,null,null,339,500,-12449.14,-1244914.2525680622,null,339,237.89930086358751,-7376,-590079.90667667508]
[null,null,340,{"$f":"IF('Annuity Value'!B$11=\"Ordinary\",E341*(1+D$1/100),F342)","v":770218.63759483024},{"$f":"IF('Annuity Value'!B$11=\"Ordinary\",D342-E$2,G342)","v":764954.58965596627},766386.70407448174,761148.84542884596,null,340,3.4308998959122137E+19,3.7739898855034339E+19,null,340,1.0767633591020024E+16,1.1844396950122024E+16,null,340,340,613015.36638584232,1277.1153466371716,614292.48173247965,null,null,340,500,-12578.63,-1257863.3022906983,null,340,237.89930086358751,-7471.17,-597693.80481099733]
[null,null,341,{"$f":"IF('Annuity Value'!B$11=\"Ordinary\",E342*(1+D$1/100),F343)","v":768779.36260424601},{"$f":"IF('Annuity Value'!B$11=\"Ordinary\",D343-E$2,G343)","v":763515.31466538203},764954.58965599013,759716.73101035436,null,341,3.7739898855034339E+19,4.1513888740537778E+19,null,341,1.1844396950122024E+16,1.302883664513423E+16,null,341,341,615492.48173247965,1282.2760036093325,616774.75773608917,null,null,341,500,-12709.42,-1270941.8425105612,null,341,237.89930086358751,-7567.54,-605402.87667199818]
[null,null,342,{"$f":"IF('Annuity Value'!B$11=\"Ordinary\",E343*(1+D$1/100),F344)","v":767332.89123870886},{"$f":"IF('Annuity Value'!B$11=\"Ordinary\",D344-E$2,G344)","v":762068.84329984488},763515.31466540601,758277.45601977024,null,342,4.1513888740537778E+19,4.5665277614591558E+19,null,342,1.302883664513423E+16,1.4331720309647654E+16,null,342,342,617974.75773608917,1287.4474119501858,619262.2051480395,null,null,342,500,-12841.51,-1284151.1681326223,null,342,237.89930086358751,-7665.1,-613208.31193126191]
[null,null,343,{"$f":"IF('Annuity Value'!B$11=\"Ordinary\",E344*(1+D$1/100),F345)","v":765879.18751634401},{"$f":"IF('Annuity Value'!B$11=\"Ordinary\",D345-E$2,G345)","v":760615.13957748003},762068.84329986898,756830.98465423321,null,343,4.5665277614591558E+19,5.0231805376050717E+19,null,343,1.4331720309647654E+16,1.5764892340612418E+16,null,343,343,620462.2051480395,1292.6295940584157,621754.83474209812,null,null,343,500,-12974.93,-1297492.5870109044,null,343,237.89930086358751,-7763.89,-621111.31513126602]
[null,null,344,{"$f":"IF('Annuity Value'!B$11=\"Ordinary\",E345*(1+D$1/100),F346)","v":764418.21527536737},{"$f":"IF('Annuity Value'!B$11=\"Ordinary\",D346-E$2,G346)","v":759154.16733650339},760615.13957750425,755377.28093186847,null,344,5.0231805376050717E+19,5.5254985913655788E+19,null,344,1.5764892340612418E+16,1.734138157467366E+16,null,344,344,622954.83474209812,1297.822572379371,624252.65731447737,null,null,344,500,-13109.67,-1310967.4200779689,null,344,237.89930086358751,-7863.91,-629113.10587127053]
[null,null,345,{"$f":"IF('Annuity Value'!B$11=\"Ordinary\",E346*(1+D$1/100),F347)","v":762949.9381731858},{"$f":"IF('Annuity Value'!B$11=\"Ordinary\",D347-E$2,G347)","v":757685.89023432182},759154.16733652772,753916.30869089195,null,345,5.5254985913655788E+19,6.0780484505021383E+19,null,345,1.734138157467366E+16,1.9075519732141032E+16,null,345,345,625452.65731447737,1303.0263694051612,626755.68368388305,null,null,345,500,-13245.77,-1324577.0014757046,null,345,237.89930086358751,-7965.19,-637214.91899552487]
[null,null,346,{"$f":"IF('Annuity Value'!B$11=\"Ordinary\",E347*(1+D$1/100),F348)","v":761474.31968549336},{"$f":"IF('Annuity Value'!B$11=\"Ordinary\",D348-E$2,G348)","v":756210.27174662938},757685.89023434639,752448.03158871061,null,346,6.0780484505021383E+19,6.6858532955523523E+19,null,346,1.9075519732141032E+16,2.0983071705355136E+16,null,346,346,627955.68368388305,1308.2410076747562,629263.92469155812,null,null,346,500,-13383.23,-1338322.6786874169,null,346,237.89930086358751,-8067.73,-645418.0047838327]
[null,null,347,{"$f":"IF('Annuity Value'!B$11=\"Ordinary\",E348*(1+D$1/100),F349)","v":759991.32310536248},{"$f":"IF('Annuity Value'!B$11=\"Ordinary\",D349-E$2,G349)","v":754727.2751664985},756210.27174665406,750972.41310101829,null,347,6.6858532955523523E+19,7.3544386251075879E+19,null,347,2.0983071705355136E+16,2.3081378875890648E+16,null,347,347,630463.92469155812,1313.4665097740794,631777.39120133198,null,null,347,500,-13522.06,-1352205.8126712472,null,347,237.89930086358751,-8171.55,-653723.62914449396]
[null,null,348,{"$f":"IF('Annuity Value'!B$11=\"Ordinary\",E349*(1+D$1/100),F350)","v":758500.91154233087},{"$f":"IF('Annuity Value'!B$11=\"Ordinary\",D350-E$2,G350)","v":753236.86360346689},754727.27516652329,749489.41652088752,null,348,7.3544386251075879E+19,8.089882487618347E+19,null,348,2.3081378875890648E+16,2.5389516763479716E+16,null,348,348,632977.39120133198,1318.7028983361083,634296.09409966832,null,null,348,500,-13662.28,-1366227.7779949149,null,348,237.89930086358751,-8276.66,-662133.07380966388]
[null,null,349,{"$f":"IF('Annuity Value'!B$11=\"Ordinary\",E350*(1+D$1/100),F351)","v":757003.0479214841},{"$f":"IF('Annuity Value'!B$11=\"Ordinary\",D351-E$2,G351)","v":751738.99998262012},753236.86360349192,747999.00495785614,null,349,8.089882487618347E+19,8.8988707363801825E+19,null,349,2.5389516763479716E+16,2.7928468439827688E+16,null,349,349,635496.09409966832,1323.9501960409757,636820.04429570946,null,null,349,500,-13803.9,-1380389.9629718205,null,349,237.89930086358751,-8383.1,-670647.63653314835]
[null,null,350,{"$f":"IF('Annuity Value'!B$11=\"Ordinary\",E351*(1+D$1/100),F352)","v":755497.69498253311},{"$f":"IF('Annuity Value'!B$11=\"Ordinary\",D352-E$2,G352)","v":750233.64704366913},751738.99998264539,746501.14133700961,null,350,8.8988707363801825E+19,9.7887578100182024E+19,null,350,2.7928468439827688E+16,3.0721315283810464E+16,null,350,350,638020.04429570946,1329.2084256160613,639349.25272132573,null,null,350,500,-13946.94,-1394693.7697984939,null,350,237.89930086358751,-8490.86,-679268.63129067631]
[null,null,351,{"$f":"IF('Annuity Value'!B$11=\"Ordinary\",E352*(1+D$1/100),F353)","v":753984.8152788874},{"$f":"IF('Annuity Value'!B$11=\"Ordinary\",D353-E$2,G353)","v":748720.76734002342},750233.64704369463,744995.78839805885,null,351,9.7887578100182024E+19,1.0767633591020023E+20,null,351,3.0721315283810464E+16,3.3793446812191512E+16,null,351,351,640549.25272132573,1334.4776098360953,641883.73033116222,null,null,351,500,-14091.41,-1409140.6146934342,null,351,237.89930086358751,-8599.9699999999993,-687997.38848267321]
[null,null,352,{"$f":"IF('Annuity Value'!B$11=\"Ordinary\",E353*(1+D$1/100),F354)","v":752464.37117672351},{"$f":"IF('Annuity Value'!B$11=\"Ordinary\",D354-E$2,G354)","v":747200.32323785953},748720.76734004903,743482.90869441326,null,352,1.0767633591020023E+20,1.1844396950122026E+20,null,352,3.3793446812191512E+16,3.7172791493410664E+16,null,352,352,643083.73033116222,1339.7577715232546,644423.48810268519,null,null,352,500,-14237.32,-1423731.9280373245,null,352,237.89930086358751,-8710.44,-696835.25513957033]
[null,null,353,{"$f":"IF('Annuity Value'!B$11=\"Ordinary\",E354*(1+D$1/100),F355)","v":750936.32485404878},{"$f":"IF('Annuity Value'!B$11=\"Ordinary\",D355-E$2,G355)","v":745672.2769151848},747200.32323788526,741962.46459224948,null,353,1.1844396950122026E+20,1.302883664513423E+20,null,353,3.7172791493410664E+16,4.0890070642751728E+16,null,353,353,645623.48810268519,1345.0489335472607,646968.53703623277,null,null,353,500,-14384.69,-1438469.1545146534,null,353,237.89930086358751,-8822.2900000000009,-705783.59512967838]
[null,null,354,{"$f":"IF('Annuity Value'!B$11=\"Ordinary\",E355*(1+D$1/100),F356)","v":749400.63829976064},{"$f":"IF('Annuity Value'!B$11=\"Ordinary\",D356-E$2,G356)","v":744136.59036089666},745672.27691521065,740434.41826957488,null,354,1.302883664513423E+20,1.4331720309647652E+20,null,354,4.0890070642751728E+16,4.4979077707026904E+16,null,354,354,648168.53703623277,1350.3511188254849,649518.88815505814,null,null,354,500,-14533.54,-1453353.7532567559,null,354,237.89930086358751,-8935.5499999999993,-714843.78936966299]
[null,null,355,{"$f":"IF('Annuity Value'!B$11=\"Ordinary\",E356*(1+D$1/100),F357)","v":747857.27331270103},{"$f":"IF('Annuity Value'!B$11=\"Ordinary\",D357-E$2,G357)","v":742593.22537383705},744136.59036092262,738898.73171528685,null,355,1.4331720309647652E+20,1.5764892340612422E+20,null,355,4.4979077707026904E+16,4.9476985477729608E+16,null,355,355,650718.88815505814,1355.6643503230378,652074.55250538175,null,null,355,500,-14683.87,-1468387.1979862789,null,355,237.89930086358751,-9050.2199999999993,-724017.23603764724]
[null,null,356,{"$f":"IF('Annuity Value'!B$11=\"Ordinary\",E357*(1+D$1/100),F358)","v":746306.19150070613},{"$f":"IF('Annuity Value'!B$11=\"Ordinary\",D358-E$2,G358)","v":741042.14356184215},742593.22537386324,737355.36672822747,null,356,1.5764892340612422E+20,1.7341381574673662E+20,null,356,4.9476985477729608E+16,5.4424684025502568E+16,null,356,356,653274.55250538175,1360.9886510528786,654635.54115643469,null,null,356,500,-14835.71,-1483570.9771630978,null,356,237.89930086358751,-9166.32,-733305.35078898154]
[null,null,357,{"$f":"IF('Annuity Value'!B$11=\"Ordinary\",E358*(1+D$1/100),F359)","v":744747.35427965131},{"$f":"IF('Annuity Value'!B$11=\"Ordinary\",D359-E$2,G359)","v":739483.30634078733},741042.14356186858,735804.28491623281,null,357,1.7341381574673662E+20,1.9075519732141028E+20,null,357,5.4424684025502568E+16,5.9867152428052824E+16,null,357,357,655835.54115643469,1366.3240440759055,657201.86520051071,null,null,357,500,-14989.07,-1498906.5941316842,null,357,237.89930086358751,-9283.8700000000008,-742709.56697470741]
[null,null,358,{"$f":"IF('Annuity Value'!B$11=\"Ordinary\",E359*(1+D$1/100),F360)","v":743180.72287249123},{"$f":"IF('Annuity Value'!B$11=\"Ordinary\",D360-E$2,G360)","v":737916.67493362725},739483.30634081387,734245.4476951781,null,358,1.9075519732141028E+20,2.0983071705355135E+20,null,358,5.9867152428052824E+16,6.5853867670858112E+16,null,358,358,658401.86520051071,1371.6705525010639,659773.53575301205,null,null,358,500,-15143.96,-1514395.5672699569,null,358,237.89930086358751,-9402.89,-752231.33586275484]
[null,null,359,{"$f":"IF('Annuity Value'!B$11=\"Ordinary\",E360*(1+D$1/100),F361)","v":741606.25830829528},{"$f":"IF('Annuity Value'!B$11=\"Ordinary\",D361-E$2,G361)","v":736342.2103694313},737916.67493365391,732678.81628801813,null,359,2.0983071705355135E+20,2.308137887589065E+20,null,359,6.5853867670858112E+16,7.2439254437943936E+16,null,359,359,660973.53575301205,1377.0281994854417,662350.56395249767,null,null,359,500,-15300.39,-1530039.4301396119,null,359,237.89930086358751,-9523.4,-761872.12686190265]
[null,null,360,{"$f":"IF('Annuity Value'!B$11=\"Ordinary\",E361*(1+D$1/100),F362)","v":740023.92142127838},{"$f":"IF('Annuity Value'!B$11=\"Ordinary\",D362-E$2,G362)","v":734759.8734824144},736342.21036945819,731104.35172382242,null,360,2.308137887589065E+20,2.5389516763479713E+20,null,360,7.2439254437943936E+16,7.968317988173832E+16,null,360,360,663550.56395249767,1382.3970082343701,664932.96096073196,null,null,360,500,-15458.4,-1545839.731637964,null,360,237.89930086358751,-9645.42,-771633.4277485403]
[null,null,361,{"$f":"IF('Annuity Value'!B$11=\"Ordinary\",E362*(1+D$1/100),F363)","v":738433.6728498264},{"$f":"IF('Annuity Value'!B$11=\"Ordinary\",D363-E$2,G363)","v":733169.62491096242},734759.87348244141,729522.01483680564,null,361,2.5389516763479713E+20,2.7928468439827687E+20,null,361,7.968317988173832E+16,8.765149786991216E+16,null,361,361,666132.96096073196,1387.7770020015248,667520.73796273372,null,null,361,500,-15617.98,-1561798.036151299,null,361,237.89930086358751,-9768.9599999999991,-781516.74489626032]
[null,null,362,{"$f":"IF('Annuity Value'!B$11=\"Ordinary\",E363*(1+D$1/100),F364)","v":736835.47303551715},{"$f":"IF('Annuity Value'!B$11=\"Ordinary\",D364-E$2,G364)","v":731571.42509665317},733169.62491098954,727931.76626535377,null,362,2.7928468439827687E+20,3.0721315283810458E+20,null,362,8.765149786991216E+16,9.6416647656903392E+16,null,362,362,668720.73796273372,1393.1682040890287,670113.906166823,null,null,362,500,-15779.16,-1577915.9237097681,null,362,237.89930086358751,-9894.0499999999993,-791523.60350832739]
[null,null,363,{"$f":"IF('Annuity Value'!B$11=\"Ordinary\",E364*(1+D$1/100),F365)","v":735229.28222213639},{"$f":"IF('Annuity Value'!B$11=\"Ordinary\",D365-E$2,G365)","v":729965.23428327241},731571.42509668041,726333.56645104464,null,363,3.0721315283810458E+20,3.379344681219151E+20,null,363,9.6416647656903392E+16,1.0605831242259374E+17,null,363,363,671313.906166823,1398.5706378475479,672712.47680467076,null,null,363,500,-15941.95,-1594194.9901438213,null,363,237.89930086358751,-10020.69,-801655.54785304482]
[null,null,364,{"$f":"IF('Annuity Value'!B$11=\"Ordinary\",E365*(1+D$1/100),F366)","v":733615.06045468873},{"$f":"IF('Annuity Value'!B$11=\"Ordinary\",D366-E$2,G366)","v":728351.01251582475},729965.23428329977,724727.37563766399,null,364,3.379344681219151E+20,3.7172791493410665E+20,null,364,1.0605831242259374E+17,1.1666414366485312E+17,null,364,364,673912.47680467076,1403.9843266763974,675316.46113134699,null,null,364,500,-16106.37,-1610636.8472422156,null,364,237.89930086358751,-10148.93,-811914.14150207164]
[null,null,365,{"$f":"IF('Annuity Value'!B$11=\"Ordinary\",E366*(1+D$1/100),F367)","v":731992.76757840381},{"$f":"IF('Annuity Value'!B$11=\"Ordinary\",D367-E$2,G367)","v":726728.71963953984},728351.01251585223,723113.15387021645,null,365,3.7172791493410665E+20,4.0890070642751734E+20,null,365,1.1666414366485312E+17,1.2833055803133845E+17,null,365,365,676516.46113134699,1409.4092940236396,677925.87042537099,null,null,365,500,-16272.43,-1627243.1229115929,null,365,237.89930086358751,-10278.76,-822300.96757171117]
[null,null,366,{"$f":"IF('Annuity Value'!B$11=\"Ordinary\",E367*(1+D$1/100),F368)","v":730362.36323773745},{"$f":"IF('Annuity Value'!B$11=\"Ordinary\",D368-E$2,G368)","v":725098.31529887347},726728.71963956743,721490.86099393165,null,366,4.0890070642751734E+20,4.4979077707026917E+20,null,366,1.2833055803133845E+17,1.4116361383447232E+17,null,366,366,679125.87042537099,1414.8455633861895,680540.71598875709,null,null,366,500,-16440.150000000001,-1644015.4613376651,null,366,237.89930086358751,-10410.219999999999,-832817.62896722124]
[null,null,367,{"$f":"IF('Annuity Value'!B$11=\"Ordinary\",E368*(1+D$1/100),F369)","v":728723.80687536777},{"$f":"IF('Annuity Value'!B$11=\"Ordinary\",D369-E$2,G369)","v":723459.75893650379},725098.31529890129,719860.45665326552,null,367,4.4979077707026917E+20,4.9476985477729609E+20,null,367,1.4116361383447232E+17,1.5527997521791955E+17,null,367,367,681740.71598875709,1420.2931583099105,683161.00914706732,null,null,367,500,-16609.560000000001,-1660955.523147997,null,367,237.89930086358751,-10543.32,-843465.7486301749]
[null,null,368,{"$f":"IF('Annuity Value'!B$11=\"Ordinary\",E369*(1+D$1/100),F370)","v":727077.05773118627},{"$f":"IF('Annuity Value'!B$11=\"Ordinary\",D370-E$2,G370)","v":721813.00979232229},723459.75893653173,718221.90029089595,null,368,4.9476985477729609E+20,5.4424684025502564E+20,null,368,1.5527997521791955E+17,1.7080797273971149E+17,null,368,368,684361.00914706732,1425.7521023897236,685786.76124945749,null,null,368,500,-16780.650000000001,-1678064.9855764331,null,368,237.89930086358751,-10678.09,-854246.96978891571]
[null,null,369,{"$f":"IF('Annuity Value'!B$11=\"Ordinary\",E370*(1+D$1/100),F371)","v":725422.07484128384},{"$f":"IF('Annuity Value'!B$11=\"Ordinary\",D371-E$2,G371)","v":720158.02690241986},721813.00979235035,716575.15114671458,null,369,5.4424684025502564E+20,5.9867152428052827E+20,null,369,1.7080797273971149E+17,1.8788877001368269E+17,null,369,369,686986.76124945749,1431.2224192697031,688417.98366872733,null,null,369,500,-16953.46,-1695345.5426291528,null,369,237.89930086358751,-10814.54,-865162.95621214062]
[null,null,370,{"$f":"IF('Annuity Value'!B$11=\"Ordinary\",E371*(1+D$1/100),F372)","v":723758.81703693187},{"$f":"IF('Annuity Value'!B$11=\"Ordinary\",D372-E$2,G372)","v":718494.76909806789},720158.02690244804,714920.16825681226,null,370,5.9867152428052827E+20,6.5853867670858118E+20,null,370,1.8788877001368269E+17,2.0667764701505094E+17,null,370,370,689617.98366872733,1436.704132643182,691054.6878013704,null,null,370,500,-17127.990000000002,-1712798.9052524006,null,370,237.89930086358751,-10952.69,-876215.39246565604]
[null,null,371,{"$f":"IF('Annuity Value'!B$11=\"Ordinary\",E372*(1+D$1/100),F373)","v":722087.24294355814},{"$f":"IF('Annuity Value'!B$11=\"Ordinary\",D373-E$2,G373)","v":716823.19500469416},718494.76909809629,713256.91045246052,null,371,6.5853867670858118E+20,7.2439254437943928E+20,null,371,2.0667764701505094E+17,2.2734541171655606E+17,null,371,371,692254.6878013704,1442.1972662528549,693696.88506762323,null,null,371,500,-17304.27,-1730426.8015018799,null,371,237.89930086358751,-11092.57,-887405.98417234025]
[null,null,372,{"$f":"IF('Annuity Value'!B$11=\"Ordinary\",E373*(1+D$1/100),F374)","v":720407.31097971753},{"$f":"IF('Annuity Value'!B$11=\"Ordinary\",D374-E$2,G374)","v":715143.26304085355},716823.1950047228,711585.33635908703,null,372,7.2439254437943928E+20,7.9683179881738338E+20,null,372,2.2734541171655606E+17,2.5007995288821171E+17,null,372,372,694896.88506762323,1447.7018438908817,696344.58691151452,null,null,372,500,-17482.310000000001,-1748230.9767138544,null,372,237.89930086358751,-11234.21,-898736.45827535819]
[null,null,373,{"$f":"IF('Annuity Value'!B$11=\"Ordinary\",E374*(1+D$1/100),F375)","v":718718.97935605771},{"$f":"IF('Annuity Value'!B$11=\"Ordinary\",D375-E$2,G375)","v":713454.93141719373},715143.26304088242,709905.40439524665,null,373,7.9683179881738338E+20,8.7651497869912166E+20,null,373,2.5007995288821171E+17,2.7508794817703286E+17,null,373,373,697544.58691151452,1453.2178893989885,698997.80480091379,null,null,373,500,-17662.13,-1766213.1936779483,null,373,237.89930086358751,-11377.61,-910208.56330466364]
[null,null,374,{"$f":"IF('Annuity Value'!B$11=\"Ordinary\",E375*(1+D$1/100),F376)","v":717022.20607427962},{"$f":"IF('Annuity Value'!B$11=\"Ordinary\",D376-E$2,G376)","v":711758.15813541564},713454.93141722283,708217.07277158706,null,374,8.7651497869912166E+20,9.6416647656903397E+20,null,374,2.7508794817703286E+17,3.0259674299473619E+17,null,374,374,700197.80480091379,1458.7454266685704,701656.55022758245,null,null,374,500,-17843.75,-1784375.2328116845,null,374,237.89930086358751,-11522.8,-921824.06964683579]
[null,null,375,{"$f":"IF('Annuity Value'!B$11=\"Ordinary\",E376*(1+D$1/100),F377)","v":715316.94892609259},{"$f":"IF('Annuity Value'!B$11=\"Ordinary\",D377-E$2,G377)","v":710052.90098722861},711758.15813544497,706520.2994898092,null,375,9.6416647656903397E+20,1.0605831242259375E+21,null,375,3.0259674299473619E+17,3.3285641729420986E+17,null,375,375,702856.55022758245,1464.2844796407967,704320.83470722346,null,null,375,500,-18027.189999999999,-1802718.8923367565,null,375,237.89930086358751,-11669.81,-933584.76981828443]
[null,null,376,{"$f":"IF('Annuity Value'!B$11=\"Ordinary\",E377*(1+D$1/100),F378)","v":713603.16549216467},{"$f":"IF('Annuity Value'!B$11=\"Ordinary\",D378-E$2,G378)","v":708339.11755330069},710052.90098725818,704815.04234162241,null,376,1.0605831242259375E+21,1.166641436648531E+21,null,376,3.3285641729420986E+17,3.6614205902363072E+17,null,376,376,705520.83470722346,1469.8350723067156,706990.66977953003,null,null,376,500,-18212.46,-1821245.98845708,null,376,237.89930086358751,-11818.66,-945492.47874187666]
[null,null,377,{"$f":"IF('Annuity Value'!B$11=\"Ordinary\",E378*(1+D$1/100),F379)","v":711880.81314106716},{"$f":"IF('Annuity Value'!B$11=\"Ordinary\",D379-E$2,G379)","v":706616.76520220318},708339.11755333049,703101.25890769472,null,377,1.166641436648531E+21,1.2833055803133846E+21,null,377,3.6614205902363072E+17,4.0275626492599392E+17,null,377,377,708190.66977953003,1475.3972287073543,709666.0670082377,null,null,377,500,-18399.580000000002,-1839958.3555386059,null,377,237.89930086358751,-11969.36,-957549.03402701358]
[null,null,378,{"$f":"IF('Annuity Value'!B$11=\"Ordinary\",E379*(1+D$1/100),F380)","v":710149.84902821411},{"$f":"IF('Annuity Value'!B$11=\"Ordinary\",D380-E$2,G380)","v":704885.80108935013},706616.7652022331,701378.90655659733,null,378,1.2833055803133846E+21,1.411636138344723E+21,null,378,4.0275626492599392E+17,4.4303189141859334E+17,null,378,378,710866.0670082377,1480.9709729338285,712347.03798117198,null,null,378,500,-18588.580000000002,-1858857.8462909483,null,378,237.89930086358751,-12121.95,-969756.29625321517]
[null,null,379,{"$f":"IF('Annuity Value'!B$11=\"Ordinary\",E380*(1+D$1/100),F381)","v":708410.23009479686},{"$f":"IF('Annuity Value'!B$11=\"Ordinary\",D381-E$2,G381)","v":703146.18215593288},704885.80108938029,699647.94244374451,null,379,1.411636138344723E+21,1.5527997521791956E+21,null,379,4.4303189141859334E+17,4.873350805604528E+17,null,379,379,713547.03798117198,1486.5563291274416,715033.59431029961,null,null,379,500,-18779.46,-1877946.3319508131,null,379,237.89930086358751,-12276.45,-982116.14925724373]
[null,null,380,{"$f":"IF('Annuity Value'!B$11=\"Ordinary\",E381*(1+D$1/100),F382)","v":706661.91306671244},{"$f":"IF('Annuity Value'!B$11=\"Ordinary\",D382-E$2,G382)","v":701397.86512784846},703146.18215596315,697908.32351032738,null,380,1.5527997521791956E+21,1.7080797273971145E+21,null,380,4.873350805604528E+17,5.3606858861649792E+17,null,380,380,716233.59431029961,1492.1533214797907,717725.74763177941,null,null,380,500,-18972.259999999998,-1897225.7024672772,null,380,237.89930086358751,-12432.88,-994630.5004238229]
[null,null,381,{"$f":"IF('Annuity Value'!B$11=\"Ordinary\",E382*(1+D$1/100),F383)","v":704904.85445348767},{"$f":"IF('Annuity Value'!B$11=\"Ordinary\",D383-E$2,G383)","v":699640.80651462369},701397.86512787896,696160.00648224319,null,381,1.7080797273971145E+21,1.8788877001368268E+21,null,381,5.3606858861649792E+17,5.8967544747814784E+17,null,381,381,718925.74763177941,1497.7619742328739,720423.50960601261,null,null,381,500,-19166.98,-1916697.8666889055,null,381,237.89930086358751,-12591.27,-1007301.2809799843]
[null,null,382,{"$f":"IF('Annuity Value'!B$11=\"Ordinary\",E383*(1+D$1/100),F384)","v":703139.01054719673},{"$f":"IF('Annuity Value'!B$11=\"Ordinary\",D384-E$2,G384)","v":697874.96260833275},699640.80651465431,694402.94786901854,null,382,1.8788877001368268E+21,2.0667764701505098E+21,null,382,5.8967544747814784E+17,6.4864299222596275E+17,null,382,382,721623.50960601261,1503.382311679193,723126.89191769168,null,null,382,500,-19363.650000000001,-1936364.7525527498,null,382,237.89930086358751,-12751.63,-1020130.4462930978]
[null,null,383,{"$f":"IF('Annuity Value'!B$11=\"Ordinary\",E384*(1+D$1/100),F385)","v":701364.33742137428},{"$f":"IF('Annuity Value'!B$11=\"Ordinary\",D385-E$2,G385)","v":696100.2894825103},697874.9626083636,692637.10396272782,null,383,2.0667764701505098E+21,2.2734541171655605E+21,null,383,6.4864299222596275E+17,7.1350729144855898E+17,null,383,383,724326.89191769168,1509.0143581618577,725835.90627585363,null,null,383,500,-19562.28,-1956228.3072752333,null,383,237.89930086358751,-12914,-1033119.9761726246]
[null,null,384,{"$f":"IF('Annuity Value'!B$11=\"Ordinary\",E385*(1+D$1/100),F386)","v":699580.79092992283},{"$f":"IF('Annuity Value'!B$11=\"Ordinary\",D386-E$2,G386)","v":694316.74299105885},696100.28948254138,690862.43083690561,null,384,2.2734541171655605E+21,2.5007995288821165E+21,null,384,7.1350729144855898E+17,7.8485802059341491E+17,null,384,384,727035.90627585363,1514.658138074695,728550.56441392854,null,null,384,500,-19762.900000000001,-1976290.4975449408,null,384,237.89930086358751,-13078.4,-1046271.8751756463]
[null,null,385,{"$f":"IF('Annuity Value'!B$11=\"Ordinary\",E386*(1+D$1/100),F387)","v":697788.32670601411},{"$f":"IF('Annuity Value'!B$11=\"Ordinary\",D387-E$2,G387)","v":692524.27876715013},694316.74299109005,689078.88434545428,null,385,2.5007995288821165E+21,2.7508794817703287E+21,null,385,7.8485802059341491E+17,8.6334382265275648E+17,null,385,385,729750.56441392854,1520.3136758623511,731270.87808979116,null,null,385,500,{"$f":"ROUND(Y$2*AA387,2)","v":-19965.53},{"$f":"IF(X$1=\"\",\"\",(1-(1+Y$2)^(X387-X$1))/(1-(1+Y$2)^(-X$1))*Z$1)","v":-1996553.3097173469},null,385,237.89930086358751,{"$f":"ROUND(AE$2*AF387,2)","v":-13244.85},{"$f":"AF$1*(1-(1+AE$2)^(AC387-AC$1))/(1-(1+AE$2)^(-AC$1))","v":-1059588.1729162054}]
[null,null,{"$f":"C387+1","v":386},{"$f":"IF('Annuity Value'!B$11=\"Ordinary\",E387*(1+D$1/100),F388)","v":695986.90016098577},{"$f":"IF('Annuity Value'!B$11=\"Ordinary\",D388-E$2,G388)","v":690722.85222212179},692524.27876718144,687286.42012154567,null,{"$f":"I387+1","v":386},{"$f":"K387","v":2.7508794817703287E+21},{"$f":"K$2*(1+J$1)^I388","v":3.0259674299473613E+21},null,{"$f":"M387+1","v":386},{"$f":"O387","v":8.6334382265275648E+17},{"$f":"O$2*(1+N$1)^M388","v":9.4967820491803226E+17},null,{"$f":"Q387+1","v":386},{"$f":"IF(A$5=1,Q388*12,IF(A$5=2,Q388*6,IF(A$5=4,Q388*3,Q388)))","v":386},732470.87808979116,1525.9809960203982,{"$f":"T$1*(1+S$2)^Q388+S$1*(((1+S$2)^(Q388+1)-(1+S$2))/S$2)","v":733996.85908581142},null,null,{"$f":"X387+1","v":386},{"$f":"Y387","v":500},-20170.189999999999,-2017018.7500114753,null,{"$f":"AC387+1","v":386},{"$f":"AD387","v":237.89930086358751},-13413.39,-1073070.9243785217]
[null,null,387,{"$f":"IF('Annuity Value'!B$11=\"Ordinary\",E388*(1+D$1/100),F389)","v":694176.46648323233},{"$f":"IF('Annuity Value'!B$11=\"Ordinary\",D389-E$2,G389)","v":688912.41854436835},{"$f":"G388*(1+F$1/100)","v":690722.85222215333},685484.99357651756,null,387,3.0259674299473613E+21,3.3285641729420983E+21,null,387,9.4967820491803226E+17,1.0446460254098356E+18,null,387,387,{"$f":"S$1+U388","v":735196.85908581142},{"$f":"S$2*S389","v":1531.6601230954404},736728.51920890727,null,null,387,500,-20376.89,-2037688.8447085465,null,387,237.89930086358751,-13584.03,-1086722.2102341165]
[null,null,388,{"$f":"IF('Annuity Value'!B$11=\"Ordinary\",E389*(1+D$1/100),F390)","v":692356.98063709016},{"$f":"IF('Annuity Value'!B$11=\"Ordinary\",D390-E$2,G390)","v":687092.93269822618},688912.41854440013,683674.55989876436,null,388,3.3285641729420983E+21,3.6614205902363076E+21,null,388,1.0446460254098356E+18,1.1491106279508189E+18,null,388,388,737928.51920890727,1537.3510816852236,739465.87029059266,null,null,388,500,-20585.66,-2058565.6403525872,null,388,237.89930086358751,-13756.8,-1100544.1371629068]
[null,null,389,{"$f":"IF('Annuity Value'!B$11=\"Ordinary\",E390*(1+D$1/100),F391)","v":690528.39736171719},{"$f":"IF('Annuity Value'!B$11=\"Ordinary\",D391-E$2,G391)","v":685264.34942285321},687092.93269825808,681855.07405262231,null,389,3.6614205902363076E+21,4.0275626492599395E+21,null,389,1.1491106279508189E+18,1.2640216907459013E+18,null,389,389,740665.87029059266,1543.0538964387347,742208.92418703134,null,null,389,500,-20796.509999999998,-2079651.2039530692,null,389,237.89930086358751,-13931.74,-1114538.8381783064]
[null,null,390,{"$f":"IF('Annuity Value'!B$11=\"Ordinary\",E391*(1+D$1/100),F392)","v":688690.67116996739},{"$f":"IF('Annuity Value'!B$11=\"Ordinary\",D392-E$2,G392)","v":683426.62323110341},685264.34942288534,680026.49077724956,null,390,4.0275626492599395E+21,4.4303189141859336E+21,null,390,1.2640216907459013E+18,1.3904238598204915E+18,null,390,390,743408.92418703134,1548.7685920563154,744957.69277908816,null,null,390,500,-21009.48,-2100947.623189555,null,390,237.89930086358751,-14108.86,-1128708.472956399]
[null,null,391,{"$f":"IF('Annuity Value'!B$11=\"Ordinary\",E392*(1+D$1/100),F393)","v":686843.75634725881},{"$f":"IF('Annuity Value'!B$11=\"Ordinary\",D393-E$2,G393)","v":681579.70840839483},683426.62323113577,678188.7645855,null,391,4.4303189141859336E+21,4.873350805604528E+21,null,391,1.3904238598204915E+18,1.5294662458025408E+18,null,391,391,746157.69277908816,1554.495193289767,747712.18797237799,null,null,391,500,-21224.57,-2122457.0066184066,null,391,237.89930086358751,-14288.19,-1143055.2281692175]
[null,null,392,{"$f":"IF('Annuity Value'!B$11=\"Ordinary\",E393*(1+D$1/100),F394)","v":684987.60695043672},{"$f":"IF('Annuity Value'!B$11=\"Ordinary\",D394-E$2,G394)","v":679723.55901157274},681579.70840842742,676341.84976279165,null,392,4.873350805604528E+21,5.3606858861649802E+21,null,392,1.5294662458025408E+18,1.6824128703827948E+18,null,392,392,748912.18797237799,1560.233724942454,750472.42169732053,null,null,392,500,-21441.81,-2144181.4838815462,null,392,237.89930086358751,-14469.77,-1157581.3178221965]
[null,null,393,{"$f":"IF('Annuity Value'!B$11=\"Ordinary\",E394*(1+D$1/100),F395)","v":683122.17680663057},{"$f":"IF('Annuity Value'!B$11=\"Ordinary\",D395-E$2,G395)","v":677858.12886776659},679723.55901160557,674485.70036596979,null,393,5.3606858861649802E+21,5.8967544747814782E+21,null,393,1.6824128703827948E+18,1.8506541574210744E+18,null,393,393,751672.42169732053,1565.9842118694178,753238.4059091903,null,null,393,500,-21661.23,-2166123.2059173179,null,393,237.89930086358751,-14653.61,-1172288.9835958374]
[null,null,394,{"$f":"IF('Annuity Value'!B$11=\"Ordinary\",E395*(1+D$1/100),F396)","v":681247.41951210529},{"$f":"IF('Annuity Value'!B$11=\"Ordinary\",D396-E$2,G396)","v":675983.37157324131},677858.12886779953,672620.27022216376,null,394,5.8967544747814782E+21,6.4864299222596269E+21,null,394,1.8506541574210744E+18,2.0357195731631821E+18,null,394,394,754438.4059091903,1571.7466789774799,756010.15258816758,null,null,394,500,-21882.84,-2188284.3451734465,null,394,237.89930086358751,-14839.76,-1187180.4951916491]
[null,null,395,{"$f":"IF('Annuity Value'!B$11=\"Ordinary\",E396*(1+D$1/100),F397)","v":679363.28843110742},{"$f":"IF('Annuity Value'!B$11=\"Ordinary\",D397-E$2,G397)","v":674099.24049224344},675983.37157327449,{"$f":"F397-G$2","v":670745.51292763872},null,395,6.4864299222596269E+21,7.1350729144855901E+21,null,395,2.0357195731631821E+18,2.2392915304795003E+18,null,395,395,757210.15258816758,1577.5211512253491,758787.67373939324,null,null,395,500,-22106.67,-2210667.0958221373,null,395,237.89930086358751,-15028.23,-1202258.1506824079]
[null,null,396,{"$f":"IF('Annuity Value'!B$11=\"Ordinary\",E397*(1+D$1/100),F398)","v":677469.73669470462},{"$f":"IF('Annuity Value'!B$11=\"Ordinary\",D398-E$2,G398)","v":672205.68875584065},674099.24049227685,668861.38184664107,null,396,7.1350729144855901E+21,7.8485802059341496E+21,null,396,2.2392915304795003E+18,2.4632206835274506E+18,null,396,396,759987.67373939324,1583.3076536237359,761570.98139301722,null,null,396,500,-22332.74,-2233273.6739773136,null,396,237.89930086358751,-15219.05,-1217524.276866802]
[null,null,397,{"$f":"IF('Annuity Value'!B$11=\"Ordinary\",E398*(1+D$1/100),F399)","v":675566.71719961974},{"$f":"IF('Annuity Value'!B$11=\"Ordinary\",D399-E$2,G399)","v":670302.66926075576},672205.68875587417,666967.8301102384,null,397,7.8485802059341496E+21,8.6334382265275651E+21,null,397,2.4632206835274506E+18,2.7095427518801956E+18,null,397,397,762770.98139301722,1589.1062112354525,764360.08760425309,null,null,397,500,-22561.06,-2256106.3179140426,null,397,237.89930086358751,-15412.27,-1232981.2296285008]
[null,null,398,{"$f":"IF('Annuity Value'!B$11=\"Ordinary\",E399*(1+D$1/100),F400)","v":673654.18260705948},{"$f":"IF('Annuity Value'!B$11=\"Ordinary\",D400-E$2,G400)","v":668390.1346681955},670302.66926078952,665064.81061515375,null,398,8.6334382265275651E+21,9.4967820491803224E+21,null,398,2.7095427518801956E+18,2.9804970270682158E+18,null,398,398,765560.08760425309,1594.9168491755272,767155.00445342832,null,null,398,500,-22791.67,-2279167.2882901388,null,398,237.89930086358751,-15607.89,-1248631.3942997204]
[null,null,399,{"$f":"IF('Annuity Value'!B$11=\"Ordinary\",E400*(1+D$1/100),F401)","v":671732.08534153644},{"$f":"IF('Annuity Value'!B$11=\"Ordinary\",D401-E$2,G401)","v":666468.03740267246},668390.1346682295,663152.27602259372,null,399,9.4967820491803224E+21,1.0446460254098356E+22,null,399,2.9804970270682158E+18,3.2785467297750374E+18,null,399,399,768355.00445342832,1600.739592611309,769955.74404604,null,null,399,500,-23024.59,-2302458.8683699961,null,399,237.89930086358751,-15805.96,-1264477.1860293301]
[null,null,400,{"$f":"IF('Annuity Value'!B$11=\"Ordinary\",E401*(1+D$1/100),F402)","v":669800.37758968573},{"$f":"IF('Annuity Value'!B$11=\"Ordinary\",D402-E$2,G402)","v":664536.32965082175},666468.03740270657,661230.1787570708,null,400,1.0446460254098356E+22,1.149110627950819E+22,null,400,3.2785467297750374E+18,3.6064014027525407E+18,null,400,400,771155.74404604,1606.5744667625834,772762.31851280283,null,null,400,500,-23259.83,-2325983.3642506516,null,400,237.89930086358751,-16006.51,-1280521.0501555607]
[null,null,401,{"$f":"IF('Annuity Value'!B$11=\"Ordinary\",E402*(1+D$1/100),F403)","v":667859.01129907579},{"$f":"IF('Annuity Value'!B$11=\"Ordinary\",D403-E$2,G403)","v":662594.96336021181},664536.32965085609,659298.47100522032,null,401,1.149110627950819E+22,1.2640216907459009E+22,null,401,3.6064014027525407E+18,3.9670415430277949E+18,null,401,401,773962.31851280283,1612.4214969016725,775574.74000970495,null,null,401,500,-23497.43,-2349743.1050901143,null,401,237.89930086358751,-16209.57,-1296765.4625833684]
[null,null,402,{"$f":"IF('Annuity Value'!B$11=\"Ordinary\",E403*(1+D$1/100),F404)","v":665907.93817701284},{"$f":"IF('Annuity Value'!B$11=\"Ordinary\",D404-E$2,G404)","v":660643.89023814886},662594.96336024639,657357.10471461061,null,402,1.2640216907459009E+22,1.3904238598204913E+22,null,402,3.9670415430277949E+18,4.3637456973305754E+18,null,402,402,776774.74000970495,1618.280708353552,778393.02071805834,null,null,402,500,-23737.4,-2373740.4433379704,null,402,237.89930086358751,-16415.16,-1313212.9301665241]
[null,null,403,{"$f":"IF('Annuity Value'!B$11=\"Ordinary\",E404*(1+D$1/100),F405)","v":663947.10968933953},{"$f":"IF('Annuity Value'!B$11=\"Ordinary\",D405-E$2,G405)","v":658683.06175047555},660643.89023818355,655406.03159254778,null,403,1.3904238598204913E+22,1.5294662458025406E+22,null,403,4.3637456973305754E+18,4.8001202670636339E+18,null,403,403,779593.02071805834,1624.1521264959549,781217.17284455453,null,null,403,500,-23979.78,-2397977.7549683065,null,403,237.89930086358751,-16623.32,-1329865.9910944691]
[null,null,404,{"$f":"IF('Annuity Value'!B$11=\"Ordinary\",E405*(1+D$1/100),F406)","v":661976.47705922788},{"$f":"IF('Annuity Value'!B$11=\"Ordinary\",D406-E$2,G406)","v":656712.4291203639},658683.06175051047,653445.2031048747,null,404,1.5294662458025406E+22,1.6824128703827947E+22,null,404,4.8001202670636339E+18,5.2801322937699963E+18,null,404,404,782417.17284455453,1630.0357767594885,784047.20862131403,null,null,404,500,-24224.57,-2422457.4397149449,null,404,237.89930086358751,-16834.09,-1346727.2152840139]
[null,null,405,{"$f":"IF('Annuity Value'!B$11=\"Ordinary\",E406*(1+D$1/100),F407)","v":659995.99126596563},{"$f":"IF('Annuity Value'!B$11=\"Ordinary\",D407-E$2,G407)","v":654731.94332710165},656712.42912039906,651474.57047476328,null,405,1.6824128703827947E+22,1.8506541574210743E+22,null,405,5.2801322937699963E+18,5.8081455231469967E+18,null,405,405,785247.20862131403,1635.9316846277375,786883.14030594204,null,null,405,500,-24471.82,-2447181.9213090506,null,405,237.89930086358751,-17047.490000000002,-1363799.2047759278]
[null,null,406,{"$f":"IF('Annuity Value'!B$11=\"Ordinary\",E407*(1+D$1/100),F408)","v":658005.60304373712},{"$f":"IF('Annuity Value'!B$11=\"Ordinary\",D408-E$2,G408)","v":652741.55510487314},654731.94332713704,649494.08468150126,null,406,1.8506541574210743E+22,2.0357195731631822E+22,null,406,5.8081455231469967E+18,6.3889600754616975E+18,null,406,406,788083.14030594204,1641.8398756373792,789724.98018157936,null,null,406,500,-24721.54,-2472153.6477190959,null,406,237.89930086358751,-17263.560000000001,-1381084.5941364905]
[null,null,407,{"$f":"IF('Annuity Value'!B$11=\"Ordinary\",E408*(1+D$1/100),F409)","v":656005.26288039749},{"$f":"IF('Annuity Value'!B$11=\"Ordinary\",D409-E$2,G409)","v":650741.21494153352},652741.55510490865,647503.69645927288,null,407,2.0357195731631822E+22,2.2392915304795003E+22,null,407,6.3889600754616975E+18,7.0278560830078679E+18,null,407,407,790924.98018157936,1647.7603753782903,792572.74055695802,null,null,407,500,-24973.75,-2497375.0913932435,null,407,237.89930086358751,-17482.330000000002,-1398586.0508640597]
[null,null,408,{"$f":"IF('Annuity Value'!B$11=\"Ordinary\",E409*(1+D$1/100),F410)","v":653994.92101624107},{"$f":"IF('Annuity Value'!B$11=\"Ordinary\",D410-E$2,G410)","v":648730.87307737709},650741.21494156914,645503.35629593336,null,408,2.2392915304795003E+22,2.4632206835274505E+22,null,408,7.0278560830078679E+18,7.7306416913086546E+18,null,408,408,793772.74055695802,1653.6932094936626,795426.43376645166,null,null,408,500,-25228.49,-2522848.7495041313,null,408,237.89930086358751,-17703.830000000002,-1416306.2758007243]
[null,null,409,{"$f":"IF('Annuity Value'!B$11=\"Ordinary\",E410*(1+D$1/100),F411)","v":651974.52744276391},{"$f":"IF('Annuity Value'!B$11=\"Ordinary\",D411-E$2,G411)","v":646710.47950389993},648730.87307741295,643493.01443177718,null,409,2.4632206835274505E+22,2.7095427518801954E+22,null,409,7.7306416913086546E+18,8.5037058604395203E+18,null,409,409,796626.43376645166,1659.6384036801076,798286.07217013207,null,null,409,500,-25485.77,-2548577.1441961285,null,409,237.89930086358751,-17928.099999999999,-1434248.0035490969]
[null,null,410,{"$f":"IF('Annuity Value'!B$11=\"Ordinary\",E411*(1+D$1/100),F412)","v":649944.0319014194},{"$f":"IF('Annuity Value'!B$11=\"Ordinary\",D412-E$2,G412)","v":644679.98396255542},646710.47950393602,641472.62085830024,null,410,2.7095427518801954E+22,2.9804970270682151E+22,null,410,8.5037058604395203E+18,9.3540764464834724E+18,null,410,410,799486.07217013207,1665.5959836877751,801151.66815382033,null,null,410,500,-25745.63,-2574562.8228350454,null,410,237.89930086358751,-18155.18,-1452414.0028943245]
[null,null,411,{"$f":"IF('Annuity Value'!B$11=\"Ordinary\",E412*(1+D$1/100),F413)","v":647903.3838823681},{"$f":"IF('Annuity Value'!B$11=\"Ordinary\",D413-E$2,G413)","v":642639.33594350412},644679.98396259162,639442.12531695585,null,411,2.9804970270682151E+22,3.2785467297750374E+22,null,411,9.3540764464834724E+18,1.0289484091131822E+19,null,411,411,802351.66815382033,1671.5659753204591,804023.23412914074,null,null,411,500,-26008.080000000002,-2600808.3582603517,null,411,237.89930086358751,-18385.09,-1470807.0772313667]
[null,null,412,{"$f":"IF('Annuity Value'!B$11=\"Ordinary\",E413*(1+D$1/100),F414)","v":645852.53262322152},{"$f":"IF('Annuity Value'!B$11=\"Ordinary\",D414-E$2,G414)","v":640588.48468435754},642639.33594354056,637401.47729790478,null,412,3.2785467297750374E+22,3.6064014027525412E+22,null,412,1.0289484091131822E+19,1.1318432500245004E+19,null,412,412,805223.23412914074,1677.5484044357099,806900.78253357671,null,null,412,500,-26273.16,-2627316.3490399104,null,412,237.89930086358751,-18617.88,-1489430.0649976223]
[null,null,413,{"$f":"IF('Annuity Value'!B$11=\"Ordinary\",E414*(1+D$1/100),F415)","v":643791.42710777931},{"$f":"IF('Annuity Value'!B$11=\"Ordinary\",D415-E$2,G415)","v":638527.37916891533},640588.48468439421,635350.62603875843,null,413,3.6064014027525412E+22,3.9670415430277954E+22,null,413,1.1318432500245004E+19,1.2450275750269506E+19,null,413,413,808100.78253357671,1683.5432969449514,809784.32583052188,null,null,413,500,-26540.89,-2654089.4197272658,null,413,237.89930086358751,-18853.57,-1508285.8401109562]
[null,null,414,{"$f":"IF('Annuity Value'!B$11=\"Ordinary\",E415*(1+D$1/100),F416)","v":641720.01606475981},{"$f":"IF('Annuity Value'!B$11=\"Ordinary\",D416-E$2,G416)","v":636455.96812589583},638527.37916895212,633289.52052331634,null,414,3.9670415430277954E+22,4.3637456973305762E+22,null,414,1.2450275750269506E+19,1.369530332529646E+19,null,414,414,810984.32583052188,1689.5506788135872,812673.87650933524,null,null,414,500,-26811.3,-2681130.2211214928,null,414,237.89930086358751,-19092.22,-1527377.3124132068]
[null,null,415,{"$f":"IF('Annuity Value'!B$11=\"Ordinary\",E416*(1+D$1/100),F417)","v":639638.24796652526},{"$f":"IF('Annuity Value'!B$11=\"Ordinary\",D417-E$2,G417)","v":634374.20002766128},636455.96812593285,631218.10948029708,null,415,4.3637456973305762E+22,4.8001202670636326E+22,null,415,1.369530332529646E+19,1.5064833657826103E+19,null,415,415,813873.87650933524,1695.5705760611152,815569.44708539685,null,null,415,500,-27084.41,-2708441.4305296652,null,415,237.89930086358751,-19333.84,-1546707.4281192354]
[null,null,416,{"$f":"IF('Annuity Value'!B$11=\"Ordinary\",E417*(1+D$1/100),F418)","v":637546.07102779951},{"$f":"IF('Annuity Value'!B$11=\"Ordinary\",D418-E$2,G418)","v":632282.02308893553},634374.20002769853,629136.34138206276,null,416,4.8001202670636326E+22,5.2801322937699975E+22,null,416,1.5064833657826103E+19,1.6571317023608717E+19,null,416,416,816769.44708539685,1701.6030147612435,818471.05010015843,null,null,416,500,-27360.26,-2736025.7520319168,null,416,237.89930086358751,-19578.490000000002,-1566279.1702715894]
[null,null,417,{"$f":"IF('Annuity Value'!B$11=\"Ordinary\",E418*(1+D$1/100),F419)","v":635443.4332043801},{"$f":"IF('Annuity Value'!B$11=\"Ordinary\",D419-E$2,G419)","v":630179.38526551612},632282.02308897302,627044.16444333724,null,417,5.2801322937699975E+22,5.8081455231469978E+22,null,417,1.6571317023608717E+19,1.822844872596959E+19,null,417,417,819671.05010015843,1707.6480210419968,821378.69812120043,null,null,417,500,-27638.86,-2763885.916749191,null,417,237.89930086358751,-19826.189999999999,-1586095.559200848]
[null,null,418,{"$f":"IF('Annuity Value'!B$11=\"Ordinary\",E419*(1+D$1/100),F420)","v":633330.28219184361},{"$f":"IF('Annuity Value'!B$11=\"Ordinary\",D420-E$2,G420)","v":628066.23425297963},630179.38526555384,624941.52661991806,null,418,5.8081455231469978E+22,6.3889600754616982E+22,null,418,1.822844872596959E+19,2.0051293598566552E+19,null,418,418,822578.69812120043,1713.7056210858343,824292.40374228649,null,null,418,500,-27920.25,-2792024.6831136383,null,418,237.89930086358751,-20077,-1606159.6529917221]
[null,null,419,{"$f":"IF('Annuity Value'!B$11=\"Ordinary\",E420*(1+D$1/100),F421)","v":631206.5654242445},{"$f":"IF('Annuity Value'!B$11=\"Ordinary\",D421-E$2,G421)","v":625942.51748538052},628066.23425301758,622828.37560738181,null,419,6.3889600754616982E+22,7.027856083007869E+22,null,419,2.0051293598566552E+19,2.2056422958423208E+19,null,419,419,825492.40374228649,1719.7758411297634,827212.17958341667,null,null,419,500,-28204.45,-2820444.8371417322,null,419,237.89930086358751,-20330.93,-1626474.5479549821]
[null,null,420,{"$f":"IF('Annuity Value'!B$11=\"Ordinary\",E421*(1+D$1/100),F422)","v":629072.2300728074},{"$f":"IF('Annuity Value'!B$11=\"Ordinary\",D422-E$2,G422)","v":623808.18213394342},625942.51748541871,620704.65883978293,null,420,7.027856083007869E+22,7.7306416913086539E+22,null,420,2.2056422958423208E+19,2.4262065254265528E+19,null,420,420,828412.17958341667,1725.8587074654513,830138.03829088202,null,null,420,500,-28491.49,-2849149.1927101044,null,420,237.89930086358751,-20588.04,-1647043.3791052827]
[null,null,421,{"$f":"IF('Annuity Value'!B$11=\"Ordinary\",E422*(1+D$1/100),F423)","v":626927.22304461303},{"$f":"IF('Annuity Value'!B$11=\"Ordinary\",D423-E$2,G423)","v":621663.17510574905},623808.18213398173,618570.32348834595,null,421,7.7306416913086539E+22,8.5037058604395204E+22,null,421,2.4262065254265528E+19,2.6688271779692081E+19,null,421,421,831338.03829088202,1731.9542464393376,833069.99253732164,null,null,421,500,-28781.41,-2878140.5918341605,null,421,237.89930086358751,-20848.37,-1667869.3206449626]
[null,null,422,{"$f":"IF('Annuity Value'!B$11=\"Ordinary\",E423*(1+D$1/100),F424)","v":624771.49098127778},{"$f":"IF('Annuity Value'!B$11=\"Ordinary\",D424-E$2,G424)","v":619507.4430424138},621663.17510578758,616425.31646015181,null,422,8.5037058604395204E+22,9.3540764464834756E+22,null,422,2.6688271779692081E+19,2.9357098957661299E+19,null,422,422,834269.99253732164,1738.0624844527533,836008.05502177449,null,null,422,500,-29074.22,-2907421.9049494574,null,422,237.89930086358751,-21111.94,-1688955.5864538883]
[null,null,423,{"$f":"IF('Annuity Value'!B$11=\"Ordinary\",E424*(1+D$1/100),F425)","v":622604.98025762581},{"$f":"IF('Annuity Value'!B$11=\"Ordinary\",D425-E$2,G425)","v":617340.93231876183},619507.44304245245,614269.58439681667,null,423,9.3540764464834756E+22,1.0289484091131822E+23,null,423,2.9357098957661299E+19,3.2292808853427425E+19,null,423,423,837208.05502177449,1744.1834479620302,838952.23846973665,null,null,423,500,-29369.96,-2936996.0311959093,null,423,237.89930086358751,-21378.82,-1710305.4305854253]
[null,null,424,{"$f":"IF('Annuity Value'!B$11=\"Ordinary\",E425*(1+D$1/100),F426)","v":620427.6369803556},{"$f":"IF('Annuity Value'!B$11=\"Ordinary\",D426-E$2,G426)","v":615163.58904149162},617340.93231880071,612103.07367316494,null,424,1.0289484091131822E+23,1.1318432500245004E+23,null,424,3.2292808853427425E+19,3.5522089738770162E+19,null,424,424,840152.23846973665,1750.3171634786179,841902.55563321535,null,null,424,500,-29668.66,-2966865.898704824,null,424,237.89930086358751,-21649.03,-1731922.1477686067]
[null,null,425,{"$f":"IF('Annuity Value'!B$11=\"Ordinary\",E426*(1+D$1/100),F427)","v":618239.40698669897},{"$f":"IF('Annuity Value'!B$11=\"Ordinary\",D427-E$2,G427)","v":612975.35904783499},615163.58904153074,609925.73039589496,null,425,1.1318432500245004E+23,1.2450275750269506E+23,null,425,3.5522089738770162E+19,3.9074298712647188E+19,null,425,425,843102.55563321535,1756.4636575691986,844859.01929078484,null,null,425,500,-29970.34,-2997034.4648888269,null,425,237.89930086358751,-21922.61,-1753809.0739165775]
[null,null,426,{"$f":"IF('Annuity Value'!B$11=\"Ordinary\",E427*(1+D$1/100),F428)","v":616040.23584307416},{"$f":"IF('Annuity Value'!B$11=\"Ordinary\",D428-E$2,G428)","v":610776.18790421018},612975.35904787434,607737.50040223857,null,426,1.2450275750269506E+23,1.3695303325296455E+23,null,426,3.9074298712647188E+19,4.2981728583911907E+19,null,426,426,846059.01929078484,1762.6229568558017,847821.64224764099,null,null,426,500,-30275.05,-3027504.7167346706,null,426,237.89930086358751,-22199.62,-1775969.5866413987]
[null,null,427,{"$f":"IF('Annuity Value'!B$11=\"Ordinary\",E428*(1+D$1/100),F429)","v":613830.06884373119},{"$f":"IF('Annuity Value'!B$11=\"Ordinary\",D429-E$2,G429)","v":608566.02090486721},610776.18790424964,605538.32925861387,null,427,1.3695303325296455E+23,1.5064833657826104E+23,null,427,4.2981728583911907E+19,4.7279901442303107E+19,null,427,427,849021.64224764099,1768.7950880159187,850790.43733565684,null,null,427,500,-30582.799999999999,-3058279.6710989755,null,427,237.89930086358751,-22480.09,-1798407.1057752797]
[null,null,428,{"$f":"IF('Annuity Value'!B$11=\"Ordinary\",E429*(1+D$1/100),F430)","v":611608.85100939148},{"$f":"IF('Annuity Value'!B$11=\"Ordinary\",D430-E$2,G430)","v":606344.8030705275},608566.02090490691,603328.16225927114,null,428,1.5064833657826104E+23,1.6571317023608713E+23,null,428,4.7279901442303107E+19,5.2007891586533417E+19,null,428,428,851990.43733565684,1774.9800777826183,853765.41741343983,null,null,428,500,-30893.62,-3089362.3750069197,null,428,237.89930086358751,-22764.06,-1821125.0938983343]
[null,null,429,{"$f":"IF('Annuity Value'!B$11=\"Ordinary\",E430*(1+D$1/100),F431)","v":609376.52708588005},{"$f":"IF('Annuity Value'!B$11=\"Ordinary\",D431-E$2,G431)","v":604112.47914701607},606344.80307056743,601106.94442493166,null,429,1.6571317023608713E+23,1.822844872596959E+23,null,429,5.2007891586533417E+19,5.7208680745186763E+19,null,429,429,854965.41741343983,1781.1779529446662,856746.59536638448,null,null,429,500,-31207.56,-3120755.9059539442,null,429,237.89930086358751,-23051.59,-1844127.0568729271]
[null,null,430,{"$f":"IF('Annuity Value'!B$11=\"Ordinary\",E431*(1+D$1/100),F432)","v":607133.04154275113},{"$f":"IF('Annuity Value'!B$11=\"Ordinary\",D432-E$2,G432)","v":601868.99360388715},604112.47914705623,598874.62050142046,null,430,1.822844872596959E+23,2.005129359856655E+23,null,430,5.7208680745186763E+19,6.2929548819705446E+19,null,430,430,857946.59536638448,1787.3887403466342,859733.98410673114,null,null,430,500,-31524.63,-3152463.3722104388,null,430,237.89930086358751,-23342.71,-1867416.5443847023]
[null,null,431,{"$f":"IF('Annuity Value'!B$11=\"Ordinary\",E432*(1+D$1/100),F433)","v":604878.33857190656},{"$f":"IF('Annuity Value'!B$11=\"Ordinary\",D433-E$2,G433)","v":599614.29063304258},601868.99360392755,596631.13495829178,null,431,2.005129359856655E+23,2.2056422958423206E+23,null,431,6.2929548819705446E+19,6.9222503701675991E+19,null,431,431,860933.98410673114,1793.6124668890232,862727.5965736208,null,null,431,500,-31844.880000000001,-3184487.913129501,null,431,237.89930086358751,-23637.46,-1890997.1504903745]
[null,null,432,{"$f":"IF('Annuity Value'!B$11=\"Ordinary\",E433*(1+D$1/100),F434)","v":602612.36208620772},{"$f":"IF('Annuity Value'!B$11=\"Ordinary\",D434-E$2,G434)","v":597348.31414734374},599614.2906330832,594376.43198744743,null,432,2.2056422958423206E+23,2.4262065254265524E+23,null,432,6.9222503701675991E+19,7.6144754071843586E+19,null,432,432,863927.5965736208,1799.8491595283767,865727.4457331493,null,null,432,500,-32168.33,-3216832.6994577511,null,432,237.89930086358751,-23935.91,-1914872.514172368]
[null,null,433,{"$f":"IF('Annuity Value'!B$11=\"Ordinary\",E434*(1+D$1/100),F435)","v":600335.05571808037},{"$f":"IF('Annuity Value'!B$11=\"Ordinary\",D435-E$2,G435)","v":595071.00777921639},597348.3141473846,592110.45550174883,null,433,2.4262065254265524E+23,2.6688271779692083E+23,null,433,7.6144754071843586E+19,8.3759229479027966E+19,null,433,433,866927.4457331493,1806.0988452773943,868733.54457842698,null,null,433,500,-32495.01,-3249500.9336492838,null,433,237.89930086358751,-24238.080000000002,-1939046.3199003856]
[null,null,434,{"$f":"IF('Annuity Value'!B$11=\"Ordinary\",E435*(1+D$1/100),F436)","v":598046.36281811236},{"$f":"IF('Annuity Value'!B$11=\"Ordinary\",D436-E$2,G436)","v":592782.31487924838},595071.00777925749,589833.14913362172,null,434,2.6688271779692083E+23,2.935709895766129E+23,null,434,8.3759229479027966E+19,9.2135152426930766E+19,null,434,434,869933.54457842698,1812.3615512050562,871745.9061296318,null,null,434,500,-32824.959999999999,-3282495.8501827316,null,434,237.89930086358751,-24544.03,-1963522.2982000043]
[null,null,435,{"$f":"IF('Annuity Value'!B$11=\"Ordinary\",E436*(1+D$1/100),F437)","v":595746.22645364457},{"$f":"IF('Annuity Value'!B$11=\"Ordinary\",D437-E$2,G437)","v":590482.17851478059},592782.31487928971,587544.45623365394,null,435,2.935709895766129E+23,3.2292808853427427E+23,null,435,9.2135152426930766E+19,1.0134866766962387E+20,null,435,435,872945.9061296318,1818.6373044367328,874764.54343406879,null,null,435,500,-33158.21,-3315820.7158815167,null,435,237.89930086358751,-24853.8,-1988304.2262283678]
[null,null,436,{"$f":"IF('Annuity Value'!B$11=\"Ordinary\",E437*(1+D$1/100),F438)","v":593434.58940735448},{"$f":"IF('Annuity Value'!B$11=\"Ordinary\",D438-E$2,G438)","v":588170.5414684905},590482.17851482215,585244.31986918638,null,436,3.2292808853427427E+23,3.5522089738770171E+23,null,436,1.0134866766962387E+20,1.1148353443658624E+20,null,436,436,875964.54343406879,1824.9261321543099,877789.46956622356,null,null,436,500,-33494.79,-3349478.8302372866,null,436,237.89930086358751,-25167.45,-2013395.9283570857]
[null,null,437,{"$f":"IF('Annuity Value'!B$11=\"Ordinary\",E438*(1+D$1/100),F439)","v":591111.39417583286},{"$f":"IF('Annuity Value'!B$11=\"Ordinary\",D439-E$2,G439)","v":585847.34623696888},588170.54146853229,582932.68282289652,null,437,3.5522089738770171E+23,3.9074298712647194E+23,null,437,1.1148353443658624E+20,1.2263188788024489E+20,null,437,437,878989.46956622356,1831.2280615962991,880820.69762781996,null,null,437,500,-33834.74,-3383473.5257366151,null,437,237.89930086358751,-25485.02,-2038801.2767624129]
[null,null,438,{"$f":"IF('Annuity Value'!B$11=\"Ordinary\",E439*(1+D$1/100),F440)","v":588776.58296815364},{"$f":"IF('Annuity Value'!B$11=\"Ordinary\",D440-E$2,G440)","v":583512.53502928966},585847.3462370109,580609.48759137513,null,438,3.9074298712647194E+23,4.2981728583911908E+23,null,438,1.2263188788024489E+20,1.3489507666826936E+20,null,438,438,882020.69762781996,1837.5431200579583,883858.24074787775,null,null,438,500,-34178.080000000002,-3417808.1681909356,null,438,237.89930086358751,-25806.55,-2064524.1920228074]
[null,null,439,{"$f":"IF('Annuity Value'!B$11=\"Ordinary\",E440*(1+D$1/100),F441)","v":586430.09770443605},{"$f":"IF('Annuity Value'!B$11=\"Ordinary\",D441-E$2,G441)","v":581166.04976557207},583512.53502933192,578274.67638369615,null,439,4.2981728583911908E+23,4.7279901442303101E+23,null,439,1.3489507666826936E+20,1.4838458433509632E+20,null,439,439,885058.24074787775,1843.8713348914118,886902.11208276963,null,null,439,500,-34524.86,-3452486.1570698027,null,439,237.89930086358751,-26132.11,-2090568.6437239551]
[null,null,440,{"$f":"IF('Annuity Value'!B$11=\"Ordinary\",E441*(1+D$1/100),F442)","v":584071.88001439988},{"$f":"IF('Annuity Value'!B$11=\"Ordinary\",D442-E$2,G442)","v":578807.8320755359},581166.04976561456,575928.19111997879,null,440,4.7279901442303101E+23,5.2007891586533406E+23,null,440,1.4838458433509632E+20,1.6322304276860594E+20,null,440,440,888102.11208276963,1850.2127335057701,889952.32481627527,null,null,440,500,-34875.11,-3487510.9258374567,null,440,237.89930086358751,-26461.73,-2116938.6510713683]
[null,null,441,{"$f":"IF('Annuity Value'!B$11=\"Ordinary\",E442*(1+D$1/100),F443)","v":581701.87123591348},{"$f":"IF('Annuity Value'!B$11=\"Ordinary\",D443-E$2,G443)","v":576437.8232970495},578807.83207557863,573569.97342994285,null,441,5.2007891586533406E+23,5.7208680745186762E+23,null,441,1.6322304276860594E+20,1.7954534704546657E+20,null,441,441,891152.32481627527,1856.56734336724,893008.892159643,null,null,441,500,-35228.86,-3522885.9422927853,null,441,237.89930086358751,-26795.48,-2143638.283510624]
[null,null,442,{"$f":"IF('Annuity Value'!B$11=\"Ordinary\",E443*(1+D$1/100),F444)","v":579320.01241353469},{"$f":"IF('Annuity Value'!B$11=\"Ordinary\",D444-E$2,G444)","v":574055.96447467071},576437.82329709246,571199.96465145668,null,442,5.7208680745186762E+23,6.2929548819705448E+23,null,442,1.7954534704546657E+20,1.9749988175001325E+20,null,442,442,894208.892159643,1862.9351919992562,896071.82735164242,null,null,442,500,-35586.15,-3558614.7089126687,null,442,237.89930086358751,-27133.4,-2170671.6613553707]
[null,null,443,{"$f":"IF('Annuity Value'!B$11=\"Ordinary\",E444*(1+D$1/100),F445)","v":576926.244297044},{"$f":"IF('Annuity Value'!B$11=\"Ordinary\",D445-E$2,G445)","v":571662.19635818002},574055.9644747139,568818.10582907812,null,443,6.2929548819705448E+23,6.9222503701676003E+23,null,443,1.9749988175001325E+20,2.172498699250146E+20,null,443,443,897271.82735164242,1869.3163069825885,899141.14365862508,null,null,443,500,-35947.01,-3594700.7631987534,null,443,237.89930086358751,-27475.54,-2198042.9564231765]
[null,null,444,{"$f":"IF('Annuity Value'!B$11=\"Ordinary\",E445*(1+D$1/100),F446)","v":574520.50733997091},{"$f":"IF('Annuity Value'!B$11=\"Ordinary\",D446-E$2,G446)","v":569256.45940110693},571662.19635822345,566424.33771258767,null,444,6.9222503701676003E+23,7.6144754071843589E+23,null,444,2.172498699250146E+20,2.3897485691751603E+20,null,444,444,900341.14365862508,1875.7107159554689,902216.85437458078,null,null,444,500,-36311.480000000003,-3631147.678027696,null,444,237.89930086358751,-27821.95,-2225756.3926793295]
[null,null,445,{"$f":"IF('Annuity Value'!B$11=\"Ordinary\",E446*(1+D$1/100),F447)","v":572102.74169811246},{"$f":"IF('Annuity Value'!B$11=\"Ordinary\",D447-E$2,G447)","v":566838.69375924848},569256.45940115058,564018.60075551481,null,445,7.6144754071843589E+23,8.3759229479027955E+23,null,445,2.3897485691751603E+20,2.6287234260926765E+20,null,445,445,903416.85437458078,1882.1184466137099,905298.97282119479,null,null,445,500,-36679.589999999997,-3667959.0620049275,null,445,237.89930086358751,-28172.7,-2253816.2468886846]
[null,null,446,{"$f":"IF('Annuity Value'!B$11=\"Ordinary\",E447*(1+D$1/100),F448)","v":569672.88722804468},{"$f":"IF('Annuity Value'!B$11=\"Ordinary\",D448-E$2,G448)","v":564408.8392891807},566838.69375929236,561600.83511365659,null,446,8.3759229479027955E+23,9.2135152426930777E+23,null,446,2.6287234260926765E+20,2.8915957687019448E+20,null,446,446,906498.97282119479,1888.5395267108224,908387.5123479059,null,null,446,500,-37051.39,-3705138.5598219316,null,446,237.89930086358751,-28527.84,-2282226.849275657]
[null,null,447,{"$f":"IF('Annuity Value'!B$11=\"Ordinary\",E448*(1+D$1/100),F449)","v":567230.88348562655},{"$f":"IF('Annuity Value'!B$11=\"Ordinary\",D449-E$2,G449)","v":561966.83554676257},564408.83928922482,559170.98064358905,null,447,9.2135152426930777E+23,1.0134866766962384E+24,null,447,2.8915957687019448E+20,3.1807553455721388E+20,null,447,447,909587.5123479059,1894.9739840581371,911482.48633196426,null,null,447,500,-37426.9,-3742689.8526171059,null,447,237.89930086358751,-28887.41,-2310992.584192466]
[null,null,448,{"$f":"IF('Annuity Value'!B$11=\"Ordinary\",E449*(1+D$1/100),F450)","v":564776.66972449631},{"$f":"IF('Annuity Value'!B$11=\"Ordinary\",D450-E$2,G450)","v":559512.62178563233},561966.83554680692,556728.97690117115,null,448,1.0134866766962384E+24,1.1148353443658623E+24,null,448,3.1807553455721388E+20,3.498830880129353E+20,null,448,448,912682.48633196426,1901.4218465249255,914583.90817848931,null,null,448,500,-37806.17,-3780616.6583402357,null,448,237.89930086358751,-29251.47,-2340117.8907957356]
[null,null,449,{"$f":"IF('Annuity Value'!B$11=\"Ordinary\",E450*(1+D$1/100),F451)","v":562310.18489456049},{"$f":"IF('Annuity Value'!B$11=\"Ordinary\",D451-E$2,G451)","v":557046.13695569651},559512.62178567692,554274.76314004115,null,449,1.1148353443658623E+24,1.2263188788024487E+24,null,449,3.498830880129353E+20,3.8487139681422888E+20,null,449,449,915783.90817848931,1907.8831420385193,917691.7913205279,null,null,449,500,{"$f":"ROUND(Y$2*AA451,2)","v":-38189.230000000003},{"$f":"IF(X$1=\"\",\"\",(1-(1+Y$2)^(X451-X$1))/(1-(1+Y$2)^(-X$1))*Z$1)","v":-3818922.7321205931},null,449,237.89930086358751,{"$f":"ROUND(AE$2*AF451,2)","v":-29620.09},{"$f":"AF$1*(1-(1+AE$2)^(AC451-AC$1))/(1-(1+AE$2)^(-AC$1))","v":-2369607.2637315458}]
[null,null,{"$f":"C451+1","v":450},{"$f":"IF('Annuity Value'!B$11=\"Ordinary\",E451*(1+D$1/100),F452)","v":559831.36764047493},{"$f":"IF('Annuity Value'!B$11=\"Ordinary\",D452-E$2,G452)","v":554567.31970161095},557046.13695574133,551808.27831010555,null,{"$f":"I451+1","v":450},{"$f":"K451","v":1.2263188788024487E+24},{"$f":"K$2*(1+J$1)^I452","v":1.3489507666826935E+24},null,{"$f":"M451+1","v":450},{"$f":"O451","v":3.8487139681422888E+20},{"$f":"O$2*(1+N$1)^M452","v":4.2335853649565182E+20},null,{"$f":"Q451+1","v":450},{"$f":"IF(A$5=1,Q452*12,IF(A$5=2,Q452*6,IF(A$5=4,Q452*3,Q452)))","v":450},918891.7913205279,1914.3578985844331,{"$f":"T$1*(1+S$2)^Q452+S$1*(((1+S$2)^(Q452+1)-(1+S$2))/S$2)","v":920806.14921911235},null,null,{"$f":"X451+1","v":450},{"$f":"Y451","v":500},-38576.120000000003,-3857611.8666387531,null,{"$f":"AC451+1","v":450},{"$f":"AD451","v":237.89930086358751},-29993.32,-2399465.2538290536]
[null,null,451,{"$f":"IF('Annuity Value'!B$11=\"Ordinary\",E452*(1+D$1/100),F453)","v":557340.15630011889},{"$f":"IF('Annuity Value'!B$11=\"Ordinary\",D453-E$2,G453)","v":552076.10836125491},{"$f":"G452*(1+F$1/100)","v":554567.319701656},549329.46105602023,null,451,1.3489507666826935E+24,1.4838458433509634E+24,null,451,4.2335853649565182E+20,4.6569439014521713E+20,null,451,451,{"$f":"S$1+U452","v":922006.14921911235},{"$f":"S$2*S453","v":1920.846144206484},923926.99536331953,null,null,451,500,-38966.879999999997,-3896687.8925020965,null,451,237.89930086358751,-30371.21,-2429696.4688027799]
[null,null,452,{"$f":"IF('Annuity Value'!B$11=\"Ordinary\",E453*(1+D$1/100),F454)","v":554836.48890306114},{"$f":"IF('Annuity Value'!B$11=\"Ordinary\",D454-E$2,G454)","v":549572.44096419716},552076.10836130031,546838.24971566454,null,452,1.4838458433509634E+24,1.6322304276860597E+24,null,452,4.6569439014521713E+20,5.122638291597388E+20,null,452,452,925126.99536331953,1927.3479070069156,927054.34327032615,null,null,452,500,-39361.550000000003,-3936154.6786240754,null,452,237.89930086358751,-30753.82,-2460305.5739636789]
[null,null,453,{"$f":"IF('Annuity Value'!B$11=\"Ordinary\",E454*(1+D$1/100),F455)","v":552320.30316901812},{"$f":"IF('Annuity Value'!B$11=\"Ordinary\",D455-E$2,G455)","v":547056.25523015414},549572.44096424279,544334.58231860702,null,453,1.6322304276860597E+24,1.7954534704546657E+24,null,453,5.122638291597388E+20,5.6349021207571274E+20,null,453,453,928254.34327032615,1933.8632151465129,930188.20648547309,null,null,453,500,-39760.160000000003,-3976016.132607271,null,453,237.89930086358751,-31141.22,-2491297.2929390878]
[null,null,454,{"$f":"IF('Annuity Value'!B$11=\"Ordinary\",E455*(1+D$1/100),F456)","v":549791.53650630487},{"$f":"IF('Annuity Value'!B$11=\"Ordinary\",D456-E$2,G456)","v":544527.48856744089},547056.25523020001,541818.39658456424,null,454,1.7954534704546657E+24,1.9749988175001322E+24,null,454,5.6349021207571274E+20,6.1983923328328401E+20,null,454,454,931388.20648547309,1940.3920968447355,933328.59858231805,null,null,454,500,-40162.76,-4016276.2011302989,null,454,237.89930086358751,-31533.46,-2522676.4084016909]
[null,null,455,{"$f":"IF('Annuity Value'!B$11=\"Ordinary\",E456*(1+D$1/100),F457)","v":547250.12601027801},{"$f":"IF('Annuity Value'!B$11=\"Ordinary\",D457-E$2,G457)","v":541986.07807141403},544527.48856748699,539289.62992185121,null,455,1.9749988175001322E+24,2.1724986992501461E+24,null,455,6.1983923328328401E+20,6.8182315661161254E+20,null,455,455,934528.59858231805,1946.9345803798292,936475.53316269803,null,null,455,500,-40569.39,-4056938.8703385568,null,455,237.89930086358751,-31930.6,-2554447.7628075746]
[null,null,456,{"$f":"IF('Annuity Value'!B$11=\"Ordinary\",E457*(1+D$1/100),F458)","v":544696.00846177107},{"$f":"IF('Annuity Value'!B$11=\"Ordinary\",D458-E$2,G458)","v":539431.96052290709},541986.07807146036,536748.21942582459,null,456,2.1724986992501461E+24,2.3897485691751608E+24,null,456,6.8182315661161254E+20,7.5000547227277381E+20,null,456,456,937675.53316269803,1953.4906940889541,939629.02385678701,null,null,456,500,-40980.080000000002,-4098008.1662389003,null,456,237.89930086358751,-32332.7,-2586616.2591435337]
[null,null,457,{"$f":"IF('Annuity Value'!B$11=\"Ordinary\",E458*(1+D$1/100),F459)","v":542129.12032552157},{"$f":"IF('Annuity Value'!B$11=\"Ordinary\",D459-E$2,G459)","v":536865.07238665759},539431.96052295365,534194.10187731788,null,457,2.3897485691751608E+24,2.628723426092677E+24,null,457,7.5000547227277381E+20,8.2500601950005127E+20,null,457,457,940829.02385678701,1960.0604663683062,942789.08432315581,null,null,457,500,-41394.879999999997,-4139488.1550982445,null,457,237.89930086358751,-32739.84,-2619186.8616836909]
[null,null,458,{"$f":"IF('Annuity Value'!B$11=\"Ordinary\",E459*(1+D$1/100),F460)","v":539549.3977485908},{"$f":"IF('Annuity Value'!B$11=\"Ordinary\",D460-E$2,G460)","v":534285.34980972682},536865.07238670439,531627.21374106861,null,458,2.628723426092677E+24,2.8915957687019449E+24,null,458,8.2500601950005127E+20,9.0750662145005637E+20,null,458,458,943989.08432315581,1966.6439256732413,945955.72824882914,null,null,458,500,-41813.83,-4181382.943846182,null,458,237.89930086358751,-33152.06,-2652164.5967556005]
[null,null,459,{"$f":"IF('Annuity Value'!B$11=\"Ordinary\",E460*(1+D$1/100),F461)","v":536956.77655877534},{"$f":"IF('Annuity Value'!B$11=\"Ordinary\",D461-E$2,G461)","v":531692.72861991136},534285.34980977385,{"$f":"F461-G$2","v":529047.49116413807},null,459,2.8915957687019449E+24,3.1807553455721395E+24,null,459,9.0750662145005637E+20,9.9825728359506208E+20,null,459,459,947155.72824882914,1973.241100518394,949128.96934934752,null,null,459,500,-42236.97,-4223696.6804815978,null,459,237.89930086358751,-33569.43,-2685554.5535159088]
[null,null,460,{"$f":"IF('Annuity Value'!B$11=\"Ordinary\",E461*(1+D$1/100),F462)","v":534351.19226301089},{"$f":"IF('Annuity Value'!B$11=\"Ordinary\",D462-E$2,G462)","v":529087.14432414691},531692.72861995874,526454.86997432297,null,460,3.1807553455721395E+24,3.4988308801293528E+24,null,460,9.9825728359506208E+20,1.0980830119545682E+21,null,460,460,950328.96934934752,1979.8520194778073,952308.82136882574,null,null,460,500,-42664.34,-4266433.5544833736,null,460,237.89930086358751,-33992.019999999997,-2719361.8847357216]
[null,null,461,{"$f":"IF('Annuity Value'!B$11=\"Ordinary\",E462*(1+D$1/100),F463)","v":531732.58004576759},{"$f":"IF('Annuity Value'!B$11=\"Ordinary\",D463-E$2,G463)","v":526468.53210690361},529087.14432419452,523849.28567855875,null,461,3.4988308801293528E+24,3.8487139681422886E+24,null,461,1.0980830119545682E+21,1.207891313150025E+21,null,461,461,953508.82136882574,1986.4767111850535,955495.29808001115,null,null,461,500,-43095.98,-4309597.7972251615,null,461,237.89930086358751,-34419.9,-2753591.8075957815]
[null,null,462,{"$f":"IF('Annuity Value'!B$11=\"Ordinary\",E463*(1+D$1/100),F464)","v":529100.87476743804},{"$f":"IF('Annuity Value'!B$11=\"Ordinary\",D464-E$2,G464)","v":523836.82682857406},526468.53210695146,521230.67346131569,null,462,3.8487139681422886E+24,4.2335853649565185E+24,null,462,1.207891313150025E+21,1.328680444465028E+21,null,462,462,956695.29808001115,1993.1152043333566,958688.41328434448,null,null,462,500,-43531.94,-4353193.6823943686,null,462,237.89930086358751,-34853.120000000003,-2788249.6044915929]
[null,null,463,{"$f":"IF('Annuity Value'!B$11=\"Ordinary\",E464*(1+D$1/100),F465)","v":526456.01096271689},{"$f":"IF('Annuity Value'!B$11=\"Ordinary\",D465-E$2,G465)","v":521191.96302385291},523836.8268286222,518598.96818298643,null,463,4.2335853649565185E+24,4.6569439014521698E+24,null,463,1.328680444465028E+21,1.4615484889115305E+21,null,463,463,959888.41328434448,1999.7675276757177,961888.1808120202,null,null,463,500,-43972.26,-4397225.5264152661,null,463,237.89930086358751,-35291.760000000002,-2823340.6238486012]
[null,null,464,{"$f":"IF('Annuity Value'!B$11=\"Ordinary\",E465*(1+D$1/100),F466)","v":523797.92283897212},{"$f":"IF('Annuity Value'!B$11=\"Ordinary\",D466-E$2,G466)","v":518533.87490010815},521191.96302390128,515954.1043782655,null,464,4.6569439014521698E+24,5.1226382915973882E+24,null,464,1.4615484889115305E+21,1.6077033378026839E+21,null,464,464,963088.1808120202,2006.433710025042,965094.61452204571,null,null,464,500,-44416.98,-4441697.6888763783,null,464,237.89930086358751,-35735.879999999997,-2858870.2809475721]
[null,null,465,{"$f":"IF('Annuity Value'!B$11=\"Ordinary\",E466*(1+D$1/100),F467)","v":521126.5442746086},{"$f":"IF('Annuity Value'!B$11=\"Ordinary\",D467-E$2,G467)","v":515862.49633574462},518533.87490015675,513296.01625452098,null,465,5.1226382915973882E+24,5.6349021207571264E+24,null,465,1.6077033378026839E+21,1.7684736715829522E+21,null,465,465,966294.61452204571,2013.1137802542619,968307.72830230021,null,null,465,500,-44866.15,-4486614.5729620969,null,465,237.89930086358751,-36185.550000000003,-2894844.0587602803]
[null,null,466,{"$f":"IF('Annuity Value'!B$11=\"Ordinary\",E467*(1+D$1/100),F468)","v":518441.8088174233},{"$f":"IF('Annuity Value'!B$11=\"Ordinary\",D468-E$2,G468)","v":513177.76087855932},515862.49633579352,510624.63769015775,null,466,5.6349021207571264E+24,6.1983923328328394E+24,null,466,1.7684736715829522E+21,1.9453210387412476E+21,null,466,466,969507.72830230021,2019.8077672964587,971527.53606959642,null,null,466,500,-45319.81,-4531980.6258886727,null,466,237.89930086358751,-36640.839999999997,-2931267.508795647]
[null,null,467,{"$f":"IF('Annuity Value'!B$11=\"Ordinary\",E468*(1+D$1/100),F469)","v":515743.64968295203},{"$f":"IF('Annuity Value'!B$11=\"Ordinary\",D469-E$2,G469)","v":510479.60174408805},513177.7608786085,507939.90223297273,null,467,6.1983923328328394E+24,6.8182315661161263E+24,null,467,1.9453210387412476E+21,2.1398531426153734E+21,null,467,467,972727.53606959642,2026.5157001449925,974754.05176974181,null,null,467,500,-45778,-4577800.3393445136,null,467,237.89930086358751,-37101.83,-2968146.2519564563]
[null,null,468,{"$f":"IF('Annuity Value'!B$11=\"Ordinary\",E469*(1+D$1/100),F470)","v":513031.99975280842},{"$f":"IF('Annuity Value'!B$11=\"Ordinary\",D470-E$2,G470)","v":507767.95181394444},510479.60174413753,505241.74309850176,null,468,6.8182315661161263E+24,7.5000547227277361E+24,null,468,2.1398531426153734E+21,2.3538384568769097E+21,null,468,468,975954.05176974181,2033.2376078536288,977987.28937759565,null,null,468,500,-46240.78,-4624078.2499349173,null,468,237.89930086358751,-37568.57,-3005485.9794067754]
[null,null,469,{"$f":"IF('Annuity Value'!B$11=\"Ordinary\",E470*(1+D$1/100),F471)","v":510306.79157301411},{"$f":"IF('Annuity Value'!B$11=\"Ordinary\",D471-E$2,G471)","v":505042.74363415013},507767.95181399421,502530.09316835843,null,469,7.5000547227277361E+24,8.2500601950005114E+24,null,469,2.3538384568769097E+21,2.5892223025646016E+21,null,469,469,979187.28937759565,2039.9735195366575,981227.26289713266,null,null,469,500,-46708.19,-4670818.9396312218,null,469,237.89930086358751,-38041.160000000003,-3043292.4534502239]
[null,null,470,{"$f":"IF('Annuity Value'!B$11=\"Ordinary\",E471*(1+D$1/100),F472)","v":507567.95735232084},{"$f":"IF('Annuity Value'!B$11=\"Ordinary\",D472-E$2,G472)","v":502303.90941345686},505042.74363420019,499804.88498856442,null,470,8.2500601950005114E+24,9.0750662145005644E+24,null,470,2.5892223025646016E+21,2.8481445328210619E+21,null,470,470,982427.26289713266,2046.7234643690263,984473.98636150162,null,null,470,500,-47180.27,-4718027.0362244882,null,470,237.89930086358751,-38519.64,-3081571.5084192157]
[null,null,471,{"$f":"IF('Annuity Value'!B$11=\"Ordinary\",E472*(1+D$1/100),F473)","v":504815.42896052409},{"$f":"IF('Annuity Value'!B$11=\"Ordinary\",D473-E$2,G473)","v":499551.38102166011},502303.90941350721,497066.05076787143,null,471,9.0750662145005644E+24,9.9825728359506219E+24,null,471,2.8481445328210619E+21,3.1329589861031682E+21,null,471,471,985673.98636150162,2053.4874715864617,987727.47383308853,null,null,471,500,-47657.07,-4765707.2137836879,null,471,237.89930086358751,-39004.11,-3120329.0515753189]
[null,null,472,{"$f":"IF('Annuity Value'!B$11=\"Ordinary\",E473*(1+D$1/100),F474)","v":502049.13792676834},{"$f":"IF('Annuity Value'!B$11=\"Ordinary\",D474-E$2,G474)","v":496785.08998790436},499551.38102171075,494313.52237607498,null,472,9.9825728359506219E+24,1.0980830119545683E+25,null,472,3.1329589861031682E+21,3.4462548847134848E+21,null,472,472,988927.47383308853,2060.2655704856011,990987.73940357415,null,null,472,500,-48138.64,-4813864.1931184838,null,472,237.89930086358751,-39494.639999999999,-3159571.064020874]
[null,null,473,{"$f":"IF('Annuity Value'!B$11=\"Ordinary\",E474*(1+D$1/100),F475)","v":499269.0154378438},{"$f":"IF('Annuity Value'!B$11=\"Ordinary\",D475-E$2,G475)","v":494004.96749897982},496785.08998795529,491547.23134231952,null,473,1.0980830119545683E+25,1.2078913131500253E+25,null,473,3.4462548847134848E+21,3.790880373184834E+21,null,473,473,992187.73940357415,2067.0577904241127,994254.79719399847,null,null,473,500,-48625.03,-4862502.7422466232,null,473,237.89930086358751,-39991.300000000003,-3199303.6016219975]
[null,null,474,{"$f":"IF('Annuity Value'!B$11=\"Ordinary\",E475*(1+D$1/100),F476)","v":496474.99233647465},{"$f":"IF('Annuity Value'!B$11=\"Ordinary\",D476-E$2,G476)","v":491210.94439761067},494004.96749903105,488767.10885339527,null,474,1.2078913131500253E+25,1.328680444465028E+25,null,474,3.790880373184834E+21,4.1699684105033178E+21,null,474,474,995454.79719399847,2073.86416082083,997528.66135481978,null,null,474,500,-49116.28,-4911627.6768660443,null,474,237.89930086358751,-40494.160000000003,-3239532.7959431377]
[null,null,475,{"$f":"IF('Annuity Value'!B$11=\"Ordinary\",E476*(1+D$1/100),F477)","v":493666.99911959865},{"$f":"IF('Annuity Value'!B$11=\"Ordinary\",D477-E$2,G477)","v":488402.95118073467},491210.94439766218,485973.08575202641,null,475,1.328680444465028E+25,1.461548488911531E+25,null,475,4.1699684105033178E+21,4.5869652515536503E+21,null,475,475,998728.66135481978,2080.6847111558745,1000809.3460659757,null,null,475,500,-49612.44,-4961243.8608316593,null,475,237.89930086358751,-41003.31,-3280264.8551932895]
[null,null,476,{"$f":"IF('Annuity Value'!B$11=\"Ordinary\",E477*(1+D$1/100),F478)","v":490844.9659366383},{"$f":"IF('Annuity Value'!B$11=\"Ordinary\",D478-E$2,G478)","v":485580.91799777432},488402.95118078648,483165.0925351507,null,476,1.461548488911531E+25,1.607703337802684E+25,null,476,4.5869652515536503E+21,5.0456617767090153E+21,null,476,476,1002009.3460659757,2087.5194709707825,1004096.8655369469,null,null,476,500,-50113.56,-5011356.2066369355,null,476,237.89930086358751,-41518.83,-3321506.0651840693]
[null,null,477,{"$f":"IF('Annuity Value'!B$11=\"Ordinary\",E478*(1+D$1/100),F479)","v":488008.82258776313},{"$f":"IF('Annuity Value'!B$11=\"Ordinary\",D479-E$2,G479)","v":482744.77464889915},485580.91799782641,480343.05935219064,null,477,1.607703337802684E+25,1.7684736715829521E+25,null,477,5.0456617767090153E+21,5.5502279543799163E+21,null,477,477,1005296.8655369469,2094.3684698686393,1007391.2340068155,null,null,477,500,-50619.7,-5061969.6759002591,null,477,237.89930086358751,-42040.78,-3363262.7902997341]
[null,null,478,{"$f":"IF('Annuity Value'!B$11=\"Ordinary\",E479*(1+D$1/100),F480)","v":485158.49852214358},{"$f":"IF('Annuity Value'!B$11=\"Ordinary\",D480-E$2,G480)","v":479894.4505832796},482744.77464895154,477506.91600331577,null,478,1.7684736715829521E+25,1.9453210387412483E+25,null,478,5.5502279543799163E+21,6.1052507498179105E+21,null,478,478,1008591.2340068155,2101.2317375141988,1010692.4657443301,null,null,478,500,-51130.89,-5113089.2798562162,null,478,237.89930086358751,-42569.27,-3405541.4744793447]
[null,null,479,{"$f":"IF('Annuity Value'!B$11=\"Ordinary\",E480*(1+D$1/100),F481)","v":482293.92283619597},{"$f":"IF('Annuity Value'!B$11=\"Ordinary\",D481-E$2,G481)","v":477029.87489733199},479894.45058333228,474656.5919376965,null,479,1.9453210387412483E+25,2.1398531426153727E+25,null,479,6.1052507498179105E+21,6.7157758247997004E+21,null,479,479,1011892.4657443301,2108.1093036340208,1014000.5750479643,null,null,479,500,-51647.199999999997,-5164720.0798517326,null,479,237.89930086358751,-43104.36,-3448348.6422111993]
[null,null,480,{"$f":"IF('Annuity Value'!B$11=\"Ordinary\",E481*(1+D$1/100),F482)","v":479415.02427181858},{"$f":"IF('Annuity Value'!B$11=\"Ordinary\",D482-E$2,G482)","v":474150.9763329546},477029.87489738496,471792.01625174918,null,480,2.1398531426153727E+25,2.3538384568769104E+25,null,480,6.7157758247997004E+21,7.387353407279671E+21,null,480,480,1015200.5750479643,2115.0011980165923,1017315.5762459809,null,null,480,500,-52168.67,-5216867.1878472045,null,480,237.89930086358751,-43646.14,-3491690.899539703]
[null,null,481,{"$f":"IF('Annuity Value'!B$11=\"Ordinary\",E482*(1+D$1/100),F483)","v":476521.7312146193},{"$f":"IF('Annuity Value'!B$11=\"Ordinary\",D483-E$2,G483)","v":471257.68327575532},{"$f":"G482*(1+F$1/100)","v":474150.97633300786},{"$f":"F483-G$2","v":468913.11768737208},null,481,{"$f":"K482","v":2.3538384568769104E+25},{"$f":"K$2*(1+J$1)^I483","v":2.5892223025646013E+25},null,481,{"$f":"O482","v":7.387353407279671E+21},{"$f":"O$2*(1+N$1)^M483","v":8.126088748007639E+21},null,481,{"$f":"IF(A$5=1,Q483*12,IF(A$5=2,Q483*6,IF(A$5=4,Q483*3,Q483)))","v":481},{"$f":"S$1+U482","v":1018515.5762459809},{"$f":"S$2*S483","v":2121.9074505124604},{"$f":"T$1*(1+S$2)^Q483+S$1*(((1+S$2)^(Q483+1)-(1+S$2))/S$2)","v":1020637.4836964939},null,null,481,500,{"$f":"ROUND(Y$2*AA483,2)","v":-52695.360000000001},{"$f":"IF(X$1=\"\",\"\",(1-(1+Y$2)^(X483-X$1))/(1-(1+Y$2)^(-X$1))*Z$1)","v":-5269535.766922636},null,481,237.89930086358751,{"$f":"ROUND(AE$2*AF483,2)","v":-44194.69},{"$f":"AF$1*(1-(1+AE$2)^(AC483-AC$1))/(1-(1+AE$2)^(-AC$1))","v":-3535574.9350848128}]
[null,null,482,{"$f":"IF('Annuity Value'!B$11=\"Ordinary\",E483*(1+D$1/100),F484)","v":473613.97169213404},{"$f":"IF('Annuity Value'!B$11=\"Ordinary\",D484-E$2,G484)","v":468349.92375327006},471257.68327580887,466019.8246301731,null,482,2.5892223025646013E+25,2.8481445328210617E+25,null,482,8.126088748007639E+21,8.9386976228084023E+21,null,482,482,1021837.4836964939,2128.8280910343624,1023966.311787528,null,null,482,500,-53227.31,-5322731.0317888176,null,482,237.89930086358751,-44750.09,-3580007.5210742364]
[null,null,483,{"$f":"IF('Annuity Value'!B$11=\"Ordinary\",E484*(1+D$1/100),F485)","v":470691.67337203637},{"$f":"IF('Annuity Value'!B$11=\"Ordinary\",D485-E$2,G485)","v":465427.62543317239},468349.92375332391,463112.06510768813,null,483,2.8481445328210617E+25,3.1329589861031684E+25,null,483,8.9386976228084023E+21,9.8325673850892462E+21,null,483,483,1025166.311787528,2135.7631495573501,1027302.0749370857,null,null,483,500,-53764.58,-5376458.2493036594,null,483,237.89930086358751,-45312.44,-3624995.5143885277]
[null,null,484,{"$f":"IF('Annuity Value'!B$11=\"Ordinary\",E485*(1+D$1/100),F486)","v":467754.76356033818},{"$f":"IF('Annuity Value'!B$11=\"Ordinary\",D486-E$2,G486)","v":462490.7156214742},465427.62543322652,460189.76678759075,null,484,3.1329589861031684E+25,3.4462548847134855E+25,null,484,9.8325673850892462E+21,1.0815824123598169E+22,null,484,484,1028502.0749370857,2142.7126561189284,1030644.787593205,null,null,484,500,-54307.23,-5430722.7389936512,null,484,237.89930086358751,-45881.82,-3670545.8576192474]
[null,null,485,{"$f":"IF('Annuity Value'!B$11=\"Ordinary\",E486*(1+D$1/100),F487)","v":464803.16919958155},{"$f":"IF('Annuity Value'!B$11=\"Ordinary\",D487-E$2,G487)","v":459539.12126071757},462490.71562152868,457252.85697589291,null,485,3.4462548847134855E+25,3.790880373184834E+25,null,485,1.0815824123598169E+22,1.1897406535957987E+22,null,485,485,1031844.787593205,2149.676640819177,1033994.4642340241,null,null,485,500,-54855.3,-5485529.873580547,null,485,237.89930086358751,-46458.32,-3716665.5801403527]
[null,null,486,{"$f":"IF('Annuity Value'!B$11=\"Ordinary\",E487*(1+D$1/100),F488)","v":461836.81686702109},{"$f":"IF('Annuity Value'!B$11=\"Ordinary\",D488-E$2,G488)","v":456572.76892815711},459539.12126077234,454301.26261513657,null,486,3.790880373184834E+25,4.1699684105033172E+25,null,486,1.1897406535957987E+22,1.3087147189553785E+22,null,486,486,1035194.4642340241,2156.6551338208833,1037351.1193678457,null,null,486,500,-55408.85,-5540885.0795133067,null,486,237.89930086358751,-47042.02,-3763361.7991929706]
[null,null,487,{"$f":"IF('Annuity Value'!B$11=\"Ordinary\",E488*(1+D$1/100),F489)","v":458855.63277279784},{"$f":"IF('Annuity Value'!B$11=\"Ordinary\",D489-E$2,G489)","v":453591.58483393386},456572.76892821223,451334.91028257646,null,487,4.1699684105033172E+25,4.5869652515536502E+25,null,487,1.3087147189553785E+22,1.4395861908509168E+22,null,487,487,1038551.1193678457,2163.6481653496785,1040714.7675331952,null,null,487,500,-55967.94,-5596793.8375053946,null,487,237.89930086358751,-47633.02,-3810641.7209837451]
[null,null,488,{"$f":"IF('Annuity Value'!B$11=\"Ordinary\",E489*(1+D$1/100),F490)","v":455859.54275810346},{"$f":"IF('Annuity Value'!B$11=\"Ordinary\",D490-E$2,G490)","v":450595.49481923948},453591.58483398927,448353.7261883535,null,488,4.5869652515536502E+25,5.0456617767090151E+25,null,488,1.4395861908509168E+22,1.5835448099360083E+22,null,488,488,1041914.7675331952,2170.6557656941568,1044085.4232988895,null,null,488,500,-56532.62,-5653261.6830774033,null,488,237.89930086358751,-48231.41,-3858512.6417969069]
[null,null,489,{"$f":"IF('Annuity Value'!B$11=\"Ordinary\",E490*(1+D$1/100),F491)","v":452848.47229333565},{"$f":"IF('Annuity Value'!B$11=\"Ordinary\",D491-E$2,G491)","v":447584.42435447167},450595.49481929524,445357.63617365947,null,489,5.0456617767090151E+25,5.550227954379916E+25,null,489,1.5835448099360083E+22,1.7418992909296092E+22,null,489,489,1045285.4232988895,2177.67796520602,1047463.1012640959,null,null,489,500,-57102.94,-5710294.2071051365,null,489,237.89930086358751,-48837.27,-3906981.9491202305]
[null,null,490,{"$f":"IF('Annuity Value'!B$11=\"Ordinary\",E491*(1+D$1/100),F492)","v":449822.34647624398},{"$f":"IF('Annuity Value'!B$11=\"Ordinary\",D492-E$2,G492)","v":444558.29853738},447584.42435452773,442346.56570889195,null,490,5.550227954379916E+25,6.1052507498179093E+25,null,490,1.7418992909296092E+22,1.9160892200225704E+22,null,490,490,1048663.1012640959,2184.7147943001996,1050847.8160583961,null,null,490,500,-57678.97,-5767897.0563731426,null,490,237.89930086358751,-49450.71,-3956057.1227850979]
[null,null,491,{"$f":"IF('Annuity Value'!B$11=\"Ordinary\",E492*(1+D$1/100),F493)","v":446781.09003006684},{"$f":"IF('Annuity Value'!B$11=\"Ordinary\",D493-E$2,G493)","v":441517.04209120286},444558.29853743635,439320.43989180058,null,491,6.1052507498179093E+25,6.7157758247997002E+25,null,491,1.9160892200225704E+22,2.1076981420248277E+22,null,491,491,1052047.8160583961,2191.7662834549919,1054239.5823418514,null,null,491,500,-58260.76,-5826075.9341338286,null,491,237.89930086358751,-50071.82,-4005745.7361207735]
[null,null,492,{"$f":"IF('Annuity Value'!B$11=\"Ordinary\",E493*(1+D$1/100),F494)","v":443724.62730165885},{"$f":"IF('Annuity Value'!B$11=\"Ordinary\",D494-E$2,G494)","v":438460.57936279487},441517.04209125956,436279.18344562378,null,492,6.7157758247997002E+25,7.3873534072796697E+25,null,492,2.1076981420248277E+22,2.3184679562273102E+22,null,492,492,1055439.5823418514,2198.8324632121903,1057638.4148050637,null,null,492,500,-58848.37,-5884836.6006721221,null,492,237.89930086358751,-50700.69,-4056055.4571231487]
[null,null,493,{"$f":"IF('Annuity Value'!B$11=\"Ordinary\",E494*(1+D$1/100),F495)","v":440652.88225960883},{"$f":"IF('Annuity Value'!B$11=\"Ordinary\",D495-E$2,G495)","v":435388.83432074485},438460.57936285186,433222.72071721609,null,493,7.3873534072796697E+25,8.1260887480076382E+25,null,493,2.3184679562273102E+22,2.5503147518500417E+22,null,493,493,1058838.4148050637,2205.913364177216,1061044.3281692413,null,null,493,500,-59441.85,-5944184.8738758015,null,493,237.89930086358751,-51337.43,-4106994.0496380501]
[null,null,494,{"$f":"IF('Annuity Value'!B$11=\"Ordinary\",E495*(1+D$1/100),F496)","v":437565.7784923485},{"$f":"IF('Annuity Value'!B$11=\"Ordinary\",D496-E$2,G496)","v":432301.73055348452},435388.83432080213,430150.97567516635,null,494,8.1260887480076382E+25,8.9386976228084029E+25,null,494,2.5503147518500417E+22,2.8053462270350463E+22,null,494,494,1062244.3281692413,2213.0090170192525,1064457.3371862606,null,null,494,500,-60041.27,-6004126.6298115151,null,494,237.89930086358751,-51982.12,-4158569.3745593908]
[null,null,495,{"$f":"IF('Annuity Value'!B$11=\"Ordinary\",E496*(1+D$1/100),F497)","v":434463.23920625192},{"$f":"IF('Annuity Value'!B$11=\"Ordinary\",D497-E$2,G497)","v":429199.19126738794},432301.73055354215,427063.87190790637,null,495,8.9386976228084029E+25,9.8325673850892454E+25,null,495,2.8053462270350463E+22,3.0858808497385513E+22,null,495,495,1065657.3371862606,2220.1194524713765,1067877.4566387322,null,null,495,500,-60646.68,-6064667.8033065842,null,495,237.89930086358751,-52634.87,-4210789.3910422456]
[null,null,496,{"$f":"IF('Annuity Value'!B$11=\"Ordinary\",E497*(1+D$1/100),F498)","v":431345.18722372485},{"$f":"IF('Annuity Value'!B$11=\"Ordinary\",D498-E$2,G498)","v":426081.13928486087},429199.19126744586,423961.33262181008,null,496,9.8325673850892454E+25,1.0815824123598169E+26,null,496,3.0858808497385513E+22,3.3944689347124062E+22,null,496,496,1069077.4566387322,2227.2447013306919,1071304.7013400632,null,null,496,500,-61258.14,-6125814.3885366051,null,496,237.89930086358751,-53295.78,-4263662.1577311382]
[null,null,497,{"$f":"IF('Annuity Value'!B$11=\"Ordinary\",E498*(1+D$1/100),F499)","v":428211.54498128511},{"$f":"IF('Annuity Value'!B$11=\"Ordinary\",D499-E$2,G499)","v":422947.49704242114},426081.13928491907,420843.2806392833,null,497,1.0815824123598169E+26,1.1897406535957986E+26,null,497,3.3944689347124062E+22,3.733915828183647E+22,null,497,497,1072504.7013400632,2234.384794458465,1074739.0861345222,null,null,497,500,-61875.72,-6187572.4396189312,null,497,237.89930086358751,-53964.95,-4317195.8340036394]
[null,null,498,{"$f":"IF('Annuity Value'!B$11=\"Ordinary\",E499*(1+D$1/100),F500)","v":425062.23452763318},{"$f":"IF('Annuity Value'!B$11=\"Ordinary\",D500-E$2,G500)","v":419798.1865887692},422947.49704247969,417709.63839684392,null,498,1.1897406535957986E+26,1.3087147189553785E+26,null,498,3.733915828183647E+22,4.1073074110020117E+22,null,498,498,1075939.0861345222,2241.5397627802545,1078180.6258973023,null,null,498,500,-62499.48,-6249948.0712120747,null,498,237.89930086358751,-54642.48,-4371398.6812295485]
[null,null,499,{"$f":"IF('Annuity Value'!B$11=\"Ordinary\",E500*(1+D$1/100),F501)","v":421897.17752171302},{"$f":"IF('Annuity Value'!B$11=\"Ordinary\",D501-E$2,G501)","v":416633.12958284904},419798.1865888281,414560.32794319233,null,499,1.3087147189553785E+26,1.4395861908509164E+26,null,499,4.1073074110020117E+22,4.5180381521022133E+22,null,499,499,1079380.6258973023,2248.7096372860465,1081629.3355345882,null,null,499,500,-63129.47,-6312947.459121149,null,499,237.89930086358751,-55328.49,-4426279.0640457822]
[null,null,500,{"$f":"IF('Annuity Value'!B$11=\"Ordinary\",E501*(1+D$1/100),F502)","v":418716.29523076327},{"$f":"IF('Annuity Value'!B$11=\"Ordinary\",D502-E$2,G502)","v":413452.24729189929},416633.12958290824,411395.27093727246,null,500,1.4395861908509164E+26,1.5835448099360082E+26,null,500,4.5180381521022133E+22,4.9698419673124351E+22,null,500,500,1082829.3355345882,2255.894449030392,1085085.2299836192,null,null,500,500,-63765.77,-6376576.8409093153,null,500,237.89930086358751,-56023.07,-4481845.4516472174]
[null,null,501,{"$f":"IF('Annuity Value'!B$11=\"Ordinary\",E502*(1+D$1/100),F503)","v":415519.50852835871},{"$f":"IF('Annuity Value'!B$11=\"Ordinary\",D503-E$2,G503)","v":410255.46058949473},413452.24729195877,408214.388646323,null,501,1.5835448099360082E+26,1.7418992909296091E+26,null,501,4.9698419673124351E+22,5.4668261640436791E+22,null,501,501,1086285.2299836192,2263.09422913254,1088548.324212752,null,null,501,500,-64408.43,-6440842.5165153677,null,501,237.89930086358751,-56726.33,-4538106.4190936713]
[null,null,502,{"$f":"IF('Annuity Value'!B$11=\"Ordinary\",E503*(1+D$1/100),F504)","v":412306.73789244215},{"$f":"IF('Annuity Value'!B$11=\"Ordinary\",D504-E$2,G504)","v":407042.68995357817},410255.46058955457,405017.60194391879,null,502,1.7418992909296091E+26,1.9160892200225707E+26,null,502,5.4668261640436791E+22,6.013508780448049E+22,null,502,502,1089748.324212752,2270.3090087765668,1092018.6332215287,null,null,502,500,-65057.51,-6505750.8488774775,null,502,237.89930086358751,-57438.38,-4595070.6486332063]
[null,null,503,{"$f":"IF('Annuity Value'!B$11=\"Ordinary\",E504*(1+D$1/100),F505)","v":409077.90340334602},{"$f":"IF('Annuity Value'!B$11=\"Ordinary\",D505-E$2,G505)","v":403813.85546448204},407042.68995363836,401804.83130800258,null,503,1.9160892200225707E+26,2.1076981420248277E+26,null,503,6.013508780448049E+22,6.6148596584928539E+22,null,503,503,1093218.6332215287,2277.5388192115183,1095496.1720407403,null,null,503,500,-65713.08,-6571308.2645632066,null,503,237.89930086358751,-58159.34,-4652746.9310419848]
[null,null,504,{"$f":"IF('Annuity Value'!B$11=\"Ordinary\",E505*(1+D$1/100),F506)","v":405832.92474180443},{"$f":"IF('Annuity Value'!B$11=\"Ordinary\",D506-E$2,G506)","v":400568.87680294045},403813.85546454258,398575.9968189068,null,504,2.1076981420248277E+26,2.3184679562273097E+26,null,504,6.6148596584928539E+22,7.2763456243421363E+22,null,504,504,1096696.1720407403,2284.7836917515424,1098980.955732492,null,null,504,500,-66375.210000000006,-6637521.2544057937,null,504,237.89930086358751,-58889.3,-4711144.1669808729]
[null,null,505,{"$f":"IF('Annuity Value'!B$11=\"Ordinary\",E506*(1+D$1/100),F507)","v":402571.72118695511},{"$f":"IF('Annuity Value'!B$11=\"Ordinary\",D507-E$2,G507)","v":397307.67324809113},400568.87680300127,395331.0181573655,null,505,2.3184679562273097E+26,2.5503147518500417E+26,null,505,7.2763456243421363E+22,8.0039801867763525E+22,null,505,505,1100180.955732492,2292.0436577760252,1102472.999390268,null,null,505,500,-67043.960000000006,-6704396.3741468107,null,505,237.89930086358751,-59628.39,-4770271.3683689963]
[null,null,506,{"$f":"IF('Annuity Value'!B$11=\"Ordinary\",E507*(1+D$1/100),F508)","v":399294.21161433152},{"$f":"IF('Annuity Value'!B$11=\"Ordinary\",D508-E$2,G508)","v":394030.16367546754},397307.67324815231,392069.81460251653,null,506,2.5503147518500417E+26,2.8053462270350455E+26,null,506,8.0039801867763525E+22,8.8043782054539875E+22,null,506,506,1103672.999390268,2299.318748729725,1105972.3181389987,null,null,506,500,-67719.399999999994,-6771940.245085232,null,506,237.89930086358751,-60376.72,-4830137.6597744739]
[null,null,507,{"$f":"IF('Annuity Value'!B$11=\"Ordinary\",E508*(1+D$1/100),F509)","v":396000.31449384481},{"$f":"IF('Annuity Value'!B$11=\"Ordinary\",D509-E$2,G509)","v":390736.26655498083},394030.16367552907,388792.30502989329,null,507,2.8053462270350455E+26,3.0858808497385509E+26,null,507,8.8043782054539875E+22,9.6848160259993877E+22,null,507,507,1107172.3181389987,2306.608996122914,1109478.9271351215,null,null,507,500,-68401.600000000006,-6840159.5547330389,null,507,237.89930086358751,-61134.400000000001,-4890752.2798225181]
[null,null,508,{"$f":"IF('Annuity Value'!B$11=\"Ordinary\",E509*(1+D$1/100),F510)","v":392689.9478877557},{"$f":"IF('Annuity Value'!B$11=\"Ordinary\",D510-E$2,G510)","v":387425.89994889172},390736.2665550427,385498.40790940693,null,508,3.0858808497385509E+26,3.3944689347124056E+26,null,508,9.6848160259993877E+22,1.0653297628599325E+23,null,508,508,1110678.9271351215,2313.9144315315034,1112992.8415666535,null,null,508,500,-69090.61,-6909061.0574773233,null,508,237.89930086358751,-61901.56,-4952124.5826211637]
[null,null,509,{"$f":"IF('Annuity Value'!B$11=\"Ordinary\",E510*(1+D$1/100),F511)","v":389363.02944863611},{"$f":"IF('Annuity Value'!B$11=\"Ordinary\",D511-E$2,G511)","v":384098.98150977213},387425.89994895394,382188.04130331817,null,509,3.3944689347124056E+26,3.7339158281836471E+26,null,509,1.0653297628599325E+23,1.1718627391459261E+23,null,509,509,1114192.8415666535,2321.2350865971948,1116514.0766532512,null,null,509,500,-69786.52,-6978651.5752490582,null,509,237.89930086358751,-62678.3,-5014264.0392047912]
[null,null,510,{"$f":"IF('Annuity Value'!B$11=\"Ordinary\",E511*(1+D$1/100),F512)","v":386019.47641732096},{"$f":"IF('Annuity Value'!B$11=\"Ordinary\",D512-E$2,G512)","v":380755.42847845698},384098.9815098347,378861.12286419893,null,510,3.7339158281836471E+26,4.1073074110020129E+26,null,510,1.1718627391459261E+23,1.2890490130605191E+23,null,510,510,1117714.0766532512,2328.5709930276066,1120042.6476462786,null,null,510,500,-70489.38,-7048937.9981985027,null,510,237.89930086358751,-63464.75,-5077180.238995716]
[null,null,511,{"$f":"IF('Annuity Value'!B$11=\"Ordinary\",E512*(1+D$1/100),F513)","v":382659.20562084921},{"$f":"IF('Annuity Value'!B$11=\"Ordinary\",D513-E$2,G513)","v":377395.15768198523},380755.4284785199,375517.56983288412,null,511,4.1073074110020129E+26,4.5180381521022134E+26,null,511,1.2890490130605191E+23,1.4179539143665708E+23,null,511,511,1121242.6476462786,2335.9221825964137,1123578.5698288749,null,null,511,500,-71199.27,-7119927.2853774419,null,511,237.89930086358751,-64261.04,-5140882.8912840243]
[null,null,512,{"$f":"IF('Annuity Value'!B$11=\"Ordinary\",E513*(1+D$1/100),F514)","v":379282.13347039511},{"$f":"IF('Annuity Value'!B$11=\"Ordinary\",D514-E$2,G514)","v":374018.08553153113},377395.15768204851,372157.29903641273,null,512,4.5180381521022134E+26,4.9698419673124345E+26,null,512,1.4179539143665708E+23,1.5597493058032279E+23,null,512,512,1124778.5698288749,2343.2886871434894,1127121.8585160188,null,null,512,500,-71916.259999999995,-7191626.4654281698,null,512,237.89930086358751,-65067.27,-5205381.8267259384]
[null,null,513,{"$f":"IF('Annuity Value'!B$11=\"Ordinary\",E514*(1+D$1/100),F515)","v":375888.17595918872},{"$f":"IF('Annuity Value'!B$11=\"Ordinary\",D515-E$2,G515)","v":370624.12802032474},374018.08553159476,368780.22688595898,null,513,4.9698419673124345E+26,5.4668261640436788E+26,null,513,1.5597493058032279E+23,1.7157242363835508E+23,null,513,513,1128321.8585160188,2350.6705385750392,1130672.5290545942,null,null,513,500,-72640.429999999993,-7264042.6372794071,null,513,237.89930086358751,-65883.59,-5270686.9988608751]
[null,null,{"$f":"C515+1","v":514},{"$f":"IF('Annuity Value'!B$11=\"Ordinary\",E515*(1+D$1/100),F516)","v":372477.24866042635},{"$f":"IF('Annuity Value'!B$11=\"Ordinary\",D516-E$2,G516)","v":367213.20072156237},370624.12802038871,365386.26937475294,null,{"$f":"I515+1","v":514},5.4668261640436788E+26,6.013508780448047E+26,null,{"$f":"M515+1","v":514},1.7157242363835508E+23,1.8872966600219061E+23,null,{"$f":"Q515+1","v":514},514,1131872.5290545942,2358.0677688637379,1134230.5968234579,null,null,{"$f":"X515+1","v":514},{"$f":"Y515","v":500},-73371.83,-7337182.970849162,null,{"$f":"AC515+1","v":514},{"$f":"AD515","v":237.89930086358751},-66710.11,-5336808.4856475005]
[null,null,515,{"$f":"IF('Annuity Value'!B$11=\"Ordinary\",E516*(1+D$1/100),F517)","v":369049.26672517014},{"$f":"IF('Annuity Value'!B$11=\"Ordinary\",D517-E$2,G517)","v":363785.21878630616},367213.20072162669,361975.34207599092,null,515,6.013508780448047E+26,6.614859658492853E+26,null,515,1.8872966600219061E+23,2.0760263260240969E+23,null,515,515,1135430.5968234579,2365.4804100488705,1137796.0772335068,null,null,515,500,-74110.55,-7411054.7077546064,null,515,237.89930086358751,-67546.960000000006,-5403756.4910189575]
[null,null,516,{"$f":"IF('Annuity Value'!B$11=\"Ordinary\",E517*(1+D$1/100),F518)","v":365604.14488023764},{"$f":"IF('Annuity Value'!B$11=\"Ordinary\",D518-E$2,G518)","v":360340.09694137366},363785.21878637082,358547.36014073505,null,516,6.614859658492853E+26,7.2763456243421376E+26,null,516,2.0760263260240969E+23,2.2836289586265063E+23,null,516,516,1138996.0772335068,2372.9084942364725,1141368.9857277437,null,null,516,500,-74856.649999999994,-7485665.1620291071,null,516,237.89930086358751,-68394.27,-5471541.3464575587]
[null,null,517,{"$f":"IF('Annuity Value'!B$11=\"Ordinary\",E518*(1+D$1/100),F519)","v":362141.79742608051},{"$f":"IF('Annuity Value'!B$11=\"Ordinary\",D519-E$2,G519)","v":356877.74948721653},360340.09694143868,355102.2382958029,null,517,7.2763456243421376E+26,8.0039801867763523E+26,null,517,2.2836289586265063E+23,2.5119918544891574E+23,null,517,517,1142568.9857277437,2380.3520535994662,1144949.3377813431,null,null,517,500,-75610.22,-7561021.7208463522,null,517,237.89930086358751,-69252.17,-5540173.5125891417]
[null,null,518,{"$f":"IF('Annuity Value'!B$11=\"Ordinary\",E519*(1+D$1/100),F520)","v":358662.13823465258},{"$f":"IF('Annuity Value'!B$11=\"Ordinary\",D520-E$2,G520)","v":353398.0902957886},356877.74948728189,351639.89084164612,null,518,8.0039801867763523E+26,8.8043782054539878E+26,null,518,2.5119918544891574E+23,2.7631910399380732E+23,null,518,518,1146149.3377813431,2387.811120377798,1148537.1489017212,null,null,518,500,-76371.320000000007,-7637131.8452517763,null,518,237.89930086358751,-70120.789999999994,-5609663.5807973696]
[null,null,519,{"$f":"IF('Annuity Value'!B$11=\"Ordinary\",E520*(1+D$1/100),F521)","v":355165.08074726752},{"$f":"IF('Annuity Value'!B$11=\"Ordinary\",D521-E$2,G521)","v":349901.03280840354},353398.09029585432,348160.23165021854,null,519,8.8043782054539878E+26,9.6848160259993887E+26,null,519,2.7631910399380732E+23,3.039510143931881E+23,null,519,519,1149737.1489017212,2395.285726878586,1152132.4346286003,null,null,519,500,-77140.03,-7714003.0709012495,null,519,237.89930086358751,-71000.28,-5680022.2748581991]
[null,null,520,{"$f":"IF('Annuity Value'!B$11=\"Ordinary\",E521*(1+D$1/100),F522)","v":351650.53797244554},{"$f":"IF('Annuity Value'!B$11=\"Ordinary\",D522-E$2,G522)","v":346386.49003358156},349901.03280846961,344663.17416283383,null,520,9.6848160259993887E+26,1.0653297628599326E+27,null,520,3.039510143931881E+23,3.3434611583250688E+23,null,520,520,1153332.4346286003,2402.7759054762505,1155735.2105340767,null,null,520,500,-77916.429999999993,-7791643.0088072168,null,520,237.89930086358751,-71890.759999999995,-5751260.4525947906]
[null,null,521,{"$f":"IF('Annuity Value'!B$11=\"Ordinary\",E522*(1+D$1/100),F523)","v":348118.42248374945},{"$f":"IF('Annuity Value'!B$11=\"Ordinary\",D523-E$2,G523)","v":342854.37454488548},346386.49003364798,341148.6313880122,null,521,1.0653297628599326E+27,1.171862739145926E+27,null,521,3.3434611583250688E+23,3.677807274157576E+23,null,521,521,1156935.2105340767,2410.2816886126598,1159345.4922226896,null,null,521,500,-78700.59,-7870059.3460922418,null,521,237.89930086358751,-72792.36,-5823389.1075530881]
[null,null,522,{"$f":"IF('Annuity Value'!B$11=\"Ordinary\",E523*(1+D$1/100),F524)","v":344568.64641760988},{"$f":"IF('Annuity Value'!B$11=\"Ordinary\",D524-E$2,G524)","v":339304.5984787459},342854.37454495224,337616.51589931647,null,522,1.171862739145926E+27,1.2890490130605188E+27,null,522,3.677807274157576E+23,4.0455880015733343E+23,null,522,522,1160545.4922226896,2417.8031087972699,1162963.2953314872,null,null,522,500,-79492.600000000006,-7949259.8467501262,null,522,237.89930086358751,-73705.240000000005,-5896419.3706983672]
[null,null,523,{"$f":"IF('Annuity Value'!B$11=\"Ordinary\",E524*(1+D$1/100),F525)","v":341001.1214711396},{"$f":"IF('Annuity Value'!B$11=\"Ordinary\",D525-E$2,G525)","v":335737.07353227562},339304.59847881302,334066.73983317724,null,523,1.2890490130605188E+27,1.4179539143665708E+27,null,523,4.0455880015733343E+23,4.4501468017306687E+23,null,523,523,1164163.2953314872,2425.3401986072649,1166588.6355300944,null,null,523,500,-80292.52,-8029252.3524145791,null,523,237.89930086358751,-74629.53,-5970362.5121329576]
[null,null,524,{"$f":"IF('Annuity Value'!B$11=\"Ordinary\",E525*(1+D$1/100),F526)","v":337415.75889993698},{"$f":"IF('Annuity Value'!B$11=\"Ordinary\",D526-E$2,G526)","v":332151.710961073},335737.07353234309,330499.21488670731,null,524,1.4179539143665708E+27,1.5597493058032278E+27,null,524,4.4501468017306687E+23,4.8951614819037349E+23,null,524,524,1167788.6355300944,2432.8929906876965,1170221.5285207825,null,null,524,500,-81100.45,-8110044.7831356796,null,524,237.89930086358751,-75565.37,-6045229.9428354856]
[null,null,525,{"$f":"IF('Annuity Value'!B$11=\"Ordinary\",E526*(1+D$1/100),F527)","v":333812.4695158783},{"$f":"IF('Annuity Value'!B$11=\"Ordinary\",D527-E$2,G527)","v":328548.42157701432},332151.71096114081,326913.85231550504,null,525,1.5597493058032278E+27,1.7157242363835505E+27,null,525,4.8951614819037349E+23,5.3846776300941082E+23,null,525,525,1171421.5285207825,2440.4615177516303,1173861.9900385344,null,null,525,500,-81916.45,-8191645.1381639913,null,525,237.89930086358751,-76512.92,-6121033.2164217932]
[null,null,526,{"$f":"IF('Annuity Value'!B$11=\"Ordinary\",E527*(1+D$1/100),F528)","v":330191.16368489934},{"$f":"IF('Annuity Value'!B$11=\"Ordinary\",D528-E$2,G528)","v":324927.11574603536},328548.42157708254,323310.56293144677,null,526,1.7157242363835505E+27,1.8872966600219061E+27,null,526,5.3846776300941082E+23,5.9231453931035205E+23,null,526,526,1175061.9900385344,2448.0458125802797,1177510.0358511147,null,null,526,500,-82740.61,-8274061.4967425847,null,526,237.89930086358751,-77472.3,-6197784.0309279282]
[null,null,527,{"$f":"IF('Annuity Value'!B$11=\"Ordinary\",E528*(1+D$1/100),F529)","v":326551.7513247655},{"$f":"IF('Annuity Value'!B$11=\"Ordinary\",D529-E$2,G529)","v":321287.70338590152},324927.11574610398,319689.25710046821,null,527,1.8872966600219061E+27,2.0760263260240967E+27,null,527,5.9231453931035205E+23,6.5154599324138732E+23,null,527,527,1178710.0358511147,2455.6459080231557,1181165.6817591381,null,null,527,500,-83573.02,-8357302.0189069649,null,527,237.89930086358751,-78443.679999999993,-6275494.2306153914]
[null,null,528,{"$f":"IF('Annuity Value'!B$11=\"Ordinary\",E529*(1+D$1/100),F530)","v":322894.14190283098},{"$f":"IF('Annuity Value'!B$11=\"Ordinary\",D530-E$2,G530)","v":317630.093963967},321287.7033859705,316049.84474033472,null,528,2.0760263260240967E+27,2.2836289586265063E+27,null,528,6.5154599324138732E+23,7.1670059256552599E+23,null,528,528,1182365.6817591381,2463.2618369982042,1184828.9435961368,null,null,528,500,-84413.75,-8441374.946292989,null,528,237.89930086358751,-79427.199999999997,-6354175.8077989463]
[null,null,529,{"$f":"IF('Annuity Value'!B$11=\"Ordinary\",E530*(1+D$1/100),F531)","v":319218.24443378678},{"$f":"IF('Annuity Value'!B$11=\"Ordinary\",D531-E$2,G531)","v":313954.1964949228},317630.09396403638,312392.23531840061,null,529,2.2836289586265063E+27,2.5119918544891572E+27,null,529,7.1670059256552599E+23,7.8837065182207862E+23,null,529,529,1186028.9435961368,2470.8936324919514,1188499.837228629,null,null,529,500,-85262.89,-8526288.6029528808,null,529,237.89930086358751,-80423.009999999995,-6433840.9046972953]
[null,null,530,{"$f":"IF('Annuity Value'!B$11=\"Ordinary\",E531*(1+D$1/100),F532)","v":315523.96747739735},{"$f":"IF('Annuity Value'!B$11=\"Ordinary\",D532-E$2,G532)","v":310259.91953853337},313954.19649499259,308716.33784935682,null,530,2.5119918544891572E+27,2.7631910399380728E+27,null,530,7.8837065182207862E+23,8.6720771700428662E+23,null,530,530,1189699.837228629,2478.5413275596438,1192178.3785561884,null,null,530,500,-86120.51,-8612051.3961793613,null,530,237.89930086358751,-81431.27,-6514501.8153068759]
[null,null,531,{"$f":"IF('Annuity Value'!B$11=\"Ordinary\",E532*(1+D$1/100),F533)","v":311811.21913622599},{"$f":"IF('Annuity Value'!B$11=\"Ordinary\",D533-E$2,G533)","v":306547.17119736201},310259.91953860357,305022.0608929678,null,531,2.7631910399380728E+27,3.0395101439318807E+27,null,531,8.6720771700428662E+23,9.5392848870471531E+23,null,531,531,1193378.3785561884,2486.2049553253923,1195864.5835115141,null,null,531,500,-86986.72,-8698671.817338109,null,531,237.89930086358751,-82452.14,-6596170.9872990754]
[null,null,532,{"$f":"IF('Annuity Value'!B$11=\"Ordinary\",E533*(1+D$1/100),F534)","v":308079.90705334878},{"$f":"IF('Annuity Value'!B$11=\"Ordinary\",D534-E$2,G534)","v":302815.8591144848},306547.17119743262,301309.31255179684,null,532,3.0395101439318807E+27,3.3434611583250686E+27,null,532,9.5392848870471531E+23,1.0493213375751868E+24,null,532,532,1197064.5835115141,2493.8845489823211,1199558.4680604967,null,null,532,500,-87861.58,-8786158.4427084457,null,532,237.89930086358751,-83485.759999999995,-6678861.0239411779]
[null,null,533,{"$f":"IF('Annuity Value'!B$11=\"Ordinary\",E534*(1+D$1/100),F535)","v":304329.93841005722},{"$f":"IF('Annuity Value'!B$11=\"Ordinary\",D535-E$2,G535)","v":299065.89047119324},302815.85911455582,297578.00046892004,null,533,3.3434611583250686E+27,3.6778072741575763E+27,null,533,1.0493213375751868E+24,1.1542534713327057E+24,null,533,533,1200758.4680604967,2501.5801417927014,1203260.04820229,null,null,533,500,-88745.2,-8874519.9343324918,null,533,237.89930086358751,-84532.31,-6762584.6860413058]
[null,null,534,{"$f":"IF('Annuity Value'!B$11=\"Ordinary\",E535*(1+D$1/100),F536)","v":300561.21992354916},{"$f":"IF('Annuity Value'!B$11=\"Ordinary\",D536-E$2,G536)","v":295297.17198468518},299065.8904712646,293828.03182562883,null,534,3.6778072741575763E+27,4.0455880015733338E+27,null,534,1.1542534713327057E+24,1.2696788184659765E+24,null,534,534,1204460.04820229,2509.2917670881043,1206969.3399693777,null,null,534,500,-89637.65,-8963765.0408727713,null,534,237.89930086358751,-85591.94,-6847354.8939176863]
[null,null,535,{"$f":"IF('Annuity Value'!B$11=\"Ordinary\",E536*(1+D$1/100),F537)","v":296773.65784460859},{"$f":"IF('Annuity Value'!B$11=\"Ordinary\",D537-E$2,G537)","v":291509.60990574461},295297.17198475695,290059.31333912117,null,535,4.0455880015733338E+27,4.4501468017306682E+27,null,535,1.2696788184659765E+24,1.3966467003125742E+24,null,535,535,1208169.3399693777,2517.0194582695367,1210686.3594276481,null,null,535,500,-90539.03,-9053902.5984784514,null,535,237.89930086358751,-86664.81,-6933184.7293925192]
[null,null,536,{"$f":"IF('Annuity Value'!B$11=\"Ordinary\",E537*(1+D$1/100),F538)","v":292967.15795527329},{"$f":"IF('Annuity Value'!B$11=\"Ordinary\",D538-E$2,G538)","v":287703.11001640931},291509.60990581673,286271.75126018096,null,536,4.4501468017306682E+27,4.895161481903734E+27,null,536,1.3966467003125742E+24,1.5363113703438314E+24,null,536,536,1211886.3594276481,2524.7632488076001,1214411.1226764554,null,null,536,500,-91449.42,-9144941.5316601899,null,536,237.89930086358751,-87751.09,-7020087.4378107907]
[null,null,537,{"$f":"IF('Annuity Value'!B$11=\"Ordinary\",E538*(1+D$1/100),F539)","v":289141.62556649133},{"$f":"IF('Annuity Value'!B$11=\"Ordinary\",D539-E$2,G539)","v":283877.57762762735},287703.11001648183,282465.25137084606,null,537,4.895161481903734E+27,5.3846776300941083E+27,null,537,1.5363113703438314E+24,1.689942507378215E+24,null,537,537,1215611.1226764554,2532.5231722426156,1218143.6458486984,null,null,537,500,-92368.91,-9236890.8541737534,null,537,237.89930086358751,-88850.96,-7108076.4300842872]
[null,null,538,{"$f":"IF('Annuity Value'!B$11=\"Ordinary\",E539*(1+D$1/100),F540)","v":285296.96551576548},{"$f":"IF('Annuity Value'!B$11=\"Ordinary\",D540-E$2,G540)","v":280032.9175769015},283877.57762770029,278639.71898206451,null,538,5.3846776300941083E+27,5.9231453931035203E+27,null,538,1.689942507378215E+24,1.8589367581160363E+24,null,538,538,1219343.6458486984,2540.2992621847884,1221883.9451108838,null,null,538,500,-93297.600000000006,-9329759.6699124463,null,538,237.89930086358751,-89964.57,-7197165.2847612072]
[null,null,539,{"$f":"IF('Annuity Value'!B$11=\"Ordinary\",E540*(1+D$1/100),F541)","v":281433.082164786},{"$f":"IF('Annuity Value'!B$11=\"Ordinary\",D541-E$2,G541)","v":276169.03422592202},280032.91757697478,274795.05893133901,null,539,5.9231453931035203E+27,6.5154599324138723E+27,null,539,1.8589367581160363E+24,2.0448304339276405E+24,null,539,539,1223083.9451108838,2548.0915523143412,1225632.0366631979,null,null,539,500,-94235.57,-9423557.1738085225,null,539,237.89930086358751,-91092.1,-7287367.7501215842]
[null,null,540,{"$f":"IF('Annuity Value'!B$11=\"Ordinary\",E541*(1+D$1/100),F542)","v":277549.87939705158},{"$f":"IF('Annuity Value'!B$11=\"Ordinary\",D542-E$2,G542)","v":272285.8314581876},276169.03422599565,270931.17558035988,null,540,6.5154599324138723E+27,7.1670059256552609E+27,null,540,2.0448304339276405E+24,2.2493134773204046E+24,null,540,540,1226832.0366631979,2555.9000763816621,1229387.93673958,null,null,540,500,-95182.93,-9518292.6527435631,null,540,237.89930086358751,-92233.72,-7378697.7462989679]
[null,null,541,{"$f":"IF('Annuity Value'!B$11=\"Ordinary\",E542*(1+D$1/100),F543)","v":273647.2606154785},{"$f":"IF('Annuity Value'!B$11=\"Ordinary\",D543-E$2,G543)","v":268383.21267661452},272285.83145826164,267047.97281262587,null,541,7.1670059256552609E+27,7.8837065182207858E+27,null,541,2.2493134773204046E+24,2.4742448250524447E+24,null,541,541,1230587.93673958,2563.7248682074583,1233151.6616077882,null,null,541,500,-96139.75,-9613975.4864679612,null,541,237.89930086358751,-93389.62,-7471169.3674285682]
[null,null,542,{"$f":"IF('Annuity Value'!B$11=\"Ordinary\",E543*(1+D$1/100),F544)","v":269725.12873999757},{"$f":"IF('Annuity Value'!B$11=\"Ordinary\",D544-E$2,G544)","v":264461.08080113359},268383.21267668897,263145.3540310532,null,542,7.8837065182207858E+27,8.6720771700428672E+27,null,542,2.4742448250524447E+24,2.72166930755769E+24,null,542,542,1234351.6616077882,2571.5659616828921,1236923.2275694706,null,null,542,500,-97106.15,-9710615.1485295948,null,542,237.89930086358751,-94559.96,-7564796.8838222902]
[null,null,543,{"$f":"IF('Annuity Value'!B$11=\"Ordinary\",E544*(1+D$1/100),F545)","v":265783.38620513922},{"$f":"IF('Annuity Value'!B$11=\"Ordinary\",D545-E$2,G545)","v":260519.33826627527},264461.08080120845,259223.22215557267,null,543,8.6720771700428672E+27,9.5392848870471532E+27,null,543,2.72166930755769E+24,2.9938362383134591E+24,null,543,543,1238123.2275694706,2579.4233907697303,1240702.6509602407,null,null,543,500,-98082.21,-9808221.2072118446,null,543,237.89930086358751,-95744.93,-7659594.7441709312]
[null,null,544,{"$f":"IF('Annuity Value'!B$11=\"Ordinary\",E545*(1+D$1/100),F546)","v":261821.93495760663},{"$f":"IF('Annuity Value'!B$11=\"Ordinary\",D546-E$2,G546)","v":256557.88701874268},260519.3382663505,255281.47962071473,null,544,9.5392848870471532E+27,1.0493213375751869E+28,null,544,2.9938362383134591E+24,3.293219862144805E+24,null,544,544,1241902.6509602407,2587.2971895005016,1244489.9481497414,null,null,544,500,-99068.03,-9906803.3264809158,null,544,237.89930086358751,-96944.72,-7755577.5777739314]
[null,null,545,{"$f":"IF('Annuity Value'!B$11=\"Ordinary\",E546*(1+D$1/100),F547)","v":257840.67645383638},{"$f":"IF('Annuity Value'!B$11=\"Ordinary\",D547-E$2,G547)","v":252576.62851497243},{"$f":"G546*(1+F$1/100)","v":256557.88701881826},{"$f":"F547-G$2","v":251320.02837318249},null,545,{"$f":"K546","v":1.0493213375751869E+28},{"$f":"K$2*(1+J$1)^I547","v":1.1542534713327058E+28},null,545,{"$f":"O546","v":3.293219862144805E+24},{"$f":"O$2*(1+N$1)^M547","v":3.6225418483592859E+24},null,545,{"$f":"IF(A$5=1,Q547*12,IF(A$5=2,Q547*6,IF(A$5=4,Q547*3,Q547)))","v":545},{"$f":"S$1+U546","v":1245689.9481497414},{"$f":"S$2*S547","v":2595.1873919786281},{"$f":"T$1*(1+S$2)^Q547+S$1*(((1+S$2)^(Q547+1)-(1+S$2))/S$2)","v":1248285.1355417203},null,null,545,500,{"$f":"ROUND(Y$2*AA547,2)","v":-100063.71},{"$f":"IF(X$1=\"\",\"\",(1-(1+Y$2)^(X547-X$1))/(1-(1+Y$2)^(-X$1))*Z$1)","v":-10006371.266942689},null,545,237.89930086358751,{"$f":"ROUND(AE$2*AF547,2)","v":-98159.5},{"$f":"AF$1*(1-(1+AE$2)^(AC547-AC$1))/(1-(1+AE$2)^(-AC$1))","v":-7852760.1967969686}]
[null,null,546,{"$f":"IF('Annuity Value'!B$11=\"Ordinary\",E547*(1+D$1/100),F548)","v":253839.51165754726},{"$f":"IF('Annuity Value'!B$11=\"Ordinary\",D548-E$2,G548)","v":248575.46371868331},252576.62851504839,247338.76986941262,null,546,1.1542534713327058E+28,1.2696788184659765E+28,null,546,3.6225418483592859E+24,3.9847960331952151E+24,null,546,546,1249485.1355417203,2603.094032378584,1252088.229574099,null,null,546,500,-101069.35,-10106934.886809068,null,546,237.89930086358751,-99389.47,-7951157.5985577954]
[null,null,547,{"$f":"IF('Annuity Value'!B$11=\"Ordinary\",E548*(1+D$1/100),F549)","v":249818.3410372767},{"$f":"IF('Annuity Value'!B$11=\"Ordinary\",D549-E$2,G549)","v":244554.29309841275},248575.46371875965,243337.60507312388,null,547,1.2696788184659765E+28,1.3966467003125743E+28,null,547,3.9847960331952151E+24,4.3832756365147373E+24,null,547,547,1253288.229574099,2611.0171449460395,1255899.2467190456,null,null,547,500,-102085.04,-10208504.142874112,null,547,237.89930086358751,-100634.81,-8050784.9678406306]
[null,null,548,{"$f":"IF('Annuity Value'!B$11=\"Ordinary\",E549*(1+D$1/100),F550)","v":245777.06456390477},{"$f":"IF('Annuity Value'!B$11=\"Ordinary\",D550-E$2,G550)","v":240513.01662504082},244554.29309848946,239316.43445285369,null,548,1.3966467003125743E+28,1.5363113703438318E+28,null,548,4.3832756365147373E+24,4.821603200166211E+24,null,548,548,1257099.2467190456,2618.9567639980114,1259718.2034830439,null,null,548,500,-103110.89,-10311089.091499805,null,548,237.89930086358751,-101895.72,-8151657.6792395012]
[null,null,549,{"$f":"IF('Annuity Value'!B$11=\"Ordinary\",E550*(1+D$1/100),F551)","v":241715.58170816599},{"$f":"IF('Annuity Value'!B$11=\"Ordinary\",D551-E$2,G551)","v":236451.53376930204},240513.01662511792,235275.15797948214,null,549,1.5363113703438318E+28,1.6899425073782147E+28,null,549,4.821603200166211E+24,5.3037635201828314E+24,null,549,549,1260918.2034830439,2626.9129239230083,1263545.1164069669,null,null,549,500,-104147,-10414699.889611768,null,549,237.89930086358751,-103172.39,-8253791.29953086]
[null,null,550,{"$f":"IF('Annuity Value'!B$11=\"Ordinary\",E551*(1+D$1/100),F552)","v":237633.79143814853},{"$f":"IF('Annuity Value'!B$11=\"Ordinary\",D552-E$2,G552)","v":232369.74349928458},236451.53376937954,231213.67512374377,null,550,1.6899425073782147E+28,1.8589367581160369E+28,null,550,5.3037635201828314E+24,5.8341398722011158E+24,null,550,550,1264745.1164069669,2634.8856591811809,1267380.0020661484,null,null,550,500,-105193.47,-10519346.795704838,null,550,237.89930086358751,-104465.02,-8357201.5900758579]
[null,null,551,{"$f":"IF('Annuity Value'!B$11=\"Ordinary\",E552*(1+D$1/100),F553)","v":233531.59221678099},{"$f":"IF('Annuity Value'!B$11=\"Ordinary\",D553-E$2,G553)","v":228267.54427791704},232369.74349936246,227131.88485372669,null,551,1.8589367581160369E+28,2.0448304339276405E+28,null,551,5.8341398722011158E+24,6.4175538594212283E+24,null,551,551,1268580.0020661484,2642.8750043044761,1271222.8770704533,null,null,551,500,-106250.4,-10625040.170858841,null,551,237.89930086358751,-105773.81,-8461904.5092526674]
[null,null,552,{"$f":"IF('Annuity Value'!B$11=\"Ordinary\",E553*(1+D$1/100),F554)","v":229408.88199930661},{"$f":"IF('Annuity Value'!B$11=\"Ordinary\",D554-E$2,G554)","v":224144.83406044266},228267.5442779953,223029.68563235953,null,552,2.0448304339276405E+28,2.2493134773204042E+28,null,552,6.4175538594212283E+24,7.0593092453633501E+24,null,552,552,1272422.8770704533,2650.8809938967775,1275073.7580643499,null,null,552,500,-107317.9,-10731790.479764381,null,552,237.89930086358751,-107098.95,-8567916.2149191927]
[null,null,553,{"$f":"IF('Annuity Value'!B$11=\"Ordinary\",E554*(1+D$1/100),F555)","v":225265.55823074485},{"$f":"IF('Annuity Value'!B$11=\"Ordinary\",D555-E$2,G555)","v":220001.5102918809},224144.8340605213,218906.97541488553,null,553,2.2493134773204042E+28,2.4742448250524449E+28,null,553,7.0593092453633501E+24,7.7652401698996856E+24,null,553,553,1276273.7580643499,2658.9036626340621,1278932.661726984,null,null,553,500,-108396.08,-10839608.29175899,null,553,237.89930086358751,-108440.66,-8675253.0669065453]
[null,null,554,{"$f":"IF('Annuity Value'!B$11=\"Ordinary\",E555*(1+D$1/100),F556)","v":221101.51784334029},{"$f":"IF('Annuity Value'!B$11=\"Ordinary\",D556-E$2,G556)","v":215837.46990447634},220001.51029195994,214763.65164632417,null,554,2.4742448250524449E+28,2.7216693075576894E+28,null,554,7.7652401698996856E+24,8.541764186889654E+24,null,554,554,1280132.661726984,2666.9430452645497,1282799.604772249,null,null,554,500,-109485.04,-10948504.281873534,null,554,237.89930086358751,-109799.15,-8783931.6295437422]
[null,null,555,{"$f":"IF('Annuity Value'!B$11=\"Ordinary\",E556*(1+D$1/100),F557)","v":216916.65725399871},{"$f":"IF('Annuity Value'!B$11=\"Ordinary\",D557-E$2,G557)","v":211652.60931513476},215837.46990455576,210599.61125891999,null,555,2.7216693075576894E+28,2.9938362383134595E+28,null,555,8.541764186889654E+24,9.3959406055786235E+24,null,555,555,1283999.604772249,2674.9991766088519,1286674.6039488576,null,null,555,500,-110584.89,-11058489.231889222,null,555,237.89930086358751,-111174.61,-8893968.6742138993]
[null,null,556,{"$f":"IF('Annuity Value'!B$11=\"Ordinary\",E557*(1+D$1/100),F558)","v":212710.87236171041},{"$f":"IF('Annuity Value'!B$11=\"Ordinary\",D558-E$2,G558)","v":207446.82442284646},211652.60931521456,206414.75066957879,null,556,2.9938362383134595E+28,3.2932198621448049E+28,null,556,9.3959406055786235E+24,1.0335534666136484E+25,null,556,556,1287874.6039488576,2683.07209156012,1290557.6760404184,null,null,556,500,-111695.74,-11169574.031405067,null,556,237.89930086358751,-112567.26,-9005381.1819424368]
[null,null,557,{"$f":"IF('Annuity Value'!B$11=\"Ordinary\",E558*(1+D$1/100),F559)","v":208484.05854496066},{"$f":"IF('Annuity Value'!B$11=\"Ordinary\",D559-E$2,G559)","v":203220.01060609671},207446.82442292667,202208.9657772909,null,557,3.2932198621448049E+28,3.6225418483592857E+28,null,557,1.0335534666136484E+25,1.1369088132750134E+25,null,557,557,1291757.6760404184,2691.1618250842052,1294448.8378655028,null,null,557,500,-112817.7,-11281769.678916071,null,557,237.89930086358751,-113977.33,-9118186.3460175842]
[null,null,558,{"$f":"IF('Annuity Value'!B$11=\"Ordinary\",E559*(1+D$1/100),F560)","v":204236.11065912718},{"$f":"IF('Annuity Value'!B$11=\"Ordinary\",D560-E$2,G560)","v":198972.06272026323},203220.01060617733,197982.15196054155,null,558,3.6225418483592857E+28,3.9847960331952151E+28,null,558,1.1369088132750134E+25,1.250599694602515E+25,null,558,558,1295648.8378655028,2699.2684122197975,1298348.1062777231,null,null,558,500,-113950.87,-11395087.282902196,null,558,237.89930086358751,-115405.02,-9232401.5746436678]
[null,null,559,{"$f":"IF('Annuity Value'!B$11=\"Ordinary\",E560*(1+D$1/100),F561)","v":199966.92303386453},{"$f":"IF('Annuity Value'!B$11=\"Ordinary\",D561-E$2,G561)","v":194702.87509500058},198972.06272034423,193734.20407470845,null,559,3.9847960331952151E+28,4.3832756365147369E+28,null,559,1.250599694602515E+25,1.3756596640627663E+25,null,559,559,1299548.1062777231,2707.3918880785895,1302255.4981658021,null,null,559,500,-115095.38,-11509538.062928172,null,559,237.89930086358751,-116850.56,-9348044.4936275743]
[null,null,560,{"$f":"IF('Annuity Value'!B$11=\"Ordinary\",E561*(1+D$1/100),F562)","v":195676.38947047555},{"$f":"IF('Annuity Value'!B$11=\"Ordinary\",D562-E$2,G562)","v":190412.3415316116},194702.87509508198,189465.01644944621,null,560,4.3832756365147369E+28,4.8216032001662096E+28,null,560,1.3756596640627663E+25,1.5132256304690428E+25,null,560,560,1303455.4981658021,2715.5322878454208,1306171.0304536477,null,null,560,500,-116251.33,-11625133.350754404,null,560,237.89930086358751,-118314.16,-9465132.9490987826]
[null,null,561,{"$f":"IF('Annuity Value'!B$11=\"Ordinary\",E562*(1+D$1/100),F563)","v":191364.40323926962},{"$f":"IF('Annuity Value'!B$11=\"Ordinary\",D563-E$2,G563)","v":186100.35530040567},190412.34153169341,185174.48288605764,null,561,4.8216032001662096E+28,5.3037635201828319E+28,null,561,1.5132256304690428E+25,1.6645481935159475E+25,null,561,561,1307371.0304536477,2723.6896467784327,1310094.7201004263,null,null,561,500,-117418.85,-11741884.591458904,null,561,237.89930086358751,-119796.06,-9583685.0102633797]
[null,null,562,{"$f":"IF('Annuity Value'!B$11=\"Ordinary\",E563*(1+D$1/100),F564)","v":187030.85707690768},{"$f":"IF('Annuity Value'!B$11=\"Ordinary\",D564-E$2,G564)","v":181766.80913804373},186100.35530048789,180862.49665485212,null,562,5.3037635201828319E+28,5.8341398722011155E+28,null,562,1.6645481935159475E+25,1.8310030128675425E+25,null,562,562,1311294.7201004263,2731.8640002092216,1314026.5841006353,null,null,562,500,-118598.03,-11859803.344570456,null,562,237.89930086358751,-121296.49,-9703718.9721925389]
[null,null,563,{"$f":"IF('Annuity Value'!B$11=\"Ordinary\",E564*(1+D$1/100),F565)","v":182675.64318373392},{"$f":"IF('Annuity Value'!B$11=\"Ordinary\",D565-E$2,G565)","v":177411.59524486997},181766.80913812635,176528.95049249058,null,563,5.8341398722011155E+28,6.417553859421228E+28,null,563,1.8310030128675425E+25,2.0141033141542972E+25,null,563,563,1315226.5841006353,2740.0553835429901,1317966.6394841787,null,null,563,500,-119789.01,-11978901.285213113,null,563,237.89930086358751,-122815.67,-9825253.3586458042]
[null,null,564,{"$f":"IF('Annuity Value'!B$11=\"Ordinary\",E565*(1+D$1/100),F566)","v":178298.65322109431},{"$f":"IF('Annuity Value'!B$11=\"Ordinary\",D566-E$2,G566)","v":173034.60528223036},177411.595244953,172173.73659931723,null,564,6.417553859421228E+28,7.0593092453633501E+28,null,564,2.0141033141542972E+25,2.2155136455697265E+25,null,564,564,1319166.6394841787,2748.2638322587059,1321914.903316438,null,null,564,500,-120991.9,-12099190.205262197,null,564,237.89930086358751,-124353.84,-9948306.9249297418]
[null,null,565,{"$f":"IF('Annuity Value'!B$11=\"Ordinary\",E566*(1+D$1/100),F567)","v":173899.77830864149},{"$f":"IF('Annuity Value'!B$11=\"Ordinary\",D567-E$2,G567)","v":168635.73036977754},173034.6052823138,167796.74663667803,null,565,7.0593092453633501E+28,7.7652401698996861E+28,null,565,2.2155136455697265E+25,2.4370650101266997E+25,null,565,565,1323114.903316438,2756.4893819092458,1325871.3926983476,null,null,565,500,-122206.82,-12220682.014511772,null,565,237.89930086358751,-125911.23,-10072898.660792228]
[null,null,566,{"$f":"IF('Annuity Value'!B$11=\"Ordinary\",E567*(1+D$1/100),F568)","v":169478.9090216264},{"$f":"IF('Annuity Value'!B$11=\"Ordinary\",D568-E$2,G568)","v":164214.86108276245},168635.73036986141,163397.87172422564,null,566,7.7652401698996861E+28,8.5417641868896558E+28,null,566,2.4370650101266997E+25,2.6807715111393698E+25,null,566,566,1327071.3926983476,2764.7320681215574,1329836.124766469,null,null,566,500,-123433.89,-12343388.741853856,null,566,237.89930086358751,-127488.1,-10199047.793352997]
[null,null,567,{"$f":"IF('Annuity Value'!B$11=\"Ordinary\",E568*(1+D$1/100),F569)","v":165035.93538817624},{"$f":"IF('Annuity Value'!B$11=\"Ordinary\",D569-E$2,G569)","v":159771.88744931229},164214.86108284674,158977.00243721096,null,567,8.5417641868896558E+28,9.3959406055786234E+28,null,567,2.6807715111393698E+25,2.9488486622533071E+25,null,567,567,1331036.124766469,2772.9919265968106,1333809.1166930662,null,null,567,500,-124673.23,-12467322.536469348,null,567,237.89930086358751,-129084.67,-10326773.79007077]
[null,null,568,{"$f":"IF('Annuity Value'!B$11=\"Ordinary\",E569*(1+D$1/100),F570)","v":160570.74688655883},{"$f":"IF('Annuity Value'!B$11=\"Ordinary\",D570-E$2,G570)","v":155306.69894769488},159771.88744939701,154534.02880376123,null,568,9.3959406055786234E+28,1.0335534666136483E+29,null,568,2.9488486622533071E+25,3.2437335284786374E+25,null,568,568,1335009.1166930662,2781.2689931105547,1337790.3856861768,null,null,568,500,-125924.96,-12592495.669030992,null,568,237.89930086358751,-130701.2,-10456096.361747516]
[null,null,569,{"$f":"IF('Annuity Value'!B$11=\"Ordinary\",E570*(1+D$1/100),F571)","v":156083.23244243333},{"$f":"IF('Annuity Value'!B$11=\"Ordinary\",D571-E$2,G571)","v":150819.18450356938},155306.69894778001,150068.84030214424,null,569,1.0335534666136483E+29,1.1369088132750133E+29,null,569,3.2437335284786374E+25,3.5681068813265017E+25,null,569,569,1338990.3856861768,2789.5633035128685,1341779.94898969,null,null,569,500,-127189.21,-12718920.532918256,null,569,237.89930086358751,-132337.94,-10587035.465570224]
[null,null,570,{"$f":"IF('Annuity Value'!B$11=\"Ordinary\",E571*(1+D$1/100),F572)","v":151573.28042608721},{"$f":"IF('Annuity Value'!B$11=\"Ordinary\",D572-E$2,G572)","v":146309.23248722326},150819.18450365495,145581.32585801918,null,570,1.1369088132750133E+29,1.2505996946025147E+29,null,570,3.5681068813265017E+25,3.9249175694591524E+25,null,570,570,1342979.94898969,2797.8748937285209,1345777.8238834192,null,null,570,500,-128466.1,-12846609.645444402,null,570,237.89930086358751,-133995.14000000001,-10719611.308190716]
[null,null,571,{"$f":"IF('Annuity Value'!B$11=\"Ordinary\",E572*(1+D$1/100),F573)","v":147040.77864965936},{"$f":"IF('Annuity Value'!B$11=\"Ordinary\",D573-E$2,G573)","v":141776.73071079541},146309.23248730926,141071.37384167349,null,571,1.2505996946025147E+29,1.3756596640627665E+29,null,571,3.9249175694591524E+25,4.3174093264050685E+25,null,571,571,1346977.8238834192,2806.2037997571233,1349784.0276831766,null,null,571,500,-129755.76,-12975575.6490958,null,571,237.89930086358751,-135673.04999999999,-10853844.348843964]
[null,null,572,{"$f":"IF('Annuity Value'!B$11=\"Ordinary\",E573*(1+D$1/100),F574)","v":142485.61436434937},{"$f":"IF('Annuity Value'!B$11=\"Ordinary\",D574-E$2,G574)","v":137221.56642548542},141776.73071088185,136538.87206524608,null,572,1.3756596640627665E+29,1.513225630469043E+29,null,572,4.3174093264050685E+25,4.7491502590455745E+25,null,572,572,1350984.0276831766,2814.5500576732843,1353798.5777408502,null,null,572,500,-131058.31,-13105831.312783711,null,572,237.89930086358751,-137371.94,-10989755.30250538]
[null,null,573,{"$f":"IF('Annuity Value'!B$11=\"Ordinary\",E574*(1+D$1/100),F575)","v":137907.67425761285},{"$f":"IF('Annuity Value'!B$11=\"Ordinary\",D575-E$2,G575)","v":132643.62631874889},137221.56642557229,131983.70777993652,null,573,1.513225630469043E+29,1.6645481935159475E+29,null,573,4.7491502590455745E+25,5.2240652849501325E+25,null,573,573,1354998.5777408502,2822.9137036267712,1357821.4914444769,null,null,573,500,-132373.9,-13237389.533108503,null,573,237.89930086358751,-139092.06,-11127365.143087558]
[null,null,574,{"$f":"IF('Annuity Value'!B$11=\"Ordinary\",E575*(1+D$1/100),F576)","v":133306.84445034261},{"$f":"IF('Annuity Value'!B$11=\"Ordinary\",D576-E$2,G576)","v":128042.79651147865},132643.62631883618,127405.76767320039,null,574,1.6645481935159475E+29,1.8310030128675428E+29,null,574,5.2240652849501325E+25,5.7464718134451469E+25,null,574,574,1359021.4914444769,2831.2947738426601,1361852.7862183198,null,null,574,500,-133702.63,-13370263.335636551,null,574,237.89930086358751,-140833.69,-11266695.106677018]
[null,null,575,{"$f":"IF('Annuity Value'!B$11=\"Ordinary\",E576*(1+D$1/100),F577)","v":128683.01049403603},{"$f":"IF('Annuity Value'!B$11=\"Ordinary\",D577-E$2,G577)","v":123418.96255517207},128042.79651156638,122804.93786593059,null,575,1.8310030128675428E+29,2.0141033141542967E+29,null,575,5.7464718134451469E+25,6.3211189947896612E+25,null,575,575,1363052.7862183198,2839.6933046214995,1365892.4795229416,null,null,575,500,-135044.66,-13504465.876189869,null,575,237.89930086358751,-142597.07999999999,-11407766.694811342]
[null,null,576,{"$f":"IF('Annuity Value'!B$11=\"Ordinary\",E577*(1+D$1/100),F578)","v":124036.05736794791},{"$f":"IF('Annuity Value'!B$11=\"Ordinary\",D578-E$2,G578)","v":118772.00942908395},123418.96255526024,118181.10390962445,null,576,2.0141033141542967E+29,2.2155136455697262E+29,null,576,6.3211189947896612E+25,6.9532308942686272E+25,null,576,576,1367092.4795229416,2848.1093323394616,1369940.5888552815,null,null,576,500,-136400.1,-13640010.442148721,null,576,237.89930086358751,-144382.51999999999,-11550601.677797347]
[null,null,577,{"$f":"IF('Annuity Value'!B$11=\"Ordinary\",E578*(1+D$1/100),F579)","v":119365.86947622936},{"$f":"IF('Annuity Value'!B$11=\"Ordinary\",D579-E$2,G579)","v":114101.82153736539},118772.00942917255,113534.15078353677,null,577,2.2155136455697262E+29,2.4370650101266994E+29,null,577,6.9532308942686272E+25,7.64855398369549E+25,null,577,577,1371140.5888552815,2856.542893448503,1373997.1317487294,null,null,577,500,-137769.1,-13776910.45376716,null,577,237.89930086358751,-146190.28,-11695222.098070677]
[null,null,{"$f":"C579+1","v":578},{"$f":"IF('Annuity Value'!B$11=\"Ordinary\",E579*(1+D$1/100),F580)","v":114672.33064505221},{"$f":"IF('Annuity Value'!B$11=\"Ordinary\",D580-E$2,G580)","v":109408.28270618824},114101.82153745444,108863.96289181865,null,{"$f":"I579+1","v":578},2.4370650101266994E+29,2.6807715111393699E+29,null,{"$f":"M579+1","v":578},7.64855398369549E+25,8.4134093820650417E+25,null,{"$f":"Q579+1","v":578},578,1375197.1317487294,2864.9940244765194,1378062.1257732066,null,null,{"$f":"X579+1","v":578},{"$f":"Y579","v":500},-139151.79,-13915179.465501796,null,{"$f":"AC579+1","v":578},{"$f":"AD579","v":237.89930086358751},-148020.63,-11841650.273597425]
[null,null,579,{"$f":"IF('Annuity Value'!B$11=\"Ordinary\",E580*(1+D$1/100),F581)","v":109955.32411971917},{"$f":"IF('Annuity Value'!B$11=\"Ordinary\",D581-E$2,G581)","v":104691.2761808552},109408.28270627774,104170.42406064195,null,579,2.6807715111393699E+29,2.9488486622533071E+29,null,579,8.4134093820650417E+25,9.2547503202715471E+25,null,579,579,1379262.1257732066,2873.4627620275137,1382135.5885352343,null,null,579,500,-140548.31,-14054831.167353768,null,579,237.89930086358751,-149873.85999999999,-11989908.801318254]
[null,null,580,{"$f":"IF('Annuity Value'!B$11=\"Ordinary\",E581*(1+D$1/100),F582)","v":105214.73256175946},{"$f":"IF('Annuity Value'!B$11=\"Ordinary\",D582-E$2,G582)","v":99950.684622895496},104691.27618094515,99453.41753530936,null,580,2.9488486622533071E+29,3.2437335284786376E+29,null,580,9.2547503202715471E+25,1.01802253522987E+26,null,580,580,1383335.5885352343,2881.9491427817384,1386217.5376780161,null,null,580,500,-141958.79,-14195879.386224261,null,580,237.89930086358751,-151750.26,-12140020.560635598]
[null,null,581,{"$f":"IF('Annuity Value'!B$11=\"Ordinary\",E582*(1+D$1/100),F583)","v":100450.43804600996},{"$f":"IF('Annuity Value'!B$11=\"Ordinary\",D583-E$2,G583)","v":95186.390107145999},99950.684622985893,94712.825977350105,null,581,3.2437335284786376E+29,3.5681068813265015E+29,null,581,1.01802253522987E+26,1.1198247887528572E+26,null,581,581,1387417.5376780161,2890.453203495867,1390307.9908815122,null,null,581,500,-143383.38,-14338338.087283455,null,581,237.89930086358751,-153650.10999999999,-12292008.716944408]
[null,null,582,{"$f":"IF('Annuity Value'!B$11=\"Ordinary\",E583*(1+D$1/100),F584)","v":95662.322057681726},{"$f":"IF('Annuity Value'!B$11=\"Ordinary\",D584-E$2,G584)","v":90398.274118817761},95186.390107236846,89948.531461601058,null,582,3.5681068813265015E+29,3.9249175694591528E+29,null,582,1.1198247887528572E+26,1.2318072676281431E+26,null,582,582,1391507.9908815122,2898.9749810031503,1394406.9658625161,null,null,582,500,-144822.21,-14482221.375353254,null,582,237.89930086358751,-155573.71,-12445896.725207075]
[null,null,583,{"$f":"IF('Annuity Value'!B$11=\"Ordinary\",E584*(1+D$1/100),F585)","v":90850.265489411846},{"$f":"IF('Annuity Value'!B$11=\"Ordinary\",D585-E$2,G585)","v":85586.217550547881},90398.274118909059,85160.415473273271,null,583,3.9249175694591528E+29,4.3174093264050675E+29,null,583,1.2318072676281431E+26,1.3549879943909573E+26,null,583,583,1395606.9658625161,2907.514512213575,1398514.48037473,null,null,583,500,-146275.43,-14627543.496303739,null,583,237.89930086358751,-157521.35,-12601708.333573025]
[null,null,584,{"$f":"IF('Annuity Value'!B$11=\"Ordinary\",E585*(1+D$1/100),F586)","v":86014.148638300612},{"$f":"IF('Annuity Value'!B$11=\"Ordinary\",D586-E$2,G586)","v":80750.100699436647},85586.217550639631,80348.358905003843,null,584,4.3174093264050675E+29,4.7491502590455745E+29,null,584,1.3549879943909573E+26,1.4904867938300532E+26,null,584,584,1399714.48037473,2916.0718341140209,1402630.5522088441,null,null,584,500,-147743.19,-14774318.838463731,null,584,237.89930086358751,-159493.34,-12759467.587043552]
[null,null,585,{"$f":"IF('Annuity Value'!B$11=\"Ordinary\",E586*(1+D$1/100),F587)","v":81153.851202933816},{"$f":"IF('Annuity Value'!B$11=\"Ordinary\",D587-E$2,G587)","v":75889.803264069851},80750.100699528848,75512.24205389306,null,585,4.7491502590455745E+29,5.2240652849501325E+29,null,585,1.4904867938300532E+26,1.6395354732130586E+26,null,585,585,1403830.5522088441,2924.6469837684253,1406755.1991926129,null,null,585,500,-149225.62,-14922561.934045319,null,585,237.89930086358751,-161489.99,-12919198.831182459]
[null,null,586,{"$f":"IF('Annuity Value'!B$11=\"Ordinary\",E587*(1+D$1/100),F588)","v":76269.252280390196},{"$f":"IF('Annuity Value'!B$11=\"Ordinary\",D588-E$2,G588)","v":71005.204341526231},75889.803264162518,70651.94461852673,null,586,5.2240652849501325E+29,5.7464718134451459E+29,null,586,1.6395354732130586E+26,1.8034890205343647E+26,null,586,586,1407955.1991926129,2933.2399983179434,1410888.4391909314,null,null,586,500,-150722.87,-15072287.460582741,null,586,237.89930086358751,-163511.57999999999,-13080926.715873107]
[null,null,587,{"$f":"IF('Annuity Value'!B$11=\"Ordinary\",E588*(1+D$1/100),F589)","v":71360.230363233859},{"$f":"IF('Annuity Value'!B$11=\"Ordinary\",D589-E$2,G589)","v":66096.182424369894},71005.204341619363,65767.345695983575,null,587,5.7464718134451459E+29,6.3211189947896607E+29,null,587,1.8034890205343647E+26,1.9838379225878009E+26,null,587,587,1412088.4391909314,2941.8509149811071,1415030.2901059124,null,null,587,500,-152235.1,-15223510.242385518,null,587,237.89930086358751,-165558.45000000001,-13244676.19912238]
[null,null,588,{"$f":"IF('Annuity Value'!B$11=\"Ordinary\",E589*(1+D$1/100),F590)","v":66426.663336491736},{"$f":"IF('Annuity Value'!B$11=\"Ordinary\",D590-E$2,G590)","v":61162.615397627778},66096.182424463492,60858.323778827711,null,588,6.3211189947896607E+29,6.9532308942686268E+29,null,588,1.9838379225878009E+26,2.1822217148465815E+26,null,588,588,1416230.2901059124,2950.4797710539842,1419180.7698769665,null,null,588,500,-153762.45000000001,-15376245.252006326,null,588,237.89930086358751,-167630.91,-13410472.550912276]
[null,null,589,{"$f":"IF('Annuity Value'!B$11=\"Ordinary\",E590*(1+D$1/100),F591)","v":61468.42847461591},{"$f":"IF('Annuity Value'!B$11=\"Ordinary\",D591-E$2,G591)","v":56204.380535751952},61162.615397721842,55924.756752086061,null,589,6.9532308942686268E+29,7.6485539836954912E+29,null,589,2.1822217148465815E+26,2.4004438863312397E+26,null,589,589,1420380.7698769665,2959.1266039103466,1423339.8964808772,null,null,589,500,-155305.07999999999,-15530507.611723341,null,589,237.89930086358751,-169729.27,-13578341.357099542]
[null,null,590,{"$f":"IF('Annuity Value'!B$11=\"Ordinary\",E591*(1+D$1/100),F592)","v":56485.402438430705},{"$f":"IF('Annuity Value'!B$11=\"Ordinary\",D592-E$2,G592)","v":51221.354499566747},56204.380535846489,50966.521890210708,null,590,7.6485539836954912E+29,8.4134093820650407E+29,null,590,2.4004438863312397E+26,2.6404882749643638E+26,null,590,590,1424539.8964808772,2967.7914510018272,1427507.6879318792,null,null,590,500,-156863.13,-15686312.595037531,null,590,237.89930086358751,-171853.86,-13748308.523364153]
[null,null,591,{"$f":"IF('Annuity Value'!B$11=\"Ordinary\",E592*(1+D$1/100),F593)","v":51477.461272064575},{"$f":"IF('Annuity Value'!B$11=\"Ordinary\",D593-E$2,G593)","v":46213.413333200617},51221.354499661757,45983.495854025976,null,591,8.4134093820650407E+29,9.254750320271545E+29,null,591,2.6404882749643638E+26,2.9045371024608002E+26,null,591,591,1428707.6879318792,2976.4743498580815,1431684.1622817372,null,null,591,500,-158436.76,-15843675.62818487,null,591,237.89930086358751,-174005,-13920400.279207066]
[null,null,592,{"$f":"IF('Annuity Value'!B$11=\"Ordinary\",E593*(1+D$1/100),F594)","v":46444.480399866618},{"$f":"IF('Annuity Value'!B$11=\"Ordinary\",D594-E$2,G594)","v":41180.43246100266},46213.413333296099,40975.554687660318,null,592,9.254750320271545E+29,1.01802253522987E+30,null,592,2.9045371024608002E+26,3.1949908127068806E+26,null,592,592,1432884.1622817372,2985.1753380869523,1435869.3376198248,null,null,592,500,-160026.12,-16002612.291663671,null,592,237.89930086358751,-176183.04000000001,-14094643.181998016]
[null,null,593,{"$f":"IF('Annuity Value'!B$11=\"Ordinary\",E594*(1+D$1/100),F595)","v":41386.334623307666},{"$f":"IF('Annuity Value'!B$11=\"Ordinary\",D595-E$2,G595)","v":36122.286684443709},41180.432461098615,35942.573815462834,null,593,1.01802253522987E+30,1.119824788752857E+30,null,593,3.1949908127068806E+26,3.5144898939775691E+26,null,593,593,1437069.3376198248,2993.8944533746348,1440063.2320731999,null,null,593,500,-161631.38,-16163138.321777258,null,593,237.89930086358751,-178388.3,-14271064.121073853]
[null,null,594,{"$f":"IF('Annuity Value'!B$11=\"Ordinary\",E595*(1+D$1/100),F596)","v":36302.898117865923},{"$f":"IF('Annuity Value'!B$11=\"Ordinary\",D596-E$2,G596)","v":31038.850179001962},36122.286684540144,30884.428038904363,null,594,1.119824788752857E+30,1.2318072676281428E+30,null,594,3.5144898939775691E+26,3.8659388833753261E+26,null,594,594,1441263.2320731999,3002.6317334858331,1444265.8638066854,null,null,594,500,-163252.70000000001,-16325269.612191986,null,594,237.89930086358751,-180621.13,-14449690.321888141]
[null,null,595,{"$f":"IF('Annuity Value'!B$11=\"Ordinary\",E596*(1+D$1/100),F597)","v":31194.044429896967},{"$f":"IF('Annuity Value'!B$11=\"Ordinary\",D597-E$2,G597)","v":25929.996491033005},31038.850179098881,25800.9915334631,null,595,1.2318072676281428E+30,1.3549879943909575E+30,null,595,3.8659388833753261E+26,4.2525327717128597E+26,null,595,595,1445465.8638066854,3011.3872162639282,1448477.2510229496,null,null,595,500,-164890.22,-16489022.215510869,null,595,237.89930086358751,-182881.87,-14630549.350212606]
[null,null,596,{"$f":"IF('Annuity Value'!B$11=\"Ordinary\",E597*(1+D$1/100),F598)","v":26059.646473488167},{"$f":"IF('Annuity Value'!B$11=\"Ordinary\",D598-E$2,G598)","v":20795.598534624205},25929.996491130412,20692.137845494632,null,596,1.3549879943909575E+30,1.4904867938300529E+30,null,596,4.2525327717128597E+26,4.6777860488841453E+26,null,596,596,1449677.2510229496,3020.1609396311451,1452697.4119625813,null,null,596,500,-166544.12,-16654412.344862934,null,596,237.89930086358751,-185170.86,-14813669.116391126]
[null,null,597,{"$f":"IF('Annuity Value'!B$11=\"Ordinary\",E598*(1+D$1/100),F599)","v":20899.576527297322},{"$f":"IF('Annuity Value'!B$11=\"Ordinary\",D599-E$2,G599)","v":15635.528588433361},20795.598534722103,15557.739889086322,null,597,1.4904867938300529E+30,1.6395354732130584E+30,null,597,4.6777860488841453E+26,5.1455646537725598E+26,null,597,597,1453897.4119625813,3028.9529415887109,1456926.3649041702,null,null,597,500,-168214.56,-16821456.375508513,null,597,237.89930086358751,-187488.47,-14999077.879646881]
[null,null,598,{"$f":"IF('Annuity Value'!B$11=\"Ordinary\",E599*(1+D$1/100),F600)","v":15713.706231375525},{"$f":"IF('Annuity Value'!B$11=\"Ordinary\",D600-E$2,G600)","v":10449.658292511565},15635.528588531752,10397.669942895969,null,598,1.6395354732130584E+30,1.8034890205343647E+30,null,598,5.1455646537725598E+26,5.660121119149817E+26,null,598,598,1458126.3649041702,3037.7632602170211,1461164.1281643871,null,null,598,500,-169901.71,-16990170.846460551,null,598,237.89930086358751,-189835.05,-15186804.252443334]
[null,null,599,{"$f":"IF('Annuity Value'!B$11=\"Ordinary\",E600*(1+D$1/100),F601)","v":10501.906583974122},{"$f":"IF('Annuity Value'!B$11=\"Ordinary\",D601-E$2,G601)","v":5237.858645110161},10449.658292610447,5211.7996469746658,null,599,1.8034890205343647E+30,1.9838379225878013E+30,null,599,5.660121119149817E+26,6.226133231064799E+26,null,599,599,1462364.1281643871,3046.5919336758066,1465410.7200980638,null,null,599,500,-171605.72,-17160572.462122124,null,599,237.89930086358751,-192210.97,-15376877.204899734]
[null,null,600,{"$f":"IF('Annuity Value'!B$11=\"Ordinary\",E601*(1+D$1/100),F602)","v":5264.0479383357115},{"$f":"IF('Annuity Value'!B$11=\"Ordinary\",D602-E$2,G602)","v":-5.2824907470494509E-7},5237.8586452095387,-4.2624287743819878E-7,null,600,1.9838379225878013E+30,2.1822217148465811E+30,null,600,6.226133231064799E+26,6.8487465541712792E+26,null,600,600,1466610.7200980638,3055.4390002042996,1469666.159098268,null,null,600,500,-173326.78,-17332678.093940299,null,600,237.89930086358751,-194616.58,-15569326.069261845]
[null,null,null,null,null,null,null,null,null,null,null,null,null,null,null,null,null,null,null,null,null,null,null,601,500,{"$f":"ROUND(Y$2*AA603,2)","v":-175065.05},{"$f":"IF(X$1=\"\",\"\",(1-(1+Y$2)^(X603-X$1))/(1-(1+Y$2)^(-X$1))*Z$1)","v":-17506504.782076653}]
[null,null,null,null,null,null,null,null,null,null,null,null,null,null,null,null,null,null,null,null,null,null,null,602,500,-176820.7,-17682069.737094373]
[null,null,null,null,null,null,null,null,null,null,null,null,null,null,null,null,null,null,null,null,null,null,null,603,500,-178593.9,-17859390.341662284]
[null,null,null,null,null,null,null,null,null,null,null,null,null,null,null,null,null,null,null,null,null,null,null,604,500,-180384.84,-18038484.15227586]
[null,null,null,null,null,null,null,null,null,null,null,null,null,null,null,null,null,null,null,null,null,null,null,605,500,-182193.69,-18219368.900995571]
[null,null,null,null,null,null,null,null,null,null,null,null,null,null,null,null,null,null,null,null,null,null,null,606,500,-184020.62,-18402062.497202478]
[null,null,null,null,null,null,null,null,null,null,null,null,null,null,null,null,null,null,null,null,null,null,null,607,500,-185865.83,-18586583.02937147]
[null,null,null,null,null,null,null,null,null,null,null,null,null,null,null,null,null,null,null,null,null,null,null,608,500,-187729.49,-18772948.766862139]
[null,null,null,null,null,null,null,null,null,null,null,null,null,null,null,null,null,null,null,null,null,null,null,609,500,-189611.78,-18961178.161727708]
[null,null,null,null,null,null,null,null,null,null,null,null,null,null,null,null,null,null,null,null,null,null,null,610,500,-191512.9,-19151289.850541938]
[null,null,null,null,null,null,null,null,null,null,null,null,null,null,null,null,null,null,null,null,null,null,null,611,500,-193433.03,-19343302.656244326]
[null,null,null,null,null,null,null,null,null,null,null,null,null,null,null,null,null,null,null,null,null,null,null,612,500,-195372.36,-19537235.590003721]
[null,null,null,null,null,null,null,null,null,null,null,null,null,null,null,null,null,null,null,null,null,null,null,613,500,-197331.08,-19733107.85310071]
[null,null,null,null,null,null,null,null,null,null,null,null,null,null,null,null,null,null,null,null,null,null,null,614,500,-199309.39,-19930938.838828672]
[null,null,null,null,null,null,null,null,null,null,null,null,null,null,null,null,null,null,null,null,null,null,null,615,500,-201307.48,-20130748.134413924]
[null,null,null,null,null,null,null,null,null,null,null,null,null,null,null,null,null,null,null,null,null,null,null,616,500,-203325.56,-20332555.522955019]
[null,null,null,null,null,null,null,null,null,null,null,null,null,null,null,null,null,null,null,null,null,null,null,617,500,-205363.81,-20536380.985381518]
[null,null,null,null,null,null,null,null,null,null,null,null,null,null,null,null,null,null,null,null,null,null,null,618,500,-207422.45,-20742244.702432286]
[null,null,null,null,null,null,null,null,null,null,null,null,null,null,null,null,null,null,null,null,null,null,null,619,500,-209501.67,-20950167.056653578]
[null,null,null,null,null,null,null,null,null,null,null,null,null,null,null,null,null,null,null,null,null,null,null,620,500,-211601.69,-21160168.634417064]
[null,null,null,null,null,null,null,null,null,null,null,null,null,null,null,null,null,null,null,null,null,null,null,621,500,-213722.7,-21372270.227958187]
[null,null,null,null,null,null,null,null,null,null,null,null,null,null,null,null,null,null,null,null,null,null,null,622,500,-215864.93,-21586492.83743472]
[null,null,null,null,null,null,null,null,null,null,null,null,null,null,null,null,null,null,null,null,null,null,null,623,500,-218028.58,-21802857.67300602]
[null,null,null,null,null,null,null,null,null,null,null,null,null,null,null,null,null,null,null,null,null,null,null,624,500,-220213.86,-22021386.156933051]
[null,null,null,null,null,null,null,null,null,null,null,null,null,null,null,null,null,null,null,null,null,null,null,625,500,-222421,-22242099.925699331]
[null,null,null,null,null,null,null,null,null,null,null,null,null,null,null,null,null,null,null,null,null,null,null,626,500,-224650.21,-22465020.832153272]
[null,null,null,null,null,null,null,null,null,null,null,null,null,null,null,null,null,null,null,null,null,null,null,627,500,-226901.71,-22690170.947671756]
[null,null,null,null,null,null,null,null,null,null,null,null,null,null,null,null,null,null,null,null,null,null,null,628,500,-229175.73,-22917572.564345449]
[null,null,null,null,null,null,null,null,null,null,null,null,null,null,null,null,null,null,null,null,null,null,null,629,500,-231472.48,-23147248.197185848]
[null,null,null,null,null,null,null,null,null,null,null,null,null,null,null,null,null,null,null,null,null,null,null,630,500,-233792.21,-23379220.586354662]
[null,null,null,null,null,null,null,null,null,null,null,null,null,null,null,null,null,null,null,null,null,null,null,631,500,-236135.13,-23613512.699415158]
[null,null,null,null,null,null,null,null,null,null,null,null,null,null,null,null,null,null,null,null,null,null,null,632,500,-238501.48,-23850147.733606283]
[null,null,null,null,null,null,null,null,null,null,null,null,null,null,null,null,null,null,null,null,null,null,null,633,500,-240891.49,-24089149.118139293]
[null,null,null,null,null,null,null,null,null,null,null,null,null,null,null,null,null,null,null,null,null,null,null,634,500,-243305.41,-24330540.516517639]
[null,null,null,null,null,null,null,null,null,null,null,null,null,null,null,null,null,null,null,null,null,null,null,635,500,-245743.46,-24574345.82887977]
[null,null,null,null,null,null,null,null,null,null,null,null,null,null,null,null,null,null,null,null,null,null,null,636,500,-248205.89,-24820589.194365535]
[null,null,null,null,null,null,null,null,null,null,null,null,null,null,null,null,null,null,null,null,null,null,null,637,500,-250692.95,-25069294.993506141]
[null,null,null,null,null,null,null,null,null,null,null,null,null,null,null,null,null,null,null,null,null,null,null,638,500,-253204.88,-25320487.850638155]
[null,null,null,null,null,null,null,null,null,null,null,null,null,null,null,null,null,null,null,null,null,null,null,639,500,-255741.93,-25574192.63634149]
[null,null,null,null,null,null,null,null,null,null,null,null,null,null,null,null,null,null,null,null,null,null,null,640,500,-258304.34,-25830434.469901875]
[null,null,null,null,null,null,null,null,null,null,null,null,null,null,null,null,null,null,null,null,null,null,null,641,500,-260892.39,-26089238.721797843]
[null,null,null,null,null,null,null,null,null,null,null,null,null,null,null,null,null,null,null,null,null,null,null,{"$f":"X643+1","v":642},{"$f":"Y643","v":500},-263506.31,-26350631.016212769]
[null,null,null,null,null,null,null,null,null,null,null,null,null,null,null,null,null,null,null,null,null,null,null,643,500,-266146.37,-26614637.23357185]
[null,null,null,null,null,null,null,null,null,null,null,null,null,null,null,null,null,null,null,null,null,null,null,644,500,-268812.84000000003,-26881283.513104543]
[null,null,null,null,null,null,null,null,null,null,null,null,null,null,null,null,null,null,null,null,null,null,null,645,500,-271505.96000000002,-27150596.255432539]
[null,null,null,null,null,null,null,null,null,null,null,null,null,null,null,null,null,null,null,null,null,null,null,646,500,-274226.02,-27422602.125183813]
[null,null,null,null,null,null,null,null,null,null,null,null,null,null,null,null,null,null,null,null,null,null,null,647,500,-276973.28000000003,-27697328.053632606]
[null,null,null,null,null,null,null,null,null,null,null,null,null,null,null,null,null,null,null,null,null,null,null,648,500,-279748.01,-27974801.241365902]
[null,null,null,null,null,null,null,null,null,null,null,null,null,null,null,null,null,null,null,null,null,null,null,649,500,-282550.49,-28255049.160976514]
[null,null,null,null,null,null,null,null,null,null,null,null,null,null,null,null,null,null,null,null,null,null,null,650,500,-285381,-28538099.559783228]
[null,null,null,null,null,null,null,null,null,null,null,null,null,null,null,null,null,null,null,null,null,null,null,651,500,-288239.8,-28823980.462578006]
[null,null,null,null,null,null,null,null,null,null,null,null,null,null,null,null,null,null,null,null,null,null,null,652,500,-291127.2,-29112720.174400765]
[null,null,null,null,null,null,null,null,null,null,null,null,null,null,null,null,null,null,null,null,null,null,null,653,500,-294043.46999999997,-29404347.283341724]
[null,null,null,null,null,null,null,null,null,null,null,null,null,null,null,null,null,null,null,null,null,null,null,654,500,-296988.90999999997,-29698890.663372088]
[null,null,null,null,null,null,null,null,null,null,null,null,null,null,null,null,null,null,null,null,null,null,null,655,500,-299963.78999999998,-29996379.477202762]
[null,null,null,null,null,null,null,null,null,null,null,null,null,null,null,null,null,null,null,null,null,null,null,656,500,-302968.43,-30296843.179171734]
[null,null,null,null,null,null,null,null,null,null,null,null,null,null,null,null,null,null,null,null,null,null,null,657,500,-306003.12,-30600311.518160429]
[null,null,null,null,null,null,null,null,null,null,null,null,null,null,null,null,null,null,null,null,null,null,null,658,500,-309068.15000000002,-30906814.540538985]
[null,null,null,null,null,null,null,null,null,null,null,null,null,null,null,null,null,null,null,null,null,null,null,659,500,-312163.83,-31216382.593141321]
[null,null,null,null,null,null,null,null,null,null,null,null,null,null,null,null,null,null,null,null,null,null,null,660,500,-315290.46000000002,-31529046.326269686]
[null,null,null,null,null,null,null,null,null,null,null,null,null,null,null,null,null,null,null,null,null,null,null,661,500,-318448.37,-31844836.696729362]
[null,null,null,null,null,null,null,null,null,null,null,null,null,null,null,null,null,null,null,null,null,null,null,662,500,-321637.84999999998,-32163784.970893603]
[null,null,null,null,null,null,null,null,null,null,null,null,null,null,null,null,null,null,null,null,null,null,null,663,500,-324859.23,-32485922.72779949]
[null,null,null,null,null,null,null,null,null,null,null,null,null,null,null,null,null,null,null,null,null,null,null,664,500,-328112.82,-32811281.862274431]
[null,null,null,null,null,null,null,null,null,null,null,null,null,null,null,null,null,null,null,null,null,null,null,665,500,{"$f":"ROUND(Y$2*AA667,2)","v":-331398.95},{"$f":"IF(X$1=\"\",\"\",(1-(1+Y$2)^(X667-X$1))/(1-(1+Y$2)^(-X$1))*Z$1)","v":-33139894.588094153}]
[null,null,null,null,null,null,null,null,null,null,null,null,null,null,null,null,null,null,null,null,null,null,null,666,500,-334717.93,-33471793.441172045]
[null,null,null,null,null,null,null,null,null,null,null,null,null,null,null,null,null,null,null,null,null,null,null,667,500,-338070.11,-33807011.282780714]
[null,null,null,null,null,null,null,null,null,null,null,null,null,null,null,null,null,null,null,null,null,null,null,668,500,-341455.81,-34145581.302805468]
[null,null,null,null,null,null,null,null,null,null,null,null,null,null,null,null,null,null,null,null,null,null,null,669,500,-344875.37,-34487537.023030505]
[null,null,null,null,null,null,null,null,null,null,null,null,null,null,null,null,null,null,null,null,null,null,null,670,500,-348329.12,-34832912.300457753]
[null,null,null,null,null,null,null,null,null,null,null,null,null,null,null,null,null,null,null,null,null,null,null,671,500,-351817.41,-35181741.330659278]
[null,null,null,null,null,null,null,null,null,null,null,null,null,null,null,null,null,null,null,null,null,null,null,672,500,-355340.59,-35534058.651162826]
[null,null,null,null,null,null,null,null,null,null,null,null,null,null,null,null,null,null,null,null,null,null,null,673,500,-358898.99,-35889899.144871436]
[null,null,null,null,null,null,null,null,null,null,null,null,null,null,null,null,null,null,null,null,null,null,null,674,500,-362492.98,-36249298.043517098]
[null,null,null,null,null,null,null,null,null,null,null,null,null,null,null,null,null,null,null,null,null,null,null,675,500,-366122.91,-36612290.931149215]
[null,null,null,null,null,null,null,null,null,null,null,null,null,null,null,null,null,null,null,null,null,null,null,676,500,-369789.14,-36978913.747657649]
[null,null,null,null,null,null,null,null,null,null,null,null,null,null,null,null,null,null,null,null,null,null,null,677,500,-373492.03,-37349202.792331211]
[null,null,null,null,null,null,null,null,null,null,null,null,null,null,null,null,null,null,null,null,null,null,null,678,500,-377231.95,-37723194.727451473]
[null,null,null,null,null,null,null,null,null,null,null,null,null,null,null,null,null,null,null,null,null,null,null,679,500,-381009.27,-38100926.581922941]
[null,null,null,null,null,null,null,null,null,null,null,null,null,null,null,null,null,null,null,null,null,null,null,680,500,-384824.36,-38482435.754939109]
[null,null,null,null,null,null,null,null,null,null,null,null,null,null,null,null,null,null,null,null,null,null,null,681,500,-388677.6,-38867760.019685484]
[null,null,null,null,null,null,null,null,null,null,null,null,null,null,null,null,null,null,null,null,null,null,null,682,500,-392569.38,-39256937.527079292]
[null,null,null,null,null,null,null,null,null,null,null,null,null,null,null,null,null,null,null,null,null,null,null,683,500,-396500.07,-39650006.809547029]
[null,null,null,null,null,null,null,null,null,null,null,null,null,null,null,null,null,null,null,null,null,null,null,684,500,-400470.07,-40047006.784839444]
[null,null,null,null,null,null,null,null,null,null,null,null,null,null,null,null,null,null,null,null,null,null,null,685,500,-404479.77,-40447976.75988479]
[null,null,null,null,null,null,null,null,null,null,null,null,null,null,null,null,null,null,null,null,null,null,null,686,500,-408529.56,-40852956.434680626]
[null,null,null,null,null,null,null,null,null,null,null,null,null,null,null,null,null,null,null,null,null,null,null,687,500,-412619.86,-41261985.90622437]
[null,null,null,null,null,null,null,null,null,null,null,null,null,null,null,null,null,null,null,null,null,null,null,688,500,-416751.06,-41675105.672483563]
[null,null,null,null,null,null,null,null,null,null,null,null,null,null,null,null,null,null,null,null,null,null,null,689,500,-420923.57,-42092356.636405349]
[null,null,null,null,null,null,null,null,null,null,null,null,null,null,null,null,null,null,null,null,null,null,null,690,500,-425137.8,-42513780.10996639]
[null,null,null,null,null,null,null,null,null,null,null,null,null,null,null,null,null,null,null,null,null,null,null,691,500,-429394.18,-42939417.818262994]
[null,null,null,null,null,null,null,null,null,null,null,null,null,null,null,null,null,null,null,null,null,null,null,692,500,-433693.12,-43369311.903642565]
[null,null,null,null,null,null,null,null,null,null,null,null,null,null,null,null,null,null,null,null,null,null,null,693,500,-438035.05,-43803504.92987594]
[null,null,null,null,null,null,null,null,null,null,null,null,null,null,null,null,null,null,null,null,null,null,null,694,500,-442420.4,-44242039.886371695]
[null,null,null,null,null,null,null,null,null,null,null,null,null,null,null,null,null,null,null,null,null,null,null,695,500,-446849.6,-44684960.192432351]
[null,null,null,null,null,null,null,null,null,null,null,null,null,null,null,null,null,null,null,null,null,null,null,696,500,-451323.1,-45132309.701553628]
[null,null,null,null,null,null,null,null,null,null,null,null,null,null,null,null,null,null,null,null,null,null,null,697,500,-455841.33,-45584132.705766104]
[null,null,null,null,null,null,null,null,null,null,null,null,null,null,null,null,null,null,null,null,null,null,null,698,500,-460404.74,-46040473.940020747]
[null,null,null,null,null,null,null,null,null,null,null,null,null,null,null,null,null,null,null,null,null,null,null,699,500,-465013.79,-46501378.586617909]
[null,null,null,null,null,null,null,null,null,null,null,null,null,null,null,null,null,null,null,null,null,null,null,700,500,-469668.92,-46966892.279681034]
[null,null,null,null,null,null,null,null,null,null,null,null,null,null,null,null,null,null,null,null,null,null,null,701,500,-474370.61,-47437061.109674789]
[null,null,null,null,null,null,null,null,null,null,null,null,null,null,null,null,null,null,null,null,null,null,null,702,500,-479119.32,-47911931.627968527]
[null,null,null,null,null,null,null,null,null,null,null,null,null,null,null,null,null,null,null,null,null,null,null,703,500,-483915.51,-48391550.851445153]
[null,null,null,null,null,null,null,null,null,null,null,null,null,null,null,null,null,null,null,null,null,null,null,704,500,-488759.66,-48875966.267156556]
[null,null,null,null,null,null,null,null,null,null,null,null,null,null,null,null,null,null,null,null,null,null,null,705,500,-493652.26,-49365225.837025069]
[null,null,null,null,null,null,null,null,null,null,null,null,null,null,null,null,null,null,null,null,null,null,null,{"$f":"X707+1","v":706},{"$f":"Y707","v":500},-498593.78,-49859378.002592303]
[null,null,null,null,null,null,null,null,null,null,null,null,null,null,null,null,null,null,null,null,null,null,null,707,500,-503584.72,-50358471.689815179]
[null,null,null,null,null,null,null,null,null,null,null,null,null,null,null,null,null,null,null,null,null,null,null,708,500,-508625.56,-50862556.313910261]
[null,null,null,null,null,null,null,null,null,null,null,null,null,null,null,null,null,null,null,null,null,null,null,709,500,-513716.82,-51371681.784246318]
[null,null,null,null,null,null,null,null,null,null,null,null,null,null,null,null,null,null,null,null,null,null,null,710,500,-518858.99,-51885898.509285778]
[null,null,null,null,null,null,null,null,null,null,null,null,null,null,null,null,null,null,null,null,null,null,null,711,500,-524052.57,-52405257.401575573]
[null,null,null,null,null,null,null,null,null,null,null,null,null,null,null,null,null,null,null,null,null,null,null,712,500,-529298.1,-52929809.882788271]
[null,null,null,null,null,null,null,null,null,null,null,null,null,null,null,null,null,null,null,null,null,null,null,713,500,-534596.07999999996,-53459607.888813101]
[null,null,null,null,null,null,null,null,null,null,null,null,null,null,null,null,null,null,null,null,null,null,null,714,500,-539947.04,-53994703.874898225]
[null,null,null,null,null,null,null,null,null,null,null,null,null,null,null,null,null,null,null,null,null,null,null,715,500,-545351.51,-54535150.820844159]
[null,null,null,null,null,null,null,null,null,null,null,null,null,null,null,null,null,null,null,null,null,null,null,716,500,-550810.02,-55081002.236249536]
[null,null,null,null,null,null,null,null,null,null,null,null,null,null,null,null,null,null,null,null,null,null,null,717,500,-556323.12,-55632312.165808983]
[null,null,null,null,null,null,null,null,null,null,null,null,null,null,null,null,null,null,null,null,null,null,null,718,500,-561891.35,-56189135.194664016]
[null,null,null,null,null,null,null,null,null,null,null,null,null,null,null,null,null,null,null,null,null,null,null,719,500,-567515.26,-56751526.453807652]
[null,null,null,null,null,null,null,null,null,null,null,null,null,null,null,null,null,null,null,null,null,null,null,720,500,-573195.42000000004,-57319541.62554267]
[null,null,null,null,null,null,null,null,null,null,null,null,null,null,null,null,null,null,null,null,null,null,null,721,500,-578932.37,-57893236.948995039]
[null,null,null,null,null,null,null,null,null,null,null,null,null,null,null,null,null,null,null,null,null,null,null,722,500,-584726.68999999994,-58472669.225681923]
[null,null,null,null,null,null,null,null,null,null,null,null,null,null,null,null,null,null,null,null,null,null,null,723,500,-590578.96,-59057895.825135745]
[null,null,null,null,null,null,null,null,null,null,null,null,null,null,null,null,null,null,null,null,null,null,null,724,500,-596489.75,-59648974.690584049]
[null,null,null,null,null,null,null,null,null,null,null,null,null,null,null,null,null,null,null,null,null,null,null,725,500,-602459.64,-60245964.344686836]
[null,null,null,null,null,null,null,null,null,null,null,null,null,null,null,null,null,null,null,null,null,null,null,726,500,-608489.24,-60848923.895330638]
[null,null,null,null,null,null,null,null,null,null,null,null,null,null,null,null,null,null,null,null,null,null,null,727,500,-614579.13,-61457913.041480944]
[null,null,null,null,null,null,null,null,null,null,null,null,null,null,null,null,null,null,null,null,null,null,null,728,500,-620729.92000000004,-62072992.079092696]
[null,null,null,null,null,null,null,null,null,null,null,null,null,null,null,null,null,null,null,null,null,null,null,729,500,{"$f":"ROUND(Y$2*AA731,2)","v":-626942.22},{"$f":"IF(X$1=\"\",\"\",(1-(1+Y$2)^(X731-X$1))/(1-(1+Y$2)^(-X$1))*Z$1)","v":-62694221.907080576}]
[null,null,null,null,null,null,null,null,null,null,null,null,null,null,null,null,null,null,null,null,null,null,null,730,500,-633216.64,-63321664.033348322]
[null,null,null,null,null,null,null,null,null,null,null,null,null,null,null,null,null,null,null,null,null,null,null,731,500,-639553.81000000006,-63955380.580878794]
[null,null,null,null,null,null,null,null,null,null,null,null,null,null,null,null,null,null,null,null,null,null,null,732,500,-645954.34,-64595434.293884523]
[null,null,null,null,null,null,null,null,null,null,null,null,null,null,null,null,null,null,null,null,null,null,null,733,500,-652418.89,-65241888.544020325]
[null,null,null,null,null,null,null,null,null,null,null,null,null,null,null,null,null,null,null,null,null,null,null,734,500,-658948.06999999995,-65894807.336657472]
[null,null,null,null,null,null,null,null,null,null,null,null,null,null,null,null,null,null,null,null,null,null,null,735,500,-665542.55000000005,-66554255.317221045]
[null,null,null,null,null,null,null,null,null,null,null,null,null,null,null,null,null,null,null,null,null,null,null,736,500,-672202.98,-67220297.7775902]
[null,null,null,null,null,null,null,null,null,null,null,null,null,null,null,null,null,null,null,null,null,null,null,737,500,-678930.01,-67893000.662563026]
[null,null,null,null,null,null,null,null,null,null,null,null,null,null,null,null,null,null,null,null,null,null,null,738,500,-685724.31,-68572430.576385617]
[null,null,null,null,null,null,null,null,null,null,null,null,null,null,null,null,null,null,null,null,null,null,null,739,500,-692586.55,-69258654.789346471]
[null,null,null,null,null,null,null,null,null,null,null,null,null,null,null,null,null,null,null,null,null,null,null,740,500,-699517.41,-69951741.244436875]
[null,null,null,null,null,null,null,null,null,null,null,null,null,null,null,null,null,null,null,null,null,null,null,741,500,-706517.59,-70651758.564078182]
[null,null,null,null,null,null,null,null,null,null,null,null,null,null,null,null,null,null,null,null,null,null,null,742,500,-713587.76,-71358776.056915909]
[null,null,null,null,null,null,null,null,null,null,null,null,null,null,null,null,null,null,null,null,null,null,null,743,500,-720728.64,-72072863.724682078]
[null,null,null,null,null,null,null,null,null,null,null,null,null,null,null,null,null,null,null,null,null,null,null,744,500,-727940.92,-72794092.269125834]
[null,null,null,null,null,null,null,null,null,null,null,null,null,null,null,null,null,null,null,null,null,null,null,745,500,-735225.33,-73522533.099014029]
[null,null,null,null,null,null,null,null,null,null,null,null,null,null,null,null,null,null,null,null,null,null,null,746,500,-742582.58,-74258258.337201104]
[null,null,null,null,null,null,null,null,null,null,null,null,null,null,null,null,null,null,null,null,null,null,null,747,500,-750013.41,-75001340.827770129]
[null,null,null,null,null,null,null,null,null,null,null,null,null,null,null,null,null,null,null,null,null,null,null,748,500,-757518.54,-75751854.143244773]
[null,null,null,null,null,null,null,null,null,null,null,null,null,null,null,null,null,null,null,null,null,null,null,749,500,-765098.73,-76509872.591874167]
[null,null,null,null,null,null,null,null,null,null,null,null,null,null,null,null,null,null,null,null,null,null,null,750,500,-772754.71,-77275471.224989846]
[null,null,null,null,null,null,null,null,null,null,null,null,null,null,null,null,null,null,null,null,null,null,null,751,500,-780487.26,-78048725.844436675]
[null,null,null,null,null,null,null,null,null,null,null,null,null,null,null,null,null,null,null,null,null,null,null,752,500,-788297.13,-78829713.010078058]
[null,null,null,null,null,null,null,null,null,null,null,null,null,null,null,null,null,null,null,null,null,null,null,753,500,-796185.1,-79618510.047375768]
[null,null,null,null,null,null,null,null,null,null,null,null,null,null,null,null,null,null,null,null,null,null,null,754,500,-804151.95,-80415195.055046469]
[null,null,null,null,null,null,null,null,null,null,null,null,null,null,null,null,null,null,null,null,null,null,null,755,500,-812198.47,-81219846.912793875]
[null,null,null,null,null,null,null,null,null,null,null,null,null,null,null,null,null,null,null,null,null,null,null,756,500,-820325.45,-82032545.289118826]
[null,null,null,null,null,null,null,null,null,null,null,null,null,null,null,null,null,null,null,null,null,null,null,757,500,-828533.71,-82853370.649206951]
[null,null,null,null,null,null,null,null,null,null,null,null,null,null,null,null,null,null,null,null,null,null,null,758,500,-836824.04,-83682404.262895957]
[null,null,null,null,null,null,null,null,null,null,null,null,null,null,null,null,null,null,null,null,null,null,null,759,500,-845197.28,-84519728.212721869]
[null,null,null,null,null,null,null,null,null,null,null,null,null,null,null,null,null,null,null,null,null,null,null,760,500,-853654.25,-85365425.402046084]
[null,null,null,null,null,null,null,null,null,null,null,null,null,null,null,null,null,null,null,null,null,null,null,761,500,-862195.8,-86219579.563263491]
[null,null,null,null,null,null,null,null,null,null,null,null,null,null,null,null,null,null,null,null,null,null,null,762,500,-870822.75,-87082275.266093045]
[null,null,null,null,null,null,null,null,null,null,null,null,null,null,null,null,null,null,null,null,null,null,null,763,500,-879535.98,-87953597.92595093]
[null,null,null,null,null,null,null,null,null,null,null,null,null,null,null,null,null,null,null,null,null,null,null,764,500,-888336.34,-88833633.812407449]
[null,null,null,null,null,null,null,null,null,null,null,null,null,null,null,null,null,null,null,null,null,null,null,765,500,-897224.7,-89722470.057728469]
[null,null,null,null,null,null,null,null,null,null,null,null,null,null,null,null,null,null,null,null,null,null,null,766,500,-906201.95,-90620194.665502682]
[null,null,null,null,null,null,null,null,null,null,null,null,null,null,null,null,null,null,null,null,null,null,null,767,500,-915268.97,-91526896.519354641]
[null,null,null,null,null,null,null,null,null,null,null,null,null,null,null,null,null,null,null,null,null,null,null,768,500,-924426.65,-92442665.391745225]
[null,null,null,null,null,null,null,null,null,null,null,null,null,null,null,null,null,null,null,null,null,null,null,769,500,-933675.92,-93367591.952859595]
[null,null,null,null,null,null,null,null,null,null,null,null,null,null,null,null,null,null,null,null,null,null,null,{"$f":"X771+1","v":770},{"$f":"Y771","v":500},-943017.68,-94301767.779585138]
[null,null,null,null,null,null,null,null,null,null,null,null,null,null,null,null,null,null,null,null,null,null,null,771,500,-952452.85,-95245285.364577934]
[null,null,null,null,null,null,null,null,null,null,null,null,null,null,null,null,null,null,null,null,null,null,null,772,500,-961982.38,-96198238.125420719]
[null,null,null,null,null,null,null,null,null,null,null,null,null,null,null,null,null,null,null,null,null,null,null,773,500,-971607.2,-97160720.413871869]
[null,null,null,null,null,null,null,null,null,null,null,null,null,null,null,null,null,null,null,null,null,null,null,774,500,-981328.28,-98132827.52520752]
[null,null,null,null,null,null,null,null,null,null,null,null,null,null,null,null,null,null,null,null,null,null,null,775,500,-991146.56,-99114655.707656533]
[null,null,null,null,null,null,null,null,null,null,null,null,null,null,null,null,null,null,null,null,null,null,null,776,500,-1001063.02,-100106302.1719301]
[null,null,null,null,null,null,null,null,null,null,null,null,null,null,null,null,null,null,null,null,null,null,null,777,500,-1011078.65,-101107865.10084637]
[null,null,null,null,null,null,null,null,null,null,null,null,null,null,null,null,null,null,null,null,null,null,null,778,500,-1021194.44,-102119443.65905176]
[null,null,null,null,null,null,null,null,null,null,null,null,null,null,null,null,null,null,null,null,null,null,null,779,500,-1031411.38,-103141138.00283922]
[null,null,null,null,null,null,null,null,null,null,null,null,null,null,null,null,null,null,null,null,null,null,null,780,500,-1041730.49,-104173049.29006463]
[null,null,null,null,null,null,null,null,null,null,null,null,null,null,null,null,null,null,null,null,null,null,null,781,500,-1052152.8,-105215279.6901622]
[null,null,null,null,null,null,null,null,null,null,null,null,null,null,null,null,null,null,null,null,null,null,null,782,500,-1062679.32,-106267932.39426076]
[null,null,null,null,null,null,null,null,null,null,null,null,null,null,null,null,null,null,null,null,null,null,null,783,500,-1073311.1200000001,-107331111.62540032]
[null,null,null,null,null,null,null,null,null,null,null,null,null,null,null,null,null,null,null,null,null,null,null,784,500,-1084049.23,-108404922.64885123]
[null,null,null,null,null,null,null,null,null,null,null,null,null,null,null,null,null,null,null,null,null,null,null,785,500,-1094894.72,-109489471.78253677]
[null,null,null,null,null,null,null,null,null,null,null,null,null,null,null,null,null,null,null,null,null,null,null,786,500,-1105848.6599999999,-110584866.40755908]
[null,null,null,null,null,null,null,null,null,null,null,null,null,null,null,null,null,null,null,null,null,null,null,787,500,-1116912.1499999999,-111691214.97883162]
[null,null,null,null,null,null,null,null,null,null,null,null,null,null,null,null,null,null,null,null,null,null,null,788,500,-1128086.27,-112808627.03581685]
[null,null,null,null,null,null,null,null,null,null,null,null,null,null,null,null,null,null,null,null,null,null,null,789,500,-1139372.1299999999,-113937213.21337205]
[null,null,null,null,null,null,null,null,null,null,null,null,null,null,null,null,null,null,null,null,null,null,null,790,500,-1150770.8500000001,-115077085.25270271]
[null,null,null,null,null,null,null,null,null,null,null,null,null,null,null,null,null,null,null,null,null,null,null,791,500,-1162283.56,-116228356.01242667]
[null,null,null,null,null,null,null,null,null,null,null,null,null,null,null,null,null,null,null,null,null,null,null,792,500,-1173911.3899999999,-117391139.47974786]
[null,null,null,null,null,null,null,null,null,null,null,null,null,null,null,null,null,null,null,null,null,null,null,793,500,{"$f":"ROUND(Y$2*AA795,2)","v":-1185655.51},{"$f":"IF(X$1=\"\",\"\",(1-(1+Y$2)^(X795-X$1))/(1-(1+Y$2)^(-X$1))*Z$1)","v":-118565550.78174239}]
[null,null,null,null,null,null,null,null,null,null,null,null,null,null,null,null,null,null,null,null,null,null,null,794,500,-1197517.06,-119751706.19675674]
[null,null,null,null,null,null,null,null,null,null,null,null,null,null,null,null,null,null,null,null,null,null,null,795,500,-1209497.23,-120949723.16592124]
[null,null,null,null,null,null,null,null,null,null,null,null,null,null,null,null,null,null,null,null,null,null,null,796,500,-1221597.2,-122159720.3047774]
[null,null,null,null,null,null,null,null,null,null,null,null,null,null,null,null,null,null,null,null,null,null,null,797,500,-1233818.17,-123381817.41502221]
[null,null,null,null,null,null,null,null,null,null,null,null,null,null,null,null,null,null,null,null,null,null,null,798,500,-1246161.3500000001,-124616135.49636933]
[null,null,null,null,null,null,null,null,null,null,null,null,null,null,null,null,null,null,null,null,null,null,null,799,500,-1258627.97,-125862796.75852998]
[null,null,null,null,null,null,null,null,null,null,null,null,null,null,null,null,null,null,null,null,null,null,null,800,500,-1271219.25,-127121924.63331221]
[null,null,null,null,null,null,null,null,null,null,null,null,null,null,null,null,null,null,null,null,null,null,null,801,500,-1283936.44,-128393643.78684235]
[null,null,null,null,null,null,null,null,null,null,null,null,null,null,null,null,null,null,null,null,null,null,null,802,500,-1296780.8,-129678080.1319077]
[null,null,null,null,null,null,null,null,null,null,null,null,null,null,null,null,null,null,null,null,null,null,null,803,500,-1309753.6100000001,-130975360.84042372]
[null,null,null,null,null,null,null,null,null,null,null,null,null,null,null,null,null,null,null,null,null,null,null,804,500,-1322856.1399999999,-132285614.35602489]
[null,null,null,null,null,null,null,null,null,null,null,null,null,null,null,null,null,null,null,null,null,null,null,805,500,-1336089.7,-133608970.40678218]
[null,null,null,null,null,null,null,null,null,null,null,null,null,null,null,null,null,null,null,null,null,null,null,806,500,-1349455.6,-134945560.01804695]
[null,null,null,null,null,null,null,null,null,null,null,null,null,null,null,null,null,null,null,null,null,null,null,807,500,-1362955.16,-136295515.52542433]
[null,null,null,null,null,null,null,null,null,null,null,null,null,null,null,null,null,null,null,null,null,null,null,808,500,-1376589.71,-137658970.58787552]
[null,null,null,null,null,null,null,null,null,null,null,null,null,null,null,null,null,null,null,null,null,null,null,809,500,-1390360.6,-139036060.20095131]
[null,null,null,null,null,null,null,null,null,null,null,null,null,null,null,null,null,null,null,null,null,null,null,810,500,-1404269.21,-140426920.71015775]
[null,null,null,null,null,null,null,null,null,null,null,null,null,null,null,null,null,null,null,null,null,null,null,811,500,-1418316.9,-141831689.82445624]
[null,null,null,null,null,null,null,null,null,null,null,null,null,null,null,null,null,null,null,null,null,null,null,812,500,-1432505.07,-143250506.62989774]
[null,null,null,null,null,null,null,null,null,null,null,null,null,null,null,null,null,null,null,null,null,null,null,813,500,-1446835.12,-144683511.60339364]
[null,null,null,null,null,null,null,null,null,null,null,null,null,null,null,null,null,null,null,null,null,null,null,814,500,-1461308.47,-146130846.62662464]
[null,null,null,null,null,null,null,null,null,null,null,null,null,null,null,null,null,null,null,null,null,null,null,815,500,-1475926.55,-147592655.0000878]
[null,null,null,null,null,null,null,null,null,null,null,null,null,null,null,null,null,null,null,null,null,null,null,816,500,-1490690.81,-149069081.45728561]
[null,null,null,null,null,null,null,null,null,null,null,null,null,null,null,null,null,null,null,null,null,null,null,817,500,-1505602.72,-150560272.17905551]
[null,null,null,null,null,null,null,null,null,null,null,null,null,null,null,null,null,null,null,null,null,null,null,818,500,-1520663.75,-152066374.80804288]
[null,null,null,null,null,null,null,null,null,null,null,null,null,null,null,null,null,null,null,null,null,null,null,819,500,-1535875.38,-153587538.46332037]
[null,null,null,null,null,null,null,null,null,null,null,null,null,null,null,null,null,null,null,null,null,null,null,820,500,-1551239.14,-155123913.75515062]
[null,null,null,null,null,null,null,null,null,null,null,null,null,null,null,null,null,null,null,null,null,null,null,821,500,-1566756.53,-156675652.79989889]
[null,null,null,null,null,null,null,null,null,null,null,null,null,null,null,null,null,null,null,null,null,null,null,822,500,-1582429.09,-158242909.23509496]
[null,null,null,null,null,null,null,null,null,null,null,null,null,null,null,null,null,null,null,null,null,null,null,823,500,-1598258.38,-159825838.23464268]
[null,null,null,null,null,null,null,null,null,null,null,null,null,null,null,null,null,null,null,null,null,null,null,824,500,-1614245.97,-161424596.52418616]
[null,null,null,null,null,null,null,null,null,null,null,null,null,null,null,null,null,null,null,null,null,null,null,825,500,-1630393.42,-163039342.3966251]
[null,null,null,null,null,null,null,null,null,null,null,null,null,null,null,null,null,null,null,null,null,null,null,826,500,-1646702.36,-164670235.72778815]
[null,null,null,null,null,null,null,null,null,null,null,null,null,null,null,null,null,null,null,null,null,null,null,827,500,-1663174.38,-166317437.99226308]
[null,null,null,null,null,null,null,null,null,null,null,null,null,null,null,null,null,null,null,null,null,null,null,828,500,-1679811.12,-167981112.2793828]
[null,null,null,null,null,null,null,null,null,null,null,null,null,null,null,null,null,null,null,null,null,null,null,829,500,-1696614.23,-169661423.30937338]
[null,null,null,null,null,null,null,null,null,null,null,null,null,null,null,null,null,null,null,null,null,null,null,830,500,-1713585.37,-171358537.44966421]
[null,null,null,null,null,null,null,null,null,null,null,null,null,null,null,null,null,null,null,null,null,null,null,831,500,-1730726.23,-173072622.7313576]
[null,null,null,null,null,null,null,null,null,null,null,null,null,null,null,null,null,null,null,null,null,null,null,832,500,-1748038.49,-174803848.86586824]
[null,null,null,null,null,null,null,null,null,null,null,null,null,null,null,null,null,null,null,null,null,null,null,833,500,-1765523.87,-176552387.261724]
[null,null,null,null,null,null,null,null,null,null,null,null,null,null,null,null,null,null,null,null,null,null,null,{"$f":"X835+1","v":834},{"$f":"Y835","v":500},-1783184.11,-178318411.04153803]
[null,null,null,null,null,null,null,null,null,null,null,null,null,null,null,null,null,null,null,null,null,null,null,835,500,-1801020.95,-180102095.05915049]
[null,null,null,null,null,null,null,null,null,null,null,null,null,null,null,null,null,null,null,null,null,null,null,836,500,-1819036.16,-181903615.91693905]
[null,null,null,null,null,null,null,null,null,null,null,null,null,null,null,null,null,null,null,null,null,null,null,837,500,-1837231.52,-183723151.98330522]
[null,null,null,null,null,null,null,null,null,null,null,null,null,null,null,null,null,null,null,null,null,null,null,838,500,-1855608.83,-185560883.41033536]
[null,null,null,null,null,null,null,null,null,null,null,null,null,null,null,null,null,null,null,null,null,null,null,839,500,-1874169.92,-187416992.15163547]
[null,null,null,null,null,null,null,null,null,null,null,null,null,null,null,null,null,null,null,null,null,null,null,840,500,-1892916.62,-189291661.98034891]
[null,null,null,null,null,null,null,null,null,null,null,null,null,null,null,null,null,null,null,null,null,null,null,841,500,-1911850.79,-191185078.50734946]
[null,null,null,null,null,null,null,null,null,null,null,null,null,null,null,null,null,null,null,null,null,null,null,842,500,-1930974.29,-193097429.19961971]
[null,null,null,null,null,null,null,null,null,null,null,null,null,null,null,null,null,null,null,null,null,null,null,843,500,-1950289.03,-195028903.39881298]
[null,null,null,null,null,null,null,null,null,null,null,null,null,null,null,null,null,null,null,null,null,null,null,844,500,-1969796.92,-196979692.33999822]
[null,null,null,null,null,null,null,null,null,null,null,null,null,null,null,null,null,null,null,null,null,null,null,845,500,-1989499.89,-198949989.17059493]
[null,null,null,null,null,null,null,null,null,null,null,null,null,null,null,null,null,null,null,null,null,null,null,846,500,-2009399.89,-200939988.96949798]
[null,null,null,null,null,null,null,null,null,null,null,null,null,null,null,null,null,null,null,null,null,null,null,847,500,-2029498.89,-202949888.7663897]
[null,null,null,null,null,null,null,null,null,null,null,null,null,null,null,null,null,null,null,null,null,null,null,848,500,-2049798.88,-204979887.56125066]
[null,null,null,null,null,null,null,null,null,null,null,null,null,null,null,null,null,null,null,null,null,null,null,849,500,-2070301.86,-207030186.34406027]
[null,null,null,null,null,null,null,null,null,null,null,null,null,null,null,null,null,null,null,null,null,null,null,850,500,-2091009.88,-209100988.11469761]
[null,null,null,null,null,null,null,null,null,null,null,null,null,null,null,null,null,null,null,null,null,null,null,851,500,-2111924.98,-211192497.90304169]
[null,null,null,null,null,null,null,null,null,null,null,null,null,null,null,null,null,null,null,null,null,null,null,852,500,-2133049.23,-213304922.78926879]
[null,null,null,null,null,null,null,null,null,null,null,null,null,null,null,null,null,null,null,null,null,null,null,853,500,-2154384.7200000002,-215438471.92435858]
[null,null,null,null,null,null,null,null,null,null,null,null,null,null,null,null,null,null,null,null,null,null,null,854,500,-2175933.5699999998,-217593356.55079931]
[null,null,null,null,null,null,null,null,null,null,null,null,null,null,null,null,null,null,null,null,null,null,null,855,500,-2197697.9,-219769790.02350399]
[null,null,null,null,null,null,null,null,null,null,null,null,null,null,null,null,null,null,null,null,null,null,null,856,500,-2219679.88,-221967987.8309361]
[null,null,null,null,null,null,null,null,null,null,null,null,null,null,null,null,null,null,null,null,null,null,null,857,500,{"$f":"ROUND(Y$2*AA859,2)","v":-2241881.6800000002},{"$f":"IF(X$1=\"\",\"\",(1-(1+Y$2)^(X859-X$1))/(1-(1+Y$2)^(-X$1))*Z$1)","v":-224188167.61644262}]
[null,null,null,null,null,null,null,null,null,null,null,null,null,null,null,null,null,null,null,null,null,null,null,858,500,-2264305.4900000002,-226430549.19980377]
[null,null,null,null,null,null,null,null,null,null,null,null,null,null,null,null,null,null,null,null,null,null,null,859,500,-2286953.5499999998,-228695354.5989989]
[null,null,null,null,null,null,null,null,null,null,null,null,null,null,null,null,null,null,null,null,null,null,null,860,500,-2309828.08,-230982808.0521856]
[null,null,null,null,null,null,null,null,null,null,null,null,null,null,null,null,null,null,null,null,null,null,null,861,500,-2332931.36,-233293136.03990456]
[null,null,null,null,null,null,null,null,null,null,null,null,null,null,null,null,null,null,null,null,null,null,null,862,500,-2356265.67,-235626567.30750075]
[null,null,null,null,null,null,null,null,null,null,null,null,null,null,null,null,null,null,null,null,null,null,null,863,500,-2379833.33,-237983332.88777244]
[null,null,null,null,null,null,null,null,null,null,null,null,null,null,null,null,null,null,null,null,null,null,null,864,500,-2403636.66,-240363666.12384731]
[null,null,null,null,null,null,null,null,null,null,null,null,null,null,null,null,null,null,null,null,null,null,null,865,500,-2427678.0299999998,-242767802.69228286]
[null,null,null,null,null,null,null,null,null,null,null,null,null,null,null,null,null,null,null,null,null,null,null,866,500,-2451959.81,-245195980.62640238]
[null,null,null,null,null,null,null,null,null,null,null,null,null,null,null,null,null,null,null,null,null,null,null,867,500,-2476484.4,-247648440.33986354]
[null,null,null,null,null,null,null,null,null,null,null,null,null,null,null,null,null,null,null,null,null,null,null,868,500,-2501254.25,-250125424.65045887]
[null,null,null,null,null,null,null,null,null,null,null,null,null,null,null,null,null,null,null,null,null,null,null,869,500,-2526271.79,-252627178.80416057]
[null,null,null,null,null,null,null,null,null,null,null,null,null,null,null,null,null,null,null,null,null,null,null,870,500,-2551539.5,-255153950.4993993]
[null,null,null,null,null,null,null,null,null,null,null,null,null,null,null,null,null,null,null,null,null,null,null,871,500,-2577059.9,-257705989.91158998]
[null,null,null,null,null,null,null,null,null,null,null,null,null,null,null,null,null,null,null,null,null,null,null,872,500,-2602835.5,-260283549.71790302]
[null,null,null,null,null,null,null,null,null,null,null,null,null,null,null,null,null,null,null,null,null,null,null,873,500,-2628868.85,-262886885.12227917]
[null,null,null,null,null,null,null,null,null,null,null,null,null,null,null,null,null,null,null,null,null,null,null,874,500,-2655162.54,-265516253.88069865]
[null,null,null,null,null,null,null,null,null,null,null,null,null,null,null,null,null,null,null,null,null,null,null,875,500,-2681719.16,-268171916.32670274]
[null,null,null,null,null,null,null,null,null,null,null,null,null,null,null,null,null,null,null,null,null,null,null,876,500,-2708541.35,-270854135.39716643]
[null,null,null,null,null,null,null,null,null,null,null,null,null,null,null,null,null,null,null,null,null,null,null,877,500,-2735631.77,-273563176.65833521]
[null,null,null,null,null,null,null,null,null,null,null,null,null,null,null,null,null,null,null,null,null,null,null,878,500,-2762993.08,-276299308.33211577]
[null,null,null,null,null,null,null,null,null,null,null,null,null,null,null,null,null,null,null,null,null,null,null,879,500,-2790628.01,-279062801.32263356]
[null,null,null,null,null,null,null,null,null,null,null,null,null,null,null,null,null,null,null,null,null,null,null,880,500,-2818539.29,-281853929.24305701]
[null,null,null,null,null,null,null,null,null,null,null,null,null,null,null,null,null,null,null,null,null,null,null,881,500,-2846729.68,-284672968.44268429]
[null,null,null,null,null,null,null,null,null,null,null,null,null,null,null,null,null,null,null,null,null,null,null,882,500,-2875201.98,-287520198.0343082]
[null,null,null,null,null,null,null,null,null,null,null,null,null,null,null,null,null,null,null,null,null,null,null,883,500,-2903959,-290395899.92184848]
[null,null,null,null,null,null,null,null,null,null,null,null,null,null,null,null,null,null,null,null,null,null,null,884,500,-2933003.59,-293300358.82826364]
[null,null,null,null,null,null,null,null,null,null,null,null,null,null,null,null,null,null,null,null,null,null,null,885,500,-2962338.62,-296233862.3237434]
[null,null,null,null,null,null,null,null,null,null,null,null,null,null,null,null,null,null,null,null,null,null,null,886,500,-2991967.01,-299196700.85417795]
[null,null,null,null,null,null,null,null,null,null,null,null,null,null,null,null,null,null,null,null,null,null,null,887,500,-3021891.68,-302189167.76991642]
[null,null,null,null,null,null,null,null,null,null,null,null,null,null,null,null,null,null,null,null,null,null,null,888,500,-3052115.59,-305211559.35481274]
[null,null,null,null,null,null,null,null,null,null,null,null,null,null,null,null,null,null,null,null,null,null,null,889,500,-3082641.75,-308264174.8555575]
[null,null,null,null,null,null,null,null,null,null,null,null,null,null,null,null,null,null,null,null,null,null,null,890,500,-3113473.17,-311347316.51131022]
[null,null,null,null,null,null,null,null,null,null,null,null,null,null,null,null,null,null,null,null,null,null,null,891,500,-3144612.9,-314461289.58362049]
[null,null,null,null,null,null,null,null,null,null,null,null,null,null,null,null,null,null,null,null,null,null,null,892,500,-3176064.02,-317606402.3866533]
[null,null,null,null,null,null,null,null,null,null,null,null,null,null,null,null,null,null,null,null,null,null,null,893,500,-3207829.66,-320782966.31771702]
[null,null,null,null,null,null,null,null,null,null,null,null,null,null,null,null,null,null,null,null,null,null,null,894,500,-3239912.96,-323991295.88809133]
[null,null,null,null,null,null,null,null,null,null,null,null,null,null,null,null,null,null,null,null,null,null,null,895,500,-3272317.09,-327231708.75416887]
[null,null,null,null,null,null,null,null,null,null,null,null,null,null,null,null,null,null,null,null,null,null,null,896,500,-3305045.26,-330504525.74890774]
[null,null,null,null,null,null,null,null,null,null,null,null,null,null,null,null,null,null,null,null,null,null,null,897,500,-3338100.71,-333810070.91359341]
[null,null,null,null,null,null,null,null,null,null,null,null,null,null,null,null,null,null,null,null,null,null,null,{"$f":"X899+1","v":898},{"$f":"Y899","v":500},-3371486.72,-337148671.52992654]
[null,null,null,null,null,null,null,null,null,null,null,null,null,null,null,null,null,null,null,null,null,null,null,899,500,-3405206.58,-340520658.15242296]
[null,null,null,null,null,null,null,null,null,null,null,null,null,null,null,null,null,null,null,null,null,null,null,900,500,-3439263.65,-343926364.6411438]
[null,null,null,null,null,null,null,null,null,null,null,null,null,null,null,null,null,null,null,null,null,null,null,901,500,-3473661.28,-347366128.19475245]
[null,null,null,null,null,null,null,null,null,null,null,null,null,null,null,null,null,null,null,null,null,null,null,902,500,-3508402.89,-350840289.38389713]
[null,null,null,null,null,null,null,null,null,null,null,null,null,null,null,null,null,null,null,null,null,null,null,903,500,-3543491.92,-354349192.18493271]
[null,null,null,null,null,null,null,null,null,null,null,null,null,null,null,null,null,null,null,null,null,null,null,904,500,-3578931.84,-357893184.0139792]
[null,null,null,null,null,null,null,null,null,null,null,null,null,null,null,null,null,null,null,null,null,null,null,905,500,-3614726.16,-361472615.76131558]
[null,null,null,null,null,null,null,null,null,null,null,null,null,null,null,null,null,null,null,null,null,null,null,906,500,-3650878.42,-365087841.82612592]
[null,null,null,null,null,null,null,null,null,null,null,null,null,null,null,null,null,null,null,null,null,null,null,907,500,-3687392.2,-368739220.15158433]
[null,null,null,null,null,null,null,null,null,null,null,null,null,null,null,null,null,null,null,null,null,null,null,908,500,-3724271.12,-372427112.26029676]
[null,null,null,null,null,null,null,null,null,null,null,null,null,null,null,null,null,null,null,null,null,null,null,909,500,-3761518.83,-376151883.290097]
[null,null,null,null,null,null,null,null,null,null,null,null,null,null,null,null,null,null,null,null,null,null,null,910,500,-3799139.02,-379913902.0301944]
[null,null,null,null,null,null,null,null,null,null,null,null,null,null,null,null,null,null,null,null,null,null,null,911,500,-3837135.41,-383713540.95769364]
[null,null,null,null,null,null,null,null,null,null,null,null,null,null,null,null,null,null,null,null,null,null,null,912,500,-3875511.76,-387551176.27446783]
[null,null,null,null,null,null,null,null,null,null,null,null,null,null,null,null,null,null,null,null,null,null,null,913,500,-3914271.88,-391427187.94440895]
[null,null,null,null,null,null,null,null,null,null,null,null,null,null,null,null,null,null,null,null,null,null,null,914,500,-3953419.6,-395341959.73105031]
[null,null,null,null,null,null,null,null,null,null,null,null,null,null,null,null,null,null,null,null,null,null,null,915,500,-3992958.79,-399295879.23555797]
[null,null,null,null,null,null,null,null,null,null,null,null,null,null,null,null,null,null,null,null,null,null,null,916,500,-4032893.38,-403289337.93511009]
[null,null,null,null,null,null,null,null,null,null,null,null,null,null,null,null,null,null,null,null,null,null,null,917,500,-4073227.31,-407322731.22165847]
[null,null,null,null,null,null,null,null,null,null,null,null,null,null,null,null,null,null,null,null,null,null,null,918,500,-4113964.58,-411396458.44107151]
[null,null,null,null,null,null,null,null,null,null,null,null,null,null,null,null,null,null,null,null,null,null,null,919,500,-4155109.23,-415510922.93267953]
[null,null,null,null,null,null,null,null,null,null,null,null,null,null,null,null,null,null,null,null,null,null,null,920,500,-4196665.32,-419666532.0692035]
[null,null,null,null,null,null,null,null,null,null,null,null,null,null,null,null,null,null,null,null,null,null,null,921,500,{"$f":"ROUND(Y$2*AA923,2)","v":-4238636.97},{"$f":"IF(X$1=\"\",\"\",(1-(1+Y$2)^(X923-X$1))/(1-(1+Y$2)^(-X$1))*Z$1)","v":-423863697.29709202}]
[null,null,null,null,null,null,null,null,null,null,null,null,null,null,null,null,null,null,null,null,null,null,null,922,500,-4281028.34,-428102834.17726028]
[null,null,null,null,null,null,null,null,null,null,null,null,null,null,null,null,null,null,null,null,null,null,null,923,500,-4323843.62,-432384362.42623007]
[null,null,null,null,null,null,null,null,null,null,null,null,null,null,null,null,null,null,null,null,null,null,null,924,500,-4367087.0599999996,-436708705.95768893]
[null,null,null,null,null,null,null,null,null,null,null,null,null,null,null,null,null,null,null,null,null,null,null,925,500,-4410762.93,-441076292.92446303]
[null,null,null,null,null,null,null,null,null,null,null,null,null,null,null,null,null,null,null,null,null,null,null,926,500,-4454875.5599999996,-445487555.76090407]
[null,null,null,null,null,null,null,null,null,null,null,null,null,null,null,null,null,null,null,null,null,null,null,927,500,-4499429.3099999996,-449942931.22571045]
[null,null,null,null,null,null,null,null,null,null,null,null,null,null,null,null,null,null,null,null,null,null,null,928,500,-4544428.5999999996,-454442860.4451648]
[null,null,null,null,null,null,null,null,null,null,null,null,null,null,null,null,null,null,null,null,null,null,null,929,500,-4589877.8899999997,-458987788.95681292]
[null,null,null,null,null,null,null,null,null,null,null,null,null,null,null,null,null,null,null,null,null,null,null,930,500,-4635781.67,-463578166.75357831]
[null,null,null,null,null,null,null,null,null,null,null,null,null,null,null,null,null,null,null,null,null,null,null,931,500,-4682144.4800000004,-468214448.32831132]
[null,null,null,null,null,null,null,null,null,null,null,null,null,null,null,null,null,null,null,null,null,null,null,932,500,-4728970.93,-472897092.71879089]
[null,null,null,null,null,null,null,null,null,null,null,null,null,null,null,null,null,null,null,null,null,null,null,933,500,-4776265.6399999997,-477626563.55317611]
[null,null,null,null,null,null,null,null,null,null,null,null,null,null,null,null,null,null,null,null,null,null,null,934,500,-4824033.29,-482403329.09590429]
[null,null,null,null,null,null,null,null,null,null,null,null,null,null,null,null,null,null,null,null,null,null,null,935,500,-4872278.62,-487227862.29406071]
[null,null,null,null,null,null,null,null,null,null,null,null,null,null,null,null,null,null,null,null,null,null,null,936,500,-4921006.41,-492100640.82419848]
[null,null,null,null,null,null,null,null,null,null,null,null,null,null,null,null,null,null,null,null,null,null,null,937,500,-4970221.47,-497022147.13963693]
[null,null,null,null,null,null,null,null,null,null,null,null,null,null,null,null,null,null,null,null,null,null,null,938,500,-5019928.6900000004,-501992868.51823062]
[null,null,null,null,null,null,null,null,null,null,null,null,null,null,null,null,null,null,null,null,null,null,null,939,500,-5070132.97,-507013297.11061019]
[null,null,null,null,null,null,null,null,null,null,null,null,null,null,null,null,null,null,null,null,null,null,null,940,500,-5120839.3,-512083929.98891264]
[null,null,null,null,null,null,null,null,null,null,null,null,null,null,null,null,null,null,null,null,null,null,null,941,500,-5172052.6900000004,-517205269.19599909]
[null,null,null,null,null,null,null,null,null,null,null,null,null,null,null,null,null,null,null,null,null,null,null,942,500,-5223778.22,-522377821.79515547]
[null,null,null,null,null,null,null,null,null,null,null,null,null,null,null,null,null,null,null,null,null,null,null,943,500,-5276021,-527602099.92030436]
[null,null,null,null,null,null,null,null,null,null,null,null,null,null,null,null,null,null,null,null,null,null,null,944,500,-5328786.21,-532878620.82670468]
[null,null,null,null,null,null,null,null,null,null,null,null,null,null,null,null,null,null,null,null,null,null,null,945,500,-5382079.0700000003,-538207906.94216812]
[null,null,null,null,null,null,null,null,null,null,null,null,null,null,null,null,null,null,null,null,null,null,null,946,500,-5435904.8600000003,-543590485.91878712]
[null,null,null,null,null,null,null,null,null,null,null,null,null,null,null,null,null,null,null,null,null,null,null,947,500,-5490268.9100000001,-549026890.68517137]
[null,null,null,null,null,null,null,null,null,null,null,null,null,null,null,null,null,null,null,null,null,null,null,948,500,-5545176.5899999999,-554517659.49922037]
[null,null,null,null,null,null,null,null,null,null,null,null,null,null,null,null,null,null,null,null,null,null,null,949,500,-5600633.3600000003,-560063336.00140989]
[null,null,null,null,null,null,null,null,null,null,null,null,null,null,null,null,null,null,null,null,null,null,null,950,500,-5656644.6900000004,-565664469.26862037]
[null,null,null,null,null,null,null,null,null,null,null,null,null,null,null,null,null,null,null,null,null,null,null,951,500,-5713216.1399999997,-571321613.86850405]
[null,null,null,null,null,null,null,null,null,null,null,null,null,null,null,null,null,null,null,null,null,null,null,952,500,-5770353.2999999998,-577035329.91438627]
[null,null,null,null,null,null,null,null,null,null,null,null,null,null,null,null,null,null,null,null,null,null,null,953,500,-5828061.8300000001,-582806183.12072647]
[null,null,null,null,null,null,null,null,null,null,null,null,null,null,null,null,null,null,null,null,null,null,null,954,500,-5886347.4500000002,-588634744.85913122]
[null,null,null,null,null,null,null,null,null,null,null,null,null,null,null,null,null,null,null,null,null,null,null,955,500,-5945215.9199999999,-594521592.21491873]
[null,null,null,null,null,null,null,null,null,null,null,null,null,null,null,null,null,null,null,null,null,null,null,956,500,-6004673.0800000001,-600467308.04426527]
[null,null,null,null,null,null,null,null,null,null,null,null,null,null,null,null,null,null,null,null,null,null,null,957,500,-6064724.8099999996,-606472481.03190529]
[null,null,null,null,null,null,null,null,null,null,null,null,null,null,null,null,null,null,null,null,null,null,null,958,500,-6125377.0599999996,-612537705.74942064]
[null,null,null,null,null,null,null,null,null,null,null,null,null,null,null,null,null,null,null,null,null,null,null,959,500,-6186635.8300000001,-618663582.71411216]
[null,null,null,null,null,null,null,null,null,null,null,null,null,null,null,null,null,null,null,null,null,null,null,960,500,-6248507.1799999997,-624850718.4484508]
[null,null,null,null,null,null,null,null,null,null,null,null,null,null,null,null,null,null,null,null,null,null,null,961,500,-6310997.2599999998,-631099725.54013145]
[null,null,null,null,null,null,null,null,null,null,null,null,null,null,null,null,null,null,null,null,null,null,null,{"$f":"X963+1","v":962},{"$f":"Y963","v":500},-6374112.2300000004,-637411222.70273018]
[null,null,null,null,null,null,null,null,null,null,null,null,null,null,null,null,null,null,null,null,null,null,null,963,500,-6437858.3499999996,-643785834.83695376]
[null,null,null,null,null,null,null,null,null,null,null,null,null,null,null,null,null,null,null,null,null,null,null,964,500,-6502241.9299999997,-650224193.09252071]
[null,null,null,null,null,null,null,null,null,null,null,null,null,null,null,null,null,null,null,null,null,null,null,965,500,-6567269.3499999996,-656726934.93064332]
[null,null,null,null,null,null,null,null,null,null,null,null,null,null,null,null,null,null,null,null,null,null,null,966,500,-6632947.04,-663294704.18714595]
[null,null,null,null,null,null,null,null,null,null,null,null,null,null,null,null,null,null,null,null,null,null,null,967,500,-6699281.5099999998,-669928151.13621485]
[null,null,null,null,null,null,null,null,null,null,null,null,null,null,null,null,null,null,null,null,null,null,null,968,500,-6766279.3300000001,-676627932.55477452]
[null,null,null,null,null,null,null,null,null,null,null,null,null,null,null,null,null,null,null,null,null,null,null,969,500,-6833947.1200000001,-683394711.78751838]
[null,null,null,null,null,null,null,null,null,null,null,null,null,null,null,null,null,null,null,null,null,null,null,970,500,-6902291.5899999999,-690229158.81259108]
[null,null,null,null,null,null,null,null,null,null,null,null,null,null,null,null,null,null,null,null,null,null,null,971,500,-6971319.5,-697131950.30791306]
[null,null,null,null,null,null,null,null,null,null,null,null,null,null,null,null,null,null,null,null,null,null,null,972,500,-7041037.7000000002,-704103769.71818972]
[null,null,null,null,null,null,null,null,null,null,null,null,null,null,null,null,null,null,null,null,null,null,null,973,500,-7111453.0700000003,-711145307.32256901]
[null,null,null,null,null,null,null,null,null,null,null,null,null,null,null,null,null,null,null,null,null,null,null,974,500,-7182572.5999999996,-718257260.30299091]
[null,null,null,null,null,null,null,null,null,null,null,null,null,null,null,null,null,null,null,null,null,null,null,975,500,-7254403.3300000001,-725440332.81321824]
[null,null,null,null,null,null,null,null,null,null,null,null,null,null,null,null,null,null,null,null,null,null,null,976,500,-7326952.3600000003,-732695236.04854655]
[null,null,null,null,null,null,null,null,null,null,null,null,null,null,null,null,null,null,null,null,null,null,null,977,500,-7400226.8799999999,-740022688.31622946]
[null,null,null,null,null,null,null,null,null,null,null,null,null,null,null,null,null,null,null,null,null,null,null,978,500,-7474234.1500000004,-747423415.10658932]
[null,null,null,null,null,null,null,null,null,null,null,null,null,null,null,null,null,null,null,null,null,null,null,979,500,-7548981.4900000002,-754898149.16485131]
[null,null,null,null,null,null,null,null,null,null,null,null,null,null,null,null,null,null,null,null,null,null,null,980,500,-7624476.3099999996,-762447630.56369722]
[null,null,null,null,null,null,null,null,null,null,null,null,null,null,null,null,null,null,null,null,null,null,null,981,500,-7700726.0700000003,-770072606.77653182]
[null,null,null,null,null,null,null,null,null,null,null,null,null,null,null,null,null,null,null,null,null,null,null,982,500,-7777738.3300000001,-777773832.75149322]
[null,null,null,null,null,null,null,null,null,null,null,null,null,null,null,null,null,null,null,null,null,null,null,983,500,-7855520.71,-785552070.98620546]
[null,null,null,null,null,null,null,null,null,null,null,null,null,null,null,null,null,null,null,null,null,null,null,984,500,-7934080.9199999999,-793408091.60326374]
[null,null,null,null,null,null,null,null,null,null,null,null,null,null,null,null,null,null,null,null,null,null,null,985,500,{"$f":"ROUND(Y$2*AA987,2)","v":-8013426.7199999997},{"$f":"IF(X$1=\"\",\"\",(1-(1+Y$2)^(X987-X$1))/(1-(1+Y$2)^(-X$1))*Z$1)","v":-801342672.42649388}]
[null,null,null,null,null,null,null,null,null,null,null,null,null,null,null,null,null,null,null,null,null,null,null,986,500,-8093565.9900000002,-809356599.05795634]
[null,null,null,null,null,null,null,null,null,null,null,null,null,null,null,null,null,null,null,null,null,null,null,987,500,-8174506.6500000004,-817450664.95573199]
[null,null,null,null,null,null,null,null,null,null,null,null,null,null,null,null,null,null,null,null,null,null,null,988,500,-8256256.7199999997,-825625671.5124867]
[null,null,null,null,null,null,null,null,null,null,null,null,null,null,null,null,null,null,null,null,null,null,null,989,500,-8338824.2800000003,-833882428.13480914]
[null,null,null,null,null,null,null,null,null,null,null,null,null,null,null,null,null,null,null,null,null,null,null,990,500,-8422217.5199999996,-842221752.32335329]
[null,null,null,null,null,null,null,null,null,null,null,null,null,null,null,null,null,null,null,null,null,null,null,991,500,-8506444.6999999993,-850644469.75378442]
[null,null,null,null,null,null,null,null,null,null,null,null,null,null,null,null,null,null,null,null,null,null,null,992,500,-8591514.1400000006,-859151414.35851824]
[null,null,null,null,null,null,null,null,null,null,null,null,null,null,null,null,null,null,null,null,null,null,null,993,500,-8677434.2799999993,-867743428.4093008]
[null,null,null,null,null,null,null,null,null,null,null,null,null,null,null,null,null,null,null,null,null,null,null,994,500,-8764213.6300000008,-876421362.60059142]
[null,null,null,null,null,null,null,null,null,null,null,null,null,null,null,null,null,null,null,null,null,null,null,995,500,-8851860.7599999998,-885186076.13379335]
[null,null,null,null,null,null,null,null,null,null,null,null,null,null,null,null,null,null,null,null,null,null,null,996,500,-8940384.3699999992,-894038436.80232882]
[null,null,null,null,null,null,null,null,null,null,null,null,null,null,null,null,null,null,null,null,null,null,null,997,500,-9029793.2100000009,-902979321.0775497]
[null,null,null,null,null,null,null,null,null,null,null,null,null,null,null,null,null,null,null,null,null,null,null,998,500,-9120096.1400000006,-912009614.19552112]
[null,null,null,null,null,null,null,null,null,null,null,null,null,null,null,null,null,null,null,null,null,null,null,999,500,-9211302.0999999996,-921130210.24467397]
[null,null,null,null,null,null,null,null,null,null,null,null,null,null,null,null,null,null,null,null,null,null,null,1000,500,-9303420.1199999992,-930342012.25431681]
[null,null,null,null,null,null,null,null,null,null,null,null,null,null,null,null,null,null,null,null,null,null,null,1001,500,-9396459.3200000003,-939645932.28405738]
[null,null,null,null,null,null,null,null,null,null,null,null,null,null,null,null,null,null,null,null,null,null,null,1002,500,-9490428.9199999999,-949042891.51409566]
[null,null,null,null,null,null,null,null,null,null,null,null,null,null,null,null,null,null,null,null,null,null,null,1003,500,-9585338.1999999993,-958533820.33643258]
[null,null,null,null,null,null,null,null,null,null,null,null,null,null,null,null,null,null,null,null,null,null,null,1004,500,-9681196.5800000001,-968119658.44699442]
[null,null,null,null,null,null,null,null,null,null,null,null,null,null,null,null,null,null,null,null,null,null,null,1005,500,-9778013.5500000007,-977801354.93866026]
[null,null,null,null,null,null,null,null,null,null,null,null,null,null,null,null,null,null,null,null,null,null,null,1006,500,-9875798.6799999997,-987579868.39524448]
[null,null,null,null,null,null,null,null,null,null,null,null,null,null,null,null,null,null,null,null,null,null,null,1007,500,-9974561.6699999999,-997456166.98639464]
[null,null,null,null,null,null,null,null,null,null,null,null,null,null,null,null,null,null,null,null,null,null,null,1008,500,-10074312.289999999,-1007431228.5634545]
[null,null,null,null,null,null,null,null,null,null,null,null,null,null,null,null,null,null,null,null,null,null,null,1009,500,-10175060.41,-1017506040.7562866]
[null,null,null,null,null,null,null,null,null,null,null,null,null,null,null,null,null,null,null,null,null,null,null,1010,500,-10276816.01,-1027681601.0710471]
[null,null,null,null,null,null,null,null,null,null,null,null,null,null,null,null,null,null,null,null,null,null,null,1011,500,-10379589.17,-1037958916.9889534]
[null,null,null,null,null,null,null,null,null,null,null,null,null,null,null,null,null,null,null,null,null,null,null,1012,500,-10483390.060000001,-1048339006.0660406]
[null,null,null,null,null,null,null,null,null,null,null,null,null,null,null,null,null,null,null,null,null,null,null,1013,500,-10588228.960000001,-1058822896.0338967]
[null,null,null,null,null,null,null,null,null,null,null,null,null,null,null,null,null,null,null,null,null,null,null,1014,500,-10694116.25,-1069411624.9014335]
[null,null,null,null,null,null,null,null,null,null,null,null,null,null,null,null,null,null,null,null,null,null,null,1015,500,-10801062.41,-1080106241.0576456]
[null,null,null,null,null,null,null,null,null,null,null,null,null,null,null,null,null,null,null,null,null,null,null,1016,500,-10909078.029999999,-1090907803.3754177]
[null,null,null,null,null,null,null,null,null,null,null,null,null,null,null,null,null,null,null,null,null,null,null,1017,500,-11018173.810000001,-1101817381.3163695]
[null,null,null,null,null,null,null,null,null,null,null,null,null,null,null,null,null,null,null,null,null,null,null,1018,500,-11128360.550000001,-1112836055.036731]
[null,null,null,null,null,null,null,null,null,null,null,null,null,null,null,null,null,null,null,null,null,null,null,1019,500,-11239649.15,-1123964915.4942939]
[null,null,null,null,null,null,null,null,null,null,null,null,null,null,null,null,null,null,null,null,null,null,null,1020,500,-11352050.65,-1135205064.5564346]
[null,null,null,null,null,null,null,null,null,null,null,null,null,null,null,null,null,null,null,null,null,null,null,1021,500,-11465576.15,-1146557615.1091948]
[null,null,null,null,null,null,null,null,null,null,null,null,null,null,null,null,null,null,null,null,null,null,null,1022,500,-11580236.91,-1158023691.1674843]
[null,null,null,null,null,null,null,null,null,null,null,null,null,null,null,null,null,null,null,null,null,null,null,1023,500,-11696044.279999999,-1169604427.986357]
[null,null,null,null,null,null,null,null,null,null,null,null,null,null,null,null,null,null,null,null,null,null,null,1024,500,-11813009.720000001,-1181300972.1734161]
[null,null,null,null,null,null,null,null,null,null,null,null,null,null,null,null,null,null,null,null,null,null,null,1025,500,-11931144.82,-1193114481.8023481]
[null,null,null,null,null,null,null,null,null,null,null,null,null,null,null,null,null,null,null,null,null,null,null,{"$f":"X1027+1","v":1026},{"$f":"Y1027","v":500},-12050461.27,-1205046126.5275695]
[null,null,null,null,null,null,null,null,null,null,null,null,null,null,null,null,null,null,null,null,null,null,null,1027,500,-12170970.880000001,-1217097087.7000408]
[null,null,null,null,null,null,null,null,null,null,null,null,null,null,null,null,null,null,null,null,null,null,null,1028,500,-12292685.58,-1229268558.4842389]
[null,null,null,null,null,null,null,null,null,null,null,null,null,null,null,null,null,null,null,null,null,null,null,1029,500,-12415617.439999999,-1241561743.9762769]
[null,null,null,null,null,null,null,null,null,null,null,null,null,null,null,null,null,null,null,null,null,null,null,1030,500,-12539778.609999999,-1253977861.3232374]
[null,null,null,null,null,null,null,null,null,null,null,null,null,null,null,null,null,null,null,null,null,null,null,1031,500,-12665181.4,-1266518139.8436677]
[null,null,null,null,null,null,null,null,null,null,null,null,null,null,null,null,null,null,null,null,null,null,null,1032,500,-12791838.210000001,-1279183821.1493001]
[null,null,null,null,null,null,null,null,null,null,null,null,null,null,null,null,null,null,null,null,null,null,null,1033,500,-12919761.59,-1291976159.2679908]
[null,null,null,null,null,null,null,null,null,null,null,null,null,null,null,null,null,null,null,null,null,null,null,1034,500,-13048964.210000001,-1304896420.7678688]
[null,null,null,null,null,null,null,null,null,null,null,null,null,null,null,null,null,null,null,null,null,null,null,1035,500,-13179458.85,-1317945884.8827426]
[null,null,null,null,null,null,null,null,null,null,null,null,null,null,null,null,null,null,null,null,null,null,null,1036,500,-13311258.439999999,-1331125843.638768]
[null,null,null,null,null,null,null,null,null,null,null,null,null,null,null,null,null,null,null,null,null,null,null,1037,500,-13444376.02,-1344437601.9823511]
[null,null,null,null,null,null,null,null,null,null,null,null,null,null,null,null,null,null,null,null,null,null,null,1038,500,-13578824.779999999,-1357882477.9093726]
[null,null,null,null,null,null,null,null,null,null,null,null,null,null,null,null,null,null,null,null,null,null,null,1039,500,-13714618.029999999,-1371461802.5956643]
[null,null,null,null,null,null,null,null,null,null,null,null,null,null,null,null,null,null,null,null,null,null,null,1040,500,-13851769.210000001,-1385176920.5288162]
[null,null,null,null,null,null,null,null,null,null,null,null,null,null,null,null,null,null,null,null,null,null,null,1041,500,-13990291.9,-1399029189.6413023]
[null,null,null,null,null,null,null,null,null,null,null,null,null,null,null,null,null,null,null,null,null,null,null,1042,500,-14130199.810000001,-1413019981.444911]
[null,null,null,null,null,null,null,null,null,null,null,null,null,null,null,null,null,null,null,null,null,null,null,1043,500,-14271506.810000001,-1427150681.1665578]
[null,null,null,null,null,null,null,null,null,null,null,null,null,null,null,null,null,null,null,null,null,null,null,1044,500,-14414226.880000001,-1441422687.8854213]
[null,null,null,null,null,null,null,null,null,null,null,null,null,null,null,null,null,null,null,null,null,null,null,1045,500,-14558374.15,-1455837414.6714709]
[null,null,null,null,null,null,null,null,null,null,null,null,null,null,null,null,null,null,null,null,null,null,null,1046,500,-14703962.890000001,-1470396288.7253835]
[null,null,null,null,null,null,null,null,null,null,null,null,null,null,null,null,null,null,null,null,null,null,null,1047,500,-14851007.52,-1485100751.5198357]
[null,null,null,null,null,null,null,null,null,null,null,null,null,null,null,null,null,null,null,null,null,null,null,1048,500,-14999522.59,-1499952258.942229]
[null,null,null,null,null,null,null,null,null,null,null,null,null,null,null,null,null,null,null,null,null,null,null,1049,500,{"$f":"ROUND(Y$2*AA1051,2)","v":-15149522.810000001},{"$f":"IF(X$1=\"\",\"\",(1-(1+Y$2)^(X1051-X$1))/(1-(1+Y$2)^(-X$1))*Z$1)","v":-1514952281.4388492}]
[null,null,null,null,null,null,null,null,null,null,null,null,null,null,null,null,null,null,null,null,null,null,null,1050,500,-15301023.039999999,-1530102304.1604331]
[null,null,null,null,null,null,null,null,null,null,null,null,null,null,null,null,null,null,null,null,null,null,null,1051,500,-15454038.27,-1545403827.1092355]
[null,null,null,null,null,null,null,null,null,null,null,null,null,null,null,null,null,null,null,null,null,null,null,1052,500,-15608583.65,-1560858365.2875257]
[null,null,null,null,null,null,null,null,null,null,null,null,null,null,null,null,null,null,null,null,null,null,null,1053,500,-15764674.49,-1576467448.8475964]
[null,null,null,null,null,null,null,null,null,null,null,null,null,null,null,null,null,null,null,null,null,null,null,1054,500,-15922326.23,-1592232623.2432704]
[null,null,null,null,null,null,null,null,null,null,null,null,null,null,null,null,null,null,null,null,null,null,null,1055,500,-16081554.49,-1608155449.3829012]
[null,null,null,null,null,null,null,null,null,null,null,null,null,null,null,null,null,null,null,null,null,null,null,1056,500,-16242375.039999999,-1624237503.7839255]
[null,null,null,null,null,null,null,null,null,null,null,null,null,null,null,null,null,null,null,null,null,null,null,1057,500,-16404803.789999999,-1640480378.7289627]
[null,null,null,null,null,null,null,null,null,null,null,null,null,null,null,null,null,null,null,null,null,null,null,1058,500,-16568856.82,-1656885682.4234474]
[null,null,null,null,null,null,null,null,null,null,null,null,null,null,null,null,null,null,null,null,null,null,null,1059,500,-16734550.390000001,-1673455039.15488]
[null,null,null,null,null,null,null,null,null,null,null,null,null,null,null,null,null,null,null,null,null,null,null,1060,500,-16901900.890000001,-1690190089.4536269]
[null,null,null,null,null,null,null,null,null,null,null,null,null,null,null,null,null,null,null,null,null,null,null,1061,500,-17070924.899999999,-1707092490.2553582]
[null,null,null,null,null,null,null,null,null,null,null,null,null,null,null,null,null,null,null,null,null,null,null,1062,500,-17241639.149999999,-1724163915.06511]
[null,null,null,null,null,null,null,null,null,null,null,null,null,null,null,null,null,null,null,null,null,null,null,1063,500,-17414060.539999999,-1741406054.1229594]
[null,null,null,null,null,null,null,null,null,null,null,null,null,null,null,null,null,null,null,null,null,null,null,1064,500,-17588206.149999999,-1758820614.5713837]
[null,null,null,null,null,null,null,null,null,null,null,null,null,null,null,null,null,null,null,null,null,null,null,1065,500,-17764093.210000001,-1776409320.6242959]
[null,null,null,null,null,null,null,null,null,null,null,null,null,null,null,null,null,null,null,null,null,null,null,1066,500,-17941739.140000001,-1794173913.7377334]
[null,null,null,null,null,null,null,null,null,null,null,null,null,null,null,null,null,null,null,null,null,null,null,1067,500,-18121161.530000001,-1812116152.7823095]
[null,null,null,null,null,null,null,null,null,null,null,null,null,null,null,null,null,null,null,null,null,null,null,1068,500,-18302378.140000001,-1830237814.2173302]
[null,null,null,null,null,null,null,null,null,null,null,null,null,null,null,null,null,null,null,null,null,null,null,1069,500,-18485406.920000002,-1848540692.2666991]
[null,null,null,null,null,null,null,null,null,null,null,null,null,null,null,null,null,null,null,null,null,null,null,1070,500,-18670265.989999998,-1867026599.0965643]
[null,null,null,null,null,null,null,null,null,null,null,null,null,null,null,null,null,null,null,null,null,null,null,1071,500,-18856973.649999999,-1885697364.9947248]
[null,null,null,null,null,null,null,null,null,null,null,null,null,null,null,null,null,null,null,null,null,null,null,1072,500,-19045548.390000001,-1904554838.5518699]
[null,null,null,null,null,null,null,null,null,null,null,null,null,null,null,null,null,null,null,null,null,null,null,1073,500,-19236008.870000001,-1923600886.8445873]
[null,null,null,null,null,null,null,null,null,null,null,null,null,null,null,null,null,null,null,null,null,null,null,1074,500,-19428373.960000001,-1942837395.6202278]
[null,null,null,null,null,null,null,null,null,null,null,null,null,null,null,null,null,null,null,null,null,null,null,1075,500,-19622662.690000001,-1962266269.4836285]
[null,null,null,null,null,null,null,null,null,null,null,null,null,null,null,null,null,null,null,null,null,null,null,1076,500,-19818894.32,-1981889432.0856626]
[null,null,null,null,null,null,null,null,null,null,null,null,null,null,null,null,null,null,null,null,null,null,null,1077,500,-20017088.260000002,-2001708826.3137145]
[null,null,null,null,null,null,null,null,null,null,null,null,null,null,null,null,null,null,null,null,null,null,null,1078,500,-20217264.140000001,-2021726414.4840496]
[null,null,null,null,null,null,null,null,null,null,null,null,null,null,null,null,null,null,null,null,null,null,null,1079,500,-20419441.789999999,-2041944178.5360847]
[null,null,null,null,null,null,null,null,null,null,null,null,null,null,null,null,null,null,null,null,null,null,null,1080,500,-20623641.199999999,-2062364120.2286441]
[null,null,null,null,null,null,null,null,null,null,null,null,null,null,null,null,null,null,null,null,null,null,null,1081,500,-20829882.609999999,-2082988261.338129]
[null,null,null,null,null,null,null,null,null,null,null,null,null,null,null,null,null,null,null,null,null,null,null,1082,500,-21038186.440000001,-2103818643.858705]
[null,null,null,null,null,null,null,null,null,null,null,null,null,null,null,null,null,null,null,null,null,null,null,1083,500,-21248573.300000001,-2124857330.2044904]
[null,null,null,null,null,null,null,null,null,null,null,null,null,null,null,null,null,null,null,null,null,null,null,1084,500,-21461064.030000001,-2146106403.413734]
[null,null,null,null,null,null,null,null,null,null,null,null,null,null,null,null,null,null,null,null,null,null,null,1085,500,-21675679.670000002,-2167567967.3550658]
[null,null,null,null,null,null,null,null,null,null,null,null,null,null,null,null,null,null,null,null,null,null,null,1086,500,-21892441.469999999,-2189244146.9358149]
[null,null,null,null,null,null,null,null,null,null,null,null,null,null,null,null,null,null,null,null,null,null,null,1087,500,-22111370.879999999,-2211137088.3123674]
[null,null,null,null,null,null,null,null,null,null,null,null,null,null,null,null,null,null,null,null,null,null,null,1088,500,-22332489.59,-2233248959.1026897]
[null,null,null,null,null,null,null,null,null,null,null,null,null,null,null,null,null,null,null,null,null,null,null,1089,500,-22555819.489999998,-2255581948.600915]
[null,null,null,null,null,null,null,null,null,null,null,null,null,null,null,null,null,null,null,null,null,null,null,{"$f":"X1091+1","v":1090},{"$f":"Y1091","v":500},-22781382.68,-2278138267.9941187]
[null,null,null,null,null,null,null,null,null,null,null,null,null,null,null,null,null,null,null,null,null,null,null,1091,500,-23009201.510000002,-2300920150.5812583]
[null,null,null,null,null,null,null,null,null,null,null,null,null,null,null,null,null,null,null,null,null,null,null,1092,500,-23239298.52,-2323929851.9942694]
[null,null,null,null,null,null,null,null,null,null,null,null,null,null,null,null,null,null,null,null,null,null,null,1093,500,-23471696.5,-2347169650.4214067]
[null,null,null,null,null,null,null,null,null,null,null,null,null,null,null,null,null,null,null,null,null,null,null,1094,500,-23706418.469999999,-2370641846.8328195]
[null,null,null,null,null,null,null,null,null,null,null,null,null,null,null,null,null,null,null,null,null,null,null,1095,500,-23943487.649999999,-2394348765.2083416]
[null,null,null,null,null,null,null,null,null,null,null,null,null,null,null,null,null,null,null,null,null,null,null,1096,500,-24182927.530000001,-2418292752.7676234]
[null,null,null,null,null,null,null,null,null,null,null,null,null,null,null,null,null,null,null,null,null,null,null,1097,500,-24424761.800000001,-2442476180.2024984]
[null,null,null,null,null,null,null,null,null,null,null,null,null,null,null,null,null,null,null,null,null,null,null,1098,500,-24669014.420000002,-2466901441.9117179]
[null,null,null,null,null,null,null,null,null,null,null,null,null,null,null,null,null,null,null,null,null,null,null,1099,500,-24915709.559999999,-2491570956.2380338]
[null,null,null,null,null,null,null,null,null,null,null,null,null,null,null,null,null,null,null,null,null,null,null,1100,500,-25164871.66,-2516487165.7076125]
[null,null,null,null,null,null,null,null,null,null,null,null,null,null,null,null,null,null,null,null,null,null,null,1101,500,-25416525.370000001,-2541652537.271883]
[null,null,null,null,null,null,null,null,null,null,null,null,null,null,null,null,null,null,null,null,null,null,null,1102,500,-25670695.629999999,-2567069562.5518003]
[null,null,null,null,null,null,null,null,null,null,null,null,null,null,null,null,null,null,null,null,null,null,null,1103,500,-25927407.579999998,-2592740758.0845122]
[null,null,null,null,null,null,null,null,null,null,null,null,null,null,null,null,null,null,null,null,null,null,null,1104,500,-26186686.66,-2618668665.5725565]
[null,null,null,null,null,null,null,null,null,null,null,null,null,null,null,null,null,null,null,null,null,null,null,1105,500,-26448558.52,-2644855852.1354809]
[null,null,null,null,null,null,null,null,null,null,null,null,null,null,null,null,null,null,null,null,null,null,null,1106,500,-26713049.109999999,-2671304910.5640297]
[null,null,null,null,null,null,null,null,null,null,null,null,null,null,null,null,null,null,null,null,null,null,null,1107,500,-26980184.600000001,-2698018459.576869]
[null,null,null,null,null,null,null,null,null,null,null,null,null,null,null,null,null,null,null,null,null,null,null,1108,500,-27249991.440000001,-2724999144.0798316]
[null,null,null,null,null,null,null,null,null,null,null,null,null,null,null,null,null,null,null,null,null,null,null,1109,500,-27522496.350000001,-2752249635.4278288]
[null,null,null,null,null,null,null,null,null,null,null,null,null,null,null,null,null,null,null,null,null,null,null,1110,500,-27797726.32,-2779772631.6893063]
[null,null,null,null,null,null,null,null,null,null,null,null,null,null,null,null,null,null,null,null,null,null,null,1111,500,-28075708.579999998,-2807570857.9133925]
[null,null,null,null,null,null,null,null,null,null,null,null,null,null,null,null,null,null,null,null,null,null,null,1112,500,-28356470.66,-2835647066.3997254]
[null,null,null,null,null,null,null,null,null,null,null,null,null,null,null,null,null,null,null,null,null,null,null,1113,500,{"$f":"ROUND(Y$2*AA1115,2)","v":-28640040.370000001},{"$f":"IF(X$1=\"\",\"\",(1-(1+Y$2)^(X1115-X$1))/(1-(1+Y$2)^(-X$1))*Z$1)","v":-2864004036.9709215}]
[null,null,null,null,null,null,null,null,null,null,null,null,null,null,null,null,null,null,null,null,null,null,null,1114,500,-28926445.77,-2892644577.2478247]
[null,null,null,null,null,null,null,null,null,null,null,null,null,null,null,null,null,null,null,null,null,null,null,1115,500,-29215715.23,-2921571522.9275017]
[null,null,null,null,null,null,null,null,null,null,null,null,null,null,null,null,null,null,null,null,null,null,null,1116,500,-29507877.379999999,-2950787738.0639701]
[null,null,null,null,null,null,null,null,null,null,null,null,null,null,null,null,null,null,null,null,null,null,null,1117,500,-29802961.149999999,-2980296115.351809]
[null,null,null,null,null,null,null,null,null,null,null,null,null,null,null,null,null,null,null,null,null,null,null,1118,500,-30100995.760000002,-3010099576.4125261]
[null,null,null,null,null,null,null,null,null,null,null,null,null,null,null,null,null,null,null,null,null,null,null,1119,500,-30402010.719999999,-3040201072.0838451]
[null,null,null,null,null,null,null,null,null,null,null,null,null,null,null,null,null,null,null,null,null,null,null,1120,500,-30706035.829999998,-3070603582.7118831]
[null,null,null,null,null,null,null,null,null,null,null,null,null,null,null,null,null,null,null,null,null,null,null,1121,500,-31013101.18,-3101310118.4462008]
[null,null,null,null,null,null,null,null,null,null,null,null,null,null,null,null,null,null,null,null,null,null,null,1122,500,-31323237.199999999,-3132323719.5378561]
[null,null,null,null,null,null,null,null,null,null,null,null,null,null,null,null,null,null,null,null,null,null,null,1123,500,-31636474.57,-3163647456.6404343]
[null,null,null,null,null,null,null,null,null,null,null,null,null,null,null,null,null,null,null,null,null,null,null,1124,500,-31952844.309999999,-3195284431.1140318]
[null,null,null,null,null,null,null,null,null,null,null,null,null,null,null,null,null,null,null,null,null,null,null,1125,500,-32272377.75,-3227237775.3323712]
[null,null,null,null,null,null,null,null,null,null,null,null,null,null,null,null,null,null,null,null,null,null,null,1126,500,-32595106.530000001,-3259510652.9928942]
[null,null,null,null,null,null,null,null,null,null,null,null,null,null,null,null,null,null,null,null,null,null,null,1127,500,-32921062.59,-3292106259.4300165]
[null,null,null,null,null,null,null,null,null,null,null,null,null,null,null,null,null,null,null,null,null,null,null,1128,500,-33250278.219999999,-3325027821.9315162]
[null,null,null,null,null,null,null,null,null,null,null,null,null,null,null,null,null,null,null,null,null,null,null,1129,500,-33582786,-3358278600.0580301]
[null,null,null,null,null,null,null,null,null,null,null,null,null,null,null,null,null,null,null,null,null,null,null,1130,500,-33918618.859999999,-3391861885.9658036]
[null,null,null,null,null,null,null,null,null,null,null,null,null,null,null,null,null,null,null,null,null,null,null,1131,500,-34257810.049999997,-3425781004.7326608]
[null,null,null,null,null,null,null,null,null,null,null,null,null,null,null,null,null,null,null,null,null,null,null,1132,500,-34600393.149999999,-3460039314.687181]
[null,null,null,null,null,null,null,null,null,null,null,null,null,null,null,null,null,null,null,null,null,null,null,1133,500,-34946402.079999998,-3494640207.7412519]
[null,null,null,null,null,null,null,null,null,null,null,null,null,null,null,null,null,null,null,null,null,null,null,1134,500,-35295871.100000001,-3529587109.7258639]
[null,null,null,null,null,null,null,null,null,null,null,null,null,null,null,null,null,null,null,null,null,null,null,1135,500,-35648834.810000002,-3564883480.7303152]
[null,null,null,null,null,null,null,null,null,null,null,null,null,null,null,null,null,null,null,null,null,null,null,1136,500,-36005328.149999999,-3600532815.4448175]
[null,null,null,null,null,null,null,null,null,null,null,null,null,null,null,null,null,null,null,null,null,null,null,1137,500,-36365386.439999998,-3636538643.5064588]
[null,null,null,null,null,null,null,null,null,null,null,null,null,null,null,null,null,null,null,null,null,null,null,1138,500,-36729045.299999997,-3672904529.8487239]
[null,null,null,null,null,null,null,null,null,null,null,null,null,null,null,null,null,null,null,null,null,null,null,1139,500,-37096340.75,-3709634075.0544095]
[null,null,null,null,null,null,null,null,null,null,null,null,null,null,null,null,null,null,null,null,null,null,null,1140,500,-37467309.159999996,-3746730915.7121472]
[null,null,null,null,null,null,null,null,null,null,null,null,null,null,null,null,null,null,null,null,null,null,null,1141,500,-37841987.25,-3784198724.7764683]
[null,null,null,null,null,null,null,null,null,null,null,null,null,null,null,null,null,null,null,null,null,null,null,1142,500,-38220412.119999997,-3822041211.9314327]
[null,null,null,null,null,null,null,null,null,null,null,null,null,null,null,null,null,null,null,null,null,null,null,1143,500,-38602621.240000002,-3860262123.9579387]
[null,null,null,null,null,null,null,null,null,null,null,null,null,null,null,null,null,null,null,null,null,null,null,1144,500,-38988652.450000003,-3898865245.1047177]
[null,null,null,null,null,null,null,null,null,null,null,null,null,null,null,null,null,null,null,null,null,null,null,1145,500,-39378543.969999999,-3937854397.4629583]
[null,null,null,null,null,null,null,null,null,null,null,null,null,null,null,null,null,null,null,null,null,null,null,1146,500,-39772334.409999996,-3977233441.3447876]
[null,null,null,null,null,null,null,null,null,null,null,null,null,null,null,null,null,null,null,null,null,null,null,1147,500,-40170062.759999998,-4017006275.6654348]
[null,null,null,null,null,null,null,null,null,null,null,null,null,null,null,null,null,null,null,null,null,null,null,1148,500,-40571768.380000003,-4057176838.3292813]
[null,null,null,null,null,null,null,null,null,null,null,null,null,null,null,null,null,null,null,null,null,null,null,1149,500,-40977491.07,-4097749106.6197743]
[null,null,null,null,null,null,null,null,null,null,null,null,null,null,null,null,null,null,null,null,null,null,null,1150,500,-41387270.979999997,-4138727097.5931721]
[null,null,null,null,null,null,null,null,null,null,null,null,null,null,null,null,null,null,null,null,null,null,null,1151,500,-41801148.68,-4180114868.4762964]
[null,null,null,null,null,null,null,null,null,null,null,null,null,null,null,null,null,null,null,null,null,null,null,1152,500,-42219165.170000002,-4221916517.0682583]
[null,null,null,null,null,null,null,null,null,null,null,null,null,null,null,null,null,null,null,null,null,null,null,1153,500,-42641361.82,-4264136182.1461344]
[null,null,null,null,null,null,null,null,null,null,null,null,null,null,null,null,null,null,null,null,null,null,null,{"$f":"X1155+1","v":1154},{"$f":"Y1155","v":500},-43067780.439999998,-4306778043.874795]
[null,null,null,null,null,null,null,null,null,null,null,null,null,null,null,null,null,null,null,null,null,null,null,1155,500,-43498463.240000002,-4349846324.2207432]
[null,null,null,null,null,null,null,null,null,null,null,null,null,null,null,null,null,null,null,null,null,null,null,1156,500,-43933452.869999997,-4393345287.370142]
[null,null,null,null,null,null,null,null,null,null,null,null,null,null,null,null,null,null,null,null,null,null,null,1157,500,-44372792.399999999,-4437279240.1510439]
[null,null,null,null,null,null,null,null,null,null,null,null,null,null,null,null,null,null,null,null,null,null,null,1158,500,-44816525.32,-4481652532.459754]
[null,null,null,null,null,null,null,null,null,null,null,null,null,null,null,null,null,null,null,null,null,null,null,1159,500,-45264695.579999998,-4526469557.6915445]
[null,null,null,null,null,null,null,null,null,null,null,null,null,null,null,null,null,null,null,null,null,null,null,1160,500,-45717347.530000001,-4571734753.1756592]
[null,null,null,null,null,null,null,null,null,null,null,null,null,null,null,null,null,null,null,null,null,null,null,1161,500,-46174526.009999998,-4617452600.6146078]
[null,null,null,null,null,null,null,null,null,null,null,null,null,null,null,null,null,null,null,null,null,null,null,1162,500,-46636276.270000003,-4663627626.5279541]
[null,null,null,null,null,null,null,null,null,null,null,null,null,null,null,null,null,null,null,null,null,null,null,1163,500,-47102644.030000001,-4710264402.7004337]
[null,null,null,null,null,null,null,null,null,null,null,null,null,null,null,null,null,null,null,null,null,null,null,1164,500,-47573675.469999999,-4757367546.6346292]
[null,null,null,null,null,null,null,null,null,null,null,null,null,null,null,null,null,null,null,null,null,null,null,1165,500,-48049417.219999999,-4804941722.0081768]
[null,null,null,null,null,null,null,null,null,null,null,null,null,null,null,null,null,null,null,null,null,null,null,1166,500,-48529916.390000001,-4852991639.1354494]
[null,null,null,null,null,null,null,null,null,null,null,null,null,null,null,null,null,null,null,null,null,null,null,1167,500,-49015220.549999997,-4901522055.4340048]
[null,null,null,null,null,null,null,null,null,null,null,null,null,null,null,null,null,null,null,null,null,null,null,1168,500,-49505377.759999998,-4950537775.895545]
[null,null,null,null,null,null,null,null,null,null,null,null,null,null,null,null,null,null,null,null,null,null,null,1169,500,-50000436.539999999,-5000043653.5616922]
[null,null,null,null,null,null,null,null,null,null,null,null,null,null,null,null,null,null,null,null,null,null,null,1170,500,-50500445.899999999,-5050044590.004509]
[null,null,null,null,null,null,null,null,null,null,null,null,null,null,null,null,null,null,null,null,null,null,null,1171,500,-51005455.359999999,-5100545535.8117542]
[null,null,null,null,null,null,null,null,null,null,null,null,null,null,null,null,null,null,null,null,null,null,null,1172,500,-51515514.909999996,-5151551491.0770636]
[null,null,null,null,null,null,null,null,null,null,null,null,null,null,null,null,null,null,null,null,null,null,null,1173,500,-52030675.060000002,-5203067505.8950348]
[null,null,null,null,null,null,null,null,null,null,null,null,null,null,null,null,null,null,null,null,null,null,null,1174,500,-52550986.810000002,-5255098680.8611765]
[null,null,null,null,null,null,null,null,null,null,null,null,null,null,null,null,null,null,null,null,null,null,null,1175,500,-53076501.68,-5307650167.5769892]
[null,null,null,null,null,null,null,null,null,null,null,null,null,null,null,null,null,null,null,null,null,null,null,1176,500,-53607271.689999998,-5360727169.1599588]
[null,null,null,null,null,null,null,null,null,null,null,null,null,null,null,null,null,null,null,null,null,null,null,1177,500,{"$f":"ROUND(Y$2*AA1179,2)","v":-54143349.409999996},{"$f":"IF(X$1=\"\",\"\",(1-(1+Y$2)^(X1179-X$1))/(1-(1+Y$2)^(-X$1))*Z$1)","v":-5414334940.75875}]
[null,null,null,null,null,null,null,null,null,null,null,null,null,null,null,null,null,null,null,null,null,null,null,1178,500,-54684787.899999999,-5468478790.0735378]
[null,null,null,null,null,null,null,null,null,null,null,null,null,null,null,null,null,null,null,null,null,null,null,1179,500,-55231640.780000001,-5523164077.8814745]
[null,null,null,null,null,null,null,null,null,null,null,null,null,null,null,null,null,null,null,null,null,null,null,1180,500,-55783962.189999998,-5578396218.5674791]
[null,null,null,null,null,null,null,null,null,null,null,null,null,null,null,null,null,null,null,null,null,null,null,1181,500,-56341806.810000002,-5634180680.6603556]
[null,null,null,null,null,null,null,null,null,null,null,null,null,null,null,null,null,null,null,null,null,null,null,1182,500,-56905229.869999997,-5690522987.3741493]
[null,null,null,null,null,null,null,null,null,null,null,null,null,null,null,null,null,null,null,null,null,null,null,1183,500,-57474287.170000002,-5747428717.1550922]
[null,null,null,null,null,null,null,null,null,null,null,null,null,null,null,null,null,null,null,null,null,null,null,1184,500,-58049035.039999999,-5804903504.2338438]
[null,null,null,null,null,null,null,null,null,null,null,null,null,null,null,null,null,null,null,null,null,null,null,1185,500,-58629530.390000001,-5862953039.1833725]
[null,null,null,null,null,null,null,null,null,null,null,null,null,null,null,null,null,null,null,null,null,null,null,1186,500,-59215830.689999998,-5921583069.4824066]
[null,null,null,null,null,null,null,null,null,null,null,null,null,null,null,null,null,null,null,null,null,null,null,1187,500,-59807994,-5980799400.0844326]
[null,null,null,null,null,null,null,null,null,null,null,null,null,null,null,null,null,null,null,null,null,null,null,1188,500,-60406078.939999998,-6040607893.9924669]
[null,null,null,null,null,null,null,null,null,null,null,null,null,null,null,null,null,null,null,null,null,null,null,1189,500,-61010144.729999997,-6101014472.839592]
[null,null,null,null,null,null,null,null,null,null,null,null,null,null,null,null,null,null,null,null,null,null,null,1190,500,-61620251.170000002,-6162025117.4751787]
[null,null,null,null,null,null,null,null,null,null,null,null,null,null,null,null,null,null,null,null,null,null,null,1191,500,-62236458.689999998,-6223645868.5571327]
[null,null,null,null,null,null,null,null,null,null,null,null,null,null,null,null,null,null,null,null,null,null,null,1192,500,-62858828.270000003,-6285882827.1499043]
[null,null,null,null,null,null,null,null,null,null,null,null,null,null,null,null,null,null,null,null,null,null,null,1193,500,-63487421.549999997,-6348742155.3285942]
[null,null,null,null,null,null,null,null,null,null,null,null,null,null,null,null,null,null,null,null,null,null,null,1194,500,-64122300.770000003,-6412230076.7890806]
[null,null,null,null,null,null,null,null,null,null,null,null,null,null,null,null,null,null,null,null,null,null,null,1195,500,-64763528.770000003,-6476352877.4641733]
[null,null,null,null,null,null,null,null,null,null,null,null,null,null,null,null,null,null,null,null,null,null,null,1196,500,-65411169.060000002,-6541116906.1460047]
[null,null,null,null,null,null,null,null,null,null,null,null,null,null,null,null,null,null,null,null,null,null,null,1197,500,-66065285.75,-6606528575.114666]
[null,null,null,null,null,null,null,null,null,null,null,null,null,null,null,null,null,null,null,null,null,null,null,1198,500,-66725943.609999999,-6672594360.7730026]
[null,null,null,null,null,null,null,null,null,null,null,null,null,null,null,null,null,null,null,null,null,null,null,1199,500,-67393208.040000007,-6739320804.2879343]
[null,null,null,null,null,null,null,null,null,null,null,null,null,null,null,null,null,null,null,null,null,null,null,1200,500,-68067145.120000005,-6806714512.2380142]

{"sheet":"Expense Tracking","index":9,"n_rows":67,"n_cols":33,"rows_kept":67,"cut":false,"hidden":true,"merged":[[38,17,38,18],[39,17,39,18],[13,5,14,5],[38,12,38,16],[39,12,39,16],[13,6,14,6],[13,7,14,7],[13,8,14,8],[13,9,14,9],[13,10,14,10],[10,1,10,3],[13,1,14,1],[13,2,14,2],[13,3,14,3],[13,4,14,4],[13,22,14,22],[13,11,14,11],[13,12,14,12],[13,13,14,13],[13,14,14,14],[13,15,14,15],[13,16,14,16],[13,17,14,17],[13,18,14,18],[13,19,14,19],[13,20,14,20],[13,21,14,21],[13,29,14,29],[13,30,14,30],[13,31,14,31],[13,23,14,23],[13,24,14,24],[13,25,14,25],[13,26,14,26],[13,27,14,27],[13,28,14,28]]}
[]
[]
[]
[]
[]
[]
[]
[]
["Expense Tracking"]
[]
["Month","January"]
[]
[]
["Day",1,2,3,4,5,6,7,8,9,10,11,12,13,14,15,16,17,18,19,20,21,22,23,24,25,26,27,28,{"$f":"IF(B11=\"February\",\"\",29)","v":29},{"$f":"IF(AD14=\"\",\"\",IF(B11=\"February (Leap Year)\",\"\",30))","v":30},{"$f":"IF(AE14=\"\",\"\",IF(B11=\"April\",\"\",IF(B11=\"June\",\"\",IF(B11=\"September\",\"\",IF(B11=\"November\",\"\",31)))))","v":31}]
["Category:"]
["Dining",null,null,null,null,null,null,null,null,null,null,null,null,null,null,null,null,null,null,null,null,null,null,null,null,null,null,null,null,null,null,null,{"$f":"SUM(B16:AF16)","v":0}]
["Grocery",null,null,null,null,null,null,null,null,null,null,null,null,null,null,null,null,null,null,null,null,null,null,null,null,null,null,null,null,null,null,null,{"$f":"SUM(B17:AF17)","v":0}]
["Transport",null,null,null,null,null,null,null,null,null,null,null,null,null,null,null,null,null,null,null,null,null,null,null,null,null,null,null,null,null,null,null,{"$f":"SUM(B18:AF18)","v":0}]
["Entertainment",null,null,null,null,null,null,null,null,null,null,null,null,null,null,null,null,null,null,null,null,null,null,null,null,null,null,null,null,null,null,null,{"$f":"SUM(B19:AF19)","v":0}]
["Miscellaneous",null,null,null,null,null,null,null,null,null,null,null,null,null,null,null,null,null,null,null,null,null,null,null,null,null,null,null,null,null,null,null,{"$f":"SUM(B20:AF20)","v":0}]
["Others",null,null,null,null,null,null,null,null,null,null,null,null,null,null,null,null,null,null,null,null,null,null,null,null,null,null,null,null,null,null,null,{"$f":"SUM(B21:AF21)","v":0}]
["Spending",{"$f":"SUM(B16:B21)","v":0},{"$f":"SUM(C16:C21)","v":0},{"$f":"SUM(D16:D21)","v":0},0,0,0,0,0,0,0,0,0,0,0,0,0,0,0,0,0,0,0,0,0,0,0,0,0,{"$f":"IF(AD14=\"\",\"\",SUM(AD16:AD21))","v":0},{"$f":"IF(AE14=\"\",\"\",SUM(AE16:AE21))","v":0},{"$f":"IF(AF14=\"\",\"\",SUM(AF16:AF21))","v":0}]
["Cumulative",{"$f":"IF(B22=0,0,B22)","v":0},{"$f":"IF(C22=0,B23,B23+C22)","v":0},{"$f":"IF(D22=0,C23,C23+D22)","v":0},{"$f":"IF(E22=0,D23,D23+E22)","v":0},0,0,0,0,0,0,0,0,0,0,0,0,0,0,0,0,0,0,0,0,0,0,0,0,{"$f":"IF(AD22=0,AC23,IF(AD14=\"\",\"\",AC23+AD22))","v":0},{"$f":"IF(AE22=0,AD23,IF(AE14=\"\",\"\",AD23+AE22))","v":0},{"$f":"IF(AF22=0,AE23,IF(AF14=\"\",\"\",AE23+AF22))","v":0}]
["Cumulative Average",{"$f":"IF(B23=\"\",\"\",B23/B14)","v":0},{"$f":"IF(C23=\"\",\"\",C23/C14)","v":0},{"$f":"IF(D23=\"\",\"\",D23/D14)","v":0},{"$f":"IF(E23=\"\",\"\",E23/E14)","v":0},0,0,0,0,0,0,0,0,0,0,0,0,0,0,0,0,0,0,0,0,0,0,0,0,{"$f":"IF(AD23=\"\",\"\",IF(AD14=\"\",\"\",AD23/AD14))","v":0},{"$f":"IF(AE23=\"\",\"\",IF(AE14=\"\",\"\",AE23/AE14))","v":0},{"$f":"IF(AF23=\"\",\"\",IF(AF14=\"\",\"\",AF23/AF14))","v":0}]
[]
[]
[]
[]
[]
[]
[]
[]
[]
[]
[]
[]
[]
[]
[null,null,null,null,null,null,null,null,null,null,null,null,"Total spending",null,null,null,null,{"$f":"SUM(B22:AF22)","v":0}]
[null,null,null,null,null,null,null,null,null,null,null,null,"Avrg spending/day for the month",null,null,null,null,{"$f":"IF(AF24=\"\",IF(AE24=\"\",IF(AD24=\"\",AC24,AD24),AE24),AF24)","v":0}]
[]
[]
[]
[]
[]
[]
[]
[]
[]
[]
[]
[]
[]
[]
["January"]
["February"]
["February (Leap Year)"]
["March"]
["April"]
["May"]
["June"]
["July"]
["August"]
["September"]
["October"]
["November"]
["December"]

{"sheet":"Budget Worksheet","index":10,"n_rows":47,"n_cols":7,"rows_kept":47,"cut":false,"hidden":true,"merged":[]}
[]
[]
[]
[]
[]
[]
[]
[]
["Budget Worksheet (Monthly)"]
[]
[]
[]
["INCOME",null,"SUM",null,"EXPENSE",null,"SUM"]
["PAYCHECK"]
["OTHERS"]
[]
[null,null,null,null,"SAVINGS AND INVESTMENTS"]
[null,null,null,null,"SAVINGS"]
[null,null,null,null,"RETIREMENT"]
[]
[null,null,null,null,"LOANS/DEBT"]
[null,null,null,null,"MORTGAGE/RENT"]
[null,null,null,null,"CAR LOAN"]
[null,null,null,null,"STUDENT LOAN"]
[null,null,null,null,"CREDIT CARD"]
[]
[null,null,null,null,"UTILITIES"]
[null,null,null,null,"ELECTRICITY"]
[null,null,null,null,"WATER"]
[null,null,null,null,"TELEPHONE"]
[]
[null,null,null,null,"INSURANCE PREMIUMS"]
[null,null,null,null,"HEALTH"]
[null,null,null,null,"LIFE"]
[]
[null,null,null,null,"MISCELLANEOUS"]
[null,null,null,null,"MISC A"]
[null,null,null,null,"MISC B"]
[]
["A. TOTAL INCOME/S",null,null,null,null,null,{"$f":"SUM(C14:C16)","v":0}]
["B. TOTAL EXPENSE/S",null,null,null,null,null,{"$f":"SUM(G18:G39)","v":0}]
["A MINUS B",null,null,null,"REMAINING BUDGET",null,{"$f":"IF(G41>G40,\"Expenses cannot exceed the Incomes\",G40-G41)","v":0}]
[]
["BUDGET PERIOD",1]
["A. TOTAL INCOME/S",null,null,null,null,null,{"$f":"G40*B44","v":0}]
["B. TOTAL EXPENSE/S",null,null,null,null,null,{"$f":"G41*B44","v":0}]
["A MINUS B",null,null,null,"REMAINING BUDGET",null,{"$f":"IF(G46>G45,\"Expenses cannot exceed the Incomes\",G45-G46)","v":0}]

{"sheet":"Net Worth","index":11,"n_rows":58,"n_cols":7,"rows_kept":58,"cut":false,"hidden":true,"merged":[]}
[]
[]
[]
[]
[]
[]
[]
[]
["Net Worth"]
[]
[]
[]
["ASSETS",null,"SUM",null,"LIABILITIES",null,"SUM"]
["CURRENT"]
["CASH"]
["ACCOUNTS (CHECKING)"]
["ACCOUNTS (SAVINGS)"]
[]
["INSURANCE"]
["ANNUITY A"]
["ANNUITY B"]
[]
["RETIREMENT"]
["RET. ACC. A"]
["RET. ACC. B"]
[]
["SECURITIES"]
["STOCKS"]
["BONDS"]
[]
["REAL ESTATE"]
["HOUSE A"]
["HOUSE B"]
[]
["MISCELLANEOUS"]
["BULLIONS"]
["OTHERS"]
[]
[]
[null,null,null,null,"LOANS"]
[null,null,null,null,"CAR"]
[null,null,null,null,"STD LOAN"]
[]
[null,null,null,null,"MORTGAGES"]
[null,null,null,null,"HOUSE A"]
[null,null,null,null,"HOUSE B"]
[]
[null,null,null,null,"CREDIT CARD"]
[null,null,null,null,"CARD A"]
[null,null,null,null,"CARD B"]
[]
[null,null,null,null,"MISCELLANEOUS"]
[null,null,null,null,"MISC A"]
[null,null,null,null,"MISC B"]
[]
["A. TOTAL ASSET",null,null,null,null,null,{"$f":"SUM(C15:C17,C20:C21,C24:C25,C28:C29,C32:C33,C36:C37)","v":0}]
["B. TOTAL LIABILITY",null,null,null,null,null,{"$f":"SUM(G41:G42,G45:G46,G49:G50,G53:G54)","v":0}]
["NETWORTH",null,null,null,null,null,{"$f":"G56-G57","v":0}]

{"sheet":"Goal Worksheet","index":12,"n_rows":26,"n_cols":8,"rows_kept":26,"cut":false,"hidden":true,"merged":[[12,7,14,7],[12,2,14,2],[12,3,14,3],[12,4,14,4],[12,6,14,6],[12,5,14,5]]}
[]
[]
[]
[]
[]
[]
[]
[]
["Goal Worksheet"]
[]
[]
[]
[null,null,"TARGET DATE (MM/DD/YYYY)","TARGET AMOUNT","SAVED AMOUNT","OUTSTANDING AMOUNT","MONTH/S UNTIL TARGET DATE","AMOUNT NEEDED/MONTH TO REACH GOAL"]
[]
[]
["SHORT-TERM"]
["PAY DOWN DEBT",null,null,null,null,{"$f":"IF(D17=\"\",\"\",D17-E17)","v":""},{"$f":"IF(C17<TODAY(),\"Please key in Future Date\",ABS(IF(DAY(NOW())>=DAY(C17),0,-1)+(YEAR(NOW())-YEAR(C17)) *12+MONTH(NOW())-MONTH(C17)))","v":"Please key in Future Date"},{"$f":"IF(C17=\"\",\"\",IF(G17=\"Please key in Future Date\",\"\",IF(D17=\"\",\"Please input TARGET AMOUNT\",(D17-E17)/G17)))","v":""}]
["A",null,null,null,null,{"$f":"IF(D18=\"\",\"\",D18-E18)","v":""},{"$f":"IF(C18<TODAY(),\"Please key in Future Date\",ABS(IF(DAY(NOW())>=DAY(C18),0,-1)+(YEAR(NOW())-YEAR(C18)) *12+MONTH(NOW())-MONTH(C18)))","v":"Please key in Future Date"},{"$f":"IF(C18=\"\",\"\",IF(G18=\"Please key in Future Date\",\"\",IF(D18=\"\",\"Please input TARGET AMOUNT\",(D18-E18)/G18)))","v":""}]
[]
["MID-TERM"]
["EMERGENCY SAVINGS",null,null,null,null,{"$f":"IF(D21=\"\",\"\",D21-E21)","v":""},{"$f":"IF(C21<TODAY(),\"Please key in Future Date\",ABS(IF(DAY(NOW())>=DAY(C21),0,-1)+(YEAR(NOW())-YEAR(C21)) *12+MONTH(NOW())-MONTH(C21)))","v":"Please key in Future Date"},{"$f":"IF(C21=\"\",\"\",IF(G21=\"Please key in Future Date\",\"\",IF(D21=\"\",\"Please input TARGET AMOUNT\",(D21-E21)/G21)))","v":""}]
["B",null,null,null,null,"","Please key in Future Date",""]
[]
["LONG-TERM"]
["PREPARING FOR RETIREMENT",null,null,null,null,{"$f":"IF(D25=\"\",\"\",D25-E25)","v":""},{"$f":"IF(C25<TODAY(),\"Please key in Future Date\",ABS(IF(DAY(NOW())>=DAY(C25),0,-1)+(YEAR(NOW())-YEAR(C25)) *12+MONTH(NOW())-MONTH(C25)))","v":"Please key in Future Date"},{"$f":"IF(C25=\"\",\"\",IF(G25=\"Please key in Future Date\",\"\",IF(D25=\"\",\"Please input TARGET AMOUNT\",(D25-E25)/G25)))","v":""}]
["C",null,null,null,null,"","Please key in Future Date",""]

{"sheet":"Contact SPYM","index":13,"n_rows":14,"n_cols":3,"rows_kept":14,"cut":false,"hidden":true,"merged":[[8,2,8,4],[8,5,8,6],[11,0,11,6],[12,0,12,6],[13,0,15,6]]}
[]
[]
[]
[]
[]
[]
[]
[]
[null,null,"CONTACT"]
[]
[]
["jeremy@stressproofyourmoney.com"]
["http://stressproofyourmoney.com/"]
[" This version of SPYM Financial Assistant had expired.                                                                   Kindly contact jeremy if you have not received the                                             latest version of SPYM Financial Assistant"]

{"sheet":"Installation Error","index":14,"n_rows":14,"n_cols":3,"rows_kept":14,"cut":false,"hidden":true,"merged":[[8,2,8,4],[8,5,8,6],[11,0,11,6],[12,0,12,6],[13,0,14,6]]}
[]
[]
[]
[]
[]
[]
[]
[]
[null,null,"CONTACT"]
[]
[]
["jeremy@stressproofyourmoney.com"]
["http://stressproofyourmoney.com/"]
["Missing Data file, please refer to the readme file for installation."]

{"sheet":"Contact","index":15,"n_rows":14,"n_cols":3,"rows_kept":14,"cut":false,"hidden":true,"merged":[[11,0,11,6],[12,0,12,6],[8,2,8,4],[8,5,8,6],[13,0,14,6]]}
[]
[]
[]
[]
[]
[]
[]
[]
[null,null,"CONTACT"]
[]
[]
["jeremy@stressproofyourmoney.com"]
["http://stressproofyourmoney.com/"]
["Visit stressproofyourmoney.com for more information on the personal finances, TVM, investing and the theory behind the SPYM Financial Assistant."]